Workbook

Sheet สรุป
U1: กกท. 6
A2: กองทุนพัฒนาฝีมือแรงงาน
A3: หน่วยงาน ..............................................
A4: รายงานอายุหนี้ค้าง ลูกหนี้กองทุนพัฒนาฝีมือแรงงาน ตามระเบียบกระทรวงแรงงานและสวัสดิการสังคม ว่าด้วยกองทุนพัฒนาฝีมือแรงงาน พ.ศ. 2539
A5: สรุปรายงานอายุหนี้ค้างลูกหนี้ระหว่างปี 2541 - 2545
A6: ณ วันที่ ......................................................
D9: -1 | E9: -2 | F9: -3 | G9: -4 | H9: -5 | I9: -5 | J9: -5 | K9: -6 | L9: -7 | M9: -8 | N9: -9 | O9: -10 | P9: -11 | Q9: -12 | R9: -13 | S9: -14 | T9: -15
A10: กลุ่มลูกหนี้กองทุน | C10: จำนวน | D10: วงเงินกู้ | E10: เงินต้น | F10: วันที่ | G10: เงินต้น | H10: วงเงินค้างชำระ | P10: อายุหนี้ค้างชำระ | T10: วันที่ชำระ | U10: หมายเหตุ
C11: (ราย) | E11: ค้างชำระ | F11: พิพากษา | G11: ตาม | H11: วงเงินต้นตามคำพิพากษา/สัญญาประนอมหนี้ | K11: ดอกเบี้ย | L11: ค่าปรับ | M11: ค่าทนายความ | N11: ค่าฤชา | O11: รวม | P11: 1 - 6 เดือน | Q11: เกินกว่า | R11: เกินกว่า | S11: เกินกว่า 2 ปี | T11: ครั้งสุดท้าย
E12: ณ วันที่ฟ้อง | G12: คำพิพากษา | H12: เงินต้น | I12: ดอกเบี้ย/เบี้ยปรับ | J12: รวม | N12: ธรรมเนียม | Q12: 6 เดือน - 1 ปี | R12: 1 ปี - 2 ปี
A13: 1. ลูกหนี้ยังไม่ได้ดำเนินการส่งฟ้อง
B14: 1.1 ลูกหนี้ก่อนพิพากษา | C14: =+'กกท.6 (กลุ่มที่ 1)'!B18 -> 0 | D14: =+'กกท.6 (กลุ่มที่ 1)'!C18 -> 0 | E14: 0 | F14: - | G14: 0 | H14: =+'กกท.6 (กลุ่มที่ 1)'!D18 -> 0 | I14: 0 | J14: =+'กกท.6 (กลุ่มที่ 1)'!D18 -> 0 | K14: =+'กกท.6 (กลุ่มที่ 1)'!E18 -> 0 | L14: =+'กกท.6 (กลุ่มที่ 1)'!F18 -> 0 | M14: 0 | N14: 0 | O14: =+'กกท.6 (กลุ่มที่ 1)'!G18 -> 0 | P14: 0 | Q14: 0 | R14: 0 | S14: =+'กกท.6 (กลุ่มที่ 1)'!K18 -> 0 | T14: -
B15: 1.2 ลูกหนี้อัยการแจ้งฐานะคดีไม่รับว่าต่างคดีให้ | C15: =+'กกท.6 (กลุ่มที่ 1)'!B25 -> 0 | D15: =+'กกท.6 (กลุ่มที่ 1)'!C25 -> 0 | E15: 0 | F15: - | G15: 0 | H15: =+'กกท.6 (กลุ่มที่ 1)'!D25 -> 0 | I15: 0 | J15: =+'กกท.6 (กลุ่มที่ 1)'!D25 -> 0 | K15: =+'กกท.6 (กลุ่มที่ 1)'!E25 -> 0 | L15: =+'กกท.6 (กลุ่มที่ 1)'!F25 -> 0 | M15: 0 | N15: 0 | O15: =+'กกท.6 (กลุ่มที่ 1)'!G25 -> 0 | P15: 0 | Q15: 0 | R15: 0 | S15: =+'กกท.6 (กลุ่มที่ 1)'!K25 -> 0 | T15: -
B16: 1.3 ลูกหนี้เข้าคณะกรรมการยุติการดำเนินคดีแพ่งของส่วนราชการ | C16: =+'กกท.6 (กลุ่มที่ 1)'!B32 -> 0 | D16: =+'กกท.6 (กลุ่มที่ 1)'!C32 -> 0 | E16: 0 | F16: - | G16: 0 | H16: =+'กกท.6 (กลุ่มที่ 1)'!D32 -> 0 | I16: 0 | J16: =+'กกท.6 (กลุ่มที่ 1)'!D32 -> 0 | K16: =+'กกท.6 (กลุ่มที่ 1)'!E32 -> 0 | L16: =+'กกท.6 (กลุ่มที่ 1)'!F32 -> 0 | M16: 0 | N16: 0 | O16: =+'กกท.6 (กลุ่มที่ 1)'!G32 -> 0 | P16: 0 | Q16: 0 | R16: 0 | S16: =+'กกท.6 (กลุ่มที่ 1)'!K32 -> 0 | T16: -
A17: รวมลูกหนี้ยังไม่ได้ดำเนินการส่งฟ้อง | C17: =SUM(C14:C16) -> 0 | D17: =SUM(D14:D16) -> 0 | E17: 0 | F17: - | G17: 0 | H17: =SUM(H14:H16) -> 0 | I17: =SUM(I14:I16) -> 0 | J17: =SUM(J14:J16) -> 0 | K17: =SUM(K14:K16) -> 0 | L17: =SUM(L14:L16) -> 0 | M17: =SUM(M14:M16) -> 0 | N17: =SUM(N14:N16) -> 0 | O17: =SUM(O14:O16) -> 0 | P17: 0 | Q17: 0 | R17: 0 | S17: =SUM(S14:S16) -> 0 | T17: -
A18: 2. ลูกหนี้ส่งฟ้องแล้วแต่ยังไม่มีผลการดำเนินคดี | C18: =+'กกท.6 (กลุ่มที่ 2)'!B18 -> 0 | D18: =+'กกท.6 (กลุ่มที่ 2)'!C18 -> 0 | E18: 0 | F18: - | G18: 0 | H18: =+'กกท.6 (กลุ่มที่ 2)'!D18 -> 0 | I18: 0 | J18: =+'กกท.6 (กลุ่มที่ 2)'!D18 -> 0 | K18: =+'กกท.6 (กลุ่มที่ 2)'!E18 -> 0 | L18: =+'กกท.6 (กลุ่มที่ 2)'!F18 -> 0 | M18: 0 | N18: 0 | O18: =+'กกท.6 (กลุ่มที่ 2)'!G18 -> 0 | P18: 0 | Q18: 0 | R18: 0 | S18: =+'กกท.6 (กลุ่มที่ 2)'!K18 -> 0 | T18: -
A19: 3. ลูกหนี้ตามสัญญาประนอมหนี้ | C19: =+'กกท.6 (กลุ่มที่ 3)'!B18 -> 0 | D19: =+'กกท.6 (กลุ่มที่ 3)'!C18 -> 0 | E19: =+'กกท.6 (กลุ่มที่ 3)'!D18 -> 0 | F19: - | G19: =+'กกท.6 (กลุ่มที่ 3)'!F18 -> 0 | H19: =+'กกท.6 (กลุ่มที่ 3)'!G18 -> 0 | I19: =+'กกท.6 (กลุ่มที่ 3)'!H18 -> 0 | J19: =+'กกท.6 (กลุ่มที่ 3)'!I18 -> 0 | K19: =+'กกท.6 (กลุ่มที่ 3)'!J18 -> 0 | L19: =+'กกท.6 (กลุ่มที่ 3)'!K18 -> 0 | M19: 0 | N19: =+'กกท.6 (กลุ่มที่ 3)'!M18 -> 0 | O19: =+'กกท.6 (กลุ่มที่ 3)'!N18 -> 0 | P19: =+'กกท.6 (กลุ่มที่ 3)'!O18 -> 0 | Q19: =+'กกท.6 (กลุ่มที่ 3)'!P18 -> 0 | R19: =+'กกท.6 (กลุ่มที่ 3)'!Q18 -> 0 | S19: =+'กกท.6 (กลุ่มที่ 3)'!R18 -> 0 | T19: -
A20: 4. ลูกหนี้หลังคำพิพากษา
B21: 4.1 ลูกหนี้หลังศาลมีคำพิพากษา | C21: =+'กกท.6 (กลุ่มที่ 4)'!B19 -> 0 | D21: =+'กกท.6 (กลุ่มที่ 4)'!C19 -> 0 | E21: =+'กกท.6 (กลุ่มที่ 4)'!D19 -> 0 | F21: - | G21: =+'กกท.6 (กลุ่มที่ 4)'!F19 -> 0 | H21: =+'กกท.6 (กลุ่มที่ 4)'!G19 -> 0 | I21: =+'กกท.6 (กลุ่มที่ 4)'!H19 -> 0 | J21: =+'กกท.6 (กลุ่มที่ 4)'!I19 -> 0 | K21: =+'กกท.6 (กลุ่มที่ 4)'!J19 -> 0 | L21: =+'กกท.6 (กลุ่มที่ 4)'!K19 -> 0 | M21: =+'กกท.6 (กลุ่มที่ 4)'!L19 -> 0 | N21: =+'กกท.6 (กลุ่มที่ 4)'!M19 -> 0 | ... S21: =+'กกท.6 (กลุ่มที่ 4)'!R19 -> 0 | T21: -
B22: 4.2 ลูกหนี้ศาลมีคำพิพากษายกฟ้อง | C22: =+'กกท.6 (กลุ่มที่ 4)'!B26 -> 0 | D22: =+'กกท.6 (กลุ่มที่ 4)'!C26 -> 0 | E22: =+'กกท.6 (กลุ่มที่ 4)'!D26 -> 0 | F22: - | G22: 0 | H22: =+'กกท.6 (กลุ่มที่ 4)'!G26 -> 0 | I22: 0 | J22: =+'กกท.6 (กลุ่มที่ 4)'!I26 -> 0 | K22: =+'กกท.6 (กลุ่มที่ 4)'!J26 -> 0 | L22: =+'กกท.6 (กลุ่มที่ 4)'!K26 -> 0 | M22: 0 | N22: 0 | O22: =+'กกท.6 (กลุ่มที่ 4)'!N26 -> 0 | P22: =+'กกท.6 (กลุ่มที่ 4)'!O26 -> 0 | Q22: =+'กกท.6 (กลุ่มที่ 4)'!P26 -> 0 | R22: =+'กกท.6 (กลุ่มที่ 4)'!Q26 -> 0 | S22: =+'กกท.6 (กลุ่มที่ 4)'!R26 -> 0 | T22: -
B23: 4.3 ลูกหนี้ล้มละลาย | C23: =+'กกท.6 (กลุ่มที่ 4)'!B33 -> 0 | D23: =+'กกท.6 (กลุ่มที่ 4)'!C33 -> 0 | E23: 0 | F23: - | G23: 0 | H23: =+'กกท.6 (กลุ่มที่ 4)'!G33 -> 0 | I23: 0 | J23: =+'กกท.6 (กลุ่มที่ 4)'!I33 -> 0 | K23: =+'กกท.6 (กลุ่มที่ 4)'!J33 -> 0 | L23: =+'กกท.6 (กลุ่มที่ 4)'!K33 -> 0 | M23: 0 | N23: 0 | O23: =+'กกท.6 (กลุ่มที่ 4)'!N33 -> 0 | P23: 0 | Q23: 0 | R23: 0 | S23: =+'กกท.6 (กลุ่มที่ 4)'!R33 -> 0 | T23: -
A24: รวมลูกหนี้หลังคำพิพากษา | C24: =SUM(C21:C23) -> 0 | D24: =SUM(D21:D23) -> 0 | E24: =SUM(E21:E23) -> 0 | F24: - | G24: =SUM(G21:G23) -> 0 | H24: =SUM(H21:H23) -> 0 | I24: =SUM(I21:I23) -> 0 | J24: =SUM(J21:J23) -> 0 | K24: =SUM(K21:K23) -> 0 | L24: =SUM(L21:L23) -> 0 | M24: =SUM(M21:M23) -> 0 | N24: =SUM(N21:N23) -> 0 | ... S24: =SUM(S21:S23) -> 0 | T24: -
A25: รวมทั้งสิ้น | C25: =SUM(C17+C18+C19+C24) -> 0 | D25: =SUM(D17+D18+D19+D24) -> 0 | E25: =SUM(E17+E18+E19+E24) -> 0 | F25: - | G25: =SUM(G17+G18+G19+G24) -> 0 | H25: =SUM(H17+H18+H19+H24) -> 0 | I25: =SUM(I17+I18+I19+I24) -> 0 | J25: =SUM(J17+J18+J19+J24) -> 0 | K25: =SUM(K17+K18+K19+K24) -> 0 | L25: =SUM(L17+L18+L19+L24) -> 0 | M25: =SUM(M17+M18+M19+M24) -> 0 | N25: =SUM(N17+N18+N19+N24) -> 0 | ... S25: =SUM(S17+S18+S19+S24) -> 0 | T25: -

Sheet กกท.6 (กลุ่มที่ 1)
M1: กกท. 6
A2: กองทุนพัฒนาฝีมือแรงงาน
A3: หน่วยงาน ..............................................
A4: รายงานอายุหนี้ค้าง ลูกหนี้กองทุนพัฒนาฝีมือแรงงาน ตามระเบียบกระทรวงแรงงานและสวัสดิการสังคม ว่าด้วยกองทุนพัฒนาฝีมือแรงงาน พ.ศ. 2539
A5: รายงานอายุหนี้ค้างลูกหนี้ระหว่างปี 2541-2545 (กลุ่มที่ 1. ลูกหนี้ยังไม่ได้ดำเนินการส่งฟ้อง)
A6: ณ วันที่ ......................................................
C8: -1 | D8: -2 | E8: -3 | F8: -4 | G8: -5 | H8: -6 | I8: -7 | J8: -8 | K8: -9 | L8: -10
A9: ลูกหนี้ | B9: จำนวน | C9: วงเงินกู้ | D9: วงเงินค้างชำระ | H9: อายุหนี้ค้างชำระ | L9: วันที่ชำระ | M9: หมายเหตุ
A10: กองทุน | B10: (ราย) | D10: เงินต้น | E10: ดอกเบี้ย | F10: ค่าปรับ | G10: รวม | H10: 1 - 6 เดือน | I10: เกินกว่า | J10: เกินกว่า | K10: เกินกว่า 2 ปี | L10: ครั้งสุดท้าย
I11: 6 เดือน - 1 ปี | J11: 1 ปี - 2 ปี
A12: 1.1 ลูกหนี้ก่อนพิพากษา
A13: 2541 | N13: =+D13+E13+F13-G13 -> 0 | O13: =+D13-K13 -> 0
A14: 2542 | N14: =+D14+E14+F14-G14 -> 0 | O14: =+D14-K14 -> 0
A15: 2543 | N15: =+D15+E15+F15-G15 -> 0 | O15: =+D15-K15 -> 0
A16: 2544 | N16: =+D16+E16+F16-G16 -> 0 | O16: =+D16-K16 -> 0
A17: 2545 | N17: =+D17+E17+F17-G17 -> 0 | O17: =+D17-K17 -> 0
A18: รวม | B18: =SUM(B13:B17) -> 0 | C18: =SUM(C13:C17) -> 0 | D18: =SUM(D13:D17) -> 0 | E18: =SUM(E13:E17) -> 0 | F18: =SUM(F13:F17) -> 0 | G18: =SUM(G13:G17) -> 0 | H18: =SUM(H13:H17) -> 0 | I18: =SUM(I13:I17) -> 0 | ... K18: =SUM(K13:K17) -> 0 | L18: - | M18: - | N18: =+D18+E18+F18-G18 -> 0 | O18: =+D18-K18 -> 0 | P18: =+D18-K18 -> 0
A19: 1.2 ลูกหนี้อัยการแจ้งฐานะคดีไม่รับว่าต่างคดีให้
A20: 2541 | N20: =+D20+E20+F20-G20 -> 0 | O20: =+D20-K20 -> 0
A21: 2542 | N21: =+D21+E21+F21-G21 -> 0 | O21: =+D21-K21 -> 0
A22: 2543 | N22: =+D22+E22+F22-G22 -> 0 | O22: =+D22-K22 -> 0
A23: 2544 | N23: =+D23+E23+F23-G23 -> 0 | O23: =+D23-K23 -> 0
A24: 2545 | N24: =+D24+E24+F24-G24 -> 0 | O24: =+D24-K24 -> 0
A25: รวม | B25: =SUM(B20:B24) -> 0 | C25: =SUM(C20:C24) -> 0 | D25: =SUM(D20:D24) -> 0 | E25: =SUM(E20:E24) -> 0 | F25: =SUM(F20:F24) -> 0 | G25: =SUM(G20:G24) -> 0 | H25: =SUM(H20:H24) -> 0 | I25: =SUM(I20:I24) -> 0 | ... K25: =SUM(K20:K24) -> 0 | L25: - | M25: - | N25: =+D25+E25+F25-G25 -> 0 | O25: =+D25-K25 -> 0 | P25: =+D25-K25 -> 0
A26: 1.3 ลูกหนี้เข้าคณะกรรมการยุติการดำเนินคดีแพ่งของส่วนราชการ
A27: 2541 | N27: =+D27+E27+F27-G27 -> 0 | O27: =+D27-K27 -> 0
A28: 2542 | N28: =+D28+E28+F28-G28 -> 0 | O28: =+D28-K28 -> 0
A29: 2543 | N29: =+D29+E29+F29-G29 -> 0 | O29: =+D29-K29 -> 0
A30: 2544 | N30: =+D30+E30+F30-G30 -> 0 | O30: =+D30-K30 -> 0
A31: 2545 | N31: =+D31+E31+F31-G31 -> 0 | O31: =+D31-K31 -> 0
A32: รวม | B32: =SUM(B27:B31) -> 0 | C32: =SUM(C27:C31) -> 0 | D32: =SUM(D27:D31) -> 0 | E32: =SUM(E27:E31) -> 0 | F32: =SUM(F27:F31) -> 0 | G32: =SUM(G27:G31) -> 0 | H32: =SUM(H27:H31) -> 0 | I32: =SUM(I27:I31) -> 0 | ... K32: =SUM(K27:K31) -> 0 | L32: - | M32: - | N32: =+D32+E32+F32-G32 -> 0 | O32: =+D32-K32 -> 0 | P32: =+D32-K32 -> 0
A33: รวมทั้งสิ้น | B33: =+B18+B25+B32 -> 0 | C33: =+C18+C25+C32 -> 0 | D33: =+D18+D25+D32 -> 0 | E33: =+E18+E25+E32 -> 0 | F33: =+F18+F25+F32 -> 0 | G33: =+G18+G25+G32 -> 0 | H33: =+H18+H25+H32 -> 0 | I33: =+I18+I25+I32 -> 0 | ... K33: =+K18+K25+K32 -> 0 | L33: - | M33: - | N33: =+D33+E33+F33-G33 -> 0 | O33: =+D33-K33 -> 0
G35: =+D33+E33+F33-G33 -> 0 | K35: =+D33-K33 -> 0

Sheet กกท.6 (กลุ่มที่ 2)
M1: กกท. 6
A2: กองทุนพัฒนาฝีมือแรงงาน
A3: หน่วยงาน ..............................................
A4: รายงานอายุหนี้ค้าง ลูกหนี้กองทุนพัฒนาฝีมือแรงงาน ตามระเบียบกระทรวงแรงงานและสวัสดิการสังคม ว่าด้วยกองทุนพัฒนาฝีมือแรงงาน พ.ศ. 2539
A5: รายงานอายุหนี้ค้างลูกหนี้ระหว่างปี 2541-2545 (กลุ่มที่ 2. ลูกหนี้ส่งฟ้องแล้วแต่ยังไม่มีผลการดำเนินคดี)
A6: ณ วันที่ ......................................................
C9: -1 | D9: -2 | E9: -3 | F9: -4 | G9: -5 | H9: -6 | I9: -7 | J9: -8 | K9: -9 | L9: -10
A10: ลูกหนี้ | B10: จำนวน | C10: วงเงินกู้ | D10: วงเงินค้างชำระ | H10: อายุหนี้ค้างชำระ | L10: วันที่ชำระ | M10: หมายเหตุ
A11: กองทุน | B11: (ราย) | D11: เงินต้น | E11: ดอกเบี้ย | F11: ค่าปรับ | G11: รวม | H11: 1 - 6 เดือน | I11: เกินกว่า | J11: เกินกว่า | K11: เกินกว่า 2 ปี | L11: ครั้งสุดท้าย
I12: 6 เดือน - 1 ปี | J12: 1 ปี - 2 ปี
A13: 2541 | N13: =+D13+E13+F13-G13 -> 0 | O13: =+D13-K13 -> 0
A14: 2542 | N14: =+D14+E14+F14-G14 -> 0 | O14: =+D14-K14 -> 0
A15: 2543 | N15: =+D15+E15+F15-G15 -> 0 | O15: =+D15-K15 -> 0
A16: 2544 | N16: =+D16+E16+F16-G16 -> 0 | O16: =+D16-K16 -> 0
A17: 2545 | N17: =+D17+E17+F17-G17 -> 0 | O17: =+D17-K17 -> 0
A18: รวมทั้งสิ้น | B18: =SUM(B13:B17) -> 0 | C18: =SUM(C13:C17) -> 0 | D18: =SUM(D13:D17) -> 0 | E18: =SUM(E13:E17) -> 0 | F18: =SUM(F13:F17) -> 0 | G18: =SUM(G13:G17) -> 0 | H18: =SUM(H13:H17) -> 0 | I18: =SUM(I13:I17) -> 0 | ... K18: =SUM(K13:K17) -> 0 | L18: - | M18: - | N18: =+D18+E18+F18-G18 -> 0 | O18: =+D18-K18 -> 0 | P18: =+D18-K18 -> 0
G20: =+D18+E18+F18-G18 -> 0 | K20: =+D18-K18 -> 0

Sheet กกท.6 (กลุ่มที่ 3)
T1: กกท. 6
A2: กองทุนพัฒนาฝีมือแรงงาน
A3: หน่วยงาน ..............................................
A4: รายงานอายุหนี้ค้าง ลูกหนี้กองทุนพัฒนาฝีมือแรงงาน ตามระเบียบกระทรวงแรงงานและสวัสดิการสังคม ว่าด้วยกองทุนพัฒนาฝีมือแรงงาน พ.ศ. 2539
A5: รายงานอายุหนี้ค้างลูกหนี้ระหว่าง ปี 2541-2545 (กลุ่มที่ 3. ลูกหนี้ตามสัญญาประนอมหนี้)
A6: ณ วันที่ ......................................................
C9: -1 | D9: -2 | E9: -3 | F9: -4 | G9: -5 | H9: -5 | I9: -5 | J9: -6 | K9: -7 | L9: -8 | M9: -9 | N9: -10 | O9: -11 | P9: -12 | Q9: -13 | R9: -14 | S9: -15
A10: ลูกหนี้ | B10: จำนวน | C10: วงเงินกู้ | D10: เงินต้น | E10: วันที่ | F10: เงินต้น | G10: วงเงินค้างชำระ | O10: อายุหนี้ค้างชำระ | S10: วันที่ชำระ | T10: หมายเหตุ
A11: กองทุน | B11: (ราย) | D11: ค้างชำระ | E11: ประนอมหนี้ | F11: ตามสัญญา | G11: วงเงินต้นตามสัญญาประนอมหนี้ | J11: ดอกเบี้ย | K11: ค่าปรับ | L11: ค่าทนายความ | M11: ค่าฤชา | N11: รวม | O11: 1 - 6 เดือน | P11: เกินกว่า | Q11: เกินกว่า | R11: เกินกว่า 2 ปี | S11: ครั้งสุดท้าย
D12: ณ วันที่ทำสัญญา | F12: ประนอมหนี้ | G12: เงินต้น | H12: ดอกเบี้ย/เบี้ยปรับ | I12: รวม | M12: ธรรมเนียม | P12: 6 เดือน - 1 ปี | Q12: 1 ปี - 2 ปี
A13: 2541 | U13: =+G13+H13-I13 -> 0 | V13: =+G13+H13-I13 -> 0 | W13: =+I13+J13+K13+L13+M13-N13 -> 0 | X13: =+O13+P13+Q13+R13-I13 -> 0
A14: 2542 | U14: =+G14+H14-I14 -> 0 | V14: =+G14+H14-I14 -> 0 | W14: =+I14+J14+K14+L14+M14-N14 -> 0 | X14: =+O14+P14+Q14+R14-I14 -> 0
A15: 2543 | U15: =+G15+H15-I15 -> 0 | V15: =+G15+H15-I15 -> 0 | W15: =+I15+J15+K15+L15+M15-N15 -> 0 | X15: =+O15+P15+Q15+R15-I15 -> 0
A16: 2544 | U16: =+G16+H16-I16 -> 0 | V16: =+G16+H16-I16 -> 0 | W16: =+I16+J16+K16+L16+M16-N16 -> 0 | X16: =+O16+P16+Q16+R16-I16 -> 0
A17: 2545 | U17: =+G17+H17-I17 -> 0 | V17: =+G17+H17-I17 -> 0 | W17: =+I17+J17+K17+L17+M17-N17 -> 0 | X17: =+O17+P17+Q17+R17-I17 -> 0
A18: รวมทั้งสิ้น | B18: =SUM(B13:B17) -> 0 | C18: =SUM(C13:C17) -> 0 | D18: =SUM(D13:D17) -> 0 | E18: - | F18: =SUM(F13:F17) -> 0 | G18: =SUM(G13:G17) -> 0 | H18: =SUM(H13:H17) -> 0 | I18: =SUM(I13:I17) -> 0 | J18: =SUM(J13:J17) -> 0 | K18: =SUM(K13:K17) -> 0 | L18: =SUM(L13:L17) -> 0 | M18: =SUM(M13:M17) -> 0 | ... R18: =SUM(R13:R17) -> 0 | S18: - | T18: - | U18: =+G18+H18-I18 -> 0 | V18: =+G18+H18-I18 -> 0 | W18: =+I18+J18+K18+L18+M18-N18 -> 0 | X18: =+O18+P18+Q18+R18-I18 -> 0
R20: =+O18+P18+Q18+R18-I18 -> 0

Sheet กกท.6 (กลุ่มที่ 4)
T1: กกท. 6
A2: กองทุนพัฒนาฝีมือแรงงาน
A3: หน่วยงาน ..............................................
A4: รายงานอายุหนี้ค้าง ลูกหนี้กองทุนพัฒนาฝีมือแรงงาน ตามระเบียบกระทรวงแรงงานและสวัสดิการสังคม ว่าด้วยกองทุนพัฒนาฝีมือแรงงาน พ.ศ. 2539
A5: รายงานอายุหนี้ค้างลูกหนี้ระหว่างปี 2541-2545 (กลุ่มที่ 4. ลูกหนี้หลังคำพิพากษา)
A6: ณ วันที่ ......................................................
C9: -1 | D9: -2 | E9: -3 | F9: -4 | G9: -5 | H9: -5 | I9: -5 | J9: -6 | K9: -7 | L9: -8 | M9: -9 | N9: -10 | O9: -11 | P9: -12 | Q9: -13 | R9: -14 | S9: -15
A10: ลูกหนี้ | B10: จำนวน | C10: วงเงินกู้ | D10: เงินต้น | E10: วันที่ | F10: เงินต้น | G10: วงเงินค้างชำระ | O10: อายุหนี้ค้างชำระ | S10: วันที่ชำระ | T10: หมายเหตุ
A11: กองทุน | B11: (ราย) | D11: ค้างชำระ | E11: พิพากษา | F11: ตาม | G11: วงเงินต้นตามคำพิพากษา | J11: ดอกเบี้ย | K11: ค่าปรับ | L11: ค่าทนายความ | M11: ค่าฤชา | N11: รวม | O11: 1 - 6 เดือน | P11: เกินกว่า | Q11: เกินกว่า | R11: เกินกว่า 2 ปี | S11: ครั้งสุดท้าย
D12: ณ วันที่ฟ้อง | F12: คำพิพากษา | G12: เงินต้น | H12: ดอกเบี้ย/เบี้ยปรับ | I12: รวม | M12: ธรรมเนียม | P12: 6 เดือน - 1 ปี | Q12: 1 ปี - 2 ปี
A13: 4.1 ลูกหนี้หลังศาลมีคำพิพากษา
A14: 2541 | U14: =+G14+H14-I14 -> 0 | V14: =+G14+H14-I14 -> 0 | W14: =+I14+J14+K14+L14+M14-N14 -> 0 | X14: =+O14+P14+Q14+R14-I14 -> 0
A15: 2542 | U15: =+G15+H15-I15 -> 0 | V15: =+G15+H15-I15 -> 0 | W15: =+I15+J15+K15+L15+M15-N15 -> 0 | X15: =+O15+P15+Q15+R15-I15 -> 0
A16: 2543 | U16: =+G16+H16-I16 -> 0 | V16: =+G16+H16-I16 -> 0 | W16: =+I16+J16+K16+L16+M16-N16 -> 0 | X16: =+O16+P16+Q16+R16-I16 -> 0
A17: 2544 | U17: =+G17+H17-I17 -> 0 | V17: =+G17+H17-I17 -> 0 | W17: =+I17+J17+K17+L17+M17-N17 -> 0 | X17: =+O17+P17+Q17+R17-I17 -> 0
A18: 2545 | U18: =+G18+H18-I18 -> 0 | V18: =+G18+H18-I18 -> 0 | W18: =+I18+J18+K18+L18+M18-N18 -> 0 | X18: =+O18+P18+Q18+R18-I18 -> 0
A19: รวม | B19: =SUM(B14:B18) -> 0 | C19: =SUM(C14:C18) -> 0 | D19: =SUM(D14:D18) -> 0 | E19: - | F19: =SUM(F14:F18) -> 0 | G19: =SUM(G14:G18) -> 0 | H19: =SUM(H14:H18) -> 0 | I19: =SUM(I14:I18) -> 0 | J19: =SUM(J14:J18) -> 0 | K19: =SUM(K14:K18) -> 0 | L19: =SUM(L14:L18) -> 0 | M19: =SUM(M14:M18) -> 0 | ... R19: =SUM(R14:R18) -> 0 | S19: - | T19: - | U19: =+G19+H19-I19 -> 0 | V19: =+G19+H19-I19 -> 0 | W19: =+I19+J19+K19+L19+M19-N19 -> 0 | X19: =+O19+P19+Q19+R19-I19 -> 0
A20: 4.2 ลูกหนี้ศาลมีคำพิพากษายกฟ้อง | U20: =+G20+H20-I20 -> 0 | V20: =+G20+H20-I20 -> 0 | W20: =+I20+J20+K20+L20+M20-N20 -> 0 | X20: =+O20+P20+Q20+R20-I20 -> 0
A21: 2541 | U21: =+G21+H21-I21 -> 0 | V21: =+G21+H21-I21 -> 0 | W21: =+I21+J21+K21+L21+M21-N21 -> 0 | X21: =+O21+P21+Q21+R21-I21 -> 0
A22: 2542 | U22: =+G22+H22-I22 -> 0 | V22: =+G22+H22-I22 -> 0 | W22: =+I22+J22+K22+L22+M22-N22 -> 0 | X22: =+O22+P22+Q22+R22-I22 -> 0
A23: 2543 | U23: =+G23+H23-I23 -> 0 | V23: =+G23+H23-I23 -> 0 | W23: =+I23+J23+K23+L23+M23-N23 -> 0 | X23: =+O23+P23+Q23+R23-I23 -> 0
A24: 2544 | U24: =+G24+H24-I24 -> 0 | V24: =+G24+H24-I24 -> 0 | W24: =+I24+J24+K24+L24+M24-N24 -> 0 | X24: =+O24+P24+Q24+R24-I24 -> 0
A25: 2545 | U25: =+G25+H25-I25 -> 0 | V25: =+G25+H25-I25 -> 0 | W25: =+I25+J25+K25+L25+M25-N25 -> 0 | X25: =+O25+P25+Q25+R25-I25 -> 0
A26: รวม | B26: =SUM(B21:B25) -> 0 | C26: =SUM(C21:C25) -> 0 | D26: =SUM(D21:D25) -> 0 | E26: - | F26: =SUM(F21:F25) -> 0 | G26: =SUM(G21:G25) -> 0 | H26: =SUM(H21:H25) -> 0 | I26: =SUM(I21:I25) -> 0 | J26: =SUM(J21:J25) -> 0 | K26: =SUM(K21:K25) -> 0 | L26: =SUM(L21:L25) -> 0 | M26: =SUM(M21:M25) -> 0 | ... R26: =SUM(R21:R25) -> 0 | S26: - | T26: - | U26: =+G26+H26-I26 -> 0 | V26: =+G26+H26-I26 -> 0 | W26: =+I26+J26+K26+L26+M26-N26 -> 0 | X26: =+O26+P26+Q26+R26-I26 -> 0
A27: 4.3 ลูกหนี้ล้มละลาย | U27: =+G27+H27-I27 -> 0 | V27: =+G27+H27-I27 -> 0 | W27: =+I27+J27+K27+L27+M27-N27 -> 0 | X27: =+O27+P27+Q27+R27-I27 -> 0
A28: 2541 | U28: =+G28+H28-I28 -> 0 | V28: =+G28+H28-I28 -> 0 | W28: =+I28+J28+K28+L28+M28-N28 -> 0 | X28: =+O28+P28+Q28+R28-I28 -> 0
A29: 2542 | U29: =+G29+H29-I29 -> 0 | V29: =+G29+H29-I29 -> 0 | W29: =+I29+J29+K29+L29+M29-N29 -> 0 | X29: =+O29+P29+Q29+R29-I29 -> 0
A30: 2543 | U30: =+G30+H30-I30 -> 0 | V30: =+G30+H30-I30 -> 0 | W30: =+I30+J30+K30+L30+M30-N30 -> 0 | X30: =+O30+P30+Q30+R30-I30 -> 0
A31: 2544 | U31: =+G31+H31-I31 -> 0 | V31: =+G31+H31-I31 -> 0 | W31: =+I31+J31+K31+L31+M31-N31 -> 0 | X31: =+O31+P31+Q31+R31-I31 -> 0
A32: 2545 | U32: =+G32+H32-I32 -> 0 | V32: =+G32+H32-I32 -> 0 | W32: =+I32+J32+K32+L32+M32-N32 -> 0 | X32: =+O32+P32+Q32+R32-I32 -> 0
A33: รวม | B33: =SUM(B28:B32) -> 0 | C33: =SUM(C28:C32) -> 0 | D33: =SUM(D28:D32) -> 0 | E33: - | F33: =SUM(F28:F32) -> 0 | G33: =SUM(G28:G32) -> 0 | H33: =SUM(H28:H32) -> 0 | I33: =SUM(I28:I32) -> 0 | J33: =SUM(J28:J32) -> 0 | K33: =SUM(K28:K32) -> 0 | L33: =SUM(L28:L32) -> 0 | M33: =SUM(M28:M32) -> 0 | ... R33: =SUM(R28:R32) -> 0 | S33: - | T33: - | U33: =+G33+H33-I33 -> 0 | V33: =+G33+H33-I33 -> 0 | W33: =+I33+J33+K33+L33+M33-N33 -> 0 | X33: =+O33+P33+Q33+R33-I33 -> 0
A34: รวมทั้งสิ้น | B34: =+B19+B26+B33 -> 0 | C34: =+C19+C26+C33 -> 0 | D34: =+D19+D26+D33 -> 0 | E34: - | F34: =+F19+F26+F33 -> 0 | G34: =+G19+G26+G33 -> 0 | H34: =+H19+H26+H33 -> 0 | I34: =+I19+I26+I33 -> 0 | J34: =+J19+J26+J33 -> 0 | K34: =+K19+K26+K33 -> 0 | L34: =+L19+L26+L33 -> 0 | M34: =+M19+M26+M33 -> 0 | ... R34: =+R19+R26+R33 -> 0 | S34: - | T34: - | U34: =+G34+H34-I34 -> 0 | V34: =+G34+H34-I34 -> 0 | W34: =+I34+J34+K34+L34+M34-N34 -> 0 | X34: =+O34+P34+Q34+R34-I34 -> 0
I36: =+G34+H34-I34 -> 0 | R36: =+O34+P34+Q34+R34-I34 -> 0
I37: =+G34+H34-I34 -> 0 | N37: =+I34+J34+K34+L34+M34-N34 -> 0 | R37: =+O34+P34+Q34+R34-I34 -> 0
