Workbook

Sheet สรุป
I1: กกท. 4
A2: กองทุนพัฒนาฝีมือแรงงาน
A3: หน่วยงาน ....................................................
A4: รายละเอียดประกอบลูกหนี้ กองทุนพัฒนาฝีมือแรงงาน ตามระเบียบกระทรวงแรงงานและสวัสดิการสังคม ว่าด้วยกองทุนพัฒนาฝีมือแรงงาน พ.ศ. 2539
A5: สรุปรายละเอียกประกอบลูกหนี้ระหว่างปี 2541 - 2545
A6: ณ วันที่ ...................................
D9: -1 | E9: -2 | F9: -3 | G9: -4 | H9: -5 | I9: -6
A10: กลุ่มลูกหนี้กองทุน | C10: จำนวน | D10: คงเหลือยกมา | E10: จ่ายให้กู้ | F10: รับชำระหนี้ | G10: ปรับปรุงข้อมูลระหว่างปี | I10: คงเหลือ
C11: (ราย) | G11: เพิ่ม | H11: ลด
A12: 1. ลูกหนี้ยังไม่ได้ดำเนินการส่งฟ้อง
B13: 1.1 ลูกหนี้ก่อนพิพากษา | C13: =+'กกท.4 (กลุ่มที่ 1)'!B17 -> 0 | D13: =+'กกท.4 (กลุ่มที่ 1)'!C17 -> 0 | E13: 0 | F13: =+'กกท.4 (กลุ่มที่ 1)'!E17 -> 0 | G13: =+'กกท.4 (กลุ่มที่ 1)'!F17 -> 0 | H13: =+'กกท.4 (กลุ่มที่ 1)'!G17 -> 0 | I13: =+'กกท.4 (กลุ่มที่ 1)'!H17 -> 0
B14: 1.2 ลูกหนี้อัยการแจ้งฐานะคดีไม่รับว่าต่างคดีให้ | C14: =+'กกท.4 (กลุ่มที่ 1)'!B24 -> 0 | D14: =+'กกท.4 (กลุ่มที่ 1)'!C24 -> 0 | E14: 0 | F14: =+'กกท.4 (กลุ่มที่ 1)'!E24 -> 0 | G14: =+'กกท.4 (กลุ่มที่ 1)'!F24 -> 0 | H14: =+'กกท.4 (กลุ่มที่ 1)'!G24 -> 0 | I14: =+'กกท.4 (กลุ่มที่ 1)'!H24 -> 0
B15: 1.3 ลูกหนี้เข้าคณะกรรมการยุติการดำเนินคดีแพ่งของส่วนราชการ | C15: =+'กกท.4 (กลุ่มที่ 1)'!B31 -> 0 | D15: =+'กกท.4 (กลุ่มที่ 1)'!C31 -> 0 | E15: 0 | F15: =+'กกท.4 (กลุ่มที่ 1)'!E31 -> 0 | G15: =+'กกท.4 (กลุ่มที่ 1)'!F31 -> 0 | H15: =+'กกท.4 (กลุ่มที่ 1)'!G31 -> 0 | I15: =+'กกท.4 (กลุ่มที่ 1)'!H31 -> 0
A16: รวมลูกหนี้ยังไม่ได้ดำเนินการส่งฟ้อง | C16: =SUM(C13:C15) -> 0 | D16: =SUM(D13:D15) -> 0 | E16: =SUM(E13:E15) -> 0 | F16: =SUM(F13:F15) -> 0 | G16: =SUM(G13:G15) -> 0 | H16: =SUM(H13:H15) -> 0 | I16: =SUM(I13:I15) -> 0 | K16: =+D16+G16-F16-H16-I16 -> 0
A17: 2. ลูกหนี้ส่งฟ้องแล้วแต่ยังไม่มีผลการดำเนินคดี | C17: =+'กกท.4 (กลุ่มที่ 2)'!B17 -> 0 | D17: =+'กกท.4 (กลุ่มที่ 2)'!C17 -> 0 | E17: 0 | F17: =+'กกท.4 (กลุ่มที่ 2)'!E17 -> 0 | G17: =+'กกท.4 (กลุ่มที่ 2)'!F17 -> 0 | H17: =+'กกท.4 (กลุ่มที่ 2)'!G17 -> 0 | I17: =+'กกท.4 (กลุ่มที่ 2)'!H17 -> 0 | K17: =+D17+G17-F17-H17-I17 -> 0
A18: 3. ลูกหนี้ตามสัญญาประนอมหนี้ | C18: =+'กกท.4 (กลุ่มที่ 3)'!B17 -> 0 | D18: =+'กกท.4 (กลุ่มที่ 3)'!C17 -> 0 | E18: 0 | F18: =+'กกท.4 (กลุ่มที่ 3)'!E17 -> 0 | G18: =+'กกท.4 (กลุ่มที่ 3)'!F17 -> 0 | H18: =+'กกท.4 (กลุ่มที่ 3)'!G17 -> 0 | I18: =+'กกท.4 (กลุ่มที่ 3)'!H17 -> 0 | K18: =+D18+G18-F18-H18-I18 -> 0
A19: 4. ลูกหนี้หลังคำพิพากษา
B20: 4.1 ลูกหนี้หลังศาลมีคำพิพากษา | C20: =+'กกท.4 (กลุ่มที่ 4)'!B18 -> 0 | D20: =+'กกท.4 (กลุ่มที่ 4)'!C18 -> 0 | E20: 0 | F20: =+'กกท.4 (กลุ่มที่ 4)'!E18 -> 0 | G20: =+'กกท.4 (กลุ่มที่ 4)'!F18 -> 0 | H20: =+'กกท.4 (กลุ่มที่ 4)'!G18 -> 0 | I20: =+'กกท.4 (กลุ่มที่ 4)'!H18 -> 0
B21: 4.2 ลูกหนี้ศาลมีคำพิพากษายกฟ้อง | C21: =+'กกท.4 (กลุ่มที่ 4)'!B25 -> 0 | D21: =+'กกท.4 (กลุ่มที่ 4)'!C25 -> 0 | E21: 0 | F21: =+'กกท.4 (กลุ่มที่ 4)'!E25 -> 0 | G21: =+'กกท.4 (กลุ่มที่ 4)'!F25 -> 0 | H21: =+'กกท.4 (กลุ่มที่ 4)'!G25 -> 0 | I21: =+'กกท.4 (กลุ่มที่ 4)'!H25 -> 0
B22: 4.3 ลูกหนี้ล้มละลาย | C22: =+'กกท.4 (กลุ่มที่ 4)'!B32 -> 0 | D22: =+'กกท.4 (กลุ่มที่ 4)'!C32 -> 0 | E22: 0 | F22: =+'กกท.4 (กลุ่มที่ 4)'!E32 -> 0 | G22: =+'กกท.4 (กลุ่มที่ 4)'!F32 -> 0 | H22: =+'กกท.4 (กลุ่มที่ 4)'!G32 -> 0 | I22: =+'กกท.4 (กลุ่มที่ 4)'!H32 -> 0
A23: รวมลูกหนี้หลังคำพิพากษา | C23: =SUM(C20:C22) -> 0 | D23: =SUM(D20:D22) -> 0 | E23: =SUM(E20:E22) -> 0 | F23: =SUM(F20:F22) -> 0 | G23: =SUM(G20:G22) -> 0 | H23: =SUM(H20:H22) -> 0 | I23: =SUM(I20:I22) -> 0 | K23: =+D23+G23-F23-H23-I23 -> 0
A24: รวมทั้งสิ้น | C24: =SUM(C16+C17+C18+C23) -> 0 | D24: =SUM(D16+D17+D18+D23) -> 0 | E24: =SUM(E16+E17+E18+E23) -> 0 | F24: =SUM(F16+F17+F18+F23) -> 0 | G24: =SUM(G16+G17+G18+G23) -> 0 | H24: =SUM(H16+H17+H18+H23) -> 0 | I24: =SUM(I16+I17+I18+I23) -> 0 | K24: =+D24+G24-F24-H24-I24 -> 0

Sheet กกท.4 (กลุ่มที่ 1)
H1: กกท. 4
A2: กองทุนพัฒนาฝีมือแรงงาน
A3: หน่วยงาน ....................................................
A4: รายละเอียดประกอบลูกหนี้ กองทุนพัฒนาฝีมือแรงงาน ตามระเบียบกระทรวงแรงงานและสวัสดิการสังคม ว่าด้วยกองทุนพัฒนาฝีมือแรงงาน พ.ศ. 2539
A5: รายละเอียดประกอบลูกหนี้ระหว่างปี 2541-2545 (กลุ่มที่ 1. ลูกหนี้ยังไม่ได้ดำเนินการส่งฟ้อง)
A6: ณ วันที่ ...................................
C8: -1 | D8: -2 | E8: -3 | F8: -4 | G8: -5 | H8: -6
A9: ลูกหนี้ | B9: จำนวน | C9: คงเหลือยกมา | D9: จ่ายให้กู้ | E9: รับชำระหนี้ | F9: ปรับปรุงข้อมูลระหว่างปี | H9: คงเหลือ
A10: กองทุน | B10: (ราย) | F10: เพิ่ม | G10: ลด
A11: 1.1 ลูกหนี้ก่อนพิพากษา
A12: 2541 | J12: =+C12+F12-E12-G12-H12 -> 0
A13: 2542 | J13: =+C13+F13-E13-G13-H13 -> 0
A14: 2543 | J14: =+C14+F14-E14-G14-H14 -> 0
A15: 2544 | J15: =+C15+F15-E15-G15-H15 -> 0
A16: 2545 | H16: 0 | J16: =+C16+F16-E16-G16-H16 -> 0
A17: รวม | B17: =SUM(B12:B16) -> 0 | C17: =SUM(C12:C16) -> 0 | D17: =SUM(D12:D16) -> 0 | E17: =SUM(E12:E16) -> 0 | F17: =SUM(F12:F16) -> 0 | G17: =SUM(G12:G16) -> 0 | H17: =SUM(H12:H16) -> 0 | J17: =+C17+F17-E17-G17-H17 -> 0
A18: 1.2 ลูกหนี้อัยการแจ้งฐานะคดีไม่รับว่าต่างคดีให้
A19: 2541 | J19: =+C19+F19-E19-G19-H19 -> 0
A20: 2542 | J20: =+C20+F20-E20-G20-H20 -> 0
A21: 2543 | J21: =+C21+F21-E21-G21-H21 -> 0
A22: 2544 | J22: =+C22+F22-E22-G22-H22 -> 0
A23: 2545 | J23: =+C23+F23-E23-G23-H23 -> 0
A24: รวม | B24: =SUM(B19:B23) -> 0 | C24: =SUM(C19:C23) -> 0 | D24: =SUM(D19:D23) -> 0 | E24: =SUM(E19:E23) -> 0 | F24: =SUM(F19:F23) -> 0 | G24: =SUM(G19:G23) -> 0 | H24: =SUM(H19:H23) -> 0 | J24: =+C24+F24-E24-G24-H24 -> 0
A25: 1.3 ลูกหนี้เข้าคณะกรรมการยุติการดำเนินคดีแพ่งของส่วนราชการ
A26: 2541 | J26: =+C26+F26-E26-G26-H26 -> 0
A27: 2542 | J27: =+C27+F27-E27-G27-H27 -> 0
A28: 2543 | J28: =+C28+F28-E28-G28-H28 -> 0
A29: 2544 | J29: =+C29+F29-E29-G29-H29 -> 0
A30: 2545 | J30: =+C30+F30-E30-G30-H30 -> 0
A31: รวม | B31: =SUM(B26:B30) -> 0 | C31: =SUM(C26:C30) -> 0 | D31: =SUM(D26:D30) -> 0 | E31: =SUM(E26:E30) -> 0 | F31: =SUM(F26:F30) -> 0 | G31: =SUM(G26:G30) -> 0 | H31: =SUM(H26:H30) -> 0 | J31: =+C31+F31-E31-G31-H31 -> 0
A32: รวมทั้งสิ้น | B32: =+B17+B24+B31 -> 0 | C32: =+C17+C24+C31 -> 0 | D32: =+D17+D24+D31 -> 0 | E32: =+E17+E24+E31 -> 0 | F32: =+F17+F24+F31 -> 0 | G32: =+G17+G24+G31 -> 0 | H32: =+H17+H24+H31 -> 0 | J32: =+C32+F32-E32-G32-H32 -> 0

Sheet กกท.4 (กลุ่มที่ 2)
H1: กกท. 4
A2: กองทุนพัฒนาฝีมือแรงงาน
A3: หน่วยงาน ....................................................
A4: รายละเอียดประกอบลูกหนี้ กองทุนพัฒนาฝีมือแรงงาน ตามระเบียบกระทรวงแรงงานและสวัสดิการสังคม ว่าด้วยกองทุนพัฒนาฝีมือแรงงาน พ.ศ. 2539
A5: รายละเอียดประกอบลูกหนี้ระหว่างปี 2541-2545 (กลุ่มที่ 2. ลูกหนี้ส่งฟ้องแล้วแต่ยังไม่มีผลการดำเนินคดี)
A6: ณ วันที่ ...................................
C9: -1 | D9: -2 | E9: -3 | F9: -4 | G9: -5 | H9: -6
A10: ลูกหนี้ | B10: จำนวน | C10: คงเหลือยกมา | D10: จ่ายให้กู้ | E10: รับชำระหนี้ | F10: ปรับปรุงข้อมูลระหว่างปี | H10: คงเหลือ
A11: กองทุน | B11: (ราย) | F11: เพิ่ม | G11: ลด
A12: 2541 | J12: =+C12+F12-E12-G12-H12 -> 0
A13: 2542 | J13: =+C13+F13-E13-G13-H13 -> 0
A14: 2543 | J14: =+C14+F14-E14-G14-H14 -> 0
A15: 2544 | J15: =+C15+F15-E15-G15-H15 -> 0
A16: 2545 | J16: =+C16+F16-E16-G16-H16 -> 0
A17: รวมทั้งสิ้น | B17: =SUM(B12:B16) -> 0 | C17: =SUM(C12:C16) -> 0 | D17: =SUM(D12:D16) -> 0 | E17: =SUM(E12:E16) -> 0 | F17: =SUM(F12:F16) -> 0 | G17: =SUM(G12:G16) -> 0 | H17: =SUM(H12:H16) -> 0 | J17: =+C17+F17-E17-G17-H17 -> 0

Sheet กกท.4 (กลุ่มที่ 3)
H1: กกท. 4
A2: กองทุนพัฒนาฝีมือแรงงาน
A3: หน่วยงาน ....................................................
A4: รายละเอียดประกอบลูกหนี้ กองทุนพัฒนาฝีมือแรงงาน ตามระเบียบกระทรวงแรงงานและสวัสดิการสังคม ว่าด้วยกองทุนพัฒนาฝีมือแรงงาน พ.ศ. 2539
A5: รายละเอียดประกอบลูกหนี้ระหว่างปี 2541-2545 (กลุ่มที่ 3. ลูกหนี้ตามสัญญาประนอมหนี้)
A6: ณ วันที่ ...................................
C9: -1 | D9: -2 | E9: -3 | F9: -4 | G9: -5 | H9: -6
A10: ลูกหนี้ | B10: จำนวน | C10: คงเหลือยกมา | D10: จ่ายให้กู้ | E10: รับชำระหนี้ | F10: ปรับปรุงข้อมูลระหว่างปี | H10: คงเหลือ
A11: กองทุน | B11: (ราย) | F11: เพิ่ม | G11: ลด
A12: 2541 | J12: =+C12+F12-E12-G12-H12 -> 0
A13: 2542 | J13: =+C13+F13-E13-G13-H13 -> 0
A14: 2543 | J14: =+C14+F14-E14-G14-H14 -> 0
A15: 2544 | J15: =+C15+F15-E15-G15-H15 -> 0
A16: 2545 | J16: =+C16+F16-E16-G16-H16 -> 0
A17: รวมทั้งสิ้น | B17: =SUM(B12:B16) -> 0 | C17: =SUM(C12:C16) -> 0 | D17: =SUM(D12:D16) -> 0 | E17: =SUM(E12:E16) -> 0 | F17: =SUM(F12:F16) -> 0 | G17: =SUM(G12:G16) -> 0 | H17: =SUM(H12:H16) -> 0 | J17: =+C17+F17-E17-G17-H17 -> 0

Sheet กกท.4 (กลุ่มที่ 4)
H1: กกท. 4
A2: กองทุนพัฒนาฝีมือแรงงาน
A3: หน่วยงาน ....................................................
A4: รายละเอียดประกอบลูกหนี้ กองทุนพัฒนาฝีมือแรงงาน ตามระเบียบกระทรวงแรงงานและสวัสดิการสังคม ว่าด้วยกองทุนพัฒนาฝีมือแรงงาน พ.ศ. 2539
A5: รายละเอียดประกอบลูกหนี้ระหว่างปี 2541-2545 (กลุ่มที่ 4. ลูกหนี้หลังคำพิพากษา)
A6: ณ วันที่ ...................................
C9: -1 | D9: -2 | E9: -3 | F9: -4 | G9: -5 | H9: -6
A10: ลูกหนี้ | B10: จำนวน | C10: คงเหลือยกมา | D10: จ่ายให้กู้ | E10: รับชำระหนี้ | F10: ปรับปรุงข้อมูลระหว่างปี | H10: คงเหลือ
A11: กองทุน | B11: (ราย) | F11: เพิ่ม | G11: ลด
A12: 4.1 ลูกหนี้หลังศาลมีคำพิพากษา
A13: 2541 | J13: =+C13+F13-E13-G13-H13 -> 0
A14: 2542 | J14: =+C14+F14-E14-G14-H14 -> 0
A15: 2543 | J15: =+C15+F15-E15-G15-H15 -> 0
A16: 2544 | J16: =+C16+F16-E16-G16-H16 -> 0
A17: 2545 | J17: =+C17+F17-E17-G17-H17 -> 0
A18: รวม | B18: =SUM(B13:B17) -> 0 | C18: =SUM(C13:C17) -> 0 | D18: =SUM(D13:D17) -> 0 | E18: =SUM(E13:E17) -> 0 | F18: =SUM(F13:F17) -> 0 | G18: =SUM(G13:G17) -> 0 | H18: =SUM(H13:H17) -> 0 | J18: =+C18+F18-E18-G18-H18 -> 0
A19: 4.2 ลูกหนี้ศาลมีคำพิพากษายกฟ้อง
A20: 2541 | J20: =+C20+F20-E20-G20-H20 -> 0
A21: 2542 | J21: =+C21+F21-E21-G21-H21 -> 0
A22: 2543 | J22: =+C22+F22-E22-G22-H22 -> 0
A23: 2544 | J23: =+C23+F23-E23-G23-H23 -> 0
A24: 2545 | J24: =+C24+F24-E24-G24-H24 -> 0
A25: รวม | B25: =SUM(B20:B24) -> 0 | C25: =SUM(C20:C24) -> 0 | D25: =SUM(D20:D24) -> 0 | E25: =SUM(E20:E24) -> 0 | F25: =SUM(F20:F24) -> 0 | G25: =SUM(G20:G24) -> 0 | H25: =SUM(H20:H24) -> 0 | J25: =+C25+F25-E25-G25-H25 -> 0
A26: 4.3 ลูกหนี้ล้มละลาย
A27: 2541 | J27: =+C27+F27-E27-G27-H27 -> 0
A28: 2542 | J28: =+C28+F28-E28-G28-H28 -> 0
A29: 2543 | J29: =+C29+F29-E29-G29-H29 -> 0
A30: 2544 | J30: =+C30+F30-E30-G30-H30 -> 0
A31: 2545 | J31: =+C31+F31-E31-G31-H31 -> 0
A32: รวม | B32: =SUM(B27:B31) -> 0 | C32: =SUM(C27:C31) -> 0 | D32: =SUM(D27:D31) -> 0 | E32: =SUM(E27:E31) -> 0 | F32: =SUM(F27:F31) -> 0 | G32: =SUM(G27:G31) -> 0 | H32: =SUM(H27:H31) -> 0 | J32: =+C32+F32-E32-G32-H32 -> 0
A33: รวมทั้งสิ้น | B33: =SUM(B18+B25+B32) -> 0 | C33: =SUM(C18+C25+C32) -> 0 | D33: =SUM(D18+D25+D32) -> 0 | E33: =SUM(E18+E25+E32) -> 0 | F33: =SUM(F18+F25+F32) -> 0 | G33: =SUM(G18+G25+G32) -> 0 | H33: =SUM(H18+H25+H32) -> 0 | J33: =+C33+F33-E33-G33-H33 -> 0
