Workbook

Sheet คำชี้แจง
A1: 1. แบบฟอร์ม ป.1 เป็นแบบฟอร์มใช้ประเมินภาคปฏิบัติของผู้เข้ารับการฝึกอบรม
A2: 2. วิทยากรภาคปฏิบัติจะเป็นผู้กรอกแบบฟอร์ม ป.1 นี้
A3: 3. เริ่มกรอกในชีท รายชื่อ 20 คน เป็นอันดับแรก
A4: 3.1 กรอกชื่อสถานประกอบการ
A5: 3.2 กรอกชื่อวิทยากรภาคปฏิบัติ
A6: 3.3 กรอกรายชื่อผู้เข้ารับการฝึกอบรม
A7: 4. เริ่มต้น กรอกข้อมูลภาคปฏิบัติ โดยเริ่มต้นที่ ชีท คนที่ 1
A8: 4.1 กรอกคะแนนก่อนฝึกและหลังการฝึก โดยพิจารณาจากหลักเกณฑ์การให้คะแนน ดังนี้
B9: คะแนน | C9: หมายถึง
B10: 5 | C10: มากที่สุด
B11: 4 | C11: มาก
B12: 3 | C12: ปานกลาง
B13: 2 | C13: น้อย
B14: 1 | C14: น้อยที่สุด
A15: 4.2 เริ่มคนที่ 2 3 ...... จนครบ
A16: 5. ถ่ายรูปกิจกรรมที่จัดขึ้น ประมาณ 10 ภาพ
A17: 6. ส่งภาพกิจกรรมภาคปฎิบัติ มาที่ parach00q@gmail.com
A18: 7. วิทยากรภาคปฏิบัติให้พิมพ์ชีท สรุปผลคะแนน พร้อมเซนต์ชื่อด้านล่าง และส่งตัวจริงกลับมายังศูนย์ ตามที่อยู่นี้
A19: ฝ่ายพัฒนาศักยภาพแรงงาน ศูนย์พัฒนาฝีมือแรงงานจังหวัดเพชรบุรี
A20: 58 ม.2 ต.เขาใหญ่ อ.ชะอำ จ.เพชรบุรี 76120
A21: โทร. 032-470392 หรือ 032-470391 ต่อ 112

Sheet สรุปผลคะแนน
A1: แบบประเมินการฝึกอบรมภาคปฏิบัติ
A2: ='รายชื่อ 20 คน'!C1 -> 0
A3: ='รายชื่อ 20 คน'!C3 -> 0
A5: ลำดับที่ | B5: ชื่อ - สกุล | D5: คะแนน | K5: คิดเป็นคะแนนภาคปฏิบัติ(30) | L5: หมายเหตุ
D6: ภาคปฏิบัติ (150) | J6: รวมปฏิบัติ (150)
D7: การมีวินัยในการทำงาน | E7: ความรับผิดชอบต่องาน | F7: การแก้ไขปัญหา | G7: การทำงานเป็นทีม | H7: การเพิ่มผลิตภาพในการทำงาน | I7: ความคิดสร้างสรรค์
A8: 1 | B8: ='รายชื่อ 20 คน'!B6 -> 0 | D8: ='คนที่ 1'!$G$5 -> 0 | E8: ='คนที่ 1'!$G$6 -> 0 | F8: ='คนที่ 1'!$G$7 -> 0 | G8: ='คนที่ 1'!$G$8 -> 0 | H8: ='คนที่ 1'!$G$9 -> 0 | I8: ='คนที่ 1'!$G$10 -> 0 | J8: =SUM(D8:I8) -> 0 | K8: =J8*30/150 -> 0
A9: 2 | B9: ='รายชื่อ 20 คน'!B7 -> 0 | D9: ='คนที่ 2'!$G$5 -> 0 | E9: ='คนที่ 2'!$G$6 -> 0 | F9: ='คนที่ 2'!$G$7 -> 0 | G9: ='คนที่ 2'!$G$8 -> 0 | H9: ='คนที่ 2'!$G$9 -> 0 | I9: ='คนที่ 2'!$G$10 -> 0 | J9: =SUM(D9:I9) -> 0 | K9: =J9*30/150 -> 0
A10: 3 | B10: ='รายชื่อ 20 คน'!B8 -> 0 | D10: ='คนที่ 3'!$G$5 -> 0 | E10: ='คนที่ 3'!$G$6 -> 0 | F10: ='คนที่ 3'!$G$7 -> 0 | G10: ='คนที่ 3'!$G$9 -> 0 | H10: ='คนที่ 3'!$G$9 -> 0 | I10: ='คนที่ 3'!$G$10 -> 0 | J10: =SUM(D10:I10) -> 0 | K10: =J10*30/150 -> 0
A11: 4 | B11: ='รายชื่อ 20 คน'!B9 -> 0 | D11: ='คนที่ 4'!$G$5 -> 0 | E11: ='คนที่ 4'!$G$6 -> 0 | F11: ='คนที่ 4'!$G$7 -> 0 | G11: ='คนที่ 4'!$G$8 -> 0 | H11: ='คนที่ 4'!$G$9 -> 0 | I11: ='คนที่ 4'!$G$10 -> 0 | J11: =SUM(D11:I11) -> 0 | K11: =J11*30/150 -> 0
A12: 5 | B12: ='รายชื่อ 20 คน'!B10 -> 0 | D12: ='คนที่ 5'!$G$5 -> 0 | E12: ='คนที่ 5'!$G$6 -> 0 | F12: ='คนที่ 5'!$G$7 -> 0 | G12: ='คนที่ 5'!$G$8 -> 0 | H12: ='คนที่ 5'!$G$9 -> 0 | I12: ='คนที่ 5'!$G$10 -> 0 | J12: =SUM(D12:I12) -> 0 | K12: =J12*30/150 -> 0
A13: 6 | B13: ='รายชื่อ 20 คน'!B11 -> 0 | D13: ='คนที่ 6'!$G$5 -> 0 | E13: ='คนที่ 6'!$G$6 -> 0 | F13: ='คนที่ 6'!$G$7 -> 0 | G13: ='คนที่ 6'!$G$8 -> 0 | H13: ='คนที่ 6'!$G$9 -> 0 | I13: ='คนที่ 6'!$G$10 -> 0 | J13: =SUM(D13:I13) -> 0 | K13: =J13*30/150 -> 0
A14: 7 | B14: ='รายชื่อ 20 คน'!B12 -> 0 | D14: ='คนที่ 7'!$G$5 -> 0 | E14: ='คนที่ 7'!$G$6 -> 0 | F14: ='คนที่ 7'!$G$7 -> 0 | G14: ='คนที่ 7'!$G$8 -> 0 | H14: ='คนที่ 7'!$G$9 -> 0 | I14: ='คนที่ 7'!$G$10 -> 0 | J14: =SUM(D14:I14) -> 0 | K14: =J14*30/150 -> 0
A15: 8 | B15: ='รายชื่อ 20 คน'!B13 -> 0 | D15: ='คนที่ 8'!$G$5 -> 0 | E15: ='คนที่ 8'!$G$6 -> 0 | F15: ='คนที่ 8'!$G$7 -> 0 | G15: ='คนที่ 8'!$G$8 -> 0 | H15: ='คนที่ 8'!$G$9 -> 0 | I15: ='คนที่ 8'!$G$10 -> 0 | J15: =SUM(D15:I15) -> 0 | K15: =J15*30/150 -> 0
A16: 9 | B16: ='รายชื่อ 20 คน'!B14 -> 0 | D16: ='คนที่ 9'!$G$5 -> 0 | E16: ='คนที่ 9'!$G$6 -> 0 | F16: ='คนที่ 9'!$G$7 -> 0 | G16: ='คนที่ 9'!$G$8 -> 0 | H16: ='คนที่ 9'!$G$9 -> 0 | I16: ='คนที่ 9'!$G$10 -> 0 | J16: =SUM(D16:I16) -> 0 | K16: =J16*30/150 -> 0
A17: 10 | B17: ='รายชื่อ 20 คน'!B15 -> 0 | D17: ='คนที่ 10'!$G$5 -> 0 | E17: ='คนที่ 10'!$G$6 -> 0 | F17: ='คนที่ 10'!$G$7 -> 0 | G17: ='คนที่ 10'!$G$8 -> 0 | H17: ='คนที่ 10'!$G$9 -> 0 | I17: ='คนที่ 10'!$G$10 -> 0 | J17: =SUM(D17:I17) -> 0 | K17: =J17*30/150 -> 0
A18: 11 | B18: ='รายชื่อ 20 คน'!B16 -> 0 | D18: ='คนที่ 11'!$G$5 -> 0 | E18: ='คนที่ 11'!$G$6 -> 0 | F18: ='คนที่ 11'!$G$7 -> 0 | G18: ='คนที่ 11'!$G$8 -> 0 | H18: ='คนที่ 11'!$G$9 -> 0 | I18: ='คนที่ 11'!$G$10 -> 0 | J18: =SUM(D18:I18) -> 0 | K18: =J18*30/150 -> 0
A19: 12 | B19: ='รายชื่อ 20 คน'!B17 -> 0 | D19: ='คนที่ 12'!$G$5 -> 0 | E19: ='คนที่ 12'!$G$6 -> 0 | F19: ='คนที่ 12'!$G$7 -> 0 | G19: ='คนที่ 12'!$G$8 -> 0 | H19: ='คนที่ 12'!$G$9 -> 0 | I19: ='คนที่ 12'!$G$10 -> 0 | J19: =SUM(D19:I19) -> 0 | K19: =J19*30/150 -> 0
A20: 13 | B20: ='รายชื่อ 20 คน'!B18 -> 0 | D20: ='คนที่ 13'!$G$5 -> 0 | E20: ='คนที่ 13'!$G$6 -> 0 | F20: ='คนที่ 13'!$G$7 -> 0 | G20: ='คนที่ 13'!$G$8 -> 0 | H20: ='คนที่ 13'!$G$9 -> 0 | I20: ='คนที่ 13'!$G$10 -> 0 | J20: =SUM(D20:I20) -> 0 | K20: =J20*30/150 -> 0
A21: 14 | B21: ='รายชื่อ 20 คน'!B19 -> 0 | D21: ='คนที่ 14'!$G$5 -> 0 | E21: ='คนที่ 14'!$G$6 -> 0 | F21: ='คนที่ 14'!$G$7 -> 0 | G21: ='คนที่ 14'!$G$8 -> 0 | H21: ='คนที่ 14'!$G$9 -> 0 | I21: ='คนที่ 14'!$G$10 -> 0 | J21: =SUM(D21:I21) -> 0 | K21: =J21*30/150 -> 0
A22: 15 | B22: ='รายชื่อ 20 คน'!B20 -> 0 | D22: ='คนที่ 15'!$G$5 -> 0 | E22: ='คนที่ 15'!$G$6 -> 0 | F22: ='คนที่ 15'!$G$7 -> 0 | G22: ='คนที่ 15'!$G$8 -> 0 | H22: ='คนที่ 15'!$G$9 -> 0 | I22: ='คนที่ 15'!$G$10 -> 0 | J22: =SUM(D22:I22) -> 0 | K22: =J22*30/150 -> 0
A23: 16 | B23: ='รายชื่อ 20 คน'!B21 -> 0 | D23: ='คนที่ 16'!$G$5 -> 0 | E23: ='คนที่ 16'!$G$6 -> 0 | F23: ='คนที่ 16'!$G$7 -> 0 | G23: ='คนที่ 16'!$G$8 -> 0 | H23: ='คนที่ 16'!$G$9 -> 0 | I23: ='คนที่ 16'!$G$10 -> 0 | J23: =SUM(D23:I23) -> 0 | K23: =J23*30/150 -> 0
A24: 17 | B24: ='รายชื่อ 20 คน'!B22 -> 0 | D24: ='คนที่ 17'!$G$5 -> 0 | E24: ='คนที่ 17'!$G$6 -> 0 | F24: ='คนที่ 17'!$G$7 -> 0 | G24: ='คนที่ 17'!$G$8 -> 0 | H24: ='คนที่ 17'!$G$9 -> 0 | I24: ='คนที่ 17'!$G$10 -> 0 | J24: =SUM(D24:I24) -> 0 | K24: =J24*30/150 -> 0
A25: 18 | B25: ='รายชื่อ 20 คน'!B23 -> 0 | D25: ='คนที่ 18'!$G$5 -> 0 | E25: ='คนที่ 18'!$G$6 -> 0 | F25: ='คนที่ 18'!$G$7 -> 0 | G25: ='คนที่ 18'!$G$8 -> 0 | H25: ='คนที่ 18'!$G$9 -> 0 | I25: ='คนที่ 18'!$G$10 -> 0 | J25: =SUM(D25:I25) -> 0 | K25: =J25*30/150 -> 0
A26: 19 | B26: ='รายชื่อ 20 คน'!B24 -> 0 | D26: ='คนที่ 19'!$G$5 -> 0 | E26: ='คนที่ 19'!$G$6 -> 0 | F26: ='คนที่ 19'!$G$7 -> 0 | G26: ='คนที่ 19'!$G$8 -> 0 | H26: ='คนที่ 19'!$G$9 -> 0 | I26: ='คนที่ 19'!$G$10 -> 0 | J26: =SUM(D26:I26) -> 0 | K26: =J26*30/150 -> 0
A27: 20 | B27: ='รายชื่อ 20 คน'!B25 -> 0 | D27: ='คนที่ 20'!$G$5 -> 0 | E27: ='คนที่ 20'!$G$6 -> 0 | F27: ='คนที่ 20'!$G$7 -> 0 | G27: ='คนที่ 20'!$G$8 -> 0 | H27: ='คนที่ 20'!$G$9 -> 0 | I27: ='คนที่ 20'!$G$10 -> 0 | J27: =SUM(D27:I27) -> 0 | K27: =J27*30/150 -> 0
D30: ลงชื่อ............................................................ผู้ประเมิน/วิทยากร
E31: ="("&'รายชื่อ 20 คน'!C2&")" -> ()
D32: วันที่.............................................................
A33: แบบประเมินการฝึกอบรมภาคปฏิบัติ
A34: ='รายชื่อ 20 คน'!C1 -> 0
A35: ='รายชื่อ 20 คน'!C3 -> 0
A37: ลำดับที่ | B37: ชื่อ - สกุล | D37: คะแนน | K37: คิดเป็นคะแนนภาคปฏิบัติ(30) | L37: หมายเหตุ
D38: ภาคปฏิบัติ (150) | J38: รวมปฏิบัติ (150)
D39: การมีวินัยในการทำงาน | E39: ความรับผิดชอบต่องาน | F39: การแก้ไขปัญหา | G39: การทำงานเป็นทีม | H39: การเพิ่มผลิตภาพในการทำงาน | I39: ความคิดสร้างสรรค์
A40: 21 | B40: ='รายชื่อ 20 คน'!B26 -> 0 | D40: ='คนที่ 21'!$G$5 -> 0 | E40: ='คนที่ 21'!$G$6 -> 0 | F40: ='คนที่ 21'!$G$7 -> 0 | G40: ='คนที่ 21'!$G$8 -> 0 | H40: ='คนที่ 21'!$G$9 -> 0 | I40: ='คนที่ 21'!$G$10 -> 0 | J40: =SUM(D40:I40) -> 0 | K40: =J40*30/150 -> 0
A41: 22 | B41: ='รายชื่อ 20 คน'!B27 -> 0 | D41: ='คนที่ 22'!$G$5 -> 0 | E41: ='คนที่ 22'!$G$6 -> 0 | F41: ='คนที่ 22'!$G$7 -> 0 | G41: ='คนที่ 22'!$G$8 -> 0 | H41: ='คนที่ 22'!$G$9 -> 0 | I41: ='คนที่ 22'!$G$10 -> 0 | J41: =SUM(D41:I41) -> 0 | K41: =J41*30/150 -> 0
A42: 23 | B42: ='รายชื่อ 20 คน'!B28 -> 0 | D42: ='คนที่ 23'!$G$5 -> 0 | E42: ='คนที่ 23'!$G$6 -> 0 | F42: ='คนที่ 23'!$G$7 -> 0 | G42: ='คนที่ 23'!$G$8 -> 0 | H42: ='คนที่ 23'!$G$9 -> 0 | I42: ='คนที่ 23'!$G$10 -> 0 | J42: =SUM(D42:I42) -> 0 | K42: =J42*30/150 -> 0
A43: 24 | B43: ='รายชื่อ 20 คน'!B29 -> 0 | D43: ='คนที่ 24'!$G$5 -> 0 | E43: ='คนที่ 24'!$G$6 -> 0 | F43: ='คนที่ 24'!$G$7 -> 0 | G43: ='คนที่ 24'!$G$8 -> 0 | H43: ='คนที่ 24'!$G$9 -> 0 | I43: ='คนที่ 24'!$G$10 -> 0 | J43: =SUM(D43:I43) -> 0 | K43: =J43*30/150 -> 0
A44: 25 | B44: ='รายชื่อ 20 คน'!B30 -> 0 | D44: ='คนที่ 25'!$G$5 -> 0 | E44: ='คนที่ 25'!$G$6 -> 0 | F44: ='คนที่ 25'!$G$7 -> 0 | G44: ='คนที่ 25'!$G$8 -> 0 | H44: ='คนที่ 25'!$G$9 -> 0 | I44: ='คนที่ 25'!$G$10 -> 0 | J44: =SUM(D44:I44) -> 0 | K44: =J44*30/150 -> 0
A45: 26 | B45: ='รายชื่อ 20 คน'!B31 -> 0 | D45: ='คนที่ 26'!$G$5 -> 0 | E45: ='คนที่ 26'!$G$6 -> 0 | F45: ='คนที่ 26'!$G$7 -> 0 | G45: ='คนที่ 26'!$G$8 -> 0 | H45: ='คนที่ 26'!$G$9 -> 0 | I45: ='คนที่ 26'!$G$10 -> 0 | J45: =SUM(D45:I45) -> 0 | K45: =J45*30/150 -> 0
A46: 27 | B46: ='รายชื่อ 20 คน'!B32 -> 0 | D46: ='คนที่ 27'!$G$5 -> 0 | E46: ='คนที่ 27'!$G$6 -> 0 | F46: ='คนที่ 27'!$G$7 -> 0 | G46: ='คนที่ 27'!$G$8 -> 0 | H46: ='คนที่ 27'!$G$9 -> 0 | I46: ='คนที่ 27'!$G$10 -> 0 | J46: =SUM(D46:I46) -> 0 | K46: =J46*30/150 -> 0
A47: 28 | B47: ='รายชื่อ 20 คน'!B33 -> 0 | D47: ='คนที่ 28'!$G$5 -> 0 | E47: ='คนที่ 28'!$G$6 -> 0 | F47: ='คนที่ 28'!$G$7 -> 0 | G47: ='คนที่ 28'!$G$8 -> 0 | H47: ='คนที่ 28'!$G$9 -> 0 | I47: ='คนที่ 28'!$G$10 -> 0 | J47: =SUM(D47:I47) -> 0 | K47: =J47*30/150 -> 0
A48: 29 | B48: ='รายชื่อ 20 คน'!B34 -> 0 | D48: ='คนที่ 29'!$G$5 -> 0 | E48: ='คนที่ 29'!$G$6 -> 0 | F48: ='คนที่ 29'!$G$7 -> 0 | G48: ='คนที่ 29'!$G$8 -> 0 | H48: ='คนที่ 29'!$G$9 -> 0 | I48: ='คนที่ 29'!$G$10 -> 0 | J48: =SUM(D48:I48) -> 0 | K48: =J48*30/150 -> 0
A49: 30 | B49: ='รายชื่อ 20 คน'!B35 -> 0 | D49: ='คนที่ 30'!$G$5 -> 0 | E49: ='คนที่ 30'!$G$6 -> 0 | F49: ='คนที่ 30'!$G$7 -> 0 | G49: ='คนที่ 30'!$G$8 -> 0 | H49: ='คนที่ 30'!$G$9 -> 0 | I49: ='คนที่ 30'!$G$10 -> 0 | J49: =SUM(D49:I49) -> 0 | K49: =J49*30/150 -> 0
D62: ลงชื่อ............................................................ผู้ประเมิน/วิทยากร
E63: ="("&'รายชื่อ 20 คน'!C2&")" -> ()
D64: วันที่.............................................................

Sheet รายชื่อ 20 คน
A1: ชื่อสถานประกอบการ ===>
A2: ชื่อวิทยากรภาคปฏิบัติ ===>
B3: ชื่อสาขาวิชา ===>
A4: รายชื่อผู้เข้าฝึกอบรม
A5: ลำดับที่ | B5: ชื่อ สกุล
A6: 1
A7: 2
A8: 3
A9: 4
A10: 5
A11: 6
A12: 7
A13: 8
A14: 9
A15: 10
A16: 11
A17: 12
... A35: 30

Sheet คนที่ 1
A1: แบบประเมินรายบุคคล
A2: ชื่อ-สกุลผู้เข้ารับการฝึก | C2: =IF(ISBLANK('รายชื่อ 20 คน'!B6),"",'รายชื่อ 20 คน'!B6)
A3: ชื่อสถานประกอบการ | C3: =IF(ISBLANK('รายชื่อ 20 คน'!C1),"",'รายชื่อ 20 คน'!C1)
A4: ลำดับ ที่ | B4: หัวข้อประเมิน | C4: น้ำหนัก คะแนน | D4: ประเมินก่อนฝึก (คะแนนเต็ม 5) | E4: คะแนน ที่ได้ | F4: ประเมินหลังฝึก (คะแนนเต็ม 5) | G4: คะแนน ที่ได้ | H4: ผลต่างของ คะแนน ทั้ง 2 ครั้ง | I4: คิดเป็นร้อยละ เทียบจาก ก่อนฝึก | J4: คิดเป็นร้อยละ เทียบจาก คะแนนเต็ม
A5: 1 | B5: การมีวินัยในการทำงาน | C5: 5 | E5: =D5*C5 -> 0 | G5: =F5*C5 -> 0 | H5: =G5-E5 -> 0 | I5: =IF(ISERROR(H5/E5*100),"",(H5/E5*100)) | J5: =IF(ISERROR(G5/(5*C5)*100),"",(G5/(5*C5)*100)) -> 0
A6: 2 | B6: ความรับผิดชอบต่องาน | C6: 5 | E6: =D6*C6 -> 0 | G6: =F6*C6 -> 0 | H6: =G6-E6 -> 0 | I6: =IF(ISERROR(H6/E6*100),"",(H6/E6*100)) | J6: =IF(ISERROR(G6/(5*C6)*100),"",(G6/(5*C6)*100)) -> 0
A7: 3 | B7: การแก้ไขปัญหา | C7: 5 | E7: =D7*C7 -> 0 | G7: =F7*C7 -> 0 | H7: =G7-E7 -> 0 | I7: =IF(ISERROR(H7/E7*100),"",(H7/E7*100)) | J7: =IF(ISERROR(G7/(5*C7)*100),"",(G7/(5*C7)*100)) -> 0
A8: 4 | B8: การทำงานเป็นทีม | C8: 5 | E8: =D8*C8 -> 0 | G8: =F8*C8 -> 0 | H8: =G8-E8 -> 0 | I8: =IF(ISERROR(H8/E8*100),"",(H8/E8*100)) | J8: =IF(ISERROR(G8/(5*C8)*100),"",(G8/(5*C8)*100)) -> 0
A9: 5 | B9: การเพิ่มผลิตภาพในการทำงาน | C9: 5 | E9: =D9*C9 -> 0 | G9: =F9*C9 -> 0 | H9: =G9-E9 -> 0 | I9: =IF(ISERROR(H9/E9*100),"",(H9/E9*100)) | J9: =IF(ISERROR(G9/(5*C9)*100),"",(G9/(5*C9)*100)) -> 0
A10: 6 | B10: ความคิดสร้างสรรค์ | C10: 5 | E10: =D10*C10 -> 0 | G10: =F10*C10 -> 0 | H10: =G10-E10 -> 0 | I10: =IF(ISERROR(H10/E10*100),"",(H10/E10*100)) | J10: =IF(ISERROR(G10/(5*C10)*100),"",(G10/(5*C10)*100)) -> 0
B11: รวม | C11: =SUM(C5:C10) -> 30 | E11: =SUM(E5:E10) -> 0 | G11: =SUM(G5:G10) -> 0 | H11: =SUM(H5:H10) -> 0 | I11: =IF(ISERROR(H11/E11*100),"",(H11/E11*100)) | J11: =IF(ISERROR(G11/(5*C11)*100),"",(G11/(5*C11)*100)) -> 0
F16: =IF(ISBLANK('รายชื่อ 20 คน'!$C$2),"",'รายชื่อ 20 คน'!$C$2)
F17: วิทยากรผู้ประเมิน

Sheet คนที่ 2
A1: แบบประเมินรายบุคคล
A2: ชื่อ-สกุลผู้เข้ารับการฝึก | C2: =IF(ISBLANK('รายชื่อ 20 คน'!B7),"",'รายชื่อ 20 คน'!B7)
A3: ชื่อสถานประกอบการ | C3: =IF(ISBLANK('รายชื่อ 20 คน'!C1),"",'รายชื่อ 20 คน'!C1)
A4: ลำดับ ที่ | B4: หัวข้อประเมิน | C4: น้ำหนัก คะแนน | D4: ประเมินก่อนฝึก (คะแนนเต็ม 5) | E4: คะแนน ที่ได้ | F4: ประเมินหลังฝึก (คะแนนเต็ม 5) | G4: คะแนน ที่ได้ | H4: ผลต่างของ คะแนน ทั้ง 2 ครั้ง | I4: คิดเป็นร้อยละ เทียบจาก ก่อนฝึก | J4: คิดเป็นร้อยละ เทียบจาก คะแนนเต็ม
A5: 1 | B5: การมีวินัยในการทำงาน | C5: 5 | E5: =D5*C5 -> 0 | G5: =F5*C5 -> 0 | H5: =G5-E5 -> 0 | I5: =IF(ISERROR(H5/E5*100),"",(H5/E5*100)) | J5: =IF(ISERROR(G5/(5*C5)*100),"",(G5/(5*C5)*100)) -> 0
A6: 2 | B6: ความรับผิดชอบต่องาน | C6: 5 | E6: =D6*C6 -> 0 | G6: =F6*C6 -> 0 | H6: =G6-E6 -> 0 | I6: =IF(ISERROR(H6/E6*100),"",(H6/E6*100)) | J6: =IF(ISERROR(G6/(5*C6)*100),"",(G6/(5*C6)*100)) -> 0
A7: 3 | B7: การแก้ไขปัญหา | C7: 5 | E7: =D7*C7 -> 0 | G7: =F7*C7 -> 0 | H7: =G7-E7 -> 0 | I7: =IF(ISERROR(H7/E7*100),"",(H7/E7*100)) | J7: =IF(ISERROR(G7/(5*C7)*100),"",(G7/(5*C7)*100)) -> 0
A8: 4 | B8: การทำงานเป็นทีม | C8: 5 | E8: =D8*C8 -> 0 | G8: =F8*C8 -> 0 | H8: =G8-E8 -> 0 | I8: =IF(ISERROR(H8/E8*100),"",(H8/E8*100)) | J8: =IF(ISERROR(G8/(5*C8)*100),"",(G8/(5*C8)*100)) -> 0
A9: 5 | B9: การเพิ่มผลิตภาพในการทำงาน | C9: 5 | E9: =D9*C9 -> 0 | G9: =F9*C9 -> 0 | H9: =G9-E9 -> 0 | I9: =IF(ISERROR(H9/E9*100),"",(H9/E9*100)) | J9: =IF(ISERROR(G9/(5*C9)*100),"",(G9/(5*C9)*100)) -> 0
A10: 6 | B10: ความคิดสร้างสรรค์ | C10: 5 | E10: =D10*C10 -> 0 | G10: =F10*C10 -> 0 | H10: =G10-E10 -> 0 | I10: =IF(ISERROR(H10/E10*100),"",(H10/E10*100)) | J10: =IF(ISERROR(G10/(5*C10)*100),"",(G10/(5*C10)*100)) -> 0
B11: รวม | C11: =SUM(C5:C10) -> 30 | E11: =SUM(E5:E10) -> 0 | G11: =SUM(G5:G10) -> 0 | H11: =SUM(H5:H10) -> 0 | I11: =IF(ISERROR(H11/E11*100),"",(H11/E11*100)) | J11: =IF(ISERROR(G11/(5*C11)*100),"",(G11/(5*C11)*100)) -> 0
F16: =IF(ISBLANK('รายชื่อ 20 คน'!$C$2),"",'รายชื่อ 20 คน'!$C$2)
F17: วิทยากรผู้ประเมิน

Sheet คนที่ 3
A1: แบบประเมินรายบุคคล
A2: ชื่อ-สกุลผู้เข้ารับการฝึก | C2: =IF(ISBLANK('รายชื่อ 20 คน'!B8),"",'รายชื่อ 20 คน'!B8)
A3: ชื่อสถานประกอบการ | C3: =IF(ISBLANK('รายชื่อ 20 คน'!C1),"",'รายชื่อ 20 คน'!C1)
A4: ลำดับ ที่ | B4: หัวข้อประเมิน | C4: น้ำหนัก คะแนน | D4: ประเมินก่อนฝึก (คะแนนเต็ม 5) | E4: คะแนน ที่ได้ | F4: ประเมินหลังฝึก (คะแนนเต็ม 5) | G4: คะแนน ที่ได้ | H4: ผลต่างของ คะแนน ทั้ง 2 ครั้ง | I4: คิดเป็นร้อยละ เทียบจาก ก่อนฝึก | J4: คิดเป็นร้อยละ เทียบจาก คะแนนเต็ม
A5: 1 | B5: การมีวินัยในการทำงาน | C5: 5 | E5: =D5*C5 -> 0 | G5: =F5*C5 -> 0 | H5: =G5-E5 -> 0 | I5: =IF(ISERROR(H5/E5*100),"",(H5/E5*100)) | J5: =IF(ISERROR(G5/(5*C5)*100),"",(G5/(5*C5)*100)) -> 0
A6: 2 | B6: ความรับผิดชอบต่องาน | C6: 5 | E6: =D6*C6 -> 0 | G6: =F6*C6 -> 0 | H6: =G6-E6 -> 0 | I6: =IF(ISERROR(H6/E6*100),"",(H6/E6*100)) | J6: =IF(ISERROR(G6/(5*C6)*100),"",(G6/(5*C6)*100)) -> 0
A7: 3 | B7: การแก้ไขปัญหา | C7: 5 | E7: =D7*C7 -> 0 | G7: =F7*C7 -> 0 | H7: =G7-E7 -> 0 | I7: =IF(ISERROR(H7/E7*100),"",(H7/E7*100)) | J7: =IF(ISERROR(G7/(5*C7)*100),"",(G7/(5*C7)*100)) -> 0
A8: 4 | B8: การทำงานเป็นทีม | C8: 5 | E8: =D8*C8 -> 0 | G8: =F8*C8 -> 0 | H8: =G8-E8 -> 0 | I8: =IF(ISERROR(H8/E8*100),"",(H8/E8*100)) | J8: =IF(ISERROR(G8/(5*C8)*100),"",(G8/(5*C8)*100)) -> 0
A9: 5 | B9: การเพิ่มผลิตภาพในการทำงาน | C9: 5 | E9: =D9*C9 -> 0 | G9: =F9*C9 -> 0 | H9: =G9-E9 -> 0 | I9: =IF(ISERROR(H9/E9*100),"",(H9/E9*100)) | J9: =IF(ISERROR(G9/(5*C9)*100),"",(G9/(5*C9)*100)) -> 0
A10: 6 | B10: ความคิดสร้างสรรค์ | C10: 5 | E10: =D10*C10 -> 0 | G10: =F10*C10 -> 0 | H10: =G10-E10 -> 0 | I10: =IF(ISERROR(H10/E10*100),"",(H10/E10*100)) | J10: =IF(ISERROR(G10/(5*C10)*100),"",(G10/(5*C10)*100)) -> 0
B11: รวม | C11: =SUM(C5:C10) -> 30 | E11: =SUM(E5:E10) -> 0 | G11: =SUM(G5:G10) -> 0 | H11: =SUM(H5:H10) -> 0 | I11: =IF(ISERROR(H11/E11*100),"",(H11/E11*100)) | J11: =IF(ISERROR(G11/(5*C11)*100),"",(G11/(5*C11)*100)) -> 0
F16: =IF(ISBLANK('รายชื่อ 20 คน'!$C$2),"",'รายชื่อ 20 คน'!$C$2)
F17: วิทยากรผู้ประเมิน

Sheet คนที่ 4
A1: แบบประเมินรายบุคคล
A2: ชื่อ-สกุลผู้เข้ารับการฝึก | C2: =IF(ISBLANK('รายชื่อ 20 คน'!B9),"",'รายชื่อ 20 คน'!B9)
A3: ชื่อสถานประกอบการ | C3: =IF(ISBLANK('รายชื่อ 20 คน'!C1),"",'รายชื่อ 20 คน'!C1)
A4: ลำดับ ที่ | B4: หัวข้อประเมิน | C4: น้ำหนัก คะแนน | D4: ประเมินก่อนฝึก (คะแนนเต็ม 5) | E4: คะแนน ที่ได้ | F4: ประเมินหลังฝึก (คะแนนเต็ม 5) | G4: คะแนน ที่ได้ | H4: ผลต่างของ คะแนน ทั้ง 2 ครั้ง | I4: คิดเป็นร้อยละ เทียบจาก ก่อนฝึก | J4: คิดเป็นร้อยละ เทียบจาก คะแนนเต็ม
A5: 1 | B5: การมีวินัยในการทำงาน | C5: 5 | E5: =D5*C5 -> 0 | G5: =F5*C5 -> 0 | H5: =G5-E5 -> 0 | I5: =IF(ISERROR(H5/E5*100),"",(H5/E5*100)) | J5: =IF(ISERROR(G5/(5*C5)*100),"",(G5/(5*C5)*100)) -> 0
A6: 2 | B6: ความรับผิดชอบต่องาน | C6: 5 | E6: =D6*C6 -> 0 | G6: =F6*C6 -> 0 | H6: =G6-E6 -> 0 | I6: =IF(ISERROR(H6/E6*100),"",(H6/E6*100)) | J6: =IF(ISERROR(G6/(5*C6)*100),"",(G6/(5*C6)*100)) -> 0
A7: 3 | B7: การแก้ไขปัญหา | C7: 5 | E7: =D7*C7 -> 0 | G7: =F7*C7 -> 0 | H7: =G7-E7 -> 0 | I7: =IF(ISERROR(H7/E7*100),"",(H7/E7*100)) | J7: =IF(ISERROR(G7/(5*C7)*100),"",(G7/(5*C7)*100)) -> 0
A8: 4 | B8: การทำงานเป็นทีม | C8: 5 | E8: =D8*C8 -> 0 | G8: =F8*C8 -> 0 | H8: =G8-E8 -> 0 | I8: =IF(ISERROR(H8/E8*100),"",(H8/E8*100)) | J8: =IF(ISERROR(G8/(5*C8)*100),"",(G8/(5*C8)*100)) -> 0
A9: 5 | B9: การเพิ่มผลิตภาพในการทำงาน | C9: 5 | E9: =D9*C9 -> 0 | G9: =F9*C9 -> 0 | H9: =G9-E9 -> 0 | I9: =IF(ISERROR(H9/E9*100),"",(H9/E9*100)) | J9: =IF(ISERROR(G9/(5*C9)*100),"",(G9/(5*C9)*100)) -> 0
A10: 6 | B10: ความคิดสร้างสรรค์ | C10: 5 | E10: =D10*C10 -> 0 | G10: =F10*C10 -> 0 | H10: =G10-E10 -> 0 | I10: =IF(ISERROR(H10/E10*100),"",(H10/E10*100)) | J10: =IF(ISERROR(G10/(5*C10)*100),"",(G10/(5*C10)*100)) -> 0
B11: รวม | C11: =SUM(C5:C10) -> 30 | E11: =SUM(E5:E10) -> 0 | G11: =SUM(G5:G10) -> 0 | H11: =SUM(H5:H10) -> 0 | I11: =IF(ISERROR(H11/E11*100),"",(H11/E11*100)) | J11: =IF(ISERROR(G11/(5*C11)*100),"",(G11/(5*C11)*100)) -> 0
F16: =IF(ISBLANK('รายชื่อ 20 คน'!$C$2),"",'รายชื่อ 20 คน'!$C$2)
F17: วิทยากรผู้ประเมิน

Sheet คนที่ 5
A1: แบบประเมินรายบุคคล
A2: ชื่อ-สกุลผู้เข้ารับการฝึก | C2: =IF(ISBLANK('รายชื่อ 20 คน'!B10),"",'รายชื่อ 20 คน'!B10)
A3: ชื่อสถานประกอบการ | C3: =IF(ISBLANK('รายชื่อ 20 คน'!C1),"",'รายชื่อ 20 คน'!C1)
A4: ลำดับ ที่ | B4: หัวข้อประเมิน | C4: น้ำหนัก คะแนน | D4: ประเมินก่อนฝึก (คะแนนเต็ม 5) | E4: คะแนน ที่ได้ | F4: ประเมินหลังฝึก (คะแนนเต็ม 5) | G4: คะแนน ที่ได้ | H4: ผลต่างของ คะแนน ทั้ง 2 ครั้ง | I4: คิดเป็นร้อยละ เทียบจาก ก่อนฝึก | J4: คิดเป็นร้อยละ เทียบจาก คะแนนเต็ม
A5: 1 | B5: การมีวินัยในการทำงาน | C5: 5 | E5: =D5*C5 -> 0 | G5: =F5*C5 -> 0 | H5: =G5-E5 -> 0 | I5: =IF(ISERROR(H5/E5*100),"",(H5/E5*100)) | J5: =IF(ISERROR(G5/(5*C5)*100),"",(G5/(5*C5)*100)) -> 0
A6: 2 | B6: ความรับผิดชอบต่องาน | C6: 5 | E6: =D6*C6 -> 0 | G6: =F6*C6 -> 0 | H6: =G6-E6 -> 0 | I6: =IF(ISERROR(H6/E6*100),"",(H6/E6*100)) | J6: =IF(ISERROR(G6/(5*C6)*100),"",(G6/(5*C6)*100)) -> 0
A7: 3 | B7: การแก้ไขปัญหา | C7: 5 | E7: =D7*C7 -> 0 | G7: =F7*C7 -> 0 | H7: =G7-E7 -> 0 | I7: =IF(ISERROR(H7/E7*100),"",(H7/E7*100)) | J7: =IF(ISERROR(G7/(5*C7)*100),"",(G7/(5*C7)*100)) -> 0
A8: 4 | B8: การทำงานเป็นทีม | C8: 5 | E8: =D8*C8 -> 0 | G8: =F8*C8 -> 0 | H8: =G8-E8 -> 0 | I8: =IF(ISERROR(H8/E8*100),"",(H8/E8*100)) | J8: =IF(ISERROR(G8/(5*C8)*100),"",(G8/(5*C8)*100)) -> 0
A9: 5 | B9: การเพิ่มผลิตภาพในการทำงาน | C9: 5 | E9: =D9*C9 -> 0 | G9: =F9*C9 -> 0 | H9: =G9-E9 -> 0 | I9: =IF(ISERROR(H9/E9*100),"",(H9/E9*100)) | J9: =IF(ISERROR(G9/(5*C9)*100),"",(G9/(5*C9)*100)) -> 0
A10: 6 | B10: ความคิดสร้างสรรค์ | C10: 5 | E10: =D10*C10 -> 0 | G10: =F10*C10 -> 0 | H10: =G10-E10 -> 0 | I10: =IF(ISERROR(H10/E10*100),"",(H10/E10*100)) | J10: =IF(ISERROR(G10/(5*C10)*100),"",(G10/(5*C10)*100)) -> 0
B11: รวม | C11: =SUM(C5:C10) -> 30 | E11: =SUM(E5:E10) -> 0 | G11: =SUM(G5:G10) -> 0 | H11: =SUM(H5:H10) -> 0 | I11: =IF(ISERROR(H11/E11*100),"",(H11/E11*100)) | J11: =IF(ISERROR(G11/(5*C11)*100),"",(G11/(5*C11)*100)) -> 0
F16: =IF(ISBLANK('รายชื่อ 20 คน'!$C$2),"",'รายชื่อ 20 คน'!$C$2)
F17: วิทยากรผู้ประเมิน

Sheet คนที่ 6
A1: แบบประเมินรายบุคคล
A2: ชื่อ-สกุลผู้เข้ารับการฝึก | C2: =IF(ISBLANK('รายชื่อ 20 คน'!B11),"",'รายชื่อ 20 คน'!B11)
A3: ชื่อสถานประกอบการ | C3: =IF(ISBLANK('รายชื่อ 20 คน'!C1),"",'รายชื่อ 20 คน'!C1)
A4: ลำดับ ที่ | B4: หัวข้อประเมิน | C4: น้ำหนัก คะแนน | D4: ประเมินก่อนฝึก (คะแนนเต็ม 5) | E4: คะแนน ที่ได้ | F4: ประเมินหลังฝึก (คะแนนเต็ม 5) | G4: คะแนน ที่ได้ | H4: ผลต่างของ คะแนน ทั้ง 2 ครั้ง | I4: คิดเป็นร้อยละ เทียบจาก ก่อนฝึก | J4: คิดเป็นร้อยละ เทียบจาก คะแนนเต็ม
A5: 1 | B5: การมีวินัยในการทำงาน | C5: 5 | E5: =D5*C5 -> 0 | G5: =F5*C5 -> 0 | H5: =G5-E5 -> 0 | I5: =IF(ISERROR(H5/E5*100),"",(H5/E5*100)) | J5: =IF(ISERROR(G5/(5*C5)*100),"",(G5/(5*C5)*100)) -> 0
A6: 2 | B6: ความรับผิดชอบต่องาน | C6: 5 | E6: =D6*C6 -> 0 | G6: =F6*C6 -> 0 | H6: =G6-E6 -> 0 | I6: =IF(ISERROR(H6/E6*100),"",(H6/E6*100)) | J6: =IF(ISERROR(G6/(5*C6)*100),"",(G6/(5*C6)*100)) -> 0
A7: 3 | B7: การแก้ไขปัญหา | C7: 5 | E7: =D7*C7 -> 0 | G7: =F7*C7 -> 0 | H7: =G7-E7 -> 0 | I7: =IF(ISERROR(H7/E7*100),"",(H7/E7*100)) | J7: =IF(ISERROR(G7/(5*C7)*100),"",(G7/(5*C7)*100)) -> 0
A8: 4 | B8: การทำงานเป็นทีม | C8: 5 | E8: =D8*C8 -> 0 | G8: =F8*C8 -> 0 | H8: =G8-E8 -> 0 | I8: =IF(ISERROR(H8/E8*100),"",(H8/E8*100)) | J8: =IF(ISERROR(G8/(5*C8)*100),"",(G8/(5*C8)*100)) -> 0
A9: 5 | B9: การเพิ่มผลิตภาพในการทำงาน | C9: 5 | E9: =D9*C9 -> 0 | G9: =F9*C9 -> 0 | H9: =G9-E9 -> 0 | I9: =IF(ISERROR(H9/E9*100),"",(H9/E9*100)) | J9: =IF(ISERROR(G9/(5*C9)*100),"",(G9/(5*C9)*100)) -> 0
A10: 6 | B10: ความคิดสร้างสรรค์ | C10: 5 | E10: =D10*C10 -> 0 | G10: =F10*C10 -> 0 | H10: =G10-E10 -> 0 | I10: =IF(ISERROR(H10/E10*100),"",(H10/E10*100)) | J10: =IF(ISERROR(G10/(5*C10)*100),"",(G10/(5*C10)*100)) -> 0
B11: รวม | C11: =SUM(C5:C10) -> 30 | E11: =SUM(E5:E10) -> 0 | G11: =SUM(G5:G10) -> 0 | H11: =SUM(H5:H10) -> 0 | I11: =IF(ISERROR(H11/E11*100),"",(H11/E11*100)) | J11: =IF(ISERROR(G11/(5*C11)*100),"",(G11/(5*C11)*100)) -> 0
F16: =IF(ISBLANK('รายชื่อ 20 คน'!$C$2),"",'รายชื่อ 20 คน'!$C$2)
F17: วิทยากรผู้ประเมิน

Sheet คนที่ 7
A1: แบบประเมินรายบุคคล
A2: ชื่อ-สกุลผู้เข้ารับการฝึก | C2: =IF(ISBLANK('รายชื่อ 20 คน'!B12),"",'รายชื่อ 20 คน'!B12)
A3: ชื่อสถานประกอบการ | C3: =IF(ISBLANK('รายชื่อ 20 คน'!C1),"",'รายชื่อ 20 คน'!C1)
A4: ลำดับ ที่ | B4: หัวข้อประเมิน | C4: น้ำหนัก คะแนน | D4: ประเมินก่อนฝึก (คะแนนเต็ม 5) | E4: คะแนน ที่ได้ | F4: ประเมินหลังฝึก (คะแนนเต็ม 5) | G4: คะแนน ที่ได้ | H4: ผลต่างของ คะแนน ทั้ง 2 ครั้ง | I4: คิดเป็นร้อยละ เทียบจาก ก่อนฝึก | J4: คิดเป็นร้อยละ เทียบจาก คะแนนเต็ม
A5: 1 | B5: การมีวินัยในการทำงาน | C5: 5 | E5: =D5*C5 -> 0 | G5: =F5*C5 -> 0 | H5: =G5-E5 -> 0 | I5: =IF(ISERROR(H5/E5*100),"",(H5/E5*100)) | J5: =IF(ISERROR(G5/(5*C5)*100),"",(G5/(5*C5)*100)) -> 0
A6: 2 | B6: ความรับผิดชอบต่องาน | C6: 5 | E6: =D6*C6 -> 0 | G6: =F6*C6 -> 0 | H6: =G6-E6 -> 0 | I6: =IF(ISERROR(H6/E6*100),"",(H6/E6*100)) | J6: =IF(ISERROR(G6/(5*C6)*100),"",(G6/(5*C6)*100)) -> 0
A7: 3 | B7: การแก้ไขปัญหา | C7: 5 | E7: =D7*C7 -> 0 | G7: =F7*C7 -> 0 | H7: =G7-E7 -> 0 | I7: =IF(ISERROR(H7/E7*100),"",(H7/E7*100)) | J7: =IF(ISERROR(G7/(5*C7)*100),"",(G7/(5*C7)*100)) -> 0
A8: 4 | B8: การทำงานเป็นทีม | C8: 5 | E8: =D8*C8 -> 0 | G8: =F8*C8 -> 0 | H8: =G8-E8 -> 0 | I8: =IF(ISERROR(H8/E8*100),"",(H8/E8*100)) | J8: =IF(ISERROR(G8/(5*C8)*100),"",(G8/(5*C8)*100)) -> 0
A9: 5 | B9: การเพิ่มผลิตภาพในการทำงาน | C9: 5 | E9: =D9*C9 -> 0 | G9: =F9*C9 -> 0 | H9: =G9-E9 -> 0 | I9: =IF(ISERROR(H9/E9*100),"",(H9/E9*100)) | J9: =IF(ISERROR(G9/(5*C9)*100),"",(G9/(5*C9)*100)) -> 0
A10: 6 | B10: ความคิดสร้างสรรค์ | C10: 5 | E10: =D10*C10 -> 0 | G10: =F10*C10 -> 0 | H10: =G10-E10 -> 0 | I10: =IF(ISERROR(H10/E10*100),"",(H10/E10*100)) | J10: =IF(ISERROR(G10/(5*C10)*100),"",(G10/(5*C10)*100)) -> 0
B11: รวม | C11: =SUM(C5:C10) -> 30 | E11: =SUM(E5:E10) -> 0 | G11: =SUM(G5:G10) -> 0 | H11: =SUM(H5:H10) -> 0 | I11: =IF(ISERROR(H11/E11*100),"",(H11/E11*100)) | J11: =IF(ISERROR(G11/(5*C11)*100),"",(G11/(5*C11)*100)) -> 0
F16: =IF(ISBLANK('รายชื่อ 20 คน'!$C$2),"",'รายชื่อ 20 คน'!$C$2)
F17: วิทยากรผู้ประเมิน

Sheet คนที่ 8
A1: แบบประเมินรายบุคคล
A2: ชื่อ-สกุลผู้เข้ารับการฝึก | C2: =IF(ISBLANK('รายชื่อ 20 คน'!B13),"",'รายชื่อ 20 คน'!B13)
A3: ชื่อสถานประกอบการ | C3: =IF(ISBLANK('รายชื่อ 20 คน'!C1),"",'รายชื่อ 20 คน'!C1)
A4: ลำดับ ที่ | B4: หัวข้อประเมิน | C4: น้ำหนัก คะแนน | D4: ประเมินก่อนฝึก (คะแนนเต็ม 5) | E4: คะแนน ที่ได้ | F4: ประเมินหลังฝึก (คะแนนเต็ม 5) | G4: คะแนน ที่ได้ | H4: ผลต่างของ คะแนน ทั้ง 2 ครั้ง | I4: คิดเป็นร้อยละ เทียบจาก ก่อนฝึก | J4: คิดเป็นร้อยละ เทียบจาก คะแนนเต็ม
A5: 1 | B5: การมีวินัยในการทำงาน | C5: 5 | E5: =D5*C5 -> 0 | G5: =F5*C5 -> 0 | H5: =G5-E5 -> 0 | I5: =IF(ISERROR(H5/E5*100),"",(H5/E5*100)) | J5: =IF(ISERROR(G5/(5*C5)*100),"",(G5/(5*C5)*100)) -> 0
A6: 2 | B6: ความรับผิดชอบต่องาน | C6: 5 | E6: =D6*C6 -> 0 | G6: =F6*C6 -> 0 | H6: =G6-E6 -> 0 | I6: =IF(ISERROR(H6/E6*100),"",(H6/E6*100)) | J6: =IF(ISERROR(G6/(5*C6)*100),"",(G6/(5*C6)*100)) -> 0
A7: 3 | B7: การแก้ไขปัญหา | C7: 5 | E7: =D7*C7 -> 0 | G7: =F7*C7 -> 0 | H7: =G7-E7 -> 0 | I7: =IF(ISERROR(H7/E7*100),"",(H7/E7*100)) | J7: =IF(ISERROR(G7/(5*C7)*100),"",(G7/(5*C7)*100)) -> 0
A8: 4 | B8: การทำงานเป็นทีม | C8: 5 | E8: =D8*C8 -> 0 | G8: =F8*C8 -> 0 | H8: =G8-E8 -> 0 | I8: =IF(ISERROR(H8/E8*100),"",(H8/E8*100)) | J8: =IF(ISERROR(G8/(5*C8)*100),"",(G8/(5*C8)*100)) -> 0
A9: 5 | B9: การเพิ่มผลิตภาพในการทำงาน | C9: 5 | E9: =D9*C9 -> 0 | G9: =F9*C9 -> 0 | H9: =G9-E9 -> 0 | I9: =IF(ISERROR(H9/E9*100),"",(H9/E9*100)) | J9: =IF(ISERROR(G9/(5*C9)*100),"",(G9/(5*C9)*100)) -> 0
A10: 6 | B10: ความคิดสร้างสรรค์ | C10: 5 | E10: =D10*C10 -> 0 | G10: =F10*C10 -> 0 | H10: =G10-E10 -> 0 | I10: =IF(ISERROR(H10/E10*100),"",(H10/E10*100)) | J10: =IF(ISERROR(G10/(5*C10)*100),"",(G10/(5*C10)*100)) -> 0
B11: รวม | C11: =SUM(C5:C10) -> 30 | E11: =SUM(E5:E10) -> 0 | G11: =SUM(G5:G10) -> 0 | H11: =SUM(H5:H10) -> 0 | I11: =IF(ISERROR(H11/E11*100),"",(H11/E11*100)) | J11: =IF(ISERROR(G11/(5*C11)*100),"",(G11/(5*C11)*100)) -> 0
F16: =IF(ISBLANK('รายชื่อ 20 คน'!$C$2),"",'รายชื่อ 20 คน'!$C$2)
F17: วิทยากรผู้ประเมิน

Sheet คนที่ 9
A1: แบบประเมินรายบุคคล
A2: ชื่อ-สกุลผู้เข้ารับการฝึก | C2: =IF(ISBLANK('รายชื่อ 20 คน'!B14),"",'รายชื่อ 20 คน'!B14)
A3: ชื่อสถานประกอบการ | C3: =IF(ISBLANK('รายชื่อ 20 คน'!C1),"",'รายชื่อ 20 คน'!C1)
A4: ลำดับ ที่ | B4: หัวข้อประเมิน | C4: น้ำหนัก คะแนน | D4: ประเมินก่อนฝึก (คะแนนเต็ม 5) | E4: คะแนน ที่ได้ | F4: ประเมินหลังฝึก (คะแนนเต็ม 5) | G4: คะแนน ที่ได้ | H4: ผลต่างของ คะแนน ทั้ง 2 ครั้ง | I4: คิดเป็นร้อยละ เทียบจาก ก่อนฝึก | J4: คิดเป็นร้อยละ เทียบจาก คะแนนเต็ม
A5: 1 | B5: การมีวินัยในการทำงาน | C5: 5 | E5: =D5*C5 -> 0 | G5: =F5*C5 -> 0 | H5: =G5-E5 -> 0 | I5: =IF(ISERROR(H5/E5*100),"",(H5/E5*100)) | J5: =IF(ISERROR(G5/(5*C5)*100),"",(G5/(5*C5)*100)) -> 0
A6: 2 | B6: ความรับผิดชอบต่องาน | C6: 5 | E6: =D6*C6 -> 0 | G6: =F6*C6 -> 0 | H6: =G6-E6 -> 0 | I6: =IF(ISERROR(H6/E6*100),"",(H6/E6*100)) | J6: =IF(ISERROR(G6/(5*C6)*100),"",(G6/(5*C6)*100)) -> 0
A7: 3 | B7: การแก้ไขปัญหา | C7: 5 | E7: =D7*C7 -> 0 | G7: =F7*C7 -> 0 | H7: =G7-E7 -> 0 | I7: =IF(ISERROR(H7/E7*100),"",(H7/E7*100)) | J7: =IF(ISERROR(G7/(5*C7)*100),"",(G7/(5*C7)*100)) -> 0
A8: 4 | B8: การทำงานเป็นทีม | C8: 5 | E8: =D8*C8 -> 0 | G8: =F8*C8 -> 0 | H8: =G8-E8 -> 0 | I8: =IF(ISERROR(H8/E8*100),"",(H8/E8*100)) | J8: =IF(ISERROR(G8/(5*C8)*100),"",(G8/(5*C8)*100)) -> 0
A9: 5 | B9: การเพิ่มผลิตภาพในการทำงาน | C9: 5 | E9: =D9*C9 -> 0 | G9: =F9*C9 -> 0 | H9: =G9-E9 -> 0 | I9: =IF(ISERROR(H9/E9*100),"",(H9/E9*100)) | J9: =IF(ISERROR(G9/(5*C9)*100),"",(G9/(5*C9)*100)) -> 0
A10: 6 | B10: ความคิดสร้างสรรค์ | C10: 5 | E10: =D10*C10 -> 0 | G10: =F10*C10 -> 0 | H10: =G10-E10 -> 0 | I10: =IF(ISERROR(H10/E10*100),"",(H10/E10*100)) | J10: =IF(ISERROR(G10/(5*C10)*100),"",(G10/(5*C10)*100)) -> 0
B11: รวม | C11: =SUM(C5:C10) -> 30 | E11: =SUM(E5:E10) -> 0 | G11: =SUM(G5:G10) -> 0 | H11: =SUM(H5:H10) -> 0 | I11: =IF(ISERROR(H11/E11*100),"",(H11/E11*100)) | J11: =IF(ISERROR(G11/(5*C11)*100),"",(G11/(5*C11)*100)) -> 0
F16: =IF(ISBLANK('รายชื่อ 20 คน'!$C$2),"",'รายชื่อ 20 คน'!$C$2)
F17: วิทยากรผู้ประเมิน

Sheet คนที่ 10
A1: แบบประเมินรายบุคคล
A2: ชื่อ-สกุลผู้เข้ารับการฝึก | C2: =IF(ISBLANK('รายชื่อ 20 คน'!B15),"",'รายชื่อ 20 คน'!B15)
A3: ชื่อสถานประกอบการ | C3: =IF(ISBLANK('รายชื่อ 20 คน'!C1),"",'รายชื่อ 20 คน'!C1)
A4: ลำดับ ที่ | B4: หัวข้อประเมิน | C4: น้ำหนัก คะแนน | D4: ประเมินก่อนฝึก (คะแนนเต็ม 5) | E4: คะแนน ที่ได้ | F4: ประเมินหลังฝึก (คะแนนเต็ม 5) | G4: คะแนน ที่ได้ | H4: ผลต่างของ คะแนน ทั้ง 2 ครั้ง | I4: คิดเป็นร้อยละ เทียบจาก ก่อนฝึก | J4: คิดเป็นร้อยละ เทียบจาก คะแนนเต็ม
A5: 1 | B5: การมีวินัยในการทำงาน | C5: 5 | E5: =D5*C5 -> 0 | G5: =F5*C5 -> 0 | H5: =G5-E5 -> 0 | I5: =IF(ISERROR(H5/E5*100),"",(H5/E5*100)) | J5: =IF(ISERROR(G5/(5*C5)*100),"",(G5/(5*C5)*100)) -> 0
A6: 2 | B6: ความรับผิดชอบต่องาน | C6: 5 | E6: =D6*C6 -> 0 | G6: =F6*C6 -> 0 | H6: =G6-E6 -> 0 | I6: =IF(ISERROR(H6/E6*100),"",(H6/E6*100)) | J6: =IF(ISERROR(G6/(5*C6)*100),"",(G6/(5*C6)*100)) -> 0
A7: 3 | B7: การแก้ไขปัญหา | C7: 5 | E7: =D7*C7 -> 0 | G7: =F7*C7 -> 0 | H7: =G7-E7 -> 0 | I7: =IF(ISERROR(H7/E7*100),"",(H7/E7*100)) | J7: =IF(ISERROR(G7/(5*C7)*100),"",(G7/(5*C7)*100)) -> 0
A8: 4 | B8: การทำงานเป็นทีม | C8: 5 | E8: =D8*C8 -> 0 | G8: =F8*C8 -> 0 | H8: =G8-E8 -> 0 | I8: =IF(ISERROR(H8/E8*100),"",(H8/E8*100)) | J8: =IF(ISERROR(G8/(5*C8)*100),"",(G8/(5*C8)*100)) -> 0
A9: 5 | B9: การเพิ่มผลิตภาพในการทำงาน | C9: 5 | E9: =D9*C9 -> 0 | G9: =F9*C9 -> 0 | H9: =G9-E9 -> 0 | I9: =IF(ISERROR(H9/E9*100),"",(H9/E9*100)) | J9: =IF(ISERROR(G9/(5*C9)*100),"",(G9/(5*C9)*100)) -> 0
A10: 6 | B10: ความคิดสร้างสรรค์ | C10: 5 | E10: =D10*C10 -> 0 | G10: =F10*C10 -> 0 | H10: =G10-E10 -> 0 | I10: =IF(ISERROR(H10/E10*100),"",(H10/E10*100)) | J10: =IF(ISERROR(G10/(5*C10)*100),"",(G10/(5*C10)*100)) -> 0
B11: รวม | C11: =SUM(C5:C10) -> 30 | E11: =SUM(E5:E10) -> 0 | G11: =SUM(G5:G10) -> 0 | H11: =SUM(H5:H10) -> 0 | I11: =IF(ISERROR(H11/E11*100),"",(H11/E11*100)) | J11: =IF(ISERROR(G11/(5*C11)*100),"",(G11/(5*C11)*100)) -> 0
F16: =IF(ISBLANK('รายชื่อ 20 คน'!$C$2),"",'รายชื่อ 20 คน'!$C$2)
F17: วิทยากรผู้ประเมิน

Sheet คนที่ 11
A1: แบบประเมินรายบุคคล
A2: ชื่อ-สกุลผู้เข้ารับการฝึก | C2: =IF(ISBLANK('รายชื่อ 20 คน'!B16),"",'รายชื่อ 20 คน'!B16)
A3: ชื่อสถานประกอบการ | C3: =IF(ISBLANK('รายชื่อ 20 คน'!C1),"",'รายชื่อ 20 คน'!C1)
A4: ลำดับ ที่ | B4: หัวข้อประเมิน | C4: น้ำหนัก คะแนน | D4: ประเมินก่อนฝึก (คะแนนเต็ม 5) | E4: คะแนน ที่ได้ | F4: ประเมินหลังฝึก (คะแนนเต็ม 5) | G4: คะแนน ที่ได้ | H4: ผลต่างของ คะแนน ทั้ง 2 ครั้ง | I4: คิดเป็นร้อยละ เทียบจาก ก่อนฝึก | J4: คิดเป็นร้อยละ เทียบจาก คะแนนเต็ม
A5: 1 | B5: การมีวินัยในการทำงาน | C5: 5 | E5: =D5*C5 -> 0 | G5: =F5*C5 -> 0 | H5: =G5-E5 -> 0 | I5: =IF(ISERROR(H5/E5*100),"",(H5/E5*100)) | J5: =IF(ISERROR(G5/(5*C5)*100),"",(G5/(5*C5)*100)) -> 0
A6: 2 | B6: ความรับผิดชอบต่องาน | C6: 5 | E6: =D6*C6 -> 0 | G6: =F6*C6 -> 0 | H6: =G6-E6 -> 0 | I6: =IF(ISERROR(H6/E6*100),"",(H6/E6*100)) | J6: =IF(ISERROR(G6/(5*C6)*100),"",(G6/(5*C6)*100)) -> 0
A7: 3 | B7: การแก้ไขปัญหา | C7: 5 | E7: =D7*C7 -> 0 | G7: =F7*C7 -> 0 | H7: =G7-E7 -> 0 | I7: =IF(ISERROR(H7/E7*100),"",(H7/E7*100)) | J7: =IF(ISERROR(G7/(5*C7)*100),"",(G7/(5*C7)*100)) -> 0
A8: 4 | B8: การทำงานเป็นทีม | C8: 5 | E8: =D8*C8 -> 0 | G8: =F8*C8 -> 0 | H8: =G8-E8 -> 0 | I8: =IF(ISERROR(H8/E8*100),"",(H8/E8*100)) | J8: =IF(ISERROR(G8/(5*C8)*100),"",(G8/(5*C8)*100)) -> 0
A9: 5 | B9: การเพิ่มผลิตภาพในการทำงาน | C9: 5 | E9: =D9*C9 -> 0 | G9: =F9*C9 -> 0 | H9: =G9-E9 -> 0 | I9: =IF(ISERROR(H9/E9*100),"",(H9/E9*100)) | J9: =IF(ISERROR(G9/(5*C9)*100),"",(G9/(5*C9)*100)) -> 0
A10: 6 | B10: ความคิดสร้างสรรค์ | C10: 5 | E10: =D10*C10 -> 0 | G10: =F10*C10 -> 0 | H10: =G10-E10 -> 0 | I10: =IF(ISERROR(H10/E10*100),"",(H10/E10*100)) | J10: =IF(ISERROR(G10/(5*C10)*100),"",(G10/(5*C10)*100)) -> 0
B11: รวม | C11: =SUM(C5:C10) -> 30 | E11: =SUM(E5:E10) -> 0 | G11: =SUM(G5:G10) -> 0 | H11: =SUM(H5:H10) -> 0 | I11: =IF(ISERROR(H11/E11*100),"",(H11/E11*100)) | J11: =IF(ISERROR(G11/(5*C11)*100),"",(G11/(5*C11)*100)) -> 0
F16: =IF(ISBLANK('รายชื่อ 20 คน'!$C$2),"",'รายชื่อ 20 คน'!$C$2)
F17: วิทยากรผู้ประเมิน

Sheet คนที่ 12
A1: แบบประเมินรายบุคคล
A2: ชื่อ-สกุลผู้เข้ารับการฝึก | C2: =IF(ISBLANK('รายชื่อ 20 คน'!B17),"",'รายชื่อ 20 คน'!B17)
A3: ชื่อสถานประกอบการ | C3: =IF(ISBLANK('รายชื่อ 20 คน'!C1),"",'รายชื่อ 20 คน'!C1)
A4: ลำดับ ที่ | B4: หัวข้อประเมิน | C4: น้ำหนัก คะแนน | D4: ประเมินก่อนฝึก (คะแนนเต็ม 5) | E4: คะแนน ที่ได้ | F4: ประเมินหลังฝึก (คะแนนเต็ม 5) | G4: คะแนน ที่ได้ | H4: ผลต่างของ คะแนน ทั้ง 2 ครั้ง | I4: คิดเป็นร้อยละ เทียบจาก ก่อนฝึก | J4: คิดเป็นร้อยละ เทียบจาก คะแนนเต็ม
A5: 1 | B5: การมีวินัยในการทำงาน | C5: 5 | E5: =D5*C5 -> 0 | G5: =F5*C5 -> 0 | H5: =G5-E5 -> 0 | I5: =IF(ISERROR(H5/E5*100),"",(H5/E5*100)) | J5: =IF(ISERROR(G5/(5*C5)*100),"",(G5/(5*C5)*100)) -> 0
A6: 2 | B6: ความรับผิดชอบต่องาน | C6: 5 | E6: =D6*C6 -> 0 | G6: =F6*C6 -> 0 | H6: =G6-E6 -> 0 | I6: =IF(ISERROR(H6/E6*100),"",(H6/E6*100)) | J6: =IF(ISERROR(G6/(5*C6)*100),"",(G6/(5*C6)*100)) -> 0
A7: 3 | B7: การแก้ไขปัญหา | C7: 5 | E7: =D7*C7 -> 0 | G7: =F7*C7 -> 0 | H7: =G7-E7 -> 0 | I7: =IF(ISERROR(H7/E7*100),"",(H7/E7*100)) | J7: =IF(ISERROR(G7/(5*C7)*100),"",(G7/(5*C7)*100)) -> 0
A8: 4 | B8: การทำงานเป็นทีม | C8: 5 | E8: =D8*C8 -> 0 | G8: =F8*C8 -> 0 | H8: =G8-E8 -> 0 | I8: =IF(ISERROR(H8/E8*100),"",(H8/E8*100)) | J8: =IF(ISERROR(G8/(5*C8)*100),"",(G8/(5*C8)*100)) -> 0
A9: 5 | B9: การเพิ่มผลิตภาพในการทำงาน | C9: 5 | E9: =D9*C9 -> 0 | G9: =F9*C9 -> 0 | H9: =G9-E9 -> 0 | I9: =IF(ISERROR(H9/E9*100),"",(H9/E9*100)) | J9: =IF(ISERROR(G9/(5*C9)*100),"",(G9/(5*C9)*100)) -> 0
A10: 6 | B10: ความคิดสร้างสรรค์ | C10: 5 | E10: =D10*C10 -> 0 | G10: =F10*C10 -> 0 | H10: =G10-E10 -> 0 | I10: =IF(ISERROR(H10/E10*100),"",(H10/E10*100)) | J10: =IF(ISERROR(G10/(5*C10)*100),"",(G10/(5*C10)*100)) -> 0
B11: รวม | C11: =SUM(C5:C10) -> 30 | E11: =SUM(E5:E10) -> 0 | G11: =SUM(G5:G10) -> 0 | H11: =SUM(H5:H10) -> 0 | I11: =IF(ISERROR(H11/E11*100),"",(H11/E11*100)) | J11: =IF(ISERROR(G11/(5*C11)*100),"",(G11/(5*C11)*100)) -> 0
F16: =IF(ISBLANK('รายชื่อ 20 คน'!$C$2),"",'รายชื่อ 20 คน'!$C$2)
F17: วิทยากรผู้ประเมิน

Sheet คนที่ 13
A1: แบบประเมินรายบุคคล
A2: ชื่อ-สกุลผู้เข้ารับการฝึก | C2: =IF(ISBLANK('รายชื่อ 20 คน'!B18),"",'รายชื่อ 20 คน'!B18)
A3: ชื่อสถานประกอบการ | C3: =IF(ISBLANK('รายชื่อ 20 คน'!C1),"",'รายชื่อ 20 คน'!C1)
A4: ลำดับ ที่ | B4: หัวข้อประเมิน | C4: น้ำหนัก คะแนน | D4: ประเมินก่อนฝึก (คะแนนเต็ม 5) | E4: คะแนน ที่ได้ | F4: ประเมินหลังฝึก (คะแนนเต็ม 5) | G4: คะแนน ที่ได้ | H4: ผลต่างของ คะแนน ทั้ง 2 ครั้ง | I4: คิดเป็นร้อยละ เทียบจาก ก่อนฝึก | J4: คิดเป็นร้อยละ เทียบจาก คะแนนเต็ม
A5: 1 | B5: การมีวินัยในการทำงาน | C5: 5 | E5: =D5*C5 -> 0 | G5: =F5*C5 -> 0 | H5: =G5-E5 -> 0 | I5: =IF(ISERROR(H5/E5*100),"",(H5/E5*100)) | J5: =IF(ISERROR(G5/(5*C5)*100),"",(G5/(5*C5)*100)) -> 0
A6: 2 | B6: ความรับผิดชอบต่องาน | C6: 5 | E6: =D6*C6 -> 0 | G6: =F6*C6 -> 0 | H6: =G6-E6 -> 0 | I6: =IF(ISERROR(H6/E6*100),"",(H6/E6*100)) | J6: =IF(ISERROR(G6/(5*C6)*100),"",(G6/(5*C6)*100)) -> 0
A7: 3 | B7: การแก้ไขปัญหา | C7: 5 | E7: =D7*C7 -> 0 | G7: =F7*C7 -> 0 | H7: =G7-E7 -> 0 | I7: =IF(ISERROR(H7/E7*100),"",(H7/E7*100)) | J7: =IF(ISERROR(G7/(5*C7)*100),"",(G7/(5*C7)*100)) -> 0
A8: 4 | B8: การทำงานเป็นทีม | C8: 5 | E8: =D8*C8 -> 0 | G8: =F8*C8 -> 0 | H8: =G8-E8 -> 0 | I8: =IF(ISERROR(H8/E8*100),"",(H8/E8*100)) | J8: =IF(ISERROR(G8/(5*C8)*100),"",(G8/(5*C8)*100)) -> 0
A9: 5 | B9: การเพิ่มผลิตภาพในการทำงาน | C9: 5 | E9: =D9*C9 -> 0 | G9: =F9*C9 -> 0 | H9: =G9-E9 -> 0 | I9: =IF(ISERROR(H9/E9*100),"",(H9/E9*100)) | J9: =IF(ISERROR(G9/(5*C9)*100),"",(G9/(5*C9)*100)) -> 0
A10: 6 | B10: ความคิดสร้างสรรค์ | C10: 5 | E10: =D10*C10 -> 0 | G10: =F10*C10 -> 0 | H10: =G10-E10 -> 0 | I10: =IF(ISERROR(H10/E10*100),"",(H10/E10*100)) | J10: =IF(ISERROR(G10/(5*C10)*100),"",(G10/(5*C10)*100)) -> 0
B11: รวม | C11: =SUM(C5:C10) -> 30 | E11: =SUM(E5:E10) -> 0 | G11: =SUM(G5:G10) -> 0 | H11: =SUM(H5:H10) -> 0 | I11: =IF(ISERROR(H11/E11*100),"",(H11/E11*100)) | J11: =IF(ISERROR(G11/(5*C11)*100),"",(G11/(5*C11)*100)) -> 0
F16: =IF(ISBLANK('รายชื่อ 20 คน'!$C$2),"",'รายชื่อ 20 คน'!$C$2)
F17: วิทยากรผู้ประเมิน

Sheet คนที่ 14
A1: แบบประเมินรายบุคคล
A2: ชื่อ-สกุลผู้เข้ารับการฝึก | C2: =IF(ISBLANK('รายชื่อ 20 คน'!B19),"",'รายชื่อ 20 คน'!B19)
A3: ชื่อสถานประกอบการ | C3: =IF(ISBLANK('รายชื่อ 20 คน'!C1),"",'รายชื่อ 20 คน'!C1)
A4: ลำดับ ที่ | B4: หัวข้อประเมิน | C4: น้ำหนัก คะแนน | D4: ประเมินก่อนฝึก (คะแนนเต็ม 5) | E4: คะแนน ที่ได้ | F4: ประเมินหลังฝึก (คะแนนเต็ม 5) | G4: คะแนน ที่ได้ | H4: ผลต่างของ คะแนน ทั้ง 2 ครั้ง | I4: คิดเป็นร้อยละ เทียบจาก ก่อนฝึก | J4: คิดเป็นร้อยละ เทียบจาก คะแนนเต็ม
A5: 1 | B5: การมีวินัยในการทำงาน | C5: 5 | E5: =D5*C5 -> 0 | G5: =F5*C5 -> 0 | H5: =G5-E5 -> 0 | I5: =IF(ISERROR(H5/E5*100),"",(H5/E5*100)) | J5: =IF(ISERROR(G5/(5*C5)*100),"",(G5/(5*C5)*100)) -> 0
A6: 2 | B6: ความรับผิดชอบต่องาน | C6: 5 | E6: =D6*C6 -> 0 | G6: =F6*C6 -> 0 | H6: =G6-E6 -> 0 | I6: =IF(ISERROR(H6/E6*100),"",(H6/E6*100)) | J6: =IF(ISERROR(G6/(5*C6)*100),"",(G6/(5*C6)*100)) -> 0
A7: 3 | B7: การแก้ไขปัญหา | C7: 5 | E7: =D7*C7 -> 0 | G7: =F7*C7 -> 0 | H7: =G7-E7 -> 0 | I7: =IF(ISERROR(H7/E7*100),"",(H7/E7*100)) | J7: =IF(ISERROR(G7/(5*C7)*100),"",(G7/(5*C7)*100)) -> 0
A8: 4 | B8: การทำงานเป็นทีม | C8: 5 | E8: =D8*C8 -> 0 | G8: =F8*C8 -> 0 | H8: =G8-E8 -> 0 | I8: =IF(ISERROR(H8/E8*100),"",(H8/E8*100)) | J8: =IF(ISERROR(G8/(5*C8)*100),"",(G8/(5*C8)*100)) -> 0
A9: 5 | B9: การเพิ่มผลิตภาพในการทำงาน | C9: 5 | E9: =D9*C9 -> 0 | G9: =F9*C9 -> 0 | H9: =G9-E9 -> 0 | I9: =IF(ISERROR(H9/E9*100),"",(H9/E9*100)) | J9: =IF(ISERROR(G9/(5*C9)*100),"",(G9/(5*C9)*100)) -> 0
A10: 6 | B10: ความคิดสร้างสรรค์ | C10: 5 | E10: =D10*C10 -> 0 | G10: =F10*C10 -> 0 | H10: =G10-E10 -> 0 | I10: =IF(ISERROR(H10/E10*100),"",(H10/E10*100)) | J10: =IF(ISERROR(G10/(5*C10)*100),"",(G10/(5*C10)*100)) -> 0
B11: รวม | C11: =SUM(C5:C10) -> 30 | E11: =SUM(E5:E10) -> 0 | G11: =SUM(G5:G10) -> 0 | H11: =SUM(H5:H10) -> 0 | I11: =IF(ISERROR(H11/E11*100),"",(H11/E11*100)) | J11: =IF(ISERROR(G11/(5*C11)*100),"",(G11/(5*C11)*100)) -> 0
F16: =IF(ISBLANK('รายชื่อ 20 คน'!$C$2),"",'รายชื่อ 20 คน'!$C$2)
F17: วิทยากรผู้ประเมิน

Sheet คนที่ 15
A1: แบบประเมินรายบุคคล
A2: ชื่อ-สกุลผู้เข้ารับการฝึก | C2: =IF(ISBLANK('รายชื่อ 20 คน'!B20),"",'รายชื่อ 20 คน'!B20)
A3: ชื่อสถานประกอบการ | C3: =IF(ISBLANK('รายชื่อ 20 คน'!C1),"",'รายชื่อ 20 คน'!C1)
A4: ลำดับ ที่ | B4: หัวข้อประเมิน | C4: น้ำหนัก คะแนน | D4: ประเมินก่อนฝึก (คะแนนเต็ม 5) | E4: คะแนน ที่ได้ | F4: ประเมินหลังฝึก (คะแนนเต็ม 5) | G4: คะแนน ที่ได้ | H4: ผลต่างของ คะแนน ทั้ง 2 ครั้ง | I4: คิดเป็นร้อยละ เทียบจาก ก่อนฝึก | J4: คิดเป็นร้อยละ เทียบจาก คะแนนเต็ม
A5: 1 | B5: การมีวินัยในการทำงาน | C5: 5 | E5: =D5*C5 -> 0 | G5: =F5*C5 -> 0 | H5: =G5-E5 -> 0 | I5: =IF(ISERROR(H5/E5*100),"",(H5/E5*100)) | J5: =IF(ISERROR(G5/(5*C5)*100),"",(G5/(5*C5)*100)) -> 0
A6: 2 | B6: ความรับผิดชอบต่องาน | C6: 5 | E6: =D6*C6 -> 0 | G6: =F6*C6 -> 0 | H6: =G6-E6 -> 0 | I6: =IF(ISERROR(H6/E6*100),"",(H6/E6*100)) | J6: =IF(ISERROR(G6/(5*C6)*100),"",(G6/(5*C6)*100)) -> 0
A7: 3 | B7: การแก้ไขปัญหา | C7: 5 | E7: =D7*C7 -> 0 | G7: =F7*C7 -> 0 | H7: =G7-E7 -> 0 | I7: =IF(ISERROR(H7/E7*100),"",(H7/E7*100)) | J7: =IF(ISERROR(G7/(5*C7)*100),"",(G7/(5*C7)*100)) -> 0
A8: 4 | B8: การทำงานเป็นทีม | C8: 5 | E8: =D8*C8 -> 0 | G8: =F8*C8 -> 0 | H8: =G8-E8 -> 0 | I8: =IF(ISERROR(H8/E8*100),"",(H8/E8*100)) | J8: =IF(ISERROR(G8/(5*C8)*100),"",(G8/(5*C8)*100)) -> 0
A9: 5 | B9: การเพิ่มผลิตภาพในการทำงาน | C9: 5 | E9: =D9*C9 -> 0 | G9: =F9*C9 -> 0 | H9: =G9-E9 -> 0 | I9: =IF(ISERROR(H9/E9*100),"",(H9/E9*100)) | J9: =IF(ISERROR(G9/(5*C9)*100),"",(G9/(5*C9)*100)) -> 0
A10: 6 | B10: ความคิดสร้างสรรค์ | C10: 5 | E10: =D10*C10 -> 0 | G10: =F10*C10 -> 0 | H10: =G10-E10 -> 0 | I10: =IF(ISERROR(H10/E10*100),"",(H10/E10*100)) | J10: =IF(ISERROR(G10/(5*C10)*100),"",(G10/(5*C10)*100)) -> 0
B11: รวม | C11: =SUM(C5:C10) -> 30 | E11: =SUM(E5:E10) -> 0 | G11: =SUM(G5:G10) -> 0 | H11: =SUM(H5:H10) -> 0 | I11: =IF(ISERROR(H11/E11*100),"",(H11/E11*100)) | J11: =IF(ISERROR(G11/(5*C11)*100),"",(G11/(5*C11)*100)) -> 0
F16: =IF(ISBLANK('รายชื่อ 20 คน'!$C$2),"",'รายชื่อ 20 คน'!$C$2)
F17: วิทยากรผู้ประเมิน

Sheet คนที่ 16
A1: แบบประเมินรายบุคคล
A2: ชื่อ-สกุลผู้เข้ารับการฝึก | C2: =IF(ISBLANK('รายชื่อ 20 คน'!B21),"",'รายชื่อ 20 คน'!B21)
A3: ชื่อสถานประกอบการ | C3: =IF(ISBLANK('รายชื่อ 20 คน'!C1),"",'รายชื่อ 20 คน'!C1)
A4: ลำดับ ที่ | B4: หัวข้อประเมิน | C4: น้ำหนัก คะแนน | D4: ประเมินก่อนฝึก (คะแนนเต็ม 5) | E4: คะแนน ที่ได้ | F4: ประเมินหลังฝึก (คะแนนเต็ม 5) | G4: คะแนน ที่ได้ | H4: ผลต่างของ คะแนน ทั้ง 2 ครั้ง | I4: คิดเป็นร้อยละ เทียบจาก ก่อนฝึก | J4: คิดเป็นร้อยละ เทียบจาก คะแนนเต็ม
A5: 1 | B5: การมีวินัยในการทำงาน | C5: 5 | E5: =D5*C5 -> 0 | G5: =F5*C5 -> 0 | H5: =G5-E5 -> 0 | I5: =IF(ISERROR(H5/E5*100),"",(H5/E5*100)) | J5: =IF(ISERROR(G5/(5*C5)*100),"",(G5/(5*C5)*100)) -> 0
A6: 2 | B6: ความรับผิดชอบต่องาน | C6: 5 | E6: =D6*C6 -> 0 | G6: =F6*C6 -> 0 | H6: =G6-E6 -> 0 | I6: =IF(ISERROR(H6/E6*100),"",(H6/E6*100)) | J6: =IF(ISERROR(G6/(5*C6)*100),"",(G6/(5*C6)*100)) -> 0
A7: 3 | B7: การแก้ไขปัญหา | C7: 5 | E7: =D7*C7 -> 0 | G7: =F7*C7 -> 0 | H7: =G7-E7 -> 0 | I7: =IF(ISERROR(H7/E7*100),"",(H7/E7*100)) | J7: =IF(ISERROR(G7/(5*C7)*100),"",(G7/(5*C7)*100)) -> 0
A8: 4 | B8: การทำงานเป็นทีม | C8: 5 | E8: =D8*C8 -> 0 | G8: =F8*C8 -> 0 | H8: =G8-E8 -> 0 | I8: =IF(ISERROR(H8/E8*100),"",(H8/E8*100)) | J8: =IF(ISERROR(G8/(5*C8)*100),"",(G8/(5*C8)*100)) -> 0
A9: 5 | B9: การเพิ่มผลิตภาพในการทำงาน | C9: 5 | E9: =D9*C9 -> 0 | G9: =F9*C9 -> 0 | H9: =G9-E9 -> 0 | I9: =IF(ISERROR(H9/E9*100),"",(H9/E9*100)) | J9: =IF(ISERROR(G9/(5*C9)*100),"",(G9/(5*C9)*100)) -> 0
A10: 6 | B10: ความคิดสร้างสรรค์ | C10: 5 | E10: =D10*C10 -> 0 | G10: =F10*C10 -> 0 | H10: =G10-E10 -> 0 | I10: =IF(ISERROR(H10/E10*100),"",(H10/E10*100)) | J10: =IF(ISERROR(G10/(5*C10)*100),"",(G10/(5*C10)*100)) -> 0
B11: รวม | C11: =SUM(C5:C10) -> 30 | E11: =SUM(E5:E10) -> 0 | G11: =SUM(G5:G10) -> 0 | H11: =SUM(H5:H10) -> 0 | I11: =IF(ISERROR(H11/E11*100),"",(H11/E11*100)) | J11: =IF(ISERROR(G11/(5*C11)*100),"",(G11/(5*C11)*100)) -> 0
F16: =IF(ISBLANK('รายชื่อ 20 คน'!$C$2),"",'รายชื่อ 20 คน'!$C$2)
F17: วิทยากรผู้ประเมิน

Sheet คนที่ 17
A1: แบบประเมินรายบุคคล
A2: ชื่อ-สกุลผู้เข้ารับการฝึก | C2: =IF(ISBLANK('รายชื่อ 20 คน'!B22),"",'รายชื่อ 20 คน'!B22)
A3: ชื่อสถานประกอบการ | C3: =IF(ISBLANK('รายชื่อ 20 คน'!C1),"",'รายชื่อ 20 คน'!C1)
A4: ลำดับ ที่ | B4: หัวข้อประเมิน | C4: น้ำหนัก คะแนน | D4: ประเมินก่อนฝึก (คะแนนเต็ม 5) | E4: คะแนน ที่ได้ | F4: ประเมินหลังฝึก (คะแนนเต็ม 5) | G4: คะแนน ที่ได้ | H4: ผลต่างของ คะแนน ทั้ง 2 ครั้ง | I4: คิดเป็นร้อยละ เทียบจาก ก่อนฝึก | J4: คิดเป็นร้อยละ เทียบจาก คะแนนเต็ม
A5: 1 | B5: การมีวินัยในการทำงาน | C5: 5 | E5: =D5*C5 -> 0 | G5: =F5*C5 -> 0 | H5: =G5-E5 -> 0 | I5: =IF(ISERROR(H5/E5*100),"",(H5/E5*100)) | J5: =IF(ISERROR(G5/(5*C5)*100),"",(G5/(5*C5)*100)) -> 0
A6: 2 | B6: ความรับผิดชอบต่องาน | C6: 5 | E6: =D6*C6 -> 0 | G6: =F6*C6 -> 0 | H6: =G6-E6 -> 0 | I6: =IF(ISERROR(H6/E6*100),"",(H6/E6*100)) | J6: =IF(ISERROR(G6/(5*C6)*100),"",(G6/(5*C6)*100)) -> 0
A7: 3 | B7: การแก้ไขปัญหา | C7: 5 | E7: =D7*C7 -> 0 | G7: =F7*C7 -> 0 | H7: =G7-E7 -> 0 | I7: =IF(ISERROR(H7/E7*100),"",(H7/E7*100)) | J7: =IF(ISERROR(G7/(5*C7)*100),"",(G7/(5*C7)*100)) -> 0
A8: 4 | B8: การทำงานเป็นทีม | C8: 5 | E8: =D8*C8 -> 0 | G8: =F8*C8 -> 0 | H8: =G8-E8 -> 0 | I8: =IF(ISERROR(H8/E8*100),"",(H8/E8*100)) | J8: =IF(ISERROR(G8/(5*C8)*100),"",(G8/(5*C8)*100)) -> 0
A9: 5 | B9: การเพิ่มผลิตภาพในการทำงาน | C9: 5 | E9: =D9*C9 -> 0 | G9: =F9*C9 -> 0 | H9: =G9-E9 -> 0 | I9: =IF(ISERROR(H9/E9*100),"",(H9/E9*100)) | J9: =IF(ISERROR(G9/(5*C9)*100),"",(G9/(5*C9)*100)) -> 0
A10: 6 | B10: ความคิดสร้างสรรค์ | C10: 5 | E10: =D10*C10 -> 0 | G10: =F10*C10 -> 0 | H10: =G10-E10 -> 0 | I10: =IF(ISERROR(H10/E10*100),"",(H10/E10*100)) | J10: =IF(ISERROR(G10/(5*C10)*100),"",(G10/(5*C10)*100)) -> 0
B11: รวม | C11: =SUM(C5:C10) -> 30 | E11: =SUM(E5:E10) -> 0 | G11: =SUM(G5:G10) -> 0 | H11: =SUM(H5:H10) -> 0 | I11: =IF(ISERROR(H11/E11*100),"",(H11/E11*100)) | J11: =IF(ISERROR(G11/(5*C11)*100),"",(G11/(5*C11)*100)) -> 0
F16: =IF(ISBLANK('รายชื่อ 20 คน'!$C$2),"",'รายชื่อ 20 คน'!$C$2)
F17: วิทยากรผู้ประเมิน

Sheet คนที่ 18
A1: แบบประเมินรายบุคคล
A2: ชื่อ-สกุลผู้เข้ารับการฝึก | C2: =IF(ISBLANK('รายชื่อ 20 คน'!B23),"",'รายชื่อ 20 คน'!B23)
A3: ชื่อสถานประกอบการ | C3: =IF(ISBLANK('รายชื่อ 20 คน'!C1),"",'รายชื่อ 20 คน'!C1)
A4: ลำดับ ที่ | B4: หัวข้อประเมิน | C4: น้ำหนัก คะแนน | D4: ประเมินก่อนฝึก (คะแนนเต็ม 5) | E4: คะแนน ที่ได้ | F4: ประเมินหลังฝึก (คะแนนเต็ม 5) | G4: คะแนน ที่ได้ | H4: ผลต่างของ คะแนน ทั้ง 2 ครั้ง | I4: คิดเป็นร้อยละ เทียบจาก ก่อนฝึก | J4: คิดเป็นร้อยละ เทียบจาก คะแนนเต็ม
A5: 1 | B5: การมีวินัยในการทำงาน | C5: 5 | E5: =D5*C5 -> 0 | G5: =F5*C5 -> 0 | H5: =G5-E5 -> 0 | I5: =IF(ISERROR(H5/E5*100),"",(H5/E5*100)) | J5: =IF(ISERROR(G5/(5*C5)*100),"",(G5/(5*C5)*100)) -> 0
A6: 2 | B6: ความรับผิดชอบต่องาน | C6: 5 | E6: =D6*C6 -> 0 | G6: =F6*C6 -> 0 | H6: =G6-E6 -> 0 | I6: =IF(ISERROR(H6/E6*100),"",(H6/E6*100)) | J6: =IF(ISERROR(G6/(5*C6)*100),"",(G6/(5*C6)*100)) -> 0
A7: 3 | B7: การแก้ไขปัญหา | C7: 5 | E7: =D7*C7 -> 0 | G7: =F7*C7 -> 0 | H7: =G7-E7 -> 0 | I7: =IF(ISERROR(H7/E7*100),"",(H7/E7*100)) | J7: =IF(ISERROR(G7/(5*C7)*100),"",(G7/(5*C7)*100)) -> 0
A8: 4 | B8: การทำงานเป็นทีม | C8: 5 | E8: =D8*C8 -> 0 | G8: =F8*C8 -> 0 | H8: =G8-E8 -> 0 | I8: =IF(ISERROR(H8/E8*100),"",(H8/E8*100)) | J8: =IF(ISERROR(G8/(5*C8)*100),"",(G8/(5*C8)*100)) -> 0
A9: 5 | B9: การเพิ่มผลิตภาพในการทำงาน | C9: 5 | E9: =D9*C9 -> 0 | G9: =F9*C9 -> 0 | H9: =G9-E9 -> 0 | I9: =IF(ISERROR(H9/E9*100),"",(H9/E9*100)) | J9: =IF(ISERROR(G9/(5*C9)*100),"",(G9/(5*C9)*100)) -> 0
A10: 6 | B10: ความคิดสร้างสรรค์ | C10: 5 | E10: =D10*C10 -> 0 | G10: =F10*C10 -> 0 | H10: =G10-E10 -> 0 | I10: =IF(ISERROR(H10/E10*100),"",(H10/E10*100)) | J10: =IF(ISERROR(G10/(5*C10)*100),"",(G10/(5*C10)*100)) -> 0
B11: รวม | C11: =SUM(C5:C10) -> 30 | E11: =SUM(E5:E10) -> 0 | G11: =SUM(G5:G10) -> 0 | H11: =SUM(H5:H10) -> 0 | I11: =IF(ISERROR(H11/E11*100),"",(H11/E11*100)) | J11: =IF(ISERROR(G11/(5*C11)*100),"",(G11/(5*C11)*100)) -> 0
F16: =IF(ISBLANK('รายชื่อ 20 คน'!$C$2),"",'รายชื่อ 20 คน'!$C$2)
F17: วิทยากรผู้ประเมิน

Sheet คนที่ 19
A1: แบบประเมินรายบุคคล
A2: ชื่อ-สกุลผู้เข้ารับการฝึก | C2: =IF(ISBLANK('รายชื่อ 20 คน'!B24),"",'รายชื่อ 20 คน'!B24)
A3: ชื่อสถานประกอบการ | C3: =IF(ISBLANK('รายชื่อ 20 คน'!C1),"",'รายชื่อ 20 คน'!C1)
A4: ลำดับ ที่ | B4: หัวข้อประเมิน | C4: น้ำหนัก คะแนน | D4: ประเมินก่อนฝึก (คะแนนเต็ม 5) | E4: คะแนน ที่ได้ | F4: ประเมินหลังฝึก (คะแนนเต็ม 5) | G4: คะแนน ที่ได้ | H4: ผลต่างของ คะแนน ทั้ง 2 ครั้ง | I4: คิดเป็นร้อยละ เทียบจาก ก่อนฝึก | J4: คิดเป็นร้อยละ เทียบจาก คะแนนเต็ม
A5: 1 | B5: การมีวินัยในการทำงาน | C5: 5 | E5: =D5*C5 -> 0 | G5: =F5*C5 -> 0 | H5: =G5-E5 -> 0 | I5: =IF(ISERROR(H5/E5*100),"",(H5/E5*100)) | J5: =IF(ISERROR(G5/(5*C5)*100),"",(G5/(5*C5)*100)) -> 0
A6: 2 | B6: ความรับผิดชอบต่องาน | C6: 5 | E6: =D6*C6 -> 0 | G6: =F6*C6 -> 0 | H6: =G6-E6 -> 0 | I6: =IF(ISERROR(H6/E6*100),"",(H6/E6*100)) | J6: =IF(ISERROR(G6/(5*C6)*100),"",(G6/(5*C6)*100)) -> 0
A7: 3 | B7: การแก้ไขปัญหา | C7: 5 | E7: =D7*C7 -> 0 | G7: =F7*C7 -> 0 | H7: =G7-E7 -> 0 | I7: =IF(ISERROR(H7/E7*100),"",(H7/E7*100)) | J7: =IF(ISERROR(G7/(5*C7)*100),"",(G7/(5*C7)*100)) -> 0
A8: 4 | B8: การทำงานเป็นทีม | C8: 5 | E8: =D8*C8 -> 0 | G8: =F8*C8 -> 0 | H8: =G8-E8 -> 0 | I8: =IF(ISERROR(H8/E8*100),"",(H8/E8*100)) | J8: =IF(ISERROR(G8/(5*C8)*100),"",(G8/(5*C8)*100)) -> 0
A9: 5 | B9: การเพิ่มผลิตภาพในการทำงาน | C9: 5 | E9: =D9*C9 -> 0 | G9: =F9*C9 -> 0 | H9: =G9-E9 -> 0 | I9: =IF(ISERROR(H9/E9*100),"",(H9/E9*100)) | J9: =IF(ISERROR(G9/(5*C9)*100),"",(G9/(5*C9)*100)) -> 0
A10: 6 | B10: ความคิดสร้างสรรค์ | C10: 5 | E10: =D10*C10 -> 0 | G10: =F10*C10 -> 0 | H10: =G10-E10 -> 0 | I10: =IF(ISERROR(H10/E10*100),"",(H10/E10*100)) | J10: =IF(ISERROR(G10/(5*C10)*100),"",(G10/(5*C10)*100)) -> 0
B11: รวม | C11: =SUM(C5:C10) -> 30 | E11: =SUM(E5:E10) -> 0 | G11: =SUM(G5:G10) -> 0 | H11: =SUM(H5:H10) -> 0 | I11: =IF(ISERROR(H11/E11*100),"",(H11/E11*100)) | J11: =IF(ISERROR(G11/(5*C11)*100),"",(G11/(5*C11)*100)) -> 0
F16: =IF(ISBLANK('รายชื่อ 20 คน'!$C$2),"",'รายชื่อ 20 คน'!$C$2)
F17: วิทยากรผู้ประเมิน

Sheet คนที่ 20
A1: แบบประเมินรายบุคคล
A2: ชื่อ-สกุลผู้เข้ารับการฝึก | C2: =IF(ISBLANK('รายชื่อ 20 คน'!B25),"",'รายชื่อ 20 คน'!B25)
A3: ชื่อสถานประกอบการ | C3: =IF(ISBLANK('รายชื่อ 20 คน'!C1),"",'รายชื่อ 20 คน'!C1)
A4: ลำดับ ที่ | B4: หัวข้อประเมิน | C4: น้ำหนัก คะแนน | D4: ประเมินก่อนฝึก (คะแนนเต็ม 5) | E4: คะแนน ที่ได้ | F4: ประเมินหลังฝึก (คะแนนเต็ม 5) | G4: คะแนน ที่ได้ | H4: ผลต่างของ คะแนน ทั้ง 2 ครั้ง | I4: คิดเป็นร้อยละ เทียบจาก ก่อนฝึก | J4: คิดเป็นร้อยละ เทียบจาก คะแนนเต็ม
A5: 1 | B5: การมีวินัยในการทำงาน | C5: 5 | E5: =D5*C5 -> 0 | G5: =F5*C5 -> 0 | H5: =G5-E5 -> 0 | I5: =IF(ISERROR(H5/E5*100),"",(H5/E5*100)) | J5: =IF(ISERROR(G5/(5*C5)*100),"",(G5/(5*C5)*100)) -> 0
A6: 2 | B6: ความรับผิดชอบต่องาน | C6: 5 | E6: =D6*C6 -> 0 | G6: =F6*C6 -> 0 | H6: =G6-E6 -> 0 | I6: =IF(ISERROR(H6/E6*100),"",(H6/E6*100)) | J6: =IF(ISERROR(G6/(5*C6)*100),"",(G6/(5*C6)*100)) -> 0
A7: 3 | B7: การแก้ไขปัญหา | C7: 5 | E7: =D7*C7 -> 0 | G7: =F7*C7 -> 0 | H7: =G7-E7 -> 0 | I7: =IF(ISERROR(H7/E7*100),"",(H7/E7*100)) | J7: =IF(ISERROR(G7/(5*C7)*100),"",(G7/(5*C7)*100)) -> 0
A8: 4 | B8: การทำงานเป็นทีม | C8: 5 | E8: =D8*C8 -> 0 | G8: =F8*C8 -> 0 | H8: =G8-E8 -> 0 | I8: =IF(ISERROR(H8/E8*100),"",(H8/E8*100)) | J8: =IF(ISERROR(G8/(5*C8)*100),"",(G8/(5*C8)*100)) -> 0
A9: 5 | B9: การเพิ่มผลิตภาพในการทำงาน | C9: 5 | E9: =D9*C9 -> 0 | G9: =F9*C9 -> 0 | H9: =G9-E9 -> 0 | I9: =IF(ISERROR(H9/E9*100),"",(H9/E9*100)) | J9: =IF(ISERROR(G9/(5*C9)*100),"",(G9/(5*C9)*100)) -> 0
A10: 6 | B10: ความคิดสร้างสรรค์ | C10: 5 | E10: =D10*C10 -> 0 | G10: =F10*C10 -> 0 | H10: =G10-E10 -> 0 | I10: =IF(ISERROR(H10/E10*100),"",(H10/E10*100)) | J10: =IF(ISERROR(G10/(5*C10)*100),"",(G10/(5*C10)*100)) -> 0
B11: รวม | C11: =SUM(C5:C10) -> 30 | E11: =SUM(E5:E10) -> 0 | G11: =SUM(G5:G10) -> 0 | H11: =SUM(H5:H10) -> 0 | I11: =IF(ISERROR(H11/E11*100),"",(H11/E11*100)) | J11: =IF(ISERROR(G11/(5*C11)*100),"",(G11/(5*C11)*100)) -> 0
F16: =IF(ISBLANK('รายชื่อ 20 คน'!$C$2),"",'รายชื่อ 20 คน'!$C$2)
F17: วิทยากรผู้ประเมิน

Sheet คนที่ 21
A1: แบบประเมินรายบุคคล
A2: ชื่อ-สกุลผู้เข้ารับการฝึก | C2: =IF(ISBLANK('รายชื่อ 20 คน'!B26),"",'รายชื่อ 20 คน'!B26)
A3: ชื่อสถานประกอบการ | C3: =IF(ISBLANK('รายชื่อ 20 คน'!C1),"",'รายชื่อ 20 คน'!C1)
A4: ลำดับ ที่ | B4: หัวข้อประเมิน | C4: น้ำหนัก คะแนน | D4: ประเมินก่อนฝึก (คะแนนเต็ม 5) | E4: คะแนน ที่ได้ | F4: ประเมินหลังฝึก (คะแนนเต็ม 5) | G4: คะแนน ที่ได้ | H4: ผลต่างของ คะแนน ทั้ง 2 ครั้ง | I4: คิดเป็นร้อยละ เทียบจาก ก่อนฝึก | J4: คิดเป็นร้อยละ เทียบจาก คะแนนเต็ม
A5: 1 | B5: การมีวินัยในการทำงาน | C5: 5 | E5: =D5*C5 -> 0 | G5: =F5*C5 -> 0 | H5: =G5-E5 -> 0 | I5: =IF(ISERROR(H5/E5*100),"",(H5/E5*100)) | J5: =IF(ISERROR(G5/(5*C5)*100),"",(G5/(5*C5)*100)) -> 0
A6: 2 | B6: ความรับผิดชอบต่องาน | C6: 5 | E6: =D6*C6 -> 0 | G6: =F6*C6 -> 0 | H6: =G6-E6 -> 0 | I6: =IF(ISERROR(H6/E6*100),"",(H6/E6*100)) | J6: =IF(ISERROR(G6/(5*C6)*100),"",(G6/(5*C6)*100)) -> 0
A7: 3 | B7: การแก้ไขปัญหา | C7: 5 | E7: =D7*C7 -> 0 | G7: =F7*C7 -> 0 | H7: =G7-E7 -> 0 | I7: =IF(ISERROR(H7/E7*100),"",(H7/E7*100)) | J7: =IF(ISERROR(G7/(5*C7)*100),"",(G7/(5*C7)*100)) -> 0
A8: 4 | B8: การทำงานเป็นทีม | C8: 5 | E8: =D8*C8 -> 0 | G8: =F8*C8 -> 0 | H8: =G8-E8 -> 0 | I8: =IF(ISERROR(H8/E8*100),"",(H8/E8*100)) | J8: =IF(ISERROR(G8/(5*C8)*100),"",(G8/(5*C8)*100)) -> 0
A9: 5 | B9: การเพิ่มผลิตภาพในการทำงาน | C9: 5 | E9: =D9*C9 -> 0 | G9: =F9*C9 -> 0 | H9: =G9-E9 -> 0 | I9: =IF(ISERROR(H9/E9*100),"",(H9/E9*100)) | J9: =IF(ISERROR(G9/(5*C9)*100),"",(G9/(5*C9)*100)) -> 0
A10: 6 | B10: ความคิดสร้างสรรค์ | C10: 5 | E10: =D10*C10 -> 0 | G10: =F10*C10 -> 0 | H10: =G10-E10 -> 0 | I10: =IF(ISERROR(H10/E10*100),"",(H10/E10*100)) | J10: =IF(ISERROR(G10/(5*C10)*100),"",(G10/(5*C10)*100)) -> 0
B11: รวม | C11: =SUM(C5:C10) -> 30 | E11: =SUM(E5:E10) -> 0 | G11: =SUM(G5:G10) -> 0 | H11: =SUM(H5:H10) -> 0 | I11: =IF(ISERROR(H11/E11*100),"",(H11/E11*100)) | J11: =IF(ISERROR(G11/(5*C11)*100),"",(G11/(5*C11)*100)) -> 0
F16: =IF(ISBLANK('รายชื่อ 20 คน'!$C$2),"",'รายชื่อ 20 คน'!$C$2)
F17: วิทยากรผู้ประเมิน

Sheet คนที่ 22
A1: แบบประเมินรายบุคคล
A2: ชื่อ-สกุลผู้เข้ารับการฝึก | C2: =IF(ISBLANK('รายชื่อ 20 คน'!B27),"",'รายชื่อ 20 คน'!B27)
A3: ชื่อสถานประกอบการ | C3: =IF(ISBLANK('รายชื่อ 20 คน'!C1),"",'รายชื่อ 20 คน'!C1)
A4: ลำดับ ที่ | B4: หัวข้อประเมิน | C4: น้ำหนัก คะแนน | D4: ประเมินก่อนฝึก (คะแนนเต็ม 5) | E4: คะแนน ที่ได้ | F4: ประเมินหลังฝึก (คะแนนเต็ม 5) | G4: คะแนน ที่ได้ | H4: ผลต่างของ คะแนน ทั้ง 2 ครั้ง | I4: คิดเป็นร้อยละ เทียบจาก ก่อนฝึก | J4: คิดเป็นร้อยละ เทียบจาก คะแนนเต็ม
A5: 1 | B5: การมีวินัยในการทำงาน | C5: 5 | E5: =D5*C5 -> 0 | G5: =F5*C5 -> 0 | H5: =G5-E5 -> 0 | I5: =IF(ISERROR(H5/E5*100),"",(H5/E5*100)) | J5: =IF(ISERROR(G5/(5*C5)*100),"",(G5/(5*C5)*100)) -> 0
A6: 2 | B6: ความรับผิดชอบต่องาน | C6: 5 | E6: =D6*C6 -> 0 | G6: =F6*C6 -> 0 | H6: =G6-E6 -> 0 | I6: =IF(ISERROR(H6/E6*100),"",(H6/E6*100)) | J6: =IF(ISERROR(G6/(5*C6)*100),"",(G6/(5*C6)*100)) -> 0
A7: 3 | B7: การแก้ไขปัญหา | C7: 5 | E7: =D7*C7 -> 0 | G7: =F7*C7 -> 0 | H7: =G7-E7 -> 0 | I7: =IF(ISERROR(H7/E7*100),"",(H7/E7*100)) | J7: =IF(ISERROR(G7/(5*C7)*100),"",(G7/(5*C7)*100)) -> 0
A8: 4 | B8: การทำงานเป็นทีม | C8: 5 | E8: =D8*C8 -> 0 | G8: =F8*C8 -> 0 | H8: =G8-E8 -> 0 | I8: =IF(ISERROR(H8/E8*100),"",(H8/E8*100)) | J8: =IF(ISERROR(G8/(5*C8)*100),"",(G8/(5*C8)*100)) -> 0
A9: 5 | B9: การเพิ่มผลิตภาพในการทำงาน | C9: 5 | E9: =D9*C9 -> 0 | G9: =F9*C9 -> 0 | H9: =G9-E9 -> 0 | I9: =IF(ISERROR(H9/E9*100),"",(H9/E9*100)) | J9: =IF(ISERROR(G9/(5*C9)*100),"",(G9/(5*C9)*100)) -> 0
A10: 6 | B10: ความคิดสร้างสรรค์ | C10: 5 | E10: =D10*C10 -> 0 | G10: =F10*C10 -> 0 | H10: =G10-E10 -> 0 | I10: =IF(ISERROR(H10/E10*100),"",(H10/E10*100)) | J10: =IF(ISERROR(G10/(5*C10)*100),"",(G10/(5*C10)*100)) -> 0
B11: รวม | C11: =SUM(C5:C10) -> 30 | E11: =SUM(E5:E10) -> 0 | G11: =SUM(G5:G10) -> 0 | H11: =SUM(H5:H10) -> 0 | I11: =IF(ISERROR(H11/E11*100),"",(H11/E11*100)) | J11: =IF(ISERROR(G11/(5*C11)*100),"",(G11/(5*C11)*100)) -> 0
F16: =IF(ISBLANK('รายชื่อ 20 คน'!$C$2),"",'รายชื่อ 20 คน'!$C$2)
F17: วิทยากรผู้ประเมิน

Sheet คนที่ 23
A1: แบบประเมินรายบุคคล
A2: ชื่อ-สกุลผู้เข้ารับการฝึก | C2: =IF(ISBLANK('รายชื่อ 20 คน'!B28),"",'รายชื่อ 20 คน'!B28)
A3: ชื่อสถานประกอบการ | C3: =IF(ISBLANK('รายชื่อ 20 คน'!C1),"",'รายชื่อ 20 คน'!C1)
A4: ลำดับ ที่ | B4: หัวข้อประเมิน | C4: น้ำหนัก คะแนน | D4: ประเมินก่อนฝึก (คะแนนเต็ม 5) | E4: คะแนน ที่ได้ | F4: ประเมินหลังฝึก (คะแนนเต็ม 5) | G4: คะแนน ที่ได้ | H4: ผลต่างของ คะแนน ทั้ง 2 ครั้ง | I4: คิดเป็นร้อยละ เทียบจาก ก่อนฝึก | J4: คิดเป็นร้อยละ เทียบจาก คะแนนเต็ม
A5: 1 | B5: การมีวินัยในการทำงาน | C5: 5 | E5: =D5*C5 -> 0 | G5: =F5*C5 -> 0 | H5: =G5-E5 -> 0 | I5: =IF(ISERROR(H5/E5*100),"",(H5/E5*100)) | J5: =IF(ISERROR(G5/(5*C5)*100),"",(G5/(5*C5)*100)) -> 0
A6: 2 | B6: ความรับผิดชอบต่องาน | C6: 5 | E6: =D6*C6 -> 0 | G6: =F6*C6 -> 0 | H6: =G6-E6 -> 0 | I6: =IF(ISERROR(H6/E6*100),"",(H6/E6*100)) | J6: =IF(ISERROR(G6/(5*C6)*100),"",(G6/(5*C6)*100)) -> 0
A7: 3 | B7: การแก้ไขปัญหา | C7: 5 | E7: =D7*C7 -> 0 | G7: =F7*C7 -> 0 | H7: =G7-E7 -> 0 | I7: =IF(ISERROR(H7/E7*100),"",(H7/E7*100)) | J7: =IF(ISERROR(G7/(5*C7)*100),"",(G7/(5*C7)*100)) -> 0
A8: 4 | B8: การทำงานเป็นทีม | C8: 5 | E8: =D8*C8 -> 0 | G8: =F8*C8 -> 0 | H8: =G8-E8 -> 0 | I8: =IF(ISERROR(H8/E8*100),"",(H8/E8*100)) | J8: =IF(ISERROR(G8/(5*C8)*100),"",(G8/(5*C8)*100)) -> 0
A9: 5 | B9: การเพิ่มผลิตภาพในการทำงาน | C9: 5 | E9: =D9*C9 -> 0 | G9: =F9*C9 -> 0 | H9: =G9-E9 -> 0 | I9: =IF(ISERROR(H9/E9*100),"",(H9/E9*100)) | J9: =IF(ISERROR(G9/(5*C9)*100),"",(G9/(5*C9)*100)) -> 0
A10: 6 | B10: ความคิดสร้างสรรค์ | C10: 5 | E10: =D10*C10 -> 0 | G10: =F10*C10 -> 0 | H10: =G10-E10 -> 0 | I10: =IF(ISERROR(H10/E10*100),"",(H10/E10*100)) | J10: =IF(ISERROR(G10/(5*C10)*100),"",(G10/(5*C10)*100)) -> 0
B11: รวม | C11: =SUM(C5:C10) -> 30 | E11: =SUM(E5:E10) -> 0 | G11: =SUM(G5:G10) -> 0 | H11: =SUM(H5:H10) -> 0 | I11: =IF(ISERROR(H11/E11*100),"",(H11/E11*100)) | J11: =IF(ISERROR(G11/(5*C11)*100),"",(G11/(5*C11)*100)) -> 0
F16: =IF(ISBLANK('รายชื่อ 20 คน'!$C$2),"",'รายชื่อ 20 คน'!$C$2)
F17: วิทยากรผู้ประเมิน

Sheet คนที่ 24
A1: แบบประเมินรายบุคคล
A2: ชื่อ-สกุลผู้เข้ารับการฝึก | C2: =IF(ISBLANK('รายชื่อ 20 คน'!B29),"",'รายชื่อ 20 คน'!B29)
A3: ชื่อสถานประกอบการ | C3: =IF(ISBLANK('รายชื่อ 20 คน'!C1),"",'รายชื่อ 20 คน'!C1)
A4: ลำดับ ที่ | B4: หัวข้อประเมิน | C4: น้ำหนัก คะแนน | D4: ประเมินก่อนฝึก (คะแนนเต็ม 5) | E4: คะแนน ที่ได้ | F4: ประเมินหลังฝึก (คะแนนเต็ม 5) | G4: คะแนน ที่ได้ | H4: ผลต่างของ คะแนน ทั้ง 2 ครั้ง | I4: คิดเป็นร้อยละ เทียบจาก ก่อนฝึก | J4: คิดเป็นร้อยละ เทียบจาก คะแนนเต็ม
A5: 1 | B5: การมีวินัยในการทำงาน | C5: 5 | E5: =D5*C5 -> 0 | G5: =F5*C5 -> 0 | H5: =G5-E5 -> 0 | I5: =IF(ISERROR(H5/E5*100),"",(H5/E5*100)) | J5: =IF(ISERROR(G5/(5*C5)*100),"",(G5/(5*C5)*100)) -> 0
A6: 2 | B6: ความรับผิดชอบต่องาน | C6: 5 | E6: =D6*C6 -> 0 | G6: =F6*C6 -> 0 | H6: =G6-E6 -> 0 | I6: =IF(ISERROR(H6/E6*100),"",(H6/E6*100)) | J6: =IF(ISERROR(G6/(5*C6)*100),"",(G6/(5*C6)*100)) -> 0
A7: 3 | B7: การแก้ไขปัญหา | C7: 5 | E7: =D7*C7 -> 0 | G7: =F7*C7 -> 0 | H7: =G7-E7 -> 0 | I7: =IF(ISERROR(H7/E7*100),"",(H7/E7*100)) | J7: =IF(ISERROR(G7/(5*C7)*100),"",(G7/(5*C7)*100)) -> 0
A8: 4 | B8: การทำงานเป็นทีม | C8: 5 | E8: =D8*C8 -> 0 | G8: =F8*C8 -> 0 | H8: =G8-E8 -> 0 | I8: =IF(ISERROR(H8/E8*100),"",(H8/E8*100)) | J8: =IF(ISERROR(G8/(5*C8)*100),"",(G8/(5*C8)*100)) -> 0
A9: 5 | B9: การเพิ่มผลิตภาพในการทำงาน | C9: 5 | E9: =D9*C9 -> 0 | G9: =F9*C9 -> 0 | H9: =G9-E9 -> 0 | I9: =IF(ISERROR(H9/E9*100),"",(H9/E9*100)) | J9: =IF(ISERROR(G9/(5*C9)*100),"",(G9/(5*C9)*100)) -> 0
A10: 6 | B10: ความคิดสร้างสรรค์ | C10: 5 | E10: =D10*C10 -> 0 | G10: =F10*C10 -> 0 | H10: =G10-E10 -> 0 | I10: =IF(ISERROR(H10/E10*100),"",(H10/E10*100)) | J10: =IF(ISERROR(G10/(5*C10)*100),"",(G10/(5*C10)*100)) -> 0
B11: รวม | C11: =SUM(C5:C10) -> 30 | E11: =SUM(E5:E10) -> 0 | G11: =SUM(G5:G10) -> 0 | H11: =SUM(H5:H10) -> 0 | I11: =IF(ISERROR(H11/E11*100),"",(H11/E11*100)) | J11: =IF(ISERROR(G11/(5*C11)*100),"",(G11/(5*C11)*100)) -> 0
F16: =IF(ISBLANK('รายชื่อ 20 คน'!$C$2),"",'รายชื่อ 20 คน'!$C$2)
F17: วิทยากรผู้ประเมิน

Sheet คนที่ 25
A1: แบบประเมินรายบุคคล
A2: ชื่อ-สกุลผู้เข้ารับการฝึก | C2: =IF(ISBLANK('รายชื่อ 20 คน'!B30),"",'รายชื่อ 20 คน'!B30)
A3: ชื่อสถานประกอบการ | C3: =IF(ISBLANK('รายชื่อ 20 คน'!C1),"",'รายชื่อ 20 คน'!C1)
A4: ลำดับ ที่ | B4: หัวข้อประเมิน | C4: น้ำหนัก คะแนน | D4: ประเมินก่อนฝึก (คะแนนเต็ม 5) | E4: คะแนน ที่ได้ | F4: ประเมินหลังฝึก (คะแนนเต็ม 5) | G4: คะแนน ที่ได้ | H4: ผลต่างของ คะแนน ทั้ง 2 ครั้ง | I4: คิดเป็นร้อยละ เทียบจาก ก่อนฝึก | J4: คิดเป็นร้อยละ เทียบจาก คะแนนเต็ม
A5: 1 | B5: การมีวินัยในการทำงาน | C5: 5 | E5: =D5*C5 -> 0 | G5: =F5*C5 -> 0 | H5: =G5-E5 -> 0 | I5: =IF(ISERROR(H5/E5*100),"",(H5/E5*100)) | J5: =IF(ISERROR(G5/(5*C5)*100),"",(G5/(5*C5)*100)) -> 0
A6: 2 | B6: ความรับผิดชอบต่องาน | C6: 5 | E6: =D6*C6 -> 0 | G6: =F6*C6 -> 0 | H6: =G6-E6 -> 0 | I6: =IF(ISERROR(H6/E6*100),"",(H6/E6*100)) | J6: =IF(ISERROR(G6/(5*C6)*100),"",(G6/(5*C6)*100)) -> 0
A7: 3 | B7: การแก้ไขปัญหา | C7: 5 | E7: =D7*C7 -> 0 | G7: =F7*C7 -> 0 | H7: =G7-E7 -> 0 | I7: =IF(ISERROR(H7/E7*100),"",(H7/E7*100)) | J7: =IF(ISERROR(G7/(5*C7)*100),"",(G7/(5*C7)*100)) -> 0
A8: 4 | B8: การทำงานเป็นทีม | C8: 5 | E8: =D8*C8 -> 0 | G8: =F8*C8 -> 0 | H8: =G8-E8 -> 0 | I8: =IF(ISERROR(H8/E8*100),"",(H8/E8*100)) | J8: =IF(ISERROR(G8/(5*C8)*100),"",(G8/(5*C8)*100)) -> 0
A9: 5 | B9: การเพิ่มผลิตภาพในการทำงาน | C9: 5 | E9: =D9*C9 -> 0 | G9: =F9*C9 -> 0 | H9: =G9-E9 -> 0 | I9: =IF(ISERROR(H9/E9*100),"",(H9/E9*100)) | J9: =IF(ISERROR(G9/(5*C9)*100),"",(G9/(5*C9)*100)) -> 0
A10: 6 | B10: ความคิดสร้างสรรค์ | C10: 5 | E10: =D10*C10 -> 0 | G10: =F10*C10 -> 0 | H10: =G10-E10 -> 0 | I10: =IF(ISERROR(H10/E10*100),"",(H10/E10*100)) | J10: =IF(ISERROR(G10/(5*C10)*100),"",(G10/(5*C10)*100)) -> 0
B11: รวม | C11: =SUM(C5:C10) -> 30 | E11: =SUM(E5:E10) -> 0 | G11: =SUM(G5:G10) -> 0 | H11: =SUM(H5:H10) -> 0 | I11: =IF(ISERROR(H11/E11*100),"",(H11/E11*100)) | J11: =IF(ISERROR(G11/(5*C11)*100),"",(G11/(5*C11)*100)) -> 0
F16: =IF(ISBLANK('รายชื่อ 20 คน'!$C$2),"",'รายชื่อ 20 คน'!$C$2)
F17: วิทยากรผู้ประเมิน

Sheet คนที่ 26
A1: แบบประเมินรายบุคคล
A2: ชื่อ-สกุลผู้เข้ารับการฝึก | C2: =IF(ISBLANK('รายชื่อ 20 คน'!B31),"",'รายชื่อ 20 คน'!B31)
A3: ชื่อสถานประกอบการ | C3: =IF(ISBLANK('รายชื่อ 20 คน'!C1),"",'รายชื่อ 20 คน'!C1)
A4: ลำดับ ที่ | B4: หัวข้อประเมิน | C4: น้ำหนัก คะแนน | D4: ประเมินก่อนฝึก (คะแนนเต็ม 5) | E4: คะแนน ที่ได้ | F4: ประเมินหลังฝึก (คะแนนเต็ม 5) | G4: คะแนน ที่ได้ | H4: ผลต่างของ คะแนน ทั้ง 2 ครั้ง | I4: คิดเป็นร้อยละ เทียบจาก ก่อนฝึก | J4: คิดเป็นร้อยละ เทียบจาก คะแนนเต็ม
A5: 1 | B5: การมีวินัยในการทำงาน | C5: 5 | E5: =D5*C5 -> 0 | G5: =F5*C5 -> 0 | H5: =G5-E5 -> 0 | I5: =IF(ISERROR(H5/E5*100),"",(H5/E5*100)) | J5: =IF(ISERROR(G5/(5*C5)*100),"",(G5/(5*C5)*100)) -> 0
A6: 2 | B6: ความรับผิดชอบต่องาน | C6: 5 | E6: =D6*C6 -> 0 | G6: =F6*C6 -> 0 | H6: =G6-E6 -> 0 | I6: =IF(ISERROR(H6/E6*100),"",(H6/E6*100)) | J6: =IF(ISERROR(G6/(5*C6)*100),"",(G6/(5*C6)*100)) -> 0
A7: 3 | B7: การแก้ไขปัญหา | C7: 5 | E7: =D7*C7 -> 0 | G7: =F7*C7 -> 0 | H7: =G7-E7 -> 0 | I7: =IF(ISERROR(H7/E7*100),"",(H7/E7*100)) | J7: =IF(ISERROR(G7/(5*C7)*100),"",(G7/(5*C7)*100)) -> 0
A8: 4 | B8: การทำงานเป็นทีม | C8: 5 | E8: =D8*C8 -> 0 | G8: =F8*C8 -> 0 | H8: =G8-E8 -> 0 | I8: =IF(ISERROR(H8/E8*100),"",(H8/E8*100)) | J8: =IF(ISERROR(G8/(5*C8)*100),"",(G8/(5*C8)*100)) -> 0
A9: 5 | B9: การเพิ่มผลิตภาพในการทำงาน | C9: 5 | E9: =D9*C9 -> 0 | G9: =F9*C9 -> 0 | H9: =G9-E9 -> 0 | I9: =IF(ISERROR(H9/E9*100),"",(H9/E9*100)) | J9: =IF(ISERROR(G9/(5*C9)*100),"",(G9/(5*C9)*100)) -> 0
A10: 6 | B10: ความคิดสร้างสรรค์ | C10: 5 | E10: =D10*C10 -> 0 | G10: =F10*C10 -> 0 | H10: =G10-E10 -> 0 | I10: =IF(ISERROR(H10/E10*100),"",(H10/E10*100)) | J10: =IF(ISERROR(G10/(5*C10)*100),"",(G10/(5*C10)*100)) -> 0
B11: รวม | C11: =SUM(C5:C10) -> 30 | E11: =SUM(E5:E10) -> 0 | G11: =SUM(G5:G10) -> 0 | H11: =SUM(H5:H10) -> 0 | I11: =IF(ISERROR(H11/E11*100),"",(H11/E11*100)) | J11: =IF(ISERROR(G11/(5*C11)*100),"",(G11/(5*C11)*100)) -> 0
F16: =IF(ISBLANK('รายชื่อ 20 คน'!$C$2),"",'รายชื่อ 20 คน'!$C$2)
F17: วิทยากรผู้ประเมิน

Sheet คนที่ 27
A1: แบบประเมินรายบุคคล
A2: ชื่อ-สกุลผู้เข้ารับการฝึก | C2: =IF(ISBLANK('รายชื่อ 20 คน'!B32),"",'รายชื่อ 20 คน'!B32)
A3: ชื่อสถานประกอบการ | C3: =IF(ISBLANK('รายชื่อ 20 คน'!C1),"",'รายชื่อ 20 คน'!C1)
A4: ลำดับ ที่ | B4: หัวข้อประเมิน | C4: น้ำหนัก คะแนน | D4: ประเมินก่อนฝึก (คะแนนเต็ม 5) | E4: คะแนน ที่ได้ | F4: ประเมินหลังฝึก (คะแนนเต็ม 5) | G4: คะแนน ที่ได้ | H4: ผลต่างของ คะแนน ทั้ง 2 ครั้ง | I4: คิดเป็นร้อยละ เทียบจาก ก่อนฝึก | J4: คิดเป็นร้อยละ เทียบจาก คะแนนเต็ม
A5: 1 | B5: การมีวินัยในการทำงาน | C5: 5 | E5: =D5*C5 -> 0 | G5: =F5*C5 -> 0 | H5: =G5-E5 -> 0 | I5: =IF(ISERROR(H5/E5*100),"",(H5/E5*100)) | J5: =IF(ISERROR(G5/(5*C5)*100),"",(G5/(5*C5)*100)) -> 0
A6: 2 | B6: ความรับผิดชอบต่องาน | C6: 5 | E6: =D6*C6 -> 0 | G6: =F6*C6 -> 0 | H6: =G6-E6 -> 0 | I6: =IF(ISERROR(H6/E6*100),"",(H6/E6*100)) | J6: =IF(ISERROR(G6/(5*C6)*100),"",(G6/(5*C6)*100)) -> 0
A7: 3 | B7: การแก้ไขปัญหา | C7: 5 | E7: =D7*C7 -> 0 | G7: =F7*C7 -> 0 | H7: =G7-E7 -> 0 | I7: =IF(ISERROR(H7/E7*100),"",(H7/E7*100)) | J7: =IF(ISERROR(G7/(5*C7)*100),"",(G7/(5*C7)*100)) -> 0
A8: 4 | B8: การทำงานเป็นทีม | C8: 5 | E8: =D8*C8 -> 0 | G8: =F8*C8 -> 0 | H8: =G8-E8 -> 0 | I8: =IF(ISERROR(H8/E8*100),"",(H8/E8*100)) | J8: =IF(ISERROR(G8/(5*C8)*100),"",(G8/(5*C8)*100)) -> 0
A9: 5 | B9: การเพิ่มผลิตภาพในการทำงาน | C9: 5 | E9: =D9*C9 -> 0 | G9: =F9*C9 -> 0 | H9: =G9-E9 -> 0 | I9: =IF(ISERROR(H9/E9*100),"",(H9/E9*100)) | J9: =IF(ISERROR(G9/(5*C9)*100),"",(G9/(5*C9)*100)) -> 0
A10: 6 | B10: ความคิดสร้างสรรค์ | C10: 5 | E10: =D10*C10 -> 0 | G10: =F10*C10 -> 0 | H10: =G10-E10 -> 0 | I10: =IF(ISERROR(H10/E10*100),"",(H10/E10*100)) | J10: =IF(ISERROR(G10/(5*C10)*100),"",(G10/(5*C10)*100)) -> 0
B11: รวม | C11: =SUM(C5:C10) -> 30 | E11: =SUM(E5:E10) -> 0 | G11: =SUM(G5:G10) -> 0 | H11: =SUM(H5:H10) -> 0 | I11: =IF(ISERROR(H11/E11*100),"",(H11/E11*100)) | J11: =IF(ISERROR(G11/(5*C11)*100),"",(G11/(5*C11)*100)) -> 0
F16: =IF(ISBLANK('รายชื่อ 20 คน'!$C$2),"",'รายชื่อ 20 คน'!$C$2)
F17: วิทยากรผู้ประเมิน

Sheet คนที่ 28
A1: แบบประเมินรายบุคคล
A2: ชื่อ-สกุลผู้เข้ารับการฝึก | C2: =IF(ISBLANK('รายชื่อ 20 คน'!B33),"",'รายชื่อ 20 คน'!B33)
A3: ชื่อสถานประกอบการ | C3: =IF(ISBLANK('รายชื่อ 20 คน'!C1),"",'รายชื่อ 20 คน'!C1)
A4: ลำดับ ที่ | B4: หัวข้อประเมิน | C4: น้ำหนัก คะแนน | D4: ประเมินก่อนฝึก (คะแนนเต็ม 5) | E4: คะแนน ที่ได้ | F4: ประเมินหลังฝึก (คะแนนเต็ม 5) | G4: คะแนน ที่ได้ | H4: ผลต่างของ คะแนน ทั้ง 2 ครั้ง | I4: คิดเป็นร้อยละ เทียบจาก ก่อนฝึก | J4: คิดเป็นร้อยละ เทียบจาก คะแนนเต็ม
A5: 1 | B5: การมีวินัยในการทำงาน | C5: 5 | E5: =D5*C5 -> 0 | G5: =F5*C5 -> 0 | H5: =G5-E5 -> 0 | I5: =IF(ISERROR(H5/E5*100),"",(H5/E5*100)) | J5: =IF(ISERROR(G5/(5*C5)*100),"",(G5/(5*C5)*100)) -> 0
A6: 2 | B6: ความรับผิดชอบต่องาน | C6: 5 | E6: =D6*C6 -> 0 | G6: =F6*C6 -> 0 | H6: =G6-E6 -> 0 | I6: =IF(ISERROR(H6/E6*100),"",(H6/E6*100)) | J6: =IF(ISERROR(G6/(5*C6)*100),"",(G6/(5*C6)*100)) -> 0
A7: 3 | B7: การแก้ไขปัญหา | C7: 5 | E7: =D7*C7 -> 0 | G7: =F7*C7 -> 0 | H7: =G7-E7 -> 0 | I7: =IF(ISERROR(H7/E7*100),"",(H7/E7*100)) | J7: =IF(ISERROR(G7/(5*C7)*100),"",(G7/(5*C7)*100)) -> 0
A8: 4 | B8: การทำงานเป็นทีม | C8: 5 | E8: =D8*C8 -> 0 | G8: =F8*C8 -> 0 | H8: =G8-E8 -> 0 | I8: =IF(ISERROR(H8/E8*100),"",(H8/E8*100)) | J8: =IF(ISERROR(G8/(5*C8)*100),"",(G8/(5*C8)*100)) -> 0
A9: 5 | B9: การเพิ่มผลิตภาพในการทำงาน | C9: 5 | E9: =D9*C9 -> 0 | G9: =F9*C9 -> 0 | H9: =G9-E9 -> 0 | I9: =IF(ISERROR(H9/E9*100),"",(H9/E9*100)) | J9: =IF(ISERROR(G9/(5*C9)*100),"",(G9/(5*C9)*100)) -> 0
A10: 6 | B10: ความคิดสร้างสรรค์ | C10: 5 | E10: =D10*C10 -> 0 | G10: =F10*C10 -> 0 | H10: =G10-E10 -> 0 | I10: =IF(ISERROR(H10/E10*100),"",(H10/E10*100)) | J10: =IF(ISERROR(G10/(5*C10)*100),"",(G10/(5*C10)*100)) -> 0
B11: รวม | C11: =SUM(C5:C10) -> 30 | E11: =SUM(E5:E10) -> 0 | G11: =SUM(G5:G10) -> 0 | H11: =SUM(H5:H10) -> 0 | I11: =IF(ISERROR(H11/E11*100),"",(H11/E11*100)) | J11: =IF(ISERROR(G11/(5*C11)*100),"",(G11/(5*C11)*100)) -> 0
F16: =IF(ISBLANK('รายชื่อ 20 คน'!$C$2),"",'รายชื่อ 20 คน'!$C$2)
F17: วิทยากรผู้ประเมิน

Sheet คนที่ 29
A1: แบบประเมินรายบุคคล
A2: ชื่อ-สกุลผู้เข้ารับการฝึก | C2: =IF(ISBLANK('รายชื่อ 20 คน'!B34),"",'รายชื่อ 20 คน'!B34)
A3: ชื่อสถานประกอบการ | C3: =IF(ISBLANK('รายชื่อ 20 คน'!C1),"",'รายชื่อ 20 คน'!C1)
A4: ลำดับ ที่ | B4: หัวข้อประเมิน | C4: น้ำหนัก คะแนน | D4: ประเมินก่อนฝึก (คะแนนเต็ม 5) | E4: คะแนน ที่ได้ | F4: ประเมินหลังฝึก (คะแนนเต็ม 5) | G4: คะแนน ที่ได้ | H4: ผลต่างของ คะแนน ทั้ง 2 ครั้ง | I4: คิดเป็นร้อยละ เทียบจาก ก่อนฝึก | J4: คิดเป็นร้อยละ เทียบจาก คะแนนเต็ม
A5: 1 | B5: การมีวินัยในการทำงาน | C5: 5 | E5: =D5*C5 -> 0 | G5: =F5*C5 -> 0 | H5: =G5-E5 -> 0 | I5: =IF(ISERROR(H5/E5*100),"",(H5/E5*100)) | J5: =IF(ISERROR(G5/(5*C5)*100),"",(G5/(5*C5)*100)) -> 0
A6: 2 | B6: ความรับผิดชอบต่องาน | C6: 5 | E6: =D6*C6 -> 0 | G6: =F6*C6 -> 0 | H6: =G6-E6 -> 0 | I6: =IF(ISERROR(H6/E6*100),"",(H6/E6*100)) | J6: =IF(ISERROR(G6/(5*C6)*100),"",(G6/(5*C6)*100)) -> 0
A7: 3 | B7: การแก้ไขปัญหา | C7: 5 | E7: =D7*C7 -> 0 | G7: =F7*C7 -> 0 | H7: =G7-E7 -> 0 | I7: =IF(ISERROR(H7/E7*100),"",(H7/E7*100)) | J7: =IF(ISERROR(G7/(5*C7)*100),"",(G7/(5*C7)*100)) -> 0
A8: 4 | B8: การทำงานเป็นทีม | C8: 5 | E8: =D8*C8 -> 0 | G8: =F8*C8 -> 0 | H8: =G8-E8 -> 0 | I8: =IF(ISERROR(H8/E8*100),"",(H8/E8*100)) | J8: =IF(ISERROR(G8/(5*C8)*100),"",(G8/(5*C8)*100)) -> 0
A9: 5 | B9: การเพิ่มผลิตภาพในการทำงาน | C9: 5 | E9: =D9*C9 -> 0 | G9: =F9*C9 -> 0 | H9: =G9-E9 -> 0 | I9: =IF(ISERROR(H9/E9*100),"",(H9/E9*100)) | J9: =IF(ISERROR(G9/(5*C9)*100),"",(G9/(5*C9)*100)) -> 0
A10: 6 | B10: ความคิดสร้างสรรค์ | C10: 5 | E10: =D10*C10 -> 0 | G10: =F10*C10 -> 0 | H10: =G10-E10 -> 0 | I10: =IF(ISERROR(H10/E10*100),"",(H10/E10*100)) | J10: =IF(ISERROR(G10/(5*C10)*100),"",(G10/(5*C10)*100)) -> 0
B11: รวม | C11: =SUM(C5:C10) -> 30 | E11: =SUM(E5:E10) -> 0 | G11: =SUM(G5:G10) -> 0 | H11: =SUM(H5:H10) -> 0 | I11: =IF(ISERROR(H11/E11*100),"",(H11/E11*100)) | J11: =IF(ISERROR(G11/(5*C11)*100),"",(G11/(5*C11)*100)) -> 0
F16: =IF(ISBLANK('รายชื่อ 20 คน'!$C$2),"",'รายชื่อ 20 คน'!$C$2)
F17: วิทยากรผู้ประเมิน

Sheet คนที่ 30
A1: แบบประเมินรายบุคคล
A2: ชื่อ-สกุลผู้เข้ารับการฝึก | C2: =IF(ISBLANK('รายชื่อ 20 คน'!B35),"",'รายชื่อ 20 คน'!B35)
A3: ชื่อสถานประกอบการ | C3: =IF(ISBLANK('รายชื่อ 20 คน'!C1),"",'รายชื่อ 20 คน'!C1)
A4: ลำดับ ที่ | B4: หัวข้อประเมิน | C4: น้ำหนัก คะแนน | D4: ประเมินก่อนฝึก (คะแนนเต็ม 5) | E4: คะแนน ที่ได้ | F4: ประเมินหลังฝึก (คะแนนเต็ม 5) | G4: คะแนน ที่ได้ | H4: ผลต่างของ คะแนน ทั้ง 2 ครั้ง | I4: คิดเป็นร้อยละ เทียบจาก ก่อนฝึก | J4: คิดเป็นร้อยละ เทียบจาก คะแนนเต็ม
A5: 1 | B5: การมีวินัยในการทำงาน | C5: 5 | E5: =D5*C5 -> 0 | G5: =F5*C5 -> 0 | H5: =G5-E5 -> 0 | I5: =IF(ISERROR(H5/E5*100),"",(H5/E5*100)) | J5: =IF(ISERROR(G5/(5*C5)*100),"",(G5/(5*C5)*100)) -> 0
A6: 2 | B6: ความรับผิดชอบต่องาน | C6: 5 | E6: =D6*C6 -> 0 | G6: =F6*C6 -> 0 | H6: =G6-E6 -> 0 | I6: =IF(ISERROR(H6/E6*100),"",(H6/E6*100)) | J6: =IF(ISERROR(G6/(5*C6)*100),"",(G6/(5*C6)*100)) -> 0
A7: 3 | B7: การแก้ไขปัญหา | C7: 5 | E7: =D7*C7 -> 0 | G7: =F7*C7 -> 0 | H7: =G7-E7 -> 0 | I7: =IF(ISERROR(H7/E7*100),"",(H7/E7*100)) | J7: =IF(ISERROR(G7/(5*C7)*100),"",(G7/(5*C7)*100)) -> 0
A8: 4 | B8: การทำงานเป็นทีม | C8: 5 | E8: =D8*C8 -> 0 | G8: =F8*C8 -> 0 | H8: =G8-E8 -> 0 | I8: =IF(ISERROR(H8/E8*100),"",(H8/E8*100)) | J8: =IF(ISERROR(G8/(5*C8)*100),"",(G8/(5*C8)*100)) -> 0
A9: 5 | B9: การเพิ่มผลิตภาพในการทำงาน | C9: 5 | E9: =D9*C9 -> 0 | G9: =F9*C9 -> 0 | H9: =G9-E9 -> 0 | I9: =IF(ISERROR(H9/E9*100),"",(H9/E9*100)) | J9: =IF(ISERROR(G9/(5*C9)*100),"",(G9/(5*C9)*100)) -> 0
A10: 6 | B10: ความคิดสร้างสรรค์ | C10: 5 | E10: =D10*C10 -> 0 | G10: =F10*C10 -> 0 | H10: =G10-E10 -> 0 | I10: =IF(ISERROR(H10/E10*100),"",(H10/E10*100)) | J10: =IF(ISERROR(G10/(5*C10)*100),"",(G10/(5*C10)*100)) -> 0
B11: รวม | C11: =SUM(C5:C10) -> 30 | E11: =SUM(E5:E10) -> 0 | G11: =SUM(G5:G10) -> 0 | H11: =SUM(H5:H10) -> 0 | I11: =IF(ISERROR(H11/E11*100),"",(H11/E11*100)) | J11: =IF(ISERROR(G11/(5*C11)*100),"",(G11/(5*C11)*100)) -> 0
F16: =IF(ISBLANK('รายชื่อ 20 คน'!$C$2),"",'รายชื่อ 20 คน'!$C$2)
F17: วิทยากรผู้ประเมิน
