Workbook

Sheet ตารางที่ 1ส่ง
A1: กรมพัฒนาฝีมือแรงงาน
A2: รายงานการคำนวณต้นทุนผลผลิต
A3: ประจำปีงบประมาณ พ.ศ. 2561
A4: ตารางที่ 1 รายงานต้นทุนรวม โดยแยกประเภทตามแหล่งเงิน
E5: (หน่วย : บาท)
A6: ประเภทค่าใช้จ่าย | B6: เงินในงบประมาณ | C6: เงินนอกงบประมาณ | D6: งบกลาง | E6: รวม
A7: 1. ค่าใช้จ่ายบุคลากร | B7: 9.0834822e+08 | C7: -15422 | D7: 97392298 | E7: =SUM(B7:D7) -> 1005725094
A8: 2. ค่าใช้จ่ายด้านการฝึกอบรม | B8: 8.3595773e+08 | C8: 2149823.6 | E8: =SUM(B8:D8) -> 8.3810755e+08
A9: 3. ค่าใช้จ่ายเดินทาง | B9: 31936863 | C9: 34024.59 | E9: =SUM(B9:D9) -> 31970887
A10: 4. ค่าตอบแทน ใช้สอยวัสดุ และสาธารณูปโภค | B10: 6.4705786e+08 | C10: 3035266.8 | E10: =SUM(B10:D10) -> 6.5009312e+08
A11: 5. ค่าเสื่อมราคา | B11: 1.5947173e+08 | C11: 1.3506736e+08 | D11: 2609691.3 | E11: =SUM(B11:D11) -> 2.9714878e+08
A12: 6. ค่าใช้จ่ายเงินอุดหนุน | B12: 34592894 | E12: =SUM(B12:D12) -> 34592894
A13: 7. ค่าจำหน่ายครุภัณฑ์ | B13: 132 | C13: 3963.4 | D13: 4697.8 | E13: =SUM(B13:D13) -> 8793.2
A14: 8. ค่าใช้จ่ายอื่นๆ | B14: 90711215 | C14: 55540.75 | E14: =SUM(B14:D14) -> 90766755
A15: รวมต้นทุนผลผลิต | B15: =SUM(B7:B14) -> 2.7080766e+09 | C15: =SUM(C7:C14) -> 1.4033056e+08 | D15: =SUM(D7:D14) -> 1.0000669e+08 | E15: =SUM(E7:E14) -> 2.9484139e+09
A24: หมายเหตุ :
A25: ค่าใช้จ่ายในระบบ GFMIS | E25: 2.9484139e+09
A27: หัก ต้นทุนที่ไม่เกี่ยวข้องในต้นทุนผลผลิต | E27: =SUM(D28:D48) -> 3.0068021e+08
A28: - เบี้ยหวัด | D28: 9728
A29: - บำนาญปกติ | D29: 1.2641991e+08
A30: - บำนาญพิเศษ | D30: 54240
A31: - เงินช่วยเหลือรายเดือนผู้รับเบี้ยหวัดบำนาญ | D31: 483256.8
A32: - เงินช่วยค่าครองชีพผู้รับเบี้ยหวัดบำนาญ | D32: 7766120.8
A33: - เงินบำเหน็จ | D33: 8912833.7
A34: - เงินบำเหน็จตกทอด | D34: 1524339.7
A35: - เงินบำเหน็จดำรงชีพ | D35: 10385486
A36: - เงินช่วยพิเศษกรณีผู้รับบำนาญตาย | D36: 49755
A37: - บำเหน็จรายเดือนสำหรับการเบิกเงินบำเหน็จลูกจ้าง | D37: 22800594
A38: - เงินช่วยการศึกษาบุตร | D38: 389548
A39: - ค่ารักษาพยาบาลผู้ป่วยนอก-รพ.รัฐ-เบี้ยหวัด/บำนาญ | D39: 13024617
... A48: - TE-ภายในกรมเดียวกัน | D48: 720189.33
A49: รวมต้นทุนผลผลิต | E49: =+E25+E27 -> 3.2490941e+09

Sheet ตารางที่ 2ส่ง
A1: กรมพัฒนาฝีมือแรงงาน
A2: รายงานการคำนวณต้นทุนผลผลิต
A3: ประจำปีงบประมาณ พ.ศ. 2561
A4: ตารางที่ 2 รายงานต้นทุนตามศูนย์ต้นทุนแยกตามประเภทค่าใช้จ่าย
M5: หน่วย : บาท
C6: ค่าใช้จ่ายทางตรง | H6: ค่าใช้จ่ายทางอ้อม | N6: รวม (ค่าใช้จ่ายทางตรง+ค่าใช้จ่ายทางอ้อม)
A7: ศูนย์ต้นทุน | B7: ค่าใช้จ่ายเดินทาง | C7: ค่าตอบแทน ใช้สอย | D7: ค่าเสื่อมราคา | E7: ค่าใช้จ่ายอื่นและค่าใช้จ่ายอุดหนุน | F7: ค่าใช้จ่ายบุคลากร | G7: รวมค่าใช้จ่ายทางตรง | H7: ค่าใช้จ่ายบุคลากร | I7: ค่าตอบแทน ใช้สอย | J7: ค่าเสื่อมราคา | K7: ค่าใช้จ่ายอุดหนุน | L7: ค่าใช้จ่ายอื่น | M7: รวมค่าใช้จ่ายทางอ้อม
B8: และค่าใช้จ่ายอบรม | C8: วัสดุและ | D8: และตัดจำหน่าย | I8: วัสดุและ | J8: และตัดจำหน่าย
C9: ค่าสาธารณูปโภค | I9: ค่าสาธารณูปโภค
A10: ศูนย์ต้นทุนหลัก | B10: =SUM(B11:B19) -> 8.1499194e+08 | C10: =SUM(C11:C19) -> 4.267437e+08 | D10: =SUM(D11:D19) -> 2.7389404e+08 | E10: =SUM(E11:E19) -> 90894165 | F10: =SUM(F11:F19) -> 27758737 | G10: =SUM(G11:G19) -> 1.6342826e+09 | H10: =SUM(H11:H19) -> 8.1138877e+08 | I10: =SUM(I11:I19) -> 0 | ... M10: =SUM(M11:M19) -> 8.1138877e+08 | N10: =+G10+M10 -> 2.4456713e+09 | O10: =SUM(M11:M19) -> 8.1138877e+08
A11: 1. สถาบันพัฒนาฝีมือ | B11: =8706995.7+358074283.22 -> 3.6678128e+08 | C11: 1.9778189e+08 | D11: =107556641.07+3978.4 -> 1.0756062e+08 | E11: =23872729.76+18286832 -> 42159562 | F11: 15077546 | G11: =SUM(B11:F11) -> 7.293609e+08 | H11: 4.1811635e+08 | I11: 0 | J11: 0 | K11: 0 | L11: 0 | M11: =SUM(H11:J11) -> 4.1811635e+08 | N11: =SUM(G11+M11) -> 1.1474773e+09
A12: แรงงานภาค 25 แห่ง
A13: 2. สำนักงานพัฒนาฝีมือแรงงาน | B13: =8060502.87+415114373.35 -> 4.2317488e+08 | C13: 2.1301382e+08 | D13: =140571815.51+4814.8 -> 1.4057663e+08 | E13: =33710856.27+14230886.55 -> 47941743 | F13: 12406539 | G13: =SUM(B13:F13) -> 8.3711361e+08 | H13: 3.7914998e+08 | I13: 0 | J13: 0 | K13: 0 | L13: 0 | M13: =SUM(H13:J13) -> 3.7914998e+08 | N13: =SUM(G13+M13) -> 1.2162636e+09 | P13: =1216263591.37-385182230.88-139974563.85-33744672.61-470853286.66-7482466-29238515.72-14490886.55 -> 1.3529697e+08
A14: จังหวัด 52 แห่ง | P14: =+N13-522065154.93 -> 6.9419844e+08
A15: 3. สถาบันพัฒนาฝีมือ | B15: =285610.21+16075106.79 -> 16360717 | C15: 7447959 | D15: 17476285 | E15: - | F15: 37418 | G15: =SUM(B15:F15) -> 41322379 | H15: 6881853.5 | I15: 0 | J15: 0 | K15: 0 | L15: 0 | M15: =SUM(H15:J15) -> 6881853.5 | N15: =SUM(G15+M15) -> 48204233 | Q15: =+P14-33744672.61-139974563.85-385182230.88 -> 1.3529697e+08
A16: แรงงานนานาชาติ | Q16: =135296969.1+385182230.88+139974563.85+33744672.61 -> 6.9419844e+08
A17: 4. สถาบันพัฒนาบุคลากรในอุตสาหกรรม | B17: =54312+5873111.93 -> 5927423.9 | C17: 4980041.4 | D17: 8045246.4 | E17: - | F17: 147183.85 | G17: =SUM(B17:F17) -> 19099896 | H17: 4498698.2 | I17: 0 | J17: 0 | K17: 0 | L17: 0 | M17: =SUM(H17:J17) -> 4498698.2 | N17: =SUM(G17+M17) -> 23598594 | Q17: =470853286.66+7482466+29238515.72+14490886.55 -> 5.2206515e+08
A18: ยานยนต์และชิ้นส่วนอะไหล่ยานยนต์ | Q18: =SUM(Q16:Q17) -> 1.2162636e+09
A19: 5. สถาบันพัฒนาทรัพยากรมนุษย์สำหรับ | B19: =151175+2596468.5 -> 2747643.5 | C19: 3519979.4 | D19: 235253.67 | E19: 792860 | F19: 90051 | G19: =SUM(B19:F19) -> 7385787.6 | H19: 2741886.5 | I19: 0 | J19: 0 | K19: 0 | L19: 0 | M19: =SUM(H19:J19) -> 2741886.5 | N19: =SUM(G19+M19) -> 10127674
A20: อุตสาหกรรมบริการสุขภาพ | O20: =+G21+O21 -> 1.9890234e+08
O21: =SUM(H22:J22) -> 1.9890234e+08
A22: ศูนย์ต้นทุนสนับสนุน | B22: =SUM(B23:B40) -> 55086502 | C22: =SUM(C23:C40) -> 2.0061042e+08 | D22: =SUM(D23:D40) -> 10770954 | E22: =SUM(E23:E40) -> 34465485 | F22: =SUM(F23:F40) -> 2906837.2 | G22: =SUM(G23:G40) -> 3.038402e+08 | H22: =SUM(H23:H40) -> 1.6367075e+08 | I22: =SUM(I23:I40) -> 22739005 | ... M22: =SUM(M23:M40) -> 1.9890234e+08 | N22: =+G22+M22 -> 5.0274254e+08 | O22: =+N10+N22 -> 2.9484139e+09
A23: 1. สำนักอธิบดี | B23: 757810 | C23: 629136.17 | D23: 168378.74 | E23: - | F23: 398370 | G23: =SUM(B23:F23) -> 1953694.9 | H23: 5318620 | I23: 374524.79 | J23: 205760.21 | M23: =SUM(H23:L23) -> 5898905 | N23: =SUM(G23+M23) -> 7852600 | O23: =SUM(H22:M22) -> 3.9780468e+08
A24: 2. สำนักงานผู้ตรวจราชการกรม | B24: =1945620.08+15000 -> 1960620.1 | C24: 456740.12 | D24: 69550.19 | E24: 355 | F24: 8200 | G24: =SUM(B24:F24) -> 2495465.4 | H24: 5263343.1 | I24: 535035.41 | J24: 293943.13 | M24: =SUM(H24:L24) -> 6092321.6 | N24: =SUM(G24+M24) -> 8587787 | O24: =SUM(N23:N40) -> 5.0274254e+08
A25: 3. สำนักงานเลขานุการกรม | B25: =88489+265920 -> 354409 | C25: 2880021.1 | D25: 507120.08 | E25: - | F25: 480146 | G25: =SUM(B25:F25) -> 4221696.2 | H25: 16968649 | I25: 2889191.2 | J25: 1587292.9 | M25: =SUM(H25:L25) -> 21445133 | N25: =SUM(G25+M25) -> 25666829
A26: 4. กองแผนงานฯ | B26: =140773+958474 -> 1099247 | C26: 3299890.5 | D26: 594009.4 | E26: - | F26: 46030 | G26: =SUM(B26:F26) -> 5039176.9 | H26: 11007562 | I26: 1872623.9 | J26: 1028801 | M26: =SUM(H26:L26) -> 13908987 | N26: =SUM(G26+M26) -> 18948163 | O26: =+G22+M22 -> 5.0274254e+08
A27: 5. กองพัฒนาศักยภาพฯ | B27: =551072.8+6318950 -> 6870022.8 | C27: 4561180.6 | D27: 116845.46 | E27: 1285 | F27: 127806.75 | G27: =SUM(B27:F27) -> 11677141 | H27: 12862726 | I27: 1551602.7 | J27: 852435.07 | M27: =SUM(H27:L27) -> 15266764 | N27: =SUM(G27+M27) -> 26943904
A28: 6. สำนักพัฒนามาตรฐานฯ | B28: =8430929.3+17259221.76 -> 25690151 | C28: 1.5336673e+08 | D28: 3609911.3 | E28: =1282315.5+33161209.54 -> 34443525 | F28: 532703 | G28: =SUM(B28:F28) -> 2.1764302e+08 | H28: 17743081 | I28: 2514666.4 | J28: 1381532.7 | M28: =SUM(H28:L28) -> 21639280 | N28: =SUM(G28+M28) -> 239282300
A29: 7. สำนักพัฒนาผู้ฝึกฯ | B29: =302731.38+3511205.75 -> 3813937.1 | C29: 4458127.2 | D29: 1125686.8 | E29: - | F29: 244423.75 | G29: =SUM(B29:F29) -> 9642174.9 | H29: 20806364 | I29: 2247148.7 | J29: 1234561.1 | M29: =SUM(H29:L29) -> 24288074 | N29: =SUM(G29+M29) -> 33930249 | O29: =SUM(#REF!+N29) -> #REF!
A30: 8. กองบริหารการคลัง | B30: =36587+328574.2 -> 365161.2 | C30: 915944.85 | D30: 91298.32 | E30: 20319.75 | F30: 288321.5 | G30: =SUM(B30:F30) -> 1681045.6 | H30: 13265459 | I30: 2354155.8 | J30: 1293352.7 | M30: =SUM(H30:L30) -> 16912967 | N30: =SUM(G30+M30) -> 18594013 | O30: 49108774
A31: 9. กองบริหารทรัพยากรบุคคล | B31: =439320.98+4204299.51 -> 4643620.5 | C31: 1547604.5 | D31: 193100.96 | E31: - | F31: 172112 | G31: =SUM(B31:F31) -> 6556438 | H31: 16242133 | I31: 2568169.9 | J31: 1410927 | M31: =SUM(H31:L31) -> 20221230 | N31: =SUM(G31+M31) -> 26777668
A32: 10. กลุ่มกฏหมาย | B32: =273978+113383 -> 387361 | C32: 533678.88 | D32: 20412.76 | E32: - | F32: 25154 | G32: =SUM(B32:F32) -> 966606.64 | H32: 5268565.5 | I32: 1016567.2 | J32: 558491.92 | M32: =SUM(H32:L32) -> 6843624.6 | N32: =SUM(G32+M32) -> 7810231.3
A33: 11. กองยุทธศาสตร์และเครือข่ายฯ | B33: =172689+1070236 -> 1242925 | C33: 1877609.7 | D33: 66962.23 | E33: - | F33: 114330 | G33: =SUM(B33:F33) -> 3301826.9 | H33: 4103914.5 | I33: - | J33: - | M33: =SUM(H33:L33) -> 4103914.5 | N33: =SUM(G33+M33) -> 7405741.4
A34: 12. กองส่งเสริมการพัฒนาฝีมือฯ | B34: =2803+929943.91 -> 932746.91 | C34: 2327583.8 | D34: 270203.27 | E34: - | F34: 46092.25 | G34: =SUM(B34:F34) -> 3576626.2 | H34: 13453212 | I34: 1712113.3 | J34: 940618.03 | M34: =SUM(H34:L34) -> 16105943 | N34: =SUM(G34+M34) -> 19682570
A35: 13. กลุ่มพัฒนาระบบบริหาร | B35: =6116+1061612.16 -> 1067728.2 | C35: 248301.91 | D35: 15702.99 | E35: - | F35: 15969 | G35: =SUM(B35:F35) -> 1347702.1 | H35: 4033591.4 | I35: 535035.42 | J35: 293940.13 | M35: =SUM(H35:L35) -> 4862566.9 | N35: =SUM(G35+M35) -> 6210269
A36: 14. กลุ่มตรวจสอบภายใน | B36: =437858.81+33300 -> 471158.81 | C36: 156842.63 | D36: 22923.82 | E36: - | F36: 54390 | G36: =SUM(B36:F36) -> 705315.26 | H36: 3381997.8 | I36: 642042.48 | J36: 352731.75 | M36: =SUM(H36:L36) -> 4376772.1 | N36: =SUM(G36+M36) -> 5082087.3
A37: 15. กองวิเทศสัมพันธ์ | B37: =648071.1+3600 -> 651671.1 | C37: 218880.76 | D37: 20851.11 | E37: - | F37: 15386 | G37: =SUM(B37:F37) -> 906788.97 | H37: 3256737.3 | I37: 481531.86 | J37: 264548.82 | M37: =SUM(H37:L37) -> 4002818 | N37: =SUM(G37+M37) -> 4909606.9
A38: 16. ศูนย์ข้อมูลเทคโนโลยีสารสนเทศ | B38: =1320+166250 -> 167570 | C38: 2134998.9 | D38: 1018114.4 | E38: - | F38: 48317 | G38: =SUM(B38:F38) -> 3369000.3 | H38: 4497114.9 | I38: 481531.86 | J38: 264548.82 | M38: =SUM(H38:L38) -> 5243195.6 | N38: =SUM(G38+M38) -> 8612195.9
A39: 17. สนง.รับรองความรู้ความสามารถ | B39: =25531+3489640.58 -> 3515171.6 | C39: 3073229.1 | D39: 2661445.4 | E39: - | F39: 79150 | G39: =SUM(B39:F39) -> 9328996.1 | H39: 2679189.6 | I39: 428028.32 | J39: 235154.5 | M39: =SUM(H39:L39) -> 3342372.4 | N39: =SUM(G39+M39) -> 12671368
A40: 18. กองสื่อสารองค์กร | B40: =450591+644600 -> 1095191 | C40: 17923923 | D40: 198436.34 | E40: - | F40: 209936 | G40: =SUM(B40:F40) -> 19427486 | H40: 3518490.6 | I40: 535035.42 | J40: 293943.13 | M40: =SUM(H40:L40) -> 4347469.2 | N40: =SUM(G40+M40) -> 23774956
A41: รวมต้นทุนผลผลิต | B41: =+B10+B22 -> 8.7007844e+08 | C41: =+C10+C22 -> 6.2735412e+08 | D41: =+D10+D22 -> 2.8466499e+08 | E41: =+E10+E22 -> 1.2535965e+08 | F41: =+F10+F22 -> 30665575 | G41: =SUM(B41:F41) -> 1.9381228e+09 | H41: =+H10+H22 -> 9.7505952e+08 | I41: =+I10+I22 -> 22739005 | J41: =+J10+J22 -> 12492583 | K41: =+K10+K22 -> 0 | L41: =+L10+L22 -> 0 | M41: =SUM(H41:J41) -> 1.0102911e+09 | N41: =+G41+M41 -> 2.9484139e+09

Sheet ตารางที่ 3ส่ง
A1: กรมพัฒนาฝีมือแรงงาน
A2: รายงานการคำนวณต้นทุนผลผลิต
A3: ประจำปีงบประมาณ พ.ศ. 2561
A4: ตารางที่ 3 รายงานต้นทุนกิจกรรมย่อยแยกตามแหล่งเงิน
I5: หน่วย : บาท
A6: กิจกรรมย่อย | B6: เงินใน | C6: เงินนอก | D6: งบกลาง | E6: ค่าเสื่อมราคา | F6: ต้นทุนรวม | G6: ปริมาณ | H6: หน่วยนับ | I6: ต้นทุนต่อหน่วย
B7: งบประมาณ | C7: งบประมาณ
A8: กิจกรรมย่อยของหน่วยงานหลัก | B8: =+B9+B10+B11+B12+B13+B14+B16+B17+B18+B19+B20+B21+B22+B23+B24+B25+B26+B27+B28+B29+B30+B31+B32+B33+B34+B35+B36+B37 -> 2.1414191e+09 | C8: =+C9+C10+C11+C12+C13+C14+C16+C17+C18+C19+C20+C21+C22+C23+C24+C25+C26+C27+C28+C29+C30+C31+C32+C33+C34+C35+C36+C37 -> 4881608.9 | D8: =SUM(D9:D37) -> 87617586 | E8: =+E9+E10+E11+E12+E13+E14+E16+E17+E18+E19+E20+E21+E22+E23+E24+E25+E26+E27+E28+E29+E30+E31+E32+E33+E35+E36+E37 -> 2.7947738e+08 | F8: =+F9+F10+F11+F12+F13+F14+F16+F17+F18+F19+F20+F21+F22+F23+F24+F25+F26+F27+F28+F29+F30+F31+F32+F33+F35+F36+F37 -> 2.5130968e+09 | G8: =SUM(G9:G37) -> 4952816 | I8: =SUM(F8/G8) -> 507.40767
A9: 1. ฝึกทักษะอาชีพให้กับกลุ่มเป้าหมายในพื้นที่จังหวัดชายแดนภาคใต้ | B9: =2081330666.3*0.59/100 -> 12279851 | C9: =5097584.96*0.59/100 -> 30075.751 | D9: =85357848.85*0.59/100 -> 503611.31 | E9: =273885241.98*0.59/100 -> 1615922.9 | F9: =+B9+C9+D9+E9 -> 14429461 | G9: 600 | H9: คน | I9: =+(F9/G9) -> 24049.102
A10: 2. ฝึกอบรมฝีมือให้กับกลุ่มเป้าหมายตามโครงการพาคนกลับบ้าน | B10: =2081330666.3*0.2/100 -> 4162661.3 | C10: =5097584.96*0.2/100 -> 10195.17 | D10: =85357848.85*0.2/100 -> 170715.7 | E10: =273885241.98*0.2/100 -> 547770.48 | F10: =+B10+C10+D10+E10 -> 4891342.7 | G10: 200 | H10: คน | I10: =+F10/G10 -> 24456.713
A11: 3. เพิ่มศักยภาพกำลังแรงงานภาคอุตสาหกรรมและบริการไปสู่ Thailand 4.0 | B11: =2081330666.3*18.13/100 -> 3.7734525e+08 | C11: =5097584.96*18.13/100-200000 -> 724192.15 | D11: =85357848.85*18.13/100 -> 15475378 | E11: =273885241.98*18.13/100 -> 49655394 | F11: =+B11+C11+D11+E11 -> 4.4320021e+08 | G11: 103461 | H11: คน | I11: =+F11/G11 -> 4283.7418
A12: 4. เพิ่มศักยภาพแรงงานเตรียมเข้าสู่อุตสาหกรรมเป้าหมายแห่งอนาคต | B12: =2081330666.3*2.24/100 -> 46621807 | C12: =5097584.96*2.24/100 -> 114185.9 | D12: =85357848.85*2.24/100 -> 1912015.8 | E12: =273885241.98*2.24/100 -> 6135029.4 | F12: =+B12+C12+D12+E12 -> 54783038 | G12: 14136 | H12: คน | I12: =SUM(F12/G12) -> 3875.4271
A13: 5. ศูนย์ฝึกอบรมเทคโนโลยีชั้นสูงรองรับอุตสาหกรรมแห่งอนาคต | B13: =2081330666.3*7.47/100 -> 1.554754e+08 | C13: =5097584.96*7.47/100-16840.26 -> 363949.34 | D13: =85357848.85*7.47/100 -> 6376231.3 | E13: =273885241.98*7.47/100 -> 20459228 | F13: =+B13+C13+D13+E13 -> 1.8267481e+08 | G13: 10939 | H13: คน | I13: =SUM(F13/G13) -> 16699.407
A14: 6. พัฒนาหลักสูตรยกระดับฝีมือตามความสามารถ | B14: =2081330666.3*0.04/100 -> 832532.27 | C14: =5097584.96*0.04/100 -> 2039.034 | D14: =85357848.85*0.04/100 -> 34143.14 | E14: =273885241.98*0.04/100 -> 109554.1 | F14: =+B14+C14+D14+E14 -> 978268.54 | G14: 60 | H14: หลักสูตร | I14: =SUM(F14/G14) -> 16304.476
A15: (Competency Based Curriculum)
A16: 7. จัดทำมาตรฐานฝีมือแรงงานแห่งชาติและวิธีการทดสอบมาตรฐานฝีมือเพื่อรองรับ Thailank 4.0 | B16: =39638.62+11081249.96+199800 -> 11320689 | C16: 0 | D16: 37642.88 | E16: 653000.45 | F16: =+B16+C16+D16+E16 -> 12011332 | G16: 10 | H16: สาขา | I16: =SUM(F16/G16) -> 1201133.2
A17: 8. เพิ่มผลิตภาพแรงงานสู่ SME 4.0 | B17: =2081330666.3*2.42/100 -> 50368202 | C17: =5097584.96*2.42/100 -> 123361.56 | D17: =85357848.85*2.42/100 -> 2065659.9 | E17: =273885241.98*2.42/100 -> 6628022.9 | F17: =+B17+C17+D17+E17 -> 59185246 | G17: 12479 | H17: คน | I17: =SUM(F17/G17) -> 4742.7876
A18: 9. เพิ่มทักษะกำลังแรงงานในพื้นที่ 10 จังหวัด ในพื้นที่เขตพัฒนาเศรษฐกิจพิเศษ | B18: =2081330666.3*2.19/100 -> 45581142 | C18: =5097584.96*2.19/100 -> 111637.11 | D18: =85357848.85*2.19/100 -> 1869336.9 | E18: =273885241.98*2.19/100 -> 5998086.8 | F18: =+B18+C18+D18+E18 -> 53560202 | G18: 11869 | H18: คน | I18: =SUM(F18/G18) -> 4512.6129
A19: 10. วิจัยเพื่อขับเคลื่อนผลิตภาพแรงงานสู่ Thailand 4.0 | B19: =29910+4061147.47 -> 4091057.5 | C19: 864.24 | D19: 16847.81 | E19: 32456.21 | F19: =+B19+C19+D19+E19 -> 4141225.7 | G19: 3 | H19: เรื่อง | I19: =SUM(F19/G19) -> 1380408.6
A20: 11. ควบคุมและกำกับดูแลการประกอบอาชีพที่อาจเป็นอันตรายต่อสาธารณะหรือต้องใช้ความรู้ความสามารถสู่ Safety At Work | B20: =6000+1420948 -> 1426948 | C20: 0 | D20: 132660 | E20: =117577+500000 -> 617577 | F20: =+B20+C20+D20+E20 -> 2177185 | G20: 25924 | H20: คน | I20: =SUM(F20/G20) -> 83.983374
A21: 12. พัฒนาฝีมือให้แก่กลุ่มวิสาหกิจชุมชน และผู้มีรายได้น้อย | B21: =2081330666.3*0.64/100 -> 13320516 | C21: =5097584.96*0.64/100 -> 32624.544 | D21: =85357848.85*0.64/100 -> 546290.23 | E21: =273885241.98*0.64/100 -> 1752865.5 | F21: =+B21+C21+D21+E21 -> 15652297 | G21: 4063 | H21: คน | I21: =SUM(F21/G21) -> 3852.3989
A22: 13. ทดสอบมาตรฐานฝีมือแรงงานให้มีสมรรถนะ | B22: =2081330666.3*1.24/100 -> 25808500 | C22: =5097584.96*1.24/100 -> 63210.054 | D22: =85357848.85*1.24/100+1023538.32 -> 2081975.6 | E22: =273885241.98*1.24/100+4191273.67 -> 7587450.7 | F22: =+B22+C22+D22+E22 -> 35541137 | G22: 36832 | H22: คน | I22: =SUM(F22/G22) -> 964.95267
A23: 14. ส่งเสริมมาตรฐานฝีมือแรงงานแห่งชาติ | B23: =2081330666.3*0.09/100 -> 1873197.6 | C23: =5097584.96*0.09/100 -> 4587.8265 | D23: =85357848.85*0.09/100 -> 76822.064 | E23: =273885241.98*0.09/100 -> 246496.72 | F23: =+B23+C23+D23+E23 -> 2201104.2 | G23: 129 | H23: แห่ง | I23: =SUM(F23/G23) -> 17062.823
A24: 15. พัฒนาศักยภาพแรงงานเพื่อรองรับการจ่ายค่าจ้างตามมาตรฐานฝีมือ | B24: =2081330666.3*0.76/100 -> 15818113 | C24: =5097584.96*0.76/100 -> 38741.646 | D24: =85357848.85*0.76/100 -> 648719.65 | E24: =273885241.98*0.76/100 -> 2081527.8 | F24: =+B24+C24+D24+E24 -> 18587102 | G24: 5071 | H24: คน | I24: =SUM(F24/G24) -> 3665.3722
A25: 16. พัฒนาศักยภาพมาตรฐานฝีมือแรงงานไทยในต่างประเทศ | B25: 4555666.5 | C25: 0 | D25: 31380.51 | E25: 97832.3 | F25: =+B25+C25+D25+E25 -> 4684879.4 | G25: 246 | H25: คน | I25: =SUM(F25/G25) -> 19044.225
A26: 17. พัฒนาฝีมือแรงงานนานาชาติ | B26: =2081330666.3*1.29/100 -> 26849166 | C26: =5097584.96*1.29/100 -> 65758.846 | D26: =85357848.85*1.29/100 -> 1101116.3 | E26: =273885241.98*1.29/100 -> 3533119.6 | F26: =+B26+C26+D26+E26 -> 31549160 | G26: 2003 | H26: คน | I26: =SUM(F26/G26) -> 15750.954
A27: 18. พัฒนาระบบการฝึกอบรมฝีมือแรงงาน | B27: =2081330666.3*0.53/100 -> 11031053 | C27: =5097584.96*0.53/100 -> 27017.2 | D27: =85357848.85*0.53/100+500000 -> 952396.6 | E27: =273885241.98*0.53/100 -> 1451591.8 | F27: =+B27+C27+D27+E27 -> 13462058 | G27: 35 | H27: หลักสูตร | I27: =SUM(F27/G27) -> 384630.23
A28: 19.ส่งเสริมและสนับสนุนให้สถานประกอบกิจการดำเนินการพัฒนาฝีมือแรงงาน | B28: =2081330666.3*15.22/100 -> 3.1677853e+08 | C28: =5097584.96*15.22/100 -> 775852.43 | D28: =85357848.85*15.22/100 -> 12991465 | E28: =273885241.98*15.22/100 -> 41685334 | F28: =+B28+C28+D28+E28 -> 3.7223118e+08 | G28: 4391901 | H28: คน | I28: =SUM(F28/G28) -> 84.754
A29: 20. จัดทำหลักเกณฑ์ พัฒนาระบบ ส่งเสริมและรับรองมาตรฐานฝีมือแรงงาน | B29: =2081330666.3*0.5/100+38395199.58 -> 48801853 | C29: =5097584.96*0.5/100 -> 25487.925 | D29: =85357848.85*0.5/100+517667.45 -> 944456.69 | E29: =273885241.98*0.5/100 -> 1369426.2 | F29: =+B29+C29+D29+E29 -> 51141224 | G29: 21 | H29: สาขา | I29: =SUM(F29/G29) -> 2435296.4
A30: 21. พัฒนาช่างเครื่องช่วยคนพิการกับมูลนิธิขาเทียม | B30: =2081330666.3*0.16/100 -> 3330129.1 | C30: =5097584.96*0.16/100 -> 8156.1359 | D30: =85357848.85*0.16/100 -> 136572.56 | E30: =273885241.98*0.16/100 -> 438216.39 | F30: =+B30+C30+D30+E30 -> 3913074.1 | G30: 114 | H30: คน | I30: =SUM(F30/G30) -> 34325.212
A31: 22. ขับเคลื่อนยุทธศาสตร์การพัฒนากำลังคนระดับชาติรองรับการพัฒนาอุตสาหกรรมศักยภาพของประเทศ | B31: =2081330666.3*0.36/100 -> 7492790.4 | C31: =5097584.96*0.36/100 -> 18351.306 | D31: =85357848.85*0.36/100 -> 307288.26 | E31: =273885241.98*0.36/100 -> 985986.87 | F31: =+B31+C31+D31+E31 -> 8804416.8 | G31: 5 | H31: ครั้ง | I31: =SUM(F31/G31) -> 1760883.4
A32: 23.ฝึกอบรมแรงงานกลุ่มเป้าหมายเฉพาะเพื่อเพิ่มโอกาสในการประกอบอาชีพ | B32: =2081330666.3*3.47/100 -> 72222174 | C32: =5097584.96*3.47/100 -> 176886.2 | D32: =85357848.85*3.47/100 -> 2961917.4 | E32: =273885241.98*3.47/100 -> 9503817.9 | F32: =+B32+C32+D32+E32 -> 84864796 | G32: 31569 | H32: คน | I32: =SUM(F32/G32) -> 2688.232
A33: 24. ฝึกอบรมแรงงานผู้สูงอายุเพื่อเพิ่มโอกาสในการประกอบอาชีพ | B33: =2081330666.3*1.2/100 -> 24975968 | C33: =5097584.96*1.2/100 -> 61171.02 | D33: =85357848.85*1.2/100 -> 1024294.2 | E33: =273885241.98*1.2/100 -> 3286622.9 | F33: =+B33+C33+D33+E33 -> 29348056 | G33: 8200 | H33: คน | I33: =SUM(F33/G33) -> 3579.0312
A34: 25. เสริมสร้างธรรมาภิบาลป้องกันและลดความเสี่ยงในการเกิดการทุจริตและประพฤติมิชอบ | B34: 298823.68 | D34: 0 | F34: =+B34+C34+D34+E34 -> 298823.68 | G34: 170 | H34: คน | I34: =SUM(F34/G34) -> 1757.7864
A35: 26. พัฒนาอุตสาหกรรมเทคโนโลยีชั้นสูงและอุตสาหกรรมแห่งอนาคตในพื้นที่ระเบียงเศรษฐกิจภาคตะวันออก | B35: =2081330666.3*4.42/100 -> 91994815 | C35: =5097584.96*4.42/100 -> 225313.26 | D35: =85357848.85*4.42/100 -> 3772816.9 | E35: =273885241.98*4.42/100 -> 12105728 | F35: =+B35+C35+D35+E35 -> 1.0809867e+08 | G35: 10939 | H35: คน | I35: =SUM(F35/G35) -> 9881.952
A36: 27. การฝึกอาชีพเสริมเพื่อการมีงานทำหรือการประกอบอาชีพอิสระ | B36: =2081330666.3*31.61/100 -> 6.5790862e+08 | C36: =5097584.96*31.61/100 -> 1611346.6 | D36: =85357848.85*31.61/100 -> 26981616 | E36: =273885241.98*31.61/100 -> 86575125 | F36: =+B36+C36+D36+E36 -> 7.7307671e+08 | G36: 270230 | H36: คน | I36: =SUM(F36/G36) -> 2860.8101
A37: 28. การส่งเสริมและฝึกอาชีพหลักสูตรฝึกอาชีพเร่งด่วนช่างอเนกประสงค์ (ช่างชุมชน) | B37: =2081330666.3*5.23/100 -> 1.0885359e+08 | C37: =5097584.96*5.23/100 -> 266603.69 | D37: =85357848.85*5.23/100 -> 4464215.5 | E37: =273885241.98*5.23/100 -> 14324198 | F37: =+B37+C37+D37+E37 -> 1.2790861e+08 | G37: 11607 | H37: คน | I37: =SUM(F37/G37) -> 11019.954
A38: กิจกรรมย่อยของหน่วยงานสนับสนุน | B38: =SUM(B39:B72) -> 4.0718586e+08 | C38: =SUM(C39:C72) -> 381588.26 | D38: =SUM(D39:D72) -> 9779409.6 | E38: =SUM(E39:E72) -> 17671397 | F38: =SUM(F39:F72) -> 4.3501826e+08 | G38: =SUM(G39:G72) -> 2.3630272e+09 | I38: =SUM(F38/G38) -> 0.18409363
A39: 1. บริหารให้หน่วยงานปฏิบัติตามนโยบาย | B39: 7240249.5 | C39: 0 | D39: 238211.51 | E39: 374138.95 | F39: =SUM(B39:E39) -> 7852599.9 | G39: 14929 | H39: เรื่อง | I39: =SUM(F39/G39) -> 525.99638
A40: 2. ตรวจติดตามและให้คำแนะนำการปฏิบัติราชการ | B40: 7895166.2 | C40: 16391 | D40: 312736.48 | E40: 363493.32 | F40: =SUM(B40:E40) -> 8587787 | G40: 545 | H40: ครั้ง | I40: =SUM(F40/G40) -> 15757.407
A41: 3. ด้านงานสารบรรณ | B41: =22120438.79*15/100 -> 3318065.8 | C41: =-37123.31*15/100 -> -5568.4965 | D41: =1489100.86*15/100 -> 223365.13 | E41: =2094412.99*15/100 -> 314161.95 | F41: =SUM(B41:E41) -> 3850024.4 | G41: 60865 | H41: เรื่อง | I41: =SUM(F41/G41) -> 63.255145
A42: 4. ด้านยานพาหนะ | B42: =22120438.79*15/100 -> 3318065.8 | C42: =-37123.31*15/100 -> -5568.4965 | D42: =1489100.86*15/100 -> 223365.13 | E42: =2094412.99*15/100 -> 314161.95 | F42: =SUM(B42:E42) -> 3850024.4 | G42: 205636 | H42: กิโลเมตร | I42: =SUM(F42/G42) -> 18.722521
A43: 5. ด้านงานช่วยอำนวยการ | B43: =22120438.79*20/100 -> 4424087.8 | C43: =-37123.31*20/100 -> -7424.662 | D43: =1489100.86*20/100 -> 297820.17 | E43: =2094412.99*20/100 -> 418882.6 | F43: =SUM(B43:E43) -> 5133365.9 | G43: 2361 | H43: เรื่อง | I43: =SUM(F43/G43) -> 2174.2337
A44: 6. ด้านอาคารและสถานที่ | B44: =22120438.79*30/100 -> 6636131.6 | C44: =-37123.31*30/100 -> -11136.993 | D44: =1489100.86*30/100 -> 446730.26 | E44: =2094412.99*30/100 -> 628323.9 | F44: =SUM(B44:E44) -> 7700048.8 | G44: 474 | H44: ครั้ง | I44: =SUM(F44/G44) -> 16244.829
A45: 7. ด้านสุขภาพและความปลอดภัยในการทำงาน | B45: =22120438.79*15/100 -> 3318065.8 | C45: =-37123.31*15/100 -> -5568.4965 | D45: =1489100.86*15/100 -> 223365.13 | E45: =2094412.99*15/100 -> 314161.95 | F45: =SUM(B45:E45) -> 3850024.4 | G45: 150 | H45: คน | I45: =SUM(F45/G45) -> 25666.829
A46: 8. งานห้องสมุด | B46: =22120438.79*5/100 -> 1106021.9 | C46: =-37123.31*5/100 -> -1856.1655 | D46: =1489100.86*5/100 -> 74455.043 | E46: =2094412.99*5/100 -> 104720.65 | F46: =SUM(B46:E46) -> 1283341.5 | G46: 4 | H46: เรื่อง | I46: =SUM(F46/G46) -> 320835.37
A47: 9. ด้านแผนงานและประเมินผล | B47: 12378603 | C47: 0 | D47: 825542.51 | E47: 1590354.1 | F47: =SUM(B47:E47) -> 14794500 | G47: 3 | H47: เรื่อง | I47: =SUM(F47/G47) -> 4931500
A48: 10. พัฒนามาตรฐานฝีมือแรงงานแห่งชาติ | B48: 20291311 | C48: 0 | D48: 139771.35 | E48: 435753.06 | F48: =SUM(B48:E48) -> 20866835 | G48: 30 | H48: สาขา | I48: =SUM(F48/G48) -> 695561.17
A49: 11. ส่งเสริมมาตรฐานฝีมือแรงงานแห่งชาติ | B49: 5996744.8 | C49: 0 | D49: 41307 | E49: 128779.26 | F49: =SUM(B49:E49) -> 6166831 | G49: 800 | H49: คน | I49: =SUM(F49/G49) -> 7708.5388
A50: 12. การแข่งขันฝีมือแรงงาน | B50: 2.0158824e+08 | C50: =257842.59-50000 -> 207842.59 | D50: 1388587.6 | E50: 4329079.4 | F50: =SUM(B50:E50) -> 2.0751375e+08 | G50: 105 | H50: สาขา | I50: =SUM(F50/G50) -> 1976321.5
A51: 13. พัฒนาระบบฝึกอบรมฝีมือแรงงาน | B51: 7171768.2 | C51: -352.03 | D51: 337808.19 | E51: 472049.6 | F51: =+B51+C51+D51+E51 -> 7981274 | G51: 35 | H51: หลักสูตร | I51: =SUM(F51/G51) -> 228036.4
A52: 14. ด้านพัฒนาและจัดทำหลักสูตรการฝึกอบรมฝีมือแรงงาน | B52: 4482355.2 | C52: -112.65 | D52: 135123.28 | E52: 590062 | F52: =SUM(B52:E52) -> 5207427.8 | G52: 25 | H52: หลักสูตร | I52: =SUM(F52/G52) -> 208297.11
A53: 15. ด้านพัฒนาบุคลากรฝึก | B53: 7470591.9 | C53: -211.22 | D53: 320917.78 | E53: 188819.84 | F53: =SUM(B53:E53) -> 7980118.3 | G53: 218 | H53: คน | I53: =SUM(F53/G53) -> 36606.047
A54: 16. ด้านการพัฒนาระบบและรูปแบบการฝึก | B54: 3287060.5 | C54: -281.62 | D54: 253356.14 | E54: 354037.2 | F54: =SUM(B54:E54) -> 3894172.2 | G54: 80 | H54: คน | I54: =SUM(F54/G54) -> 48677.152
A55: 17. พัฒนาครุภัณฑ์การฝึก | B55: 2390589.4 | C55: -70.41 | D55: 168904.09 | E55: 236024.8 | F55: =SUM(B55:E55) -> 2795447.9 | G55: 64 | H55: คน | I55: =SUM(F55/G55) -> 43678.873
A56: 18. ด้านพัฒนาวิยากรต้นแบบ | B56: 4482355.2 | C56: -98.57 | D56: 168904.09 | E56: 236024.8 | F56: =SUM(B56:E56) -> 4887185.5 | G56: 130 | H56: คน | I56: =SUM(F56/G56) -> 37593.734
A57: 19. ด้านการเงินและบัญชี | B57: 5685029.7 | C57: 7111.91 | D57: 325487.14 | E57: 484627.86 | F57: =SUM(B57:E57) -> 6502256.6 | G57: 343410 | H57: จำนวนเอกสารรายการ | I57: =SUM(F57/G57) -> 18.934383
A58: 20. ด้านพัสดุ (จัดซื้อจัดจ้าง) | B58: 5685029.7 | C58: 7111.91 | D58: 325487.14 | E58: 484627.86 | F58: =SUM(B58:E58) -> 6502256.6 | G58: 1153 | H58: จำนวนครั้งของการจัดซื้อจัดจ้าง | I58: =SUM(F58/G58) -> 5639.4247
A59: 21. ด้านงบประมาณ | B59: 4872882.6 | C59: 6095.93 | D59: 278988.97 | E59: 415395.31 | F59: =SUM(B59:E59) -> 5573362.8 | G59: 2.3623518e+09 | H59: จำนวนเงินงบประมาณที่ได้รับจัดสรร | I59: 0.002
A60: 22. ด้านบริหารบุคลากร | B60: 7177581.9 | C60: 6928.2 | D60: 367582.03 | E60: 481208.39 | F60: =SUM(B60:E60) -> 8033300.5 | G60: 2458 | H60: คน | I60: =SUM(F60/G60) -> 3268.2264
A61: 23. ด้านพัฒนาทรัพยากรบุคคล | B61: 11962636 | C61: 11547 | D61: 612636.72 | E61: 802013.99 | F61: =SUM(B61:E61) -> 13388834 | G61: 13783 | H61: คน | I61: =SUM(F61/G61) -> 971.40203
A62: 24. ด้านวินัยและความรับผิดทางละเมิด | B62: 4785054.6 | C62: 4618.8 | D62: 245054.69 | E62: 320805.59 | F62: =SUM(B62:E62) -> 5355533.7 | G62: 20 | H62: เรื่อง | I62: =SUM(F62/G62) -> 267776.68
A63: 25. ด้านกฏหมายของกรมพัฒนาฝีมือแรงงาน | B63: 6887215.1 | C63: =170745.71-8271.32 -> 162474.39 | D63: 392862.94 | E63: 359407.52 | F63: =SUM(B63:E63) -> 7801960 | G63: 3281 | H63: เรื่อง | I63: =SUM(F63/G63) -> 2377.9214
A64: 26. ส่งเสริมประสานความร่วมมือกับภาครัฐ/เอกชน | B64: 7241651.3 | C64: 22733.4 | D64: 74394.5 | E64: 66962.23 | F64: =SUM(B64:E64) -> 7405741.5 | G64: 1 | H64: ด้าน | I64: =SUM(F64/G64) -> 7405741.5
A65: 27. ด้านพัฒนาระบบบริหารราชการ | B65: =5619383.23*0.7 -> 3933568.3 | C65: =42006.77*0.7 -> 29404.739 | D65: =239180.48*0.7 -> 167426.34 | E65: =309643.12*0.7 -> 216750.18 | F65: =SUM(B65:E65) -> 4347149.5 | G65: 1 | H65: ด้าน | I65: =SUM(F65/G65) -> 4347149.5
A66: 28. ดำเนินการเกี่ยวกับระบบควบคุมภายในกรม | B66: =5619383.23*0.3 -> 1685815 | C66: =42006.77*0.3 -> 12602.031 | D66: =239180.48*0.3 -> 71754.144 | E66: =309643.12*0.3 -> 92892.936 | F66: =SUM(B66:E66) -> 1863064.1 | G66: 92 | H66: แห่ง | I66: =SUM(F66/G66) -> 20250.697
A67: 29. ด้านตรวจสอบภายใน | B67: 4443505.5 | C67: -1543.04 | D67: 264469.35 | E67: 375655.57 | F67: =SUM(B67:E67) -> 5082087.3 | G67: 3013 | H67: งาน/คน/วัน | I67: =SUM(F67/G67) -> 1686.72
A68: 30. ด้านการวิเทศสัมพันธ์ | B68: 4376697.3 | C68: -3303.79 | D68: 250813.48 | E68: 285399.93 | F68: =SUM(B68:E68) -> 4909606.9 | G68: 827 | H68: ครั้ง | I68: =SUM(F68/G68) -> 5936.6468
A69: 31. ด้านเทคโนโลยีสารสนเทศภายในหน่วยงาน | B69: =6986937.19*0.7 -> 4890856 | C69: =54921*0.7 -> 38444.7 | D69: =287674.48*0.7 -> 201372.14 | E69: =1282663.25*0.7 -> 897864.27 | F69: =SUM(B69:E69) -> 6028537.1 | G69: 20050 | H69: รายการ | I69: =SUM(F69/G69) -> 300.67517
A70: 32. ด้านเครือข่ายอินเตอร์เน็ตและเว็ปไซด์ | B70: =6986937.19*0.3 -> 2096081.2 | C70: =54921*0.3 -> 16476.3 | D70: =287674.48*0.3 -> 86302.344 | E70: =1282663.25*0.3 -> 384798.97 | F70: =SUM(B70:E70) -> 2583658.8 | G70: 24 | H70: ระบบ | I70: =SUM(F70/G70) -> 107652.45
A71: 33. จัดทำหลักเกณฑ์รับรองความรู้ความสามารถ | B71: =2841897.68-1420948 -> 1420949.7 | C71: 0 | D71: =265320.23-132660 -> 132660.23 | E71: =235154.5-117577 -> 117577.5 | F71: =SUM(B71:E71) -> 1671187.4 | G71: 5 | H71: ครั้ง | I71: =SUM(F71/G71) -> 334237.48
A72: 34. ด้านการประชาสัมพันธ์ | B72: 23245827 | C72: -125098 | D72: 161846.62 | E72: 492379.47 | F72: =SUM(B72:E72) -> 23774956 | G72: 870 | H72: เรื่อง | I72: =SUM(F72/G72) -> 27327.535
A73: รวมต้นทุนผลผลิต | B73: =SUM(B8+B38) -> 2.5486049e+09 | C73: =SUM(C8+C38) -> 5263197.2 | D73: =SUM(D8+D38) -> 97396995 | E73: =SUM(E8+E38) -> 2.9714878e+08 | F73: =+B73+C73+D73+E73 -> 2.9484139e+09 | G73: =+G8+G38 -> 2.3679801e+09 | I73: =+F73/G73 -> 1.2451177
B75: =2548604910.44-407185860.28-B8 -> 0 | F75: =+F73-2948413881.65 -> 0

Sheet ตารางที่ 4 ส่ง
A1: กรมพัฒนาฝีมือแรงงาน
A2: รายงานการคำนวณต้นทุนผลผลิต
A3: ประจำปีงบประมาณ พ.ศ. 2561
A4: ตารางที่ 4 รายงานต้นทุนผลผลิตย่อยแยกตามแหล่งเงิน
I5: หน่วย : บาท
A6: ผลผลิตย่อย | B6: เงินในงบประมาณ | C6: เงินนอกงบประมาณ | D6: งบกลาง | E6: ค่าเสื่อมราคา | F6: ต้นทุนรวม | G6: ปริมาณ | H6: หน่วยนับ | I6: ต้นทุนต่อหน่วย
A8: 1. ฝึกทักษะอาชีพให้กับกลุ่มเป้าหมายในพื้นที่จังหวัดชายแดนภาคใต้ | B8: =2548604910.44*0.49/100 -> 12488164 | C8: =5263197.2*0.49/100 -> 25789.666 | D8: =97396995.42*0.49/100 -> 477245.28 | E8: =297148778.59*0.49/100 -> 1456029 | F8: =SUM(B8:E8) -> 14447228 | G8: 600 | H8: คน | I8: =+F8/G8 -> 24078.713
A9: 2. ฝึกอบรมฝีมือให้กับกลุ่มเป้าหมายตามโครงการพาคนกลับบ้าน | B9: =2548604910.44*0.16/100 -> 4077767.9 | C9: =5263197.2*0.16/100 -> 8421.1155 | D9: =97396995.42*0.16/100 -> 155835.19 | E9: =297148778.59*0.16/100 -> 475438.05 | F9: =SUM(B9:E9) -> 4717462.2 | G9: 200 | H9: คน | I9: =+F9/G9 -> 23587.311
A10: 3. เพิ่มศักยภาพกำลังแรงงานภาคอุตสาหกรรมและบริการไปสู่ Thailand 4.0 | B10: =2548604910.44*15.45/100 -> 3.9375946e+08 | C10: =5263197.2*15.45/100 -> 813163.97 | D10: =97396995.42*15.45/100 -> 15047836 | E10: =297148778.59*15.45/100 -> 45909486 | F10: =SUM(B10:E10) -> 4.5552994e+08 | G10: 103461 | H10: คน | I10: =+F10/G10 -> 4402.9146
A11: 4. เพิ่มศักยภาพแรงงานเตรียมเข้าสู่อุตสาหกรรมเป้าหมายแห่งอนาคต | B11: =2548604910.44*1.92/100 -> 48933214 | C11: =5263197.2*1.92/100 -> 101053.39 | D11: =97396995.42*1.92/100 -> 1870022.3 | E11: =297148778.59*1.92/100 -> 5705256.5 | F11: =SUM(B11:E11) -> 56609547 | G11: 14136 | H11: คน | I11: =+F11/G11 -> 4004.6369
A12: 5. ศูนย์ฝึกอบรมเทคโนโลยีชั้นสูงรองรับอุตสาหกรรมแห่งอนาคต | B12: =2548604910.44*6.24/100 -> 1.5903295e+08 | C12: =5263197.2*6.24/100 -> 328423.51 | D12: =97396995.42*6.24/100 -> 6077572.5 | E12: =297148778.59*6.24/100 -> 18542084 | F12: =SUM(B12:E12) -> 1.8398103e+08 | G12: 10939 | H12: คน | I12: =+F12/G12 -> 16818.816
A13: 6. พัฒนาหลักสูตรยกระดับฝีมือตามความสามารถ | B13: =2548604910.44*0.03/100 -> 764581.47 | C13: =5263197.2*0.03/100 -> 1578.9592 | D13: =97396995.42*0.03/100 -> 29219.099 | E13: =297148778.59*0.03/100 -> 89144.634 | F13: =SUM(B13:E13) -> 884524.16 | G13: 60 | H13: หลักสูตร | I13: =+F13/G13 -> 14742.069
A14: (Competency Based Curriculum) | F14: =SUM(B14:E14) -> 0
A15: 7. จัดทำมาตรฐานฝีมือแรงงานแห่งชาติและวิธีการทดสอบมาตรฐานฝีมือเพื่อรองรับ Thailank 4.0 | B15: =2548604910.44*0.25/100 -> 6371512.3 | C15: =5263197.2*0.25/100 -> 13157.993 | D15: =97396995.42*0.25/100 -> 243492.49 | E15: =297148778.59*0.25/100 -> 742871.95 | F15: =SUM(B15:E15) -> 7371034.7 | G15: 10 | H15: สาขา | I15: =+F15/G15 -> 737103.47
A16: 8. เพิ่มผลิตภาพแรงงานสู่ SME 4.0 | B16: =2548604910.44*2.46/100 -> 62695681 | C16: =5263197.2*2.46/100 -> 129474.65 | D16: =97396995.42*2.46/100 -> 2395966.1 | E16: =297148778.59*2.46/100 -> 7309860 | F16: =SUM(B16:E16) -> 72530981 | G16: 12479 | H16: คน | I16: =+F16/G16 -> 5812.2431
A17: 9. เพิ่มทักษะกำลังแรงงานในพื้นที่ 10 จังหวัด ในพื้นที่เขตพัฒนาเศรษฐกิจพิเศษ | B17: =2548604910.44*1.82/100 -> 46384609 | C17: =5263197.2*1.82/100 -> 95790.189 | D17: =97396995.42*1.82/100 -> 1772625.3 | E17: =297148778.59*1.82/100 -> 5408107.8 | F17: =SUM(B17:E17) -> 53661133 | G17: 11869 | H17: คน | I17: =+F17/G17 -> 4521.1166
A18: 10. วิจัยเพื่อขับเคลื่อนผลิตภาพแรงงานสู่ Thailand 4.0 | B18: =2548604910.44*0.05/100 -> 1274302.5 | C18: =5263197.2*0.05/100 -> 2631.5986 | D18: =97396995.42*0.05/100 -> 48698.498 | E18: =297148778.59*0.05/100 -> 148574.39 | F18: =SUM(B18:E18) -> 1474206.9 | G18: 3 | H18: เรื่อง | I18: =+F18/G18 -> 491402.31
A19: 11. ควบคุมและกำกับดูแลการประกอบอาชีพที่อาจเป็นอันตรายต่อสาธารณะหรือต้องใช้ความรู้ความสามารถสู่ Safety At Work | B19: =2548604910.44*0.35/100 -> 8920117.2 | C19: =5263197.2*0.35/100 -> 18421.19 | D19: =97396995.42*0.35/100 -> 340889.48 | E19: =297148778.59*0.35/100 -> 1040020.7 | F19: =SUM(B19:E19) -> 10319449 | G19: 25924 | H19: คน | I19: =+F19/G19 -> 398.06544
A20: 12. พัฒนาฝีมือให้แก่กลุ่มวิสาหกิจชุมชน และผู้มีรายได้น้อย | B20: =2548604910.44*0.54/100 -> 13762467 | C20: =5263197.2*0.54/100 -> 28421.265 | D20: =97396995.42*0.54/100 -> 525943.78 | E20: =297148778.59*0.54/100 -> 1604603.4 | F20: =SUM(B20:E20) -> 15921435 | G20: 4063 | H20: คน | I20: =+F20/G20 -> 3918.6402
A21: 13. ทดสอบมาตรฐานฝีมือแรงงานให้มีสมรรถนะ | B21: =2548604910.44*8.02/100 -> 2.0439811e+08 | C21: =5263197.2*8.02/100 -> 422108.42 | D21: =97396995.42*8.02/100 -> 7811239 | E21: =297148778.59*8.02/100 -> 23831332 | F21: =SUM(B21:E21) -> 2.3646279e+08 | G21: 36832 | H21: คน | I21: =+F21/G21 -> 6420.0367
A22: 14. ส่งเสริมมาตรฐานฝีมือแรงงานแห่งชาติ | B22: =2548604910.44*0.13/100 -> 3313186.4 | C22: =5263197.2*0.13/100 -> 6842.1564 | D22: =97396995.42*0.13/100 -> 126616.09 | E22: =297148778.59*0.13/100 -> 386293.41 | F22: =SUM(B22:E22) -> 3832938 | G22: 129 | H22: แห่ง | I22: =+F22/G22 -> 29712.698
A23: 15. พัฒนาศักยภาพแรงงานเพื่อรองรับการจ่ายค่าจ้างตามมาตรฐานฝีมือ | B23: =2548604910.44*0.63/100 -> 16056211 | C23: =5263197.2*0.63/100 -> 33158.142 | D23: =97396995.42*0.63/100 -> 613601.07 | E23: =297148778.59*0.63/100 -> 1872037.3 | F23: =SUM(B23:E23) -> 18575007 | G23: 5071 | H23: คน | I23: =+F23/G23 -> 3662.9871
A24: 16. พัฒนาศักยภาพมาตรฐานฝีมือแรงงานไทยในต่างประเทศ | B24: =2548604910.44*0.26/100 -> 6626372.8 | C24: =5263197.2*0.26/100 -> 13684.313 | D24: =97396995.42*0.26/100 -> 253232.19 | E24: =297148778.59*0.26/100 -> 772586.82 | F24: =SUM(B24:E24) -> 7665876.1 | G24: 246 | H24: คน | I24: =+F24/G24 -> 31162.098
A25: 17. พัฒนาฝีมือแรงงานนานาชาติ | B25: =2548604910.44*1.08/100 -> 27524933 | C25: =5263197.2*1.08/100 -> 56842.53 | D25: =97396995.42*1.08/100 -> 1051887.6 | E25: =297148778.59*1.08/100 -> 3209206.8 | F25: =SUM(B25:E25) -> 31842870 | G25: 2003 | H25: คน | I25: =+F25/G25 -> 15897.589
A26: 18. พัฒนาระบบการฝึกอบรมฝีมือแรงงาน | B26: =2548604910.44*1.43/100 -> 36445050 | C26: =5263197.2*1.43/100 -> 75263.72 | D26: =97396995.42*1.43/100 -> 1392777 | E26: =297148778.59*1.43/100 -> 4249227.5 | F26: =SUM(B26:E26) -> 42162319 | G26: 35 | H26: หลักสูตร | I26: =+F26/G26 -> 1204637.7
A27: 19.ส่งเสริมและสนับสนุนให้สถานประกอบกิจการดำเนินการพัฒนาฝีมือแรงงาน | B27: =2548604910.44*14.92/100 -> 3.8025185e+08 | C27: =5263197.2*14.92/100 -> 785269.02 | D27: =97396995.42*14.92/100 -> 14531632 | E27: =297148778.59*14.92/100 -> 44334598 | F27: =SUM(B27:E27) -> 4.3990335e+08 | G27: 4391901 | H27: คน | I27: =+F27/G27 -> 100.1624
A28: 20. จัดทำหลักเกณฑ์ พัฒนาระบบ ส่งเสริมและรับรองมาตรฐานฝีมือแรงงาน | B28: =2548604910.44*4.42/100 -> 1.1264834e+08 | C28: =5263197.2*4.42/100 -> 232633.32 | D28: =97396995.42*4.42/100 -> 4304947.2 | E28: =297148778.59*4.42/100 -> 13133976 | F28: =SUM(B28:E28) -> 1.3031989e+08 | G28: 21 | H28: สาขา | I28: =+F28/G28 -> 6205709.2
A29: 21. พัฒนาช่างเครื่องช่วยคนพิการกับมูลนิธิขาเทียม | B29: =2548604910.44*0.13/100 -> 3313186.4 | C29: =5263197.2*0.13/100 -> 6842.1564 | D29: =97396995.42*0.13/100 -> 126616.09 | E29: =297148778.59*0.13/100 -> 386293.41 | F29: =SUM(B29:E29) -> 3832938 | G29: 114 | H29: คน | I29: =+F29/G29 -> 33622.264
A30: 22. ขับเคลื่อนยุทธศาสตร์การพัฒนากำลังคนระดับชาติรองรับการพัฒนาอุตสาหกรรมศักยภาพของประเทศ | B30: =2548604910.44*0.6/100 -> 15291629 | C30: =5263197.2*0.6/100 -> 31579.183 | D30: =97396995.42*0.6/100 -> 584381.97 | E30: =297148778.59*0.6/100 -> 1782892.7 | F30: =SUM(B30:E30) -> 17690483 | G30: 5 | H30: ครั้ง | I30: =+F30/G30 -> 3538096.7
A31: 23.ฝึกอบรมแรงงานกลุ่มเป้าหมายเฉพาะเพื่อเพิ่มโอกาสในการประกอบอาชีพ | B31: =2548604910.44*2.9/100 -> 73909542 | C31: =5263197.2*2.9/100 -> 152632.72 | D31: =97396995.42*2.9/100 -> 2824512.9 | E31: =297148778.59*2.9/100 -> 8617314.6 | F31: =SUM(B31:E31) -> 85504003 | G31: 31569 | H31: คน | I31: =+F31/G31 -> 2708.4799
A32: 24. ฝึกอบรมแรงงานผู้สูงอายุเพื่อเพิ่มโอกาสในการประกอบอาชีพ | B32: =2548604910.44*1.01/100 -> 25740910 | C32: =5263197.2*1.01/100 -> 53158.292 | D32: =97396995.42*1.01/100 -> 983709.65 | E32: =297148778.59*1.01/100 -> 3001202.7 | F32: =SUM(B32:E32) -> 29778980 | G32: 8200 | H32: คน | I32: =+F32/G32 -> 3631.583
A33: 25. เสริมสร้างธรรมาภิบาลป้องกันและลดความเสี่ยงในการเกิดการทุจริตและประพฤติมิชอบ | B33: =2548604910.44*0.03/100 -> 764581.47 | C33: =5263197.2*0.03/100 -> 1578.9592 | D33: =97396995.42*0.03/100 -> 29219.099 | E33: =297148778.59*0.03/100 -> 89144.634 | F33: =SUM(B33:E33) -> 884524.16 | G33: 170 | H33: คน | I33: =+F33/G33 -> 5203.0833
A34: 26. พัฒนาอุตสาหกรรมเทคโนโลยีชั้นสูงและอุตสาหกรรมแห่งอนาคตในพื้นที่ระเบียงเศรษฐกิจภาคตะวันออก | B34: =2548604910.44*3.72/100 -> 94808103 | C34: =5263197.2*3.72/100 -> 195790.94 | D34: =97396995.42*3.72/100 -> 3623168.2 | E34: =297148778.59*3.72/100 -> 11053935 | F34: =SUM(B34:E34) -> 1.09681e+08 | G34: 10939 | H34: คน | I34: =+F34/G34 -> 10026.602
A35: 27. การฝึกอาชีพเสริมเพื่อการมีงานทำหรือการประกอบอาชีพอิสระ | B35: =2548604910.44*26.59/100 -> 6.7767405e+08 | C35: =5263197.2*26.59/100 -> 1399484.1 | D35: =97396995.42*26.59/100 -> 25897861 | E35: =297148778.59*26.59/100 -> 79011860 | F35: =SUM(B35:E35) -> 7.8398325e+08 | G35: 270230 | H35: คน | I35: =+F35/G35 -> 2901.1703
A36: 28. การส่งเสริมและฝึกอาชีพหลักสูตรฝึกอาชีพเร่งด่วนช่างอเนกประสงค์ (ช่างชุมชน) | B36: =2548604910.44*4.37/100 -> 1.1137403e+08 | C36: =5263197.2*4.37/100 -> 230001.72 | D36: =97396995.42*4.37/100 -> 4256248.7 | E36: =297148778.59*4.37/100 -> 12985402 | F36: =SUM(B36:E36) -> 1.2884569e+08 | G36: 11607 | H36: คน | I36: =+F36/G36 -> 11100.688
A37: รวมต้นทุนผลผลิต | B37: =B8+B9+B10+B11+B12+B13+B15+B16+B17+B18+B19+B20+B21+B22+B23+B24+B25+B26+B27+B28+B29+B30+B31+B32+B33+B34+B35+B36 -> 2.5486049e+09 | C37: =SUM(C8:C36) -> 5263197.2 | D37: =SUM(D8:D36) -> 97396995 | E37: =SUM(E8:E36) -> 2.9714878e+08 | F37: =SUM(F8:F36) -> 2.9484139e+09 | G37: =SUM(G8:G36) -> 4952816 | I37: =+F37/G37 -> 595.30051
B40: =2548604910.44-2548604910.44 -> 0 | C40: =5263197.2-5263197.2 -> 0 | D40: =97396995.42-97396995.42 -> 0 | E40: =297148778.59-297148778.59 -> 0 | F40: =2948413881.65-2948413881.65 -> 0

Sheet ตารางที่ 5 ส่ง
A1: กรมพัฒนาฝีมือแรงงาน
A2: รายงานการคำนวณต้นทุนผลผลิต
A3: ประจำปีงบประมาณ พ.ศ. 2561
A4: ตารางที่ 5 รายงานต้นทุนกิจกรรมหลักแยกตามแหล่งเงิน
I5: หน่วย : บาท
A6: กิจกรรมหลัก | B6: เงินในงบประมาณ | C6: เงินนอกงบประมาณ | D6: งบกลาง | E6: ค่าเสื่อมราคา | F6: ต้นทุนรวม | G6: ปริมาณ | H6: หน่วยนับ | I6: ต้นทุนต่อหน่วย
A8: 1. ฝึกทักษะอาชีพให้กับกลุ่มเป้าหมายในพื้นที่จังหวัดชายแดนภาคใต้ | B8: =2548604910.44*0.49/100 -> 12488164 | C8: =5263197.2*0.49/100 -> 25789.666 | D8: =97396995.42*0.49/100 -> 477245.28 | E8: =297148778.59*0.49/100 -> 1456029 | F8: =SUM(B8:E8) -> 14447228 | G8: 600 | H8: คน | I8: =+F8/G8 -> 24078.713
A9: 2. ฝึกอบรมฝีมือให้กับกลุ่มเป้าหมายตามโครงการพาคนกลับบ้าน | B9: =2548604910.44*0.16/100 -> 4077767.9 | C9: =5263197.2*0.16/100 -> 8421.1155 | D9: =97396995.42*0.16/100 -> 155835.19 | E9: =297148778.59*0.16/100 -> 475438.05 | F9: =SUM(B9:E9) -> 4717462.2 | G9: 200 | H9: คน | I9: =+F9/G9 -> 23587.311
A10: 3. เพิ่มศักยภาพกำลังแรงงานภาคอุตสาหกรรมและบริการไปสู่ Thailand 4.0 | B10: =2548604910.44*15.45/100 -> 3.9375946e+08 | C10: =5263197.2*15.45/100 -> 813163.97 | D10: =97396995.42*15.45/100 -> 15047836 | E10: =297148778.59*15.45/100 -> 45909486 | F10: =SUM(B10:E10) -> 4.5552994e+08 | G10: 103461 | H10: คน | I10: =+F10/G10 -> 4402.9146
A11: 4. เพิ่มศักยภาพแรงงานเตรียมเข้าสู่อุตสาหกรรมเป้าหมายแห่งอนาคต | B11: =2548604910.44*1.92/100 -> 48933214 | C11: =5263197.2*1.92/100 -> 101053.39 | D11: =97396995.42*1.92/100 -> 1870022.3 | E11: =297148778.59*1.92/100 -> 5705256.5 | F11: =SUM(B11:E11) -> 56609547 | G11: 14136 | H11: คน | I11: =+F11/G11 -> 4004.6369
A12: 5. ศูนย์ฝึกอบรมเทคโนโลยีชั้นสูงรองรับอุตสาหกรรมแห่งอนาคต | B12: =2548604910.44*6.24/100 -> 1.5903295e+08 | C12: =5263197.2*6.24/100 -> 328423.51 | D12: =97396995.42*6.24/100 -> 6077572.5 | E12: =297148778.59*6.24/100 -> 18542084 | F12: =SUM(B12:E12) -> 1.8398103e+08 | G12: 10939 | H12: คน | I12: =+F12/G12 -> 16818.816
A13: 6. พัฒนาหลักสูตรยกระดับฝีมือตามความสามารถ | B13: =2548604910.44*0.03/100 -> 764581.47 | C13: =5263197.2*0.03/100 -> 1578.9592 | D13: =97396995.42*0.03/100 -> 29219.099 | E13: =297148778.59*0.03/100 -> 89144.634 | F13: =SUM(B13:E13) -> 884524.16 | G13: 60 | H13: หลักสูตร | I13: =+F13/G13 -> 14742.069
A14: (Competency Based Curriculum) | F14: =SUM(B14:E14) -> 0
A15: 7. จัดทำมาตรฐานฝีมือแรงงานแห่งชาติและวิธีการทดสอบมาตรฐานฝีมือเพื่อรองรับ Thailank 4.0 | B15: =2548604910.44*0.25/100 -> 6371512.3 | C15: =5263197.2*0.25/100 -> 13157.993 | D15: =97396995.42*0.25/100 -> 243492.49 | E15: =297148778.59*0.25/100 -> 742871.95 | F15: =SUM(B15:E15) -> 7371034.7 | G15: 10 | H15: สาขา | I15: =+F15/G15 -> 737103.47
A16: 8. เพิ่มผลิตภาพแรงงานสู่ SME 4.0 | B16: =2548604910.44*2.46/100 -> 62695681 | C16: =5263197.2*2.46/100 -> 129474.65 | D16: =97396995.42*2.46/100 -> 2395966.1 | E16: =297148778.59*2.46/100 -> 7309860 | F16: =SUM(B16:E16) -> 72530981 | G16: 12479 | H16: คน | I16: =+F16/G16 -> 5812.2431
A17: 9. เพิ่มทักษะกำลังแรงงานในพื้นที่ 10 จังหวัด ในพื้นที่เขตพัฒนาเศรษฐกิจพิเศษ | B17: =2548604910.44*1.82/100 -> 46384609 | C17: =5263197.2*1.82/100 -> 95790.189 | D17: =97396995.42*1.82/100 -> 1772625.3 | E17: =297148778.59*1.82/100 -> 5408107.8 | F17: =SUM(B17:E17) -> 53661133 | G17: 11869 | H17: คน | I17: =+F17/G17 -> 4521.1166
A18: 10. วิจัยเพื่อขับเคลื่อนผลิตภาพแรงงานสู่ Thailand 4.0 | B18: =2548604910.44*0.05/100 -> 1274302.5 | C18: =5263197.2*0.05/100 -> 2631.5986 | D18: =97396995.42*0.05/100 -> 48698.498 | E18: =297148778.59*0.05/100 -> 148574.39 | F18: =SUM(B18:E18) -> 1474206.9 | G18: 3 | H18: เรื่อง | I18: =+F18/G18 -> 491402.31
A19: 11. ควบคุมและกำกับดูแลการประกอบอาชีพที่อาจเป็นอันตรายต่อสาธารณะหรือต้องใช้ความรู้ความสามารถสู่ Safety At Work | B19: =2548604910.44*0.35/100 -> 8920117.2 | C19: =5263197.2*0.35/100 -> 18421.19 | D19: =97396995.42*0.35/100 -> 340889.48 | E19: =297148778.59*0.35/100 -> 1040020.7 | F19: =SUM(B19:E19) -> 10319449 | G19: 25924 | H19: คน | I19: =+F19/G19 -> 398.06544
A20: 12. พัฒนาฝีมือให้แก่กลุ่มวิสาหกิจชุมชน และผู้มีรายได้น้อย | B20: =2548604910.44*0.54/100 -> 13762467 | C20: =5263197.2*0.54/100 -> 28421.265 | D20: =97396995.42*0.54/100 -> 525943.78 | E20: =297148778.59*0.54/100 -> 1604603.4 | F20: =SUM(B20:E20) -> 15921435 | G20: 4063 | H20: คน | I20: =+F20/G20 -> 3918.6402
A21: 13. ทดสอบมาตรฐานฝีมือแรงงานให้มีสมรรถนะ | B21: =2548604910.44*8.02/100 -> 2.0439811e+08 | C21: =5263197.2*8.02/100 -> 422108.42 | D21: =97396995.42*8.02/100 -> 7811239 | E21: =297148778.59*8.02/100 -> 23831332 | F21: =SUM(B21:E21) -> 2.3646279e+08 | G21: 36832 | H21: คน | I21: =+F21/G21 -> 6420.0367
A22: 14. ส่งเสริมมาตรฐานฝีมือแรงงานแห่งชาติ | B22: =2548604910.44*0.13/100 -> 3313186.4 | C22: =5263197.2*0.13/100 -> 6842.1564 | D22: =97396995.42*0.13/100 -> 126616.09 | E22: =297148778.59*0.13/100 -> 386293.41 | F22: =SUM(B22:E22) -> 3832938 | G22: 129 | H22: แห่ง | I22: =+F22/G22 -> 29712.698
A23: 15. พัฒนาศักยภาพแรงงานเพื่อรองรับการจ่ายค่าจ้างตามมาตรฐานฝีมือ | B23: =2548604910.44*0.63/100 -> 16056211 | C23: =5263197.2*0.63/100 -> 33158.142 | D23: =97396995.42*0.63/100 -> 613601.07 | E23: =297148778.59*0.63/100 -> 1872037.3 | F23: =SUM(B23:E23) -> 18575007 | G23: 5071 | H23: คน | I23: =+F23/G23 -> 3662.9871
A24: 16. พัฒนาศักยภาพมาตรฐานฝีมือแรงงานไทยในต่างประเทศ | B24: =2548604910.44*0.26/100 -> 6626372.8 | C24: =5263197.2*0.26/100 -> 13684.313 | D24: =97396995.42*0.26/100 -> 253232.19 | E24: =297148778.59*0.26/100 -> 772586.82 | F24: =SUM(B24:E24) -> 7665876.1 | G24: 246 | H24: คน | I24: =+F24/G24 -> 31162.098
A25: 17. พัฒนาฝีมือแรงงานนานาชาติ | B25: =2548604910.44*1.08/100 -> 27524933 | C25: =5263197.2*1.08/100 -> 56842.53 | D25: =97396995.42*1.08/100 -> 1051887.6 | E25: =297148778.59*1.08/100 -> 3209206.8 | F25: =SUM(B25:E25) -> 31842870 | G25: 2003 | H25: คน | I25: =+F25/G25 -> 15897.589
A26: 18.พัฒนาและยกระดับผลิตภาพแรงงาน | F26: =SUM(B26:E26) -> 0
A27: 18. พัฒนาระบบการฝึกอบรมฝีมือแรงงาน | B27: =2548604910.44*1.43/100 -> 36445050 | C27: =5263197.2*1.43/100 -> 75263.72 | D27: =97396995.42*1.43/100 -> 1392777 | E27: =297148778.59*1.43/100 -> 4249227.5 | F27: =SUM(B27:E27) -> 42162319 | G27: 35 | H27: หลักสูตร | I27: =+F27/G27 -> 1204637.7
A28: 19.ส่งเสริมและสนับสนุนให้สถานประกอบกิจการดำเนินการพัฒนาฝีมือแรงงาน | B28: =2548604910.44*14.92/100 -> 3.8025185e+08 | C28: =5263197.2*14.92/100 -> 785269.02 | D28: =97396995.42*14.92/100 -> 14531632 | E28: =297148778.59*14.92/100 -> 44334598 | F28: =SUM(B28:E28) -> 4.3990335e+08 | G28: 4391901 | H28: คน | I28: =+F28/G28 -> 100.1624
A29: 20. จัดทำหลักเกณฑ์ พัฒนาระบบ ส่งเสริมและรับรองมาตรฐานฝีมือแรงงาน | B29: =2548604910.44*4.42/100 -> 1.1264834e+08 | C29: =5263197.2*4.42/100 -> 232633.32 | D29: =97396995.42*4.42/100 -> 4304947.2 | E29: =297148778.59*4.42/100 -> 13133976 | F29: =SUM(B29:E29) -> 1.3031989e+08 | G29: 21 | H29: สาขา | I29: =+F29/G29 -> 6205709.2
A30: 21. พัฒนาช่างเครื่องช่วยคนพิการกับมูลนิธิขาเทียม | B30: =2548604910.44*0.13/100 -> 3313186.4 | C30: =5263197.2*0.13/100 -> 6842.1564 | D30: =97396995.42*0.13/100 -> 126616.09 | E30: =297148778.59*0.13/100 -> 386293.41 | F30: =SUM(B30:E30) -> 3832938 | G30: 114 | H30: คน | I30: =+F30/G30 -> 33622.264
A31: 22. ขับเคลื่อนยุทธศาสตร์การพัฒนากำลังคนระดับชาติรองรับการพัฒนาอุตสาหกรรมศักยภาพของประเทศ | B31: =2548604910.44*0.6/100 -> 15291629 | C31: =5263197.2*0.6/100 -> 31579.183 | D31: =97396995.42*0.6/100 -> 584381.97 | E31: =297148778.59*0.6/100 -> 1782892.7 | F31: =SUM(B31:E31) -> 17690483 | G31: 5 | H31: ครั้ง | I31: =+F31/G31 -> 3538096.7
A32: 23.ฝึกอบรมแรงงานกลุ่มเป้าหมายเฉพาะเพื่อเพิ่มโอกาสในการประกอบอาชีพ | B32: =2548604910.44*2.9/100 -> 73909542 | C32: =5263197.2*2.9/100 -> 152632.72 | D32: =97396995.42*2.9/100 -> 2824512.9 | E32: =297148778.59*2.9/100 -> 8617314.6 | F32: =SUM(B32:E32) -> 85504003 | G32: 31569 | H32: คน | I32: =+F32/G32 -> 2708.4799
A33: 24. ฝึกอบรมแรงงานผู้สูงอายุเพื่อเพิ่มโอกาสในการประกอบอาชีพ | B33: =2548604910.44*1.01/100 -> 25740910 | C33: =5263197.2*1.01/100 -> 53158.292 | D33: =97396995.42*1.01/100 -> 983709.65 | E33: =297148778.59*1.01/100 -> 3001202.7 | F33: =SUM(B33:E33) -> 29778980 | G33: 8200 | H33: คน | I33: =+F33/G33 -> 3631.583
A34: 25. เสริมสร้างธรรมาภิบาลป้องกันและลดความเสี่ยงในการเกิดการทุจริตและประพฤติมิชอบ | B34: =2548604910.44*0.03/100 -> 764581.47 | C34: =5263197.2*0.03/100 -> 1578.9592 | D34: =97396995.42*0.03/100 -> 29219.099 | E34: =297148778.59*0.03/100 -> 89144.634 | F34: =SUM(B34:E34) -> 884524.16 | G34: 170 | H34: คน | I34: =+F34/G34 -> 5203.0833
A35: 26. พัฒนาอุตสาหกรรมเทคโนโลยีชั้นสูงและอุตสาหกรรมแห่งอนาคตในพื้นที่ระเบียงเศรษฐกิจภาคตะวันออก | B35: =2548604910.44*3.72/100 -> 94808103 | C35: =5263197.2*3.72/100 -> 195790.94 | D35: =97396995.42*3.72/100 -> 3623168.2 | E35: =297148778.59*3.72/100 -> 11053935 | F35: =SUM(B35:E35) -> 1.09681e+08 | G35: 10939 | H35: คน | I35: =+F35/G35 -> 10026.602
A36: 27. การฝึกอาชีพเสริมเพื่อการมีงานทำหรือการประกอบอาชีพอิสระ | B36: =2548604910.44*26.59/100 -> 6.7767405e+08 | C36: =5263197.2*26.59/100 -> 1399484.1 | D36: =97396995.42*26.59/100 -> 25897861 | E36: =297148778.59*26.59/100 -> 79011860 | F36: =SUM(B36:E36) -> 7.8398325e+08 | G36: 270230 | H36: คน | I36: =+F36/G36 -> 2901.1703
A37: 28. การส่งเสริมและฝึกอาชีพหลักสูตรฝึกอาชีพเร่งด่วนช่างอเนกประสงค์ (ช่างชุมชน) | B37: =2548604910.44*4.37/100 -> 1.1137403e+08 | C37: =5263197.2*4.37/100 -> 230001.72 | D37: =97396995.42*4.37/100 -> 4256248.7 | E37: =297148778.59*4.37/100 -> 12985402 | F37: =SUM(B37:E37) -> 1.2884569e+08 | G37: 11607 | H37: คน | I37: =+F37/G37 -> 11100.688
A38: รวมต้นทุนผลผลิต | B38: =SUM(B8:B37) -> 2.5486049e+09 | C38: =SUM(C8:C37) -> 5263197.2 | D38: =SUM(D8:D37) -> 97396995 | E38: =SUM(E8:E37) -> 2.9714878e+08 | F38: =SUM(F8:F37) -> 2.9484139e+09 | G38: =SUM(G8:G37) -> 4952816 | I38: =+F38/G38 -> 595.30051

Sheet ตารางที่ 6 ส่ง
A1: กรมพัฒนาฝีมือแรงงาน
A2: รายงานการคำนวณต้นทุนผลผลิต
A3: ประจำปีงบประมาณ พ.ศ. 2561
A4: ตารางที่ 6 รายงานต้นทุนผลผลิตหลักแยกตามแหล่งเงิน
I5: หน่วย : บาท
A6: ผลผลิตหลัก/โครงการ | B6: เงินในงบประมาณ | C6: เงินนอกงบประมาณ | D6: งบกลาง | E6: ค่าเสื่อมราคา | F6: ต้นทุนรวม | G6: ปริมาณ | H6: หน่วยนับ | I6: ต้นทุนต่อหน่วย
A8: 1. โครงการอบรมฝีมือแรงงานในพั้นที่จังหวัดชายแดนภาคใต้ | B8: =+'ตารางที่ 5 ส่ง'!B8+'ตารางที่ 5 ส่ง'!B9 -> 16565932 | C8: =+'ตารางที่ 5 ส่ง'!C8+'ตารางที่ 5 ส่ง'!C9 -> 34210.782 | D8: =+'ตารางที่ 5 ส่ง'!D8+'ตารางที่ 5 ส่ง'!D9 -> 633080.47 | E8: =+'ตารางที่ 5 ส่ง'!E8+'ตารางที่ 5 ส่ง'!E9 -> 1931467.1 | F8: =+B8+C8+D8+E8 -> 19164690 | G8: =+'ตารางที่ 5 ส่ง'!G8+'ตารางที่ 5 ส่ง'!G9 -> 800 | H8: คน | I8: =SUM(F8/G8) -> 23955.863
A9: 2.โครงการเพิ่มศักยภาพแรงงานรองรรับ Thailand 4.0 | B9: =+'ตารางที่ 5 ส่ง'!B10+'ตารางที่ 5 ส่ง'!B11 -> 4.4269267e+08 | C9: =+'ตารางที่ 5 ส่ง'!C10+'ตารางที่ 5 ส่ง'!C11 -> 914217.35 | D9: =+'ตารางที่ 5 ส่ง'!D10+'ตารางที่ 5 ส่ง'!D11 -> 16917858 | E9: =+'ตารางที่ 5 ส่ง'!E10+'ตารางที่ 5 ส่ง'!E11 -> 51614743 | F9: =+B9+C9+D9+E9 -> 5.1213949e+08 | G9: 117597 | H9: คน | I9: =SUM(F9/G9) -> 4355.0387
A10: 3.โครงการศูนย์ฝึกอบรมเทคโนโลยีชั้นสูงรองรับอุตสาหกรรมแห่งอนาคต | B10: =+'ตารางที่ 5 ส่ง'!B12 -> 1.5903295e+08 | C10: =+'ตารางที่ 5 ส่ง'!C12 -> 328423.51 | D10: =+'ตารางที่ 5 ส่ง'!D12 -> 6077572.5 | E10: =+'ตารางที่ 5 ส่ง'!E12 -> 18542084 | F10: =+B10+C10+D10+E10 -> 1.8398103e+08 | G10: 10939 | H10: คน | I10: =SUM(F10/G10) -> 16818.816
A11: 4. โครงการบูรณาการจัดทำมาตรฐานฝีมือแรงงาน และพัฒนาหลักสูตรรองรับ Thailand 4.0 | B11: =+'ตารางที่ 5 ส่ง'!B13+'ตารางที่ 5 ส่ง'!B15 -> 7136093.7 | C11: =+'ตารางที่ 5 ส่ง'!C13+'ตารางที่ 5 ส่ง'!C15 -> 14736.952 | D11: =+'ตารางที่ 5 ส่ง'!D13+'ตารางที่ 5 ส่ง'!D15 -> 272711.59 | E11: =+'ตารางที่ 5 ส่ง'!E13+'ตารางที่ 5 ส่ง'!E15 -> 832016.58 | F11: =+B11+C11+D11+E11 -> 8255558.9 | G11: 70 | H11: หลักสูตร/สาขา | I11: =SUM(F11/G11) -> 117936.56
A12: 5. โครงการเพิ่มผลิตภาพแรงงานสู่ SME 4.0 (STEM Workforce Towards SMA 4.0) | B12: =+'ตารางที่ 5 ส่ง'!B16 -> 62695681 | C12: =+'ตารางที่ 5 ส่ง'!C16 -> 129474.65 | D12: =+'ตารางที่ 5 ส่ง'!D16 -> 2395966.1 | E12: =+'ตารางที่ 5 ส่ง'!E16 -> 7309860 | F12: =+B12+C12+D12+E12 -> 72530981 | G12: 12479 | H12: คน | I12: =SUM(F12/G12) -> 5812.2431
A13: 6. โครงการเพิ่มทักษะกำลังแรงงานในพื้นที่ 10 จังหวัด ในพื้นที่เขตพัฒนาเศรษฐกิจพิเศษ | B13: =+'ตารางที่ 5 ส่ง'!B17 -> 46384609 | C13: =+'ตารางที่ 5 ส่ง'!C17 -> 95790.189 | D13: =+'ตารางที่ 5 ส่ง'!D17 -> 1772625.3 | E13: =+'ตารางที่ 5 ส่ง'!E17 -> 5408107.8 | F13: =+B13+C13+D13+E13 -> 53661133 | G13: 11869 | H13: คน | I13: =SUM(F13/G13) -> 4521.1166
A14: 7. โครงการวิจัยเพื่อขับเคลื่อนผลิตภาพแรงงานสู่ Thailand 4.0 | B14: =+'ตารางที่ 5 ส่ง'!B18 -> 1274302.5 | C14: =+'ตารางที่ 5 ส่ง'!C18 -> 2631.5986 | D14: =+'ตารางที่ 5 ส่ง'!D18 -> 48698.498 | E14: =+'ตารางที่ 5 ส่ง'!E18 -> 148574.39 | F14: =+B14+C14+D14+E14 -> 1474206.9 | G14: 3 | H14: เรื่อง | I14: =SUM(F14/G14) -> 491402.31
A15: 8. โครงการควบคุมและกำกับดูแลการประกอบอาชีพที่อาจเป็นอันตราย | B15: =+'ตารางที่ 5 ส่ง'!B19 -> 8920117.2 | C15: =+'ตารางที่ 5 ส่ง'!C19 -> 18421.19 | D15: =+'ตารางที่ 5 ส่ง'!D19 -> 340889.48 | E15: =+'ตารางที่ 5 ส่ง'!E19 -> 1040020.7 | F15: =+B15+C15+D15+E15 -> 10319449 | G15: ='ตารางที่ 5 ส่ง'!G19 -> 25924 | H15: คน | I15: =SUM(F15/G15) -> 398.06544
A16: 9. โครงการพัฒนาฝีมือให้แก่กลุ่มวิสาหกิจชุมขน และผู้มีรายได้น้อย | B16: =+'ตารางที่ 5 ส่ง'!B20 -> 13762467 | C16: =+'ตารางที่ 5 ส่ง'!C20 -> 28421.265 | D16: =+'ตารางที่ 5 ส่ง'!D20 -> 525943.78 | E16: =+'ตารางที่ 5 ส่ง'!E20 -> 1604603.4 | F16: =+B16+C16+D16+E16 -> 15921435 | G16: 4063 | H16: คน | I16: =SUM(F16/G16) -> 3918.6402
A17: 10. โครงการยกระดับแรงงานไทยให้ได้มาตรฐานฝีมือแรงงานเพื่อรองรับการแข่งขัน | B17: =+'ตารางที่ 5 ส่ง'!B21+'ตารางที่ 5 ส่ง'!B22+'ตารางที่ 5 ส่ง'!B23+'ตารางที่ 5 ส่ง'!B24 -> 2.3039388e+08 | C17: =+'ตารางที่ 5 ส่ง'!C21+'ตารางที่ 5 ส่ง'!C22+'ตารางที่ 5 ส่ง'!C23+'ตารางที่ 5 ส่ง'!C24 -> 475793.03 | D17: =+'ตารางที่ 5 ส่ง'!D21+'ตารางที่ 5 ส่ง'!D22+'ตารางที่ 5 ส่ง'!D23+'ตารางที่ 5 ส่ง'!D24 -> 8804688.4 | E17: =+'ตารางที่ 5 ส่ง'!E21+'ตารางที่ 5 ส่ง'!E22+'ตารางที่ 5 ส่ง'!E23+'ตารางที่ 5 ส่ง'!E24 -> 26862250 | F17: =+B17+C17+D17+E17 -> 2.6653661e+08 | G17: 42278 | H17: คน | I17: =SUM(F17/G17) -> 6304.3809
A18: 11. โครงการพัฒนาฝีมือแรงงานนานาชาติเพื่อการพัฒนาความร่วมมือทางเศรษฐกิจในอนุภูมิภาคลุ่มน้ำโขงและเอเซียตะวันออกเฉียงใต้ (GMS-ASEAN) | B18: =+'ตารางที่ 5 ส่ง'!B25 -> 27524933 | C18: =+'ตารางที่ 5 ส่ง'!C25 -> 56842.53 | D18: =+'ตารางที่ 5 ส่ง'!D25 -> 1051887.6 | E18: =+'ตารางที่ 5 ส่ง'!E25 -> 3209206.8 | F18: =+B18+C18+D18+E18 -> 31842870 | G18: 2003 | H18: คน | I18: =SUM(F18/G18) -> 15897.589
A19: 12. รายการค่าใช้จ่ายบุคลากรภาครัฐ พัฒนาและยกระดับผลิตภาพแรงงาน | B19: =+'ตารางที่ 5 ส่ง'!B26 -> 0 | C19: =+'ตารางที่ 5 ส่ง'!C26 -> 0 | D19: =+'ตารางที่ 5 ส่ง'!D26 -> 0 | E19: =+'ตารางที่ 5 ส่ง'!E26 -> 0 | F19: =+B19+C19+D19+E19 -> 0 | G19: 2449 | H19: คน | I19: =SUM(F19/G19) -> 0
A20: 12. พัฒนา/ขับเคลื่อนความร่วมมือเครือข่าย และส่งเสริมการพัฒนาฝีมือแรงงาน | B20: =+'ตารางที่ 5 ส่ง'!B27+'ตารางที่ 5 ส่ง'!B28+'ตารางที่ 5 ส่ง'!B29+'ตารางที่ 5 ส่ง'!B30+'ตารางที่ 5 ส่ง'!B31 -> 5.4795006e+08 | C20: =+'ตารางที่ 5 ส่ง'!C27+'ตารางที่ 5 ส่ง'!C28+'ตารางที่ 5 ส่ง'!C29+'ตารางที่ 5 ส่ง'!C30+'ตารางที่ 5 ส่ง'!C31 -> 1131587.4 | D20: =+'ตารางที่ 5 ส่ง'!D27+'ตารางที่ 5 ส่ง'!D28+'ตารางที่ 5 ส่ง'!D29+'ตารางที่ 5 ส่ง'!D30+'ตารางที่ 5 ส่ง'!D31 -> 20940354 | E20: =+'ตารางที่ 5 ส่ง'!E27+'ตารางที่ 5 ส่ง'!E28+'ตารางที่ 5 ส่ง'!E29+'ตารางที่ 5 ส่ง'!E30+'ตารางที่ 5 ส่ง'!E31 -> 63886987 | F20: =+B20+C20+D20+E20 -> 6.3390898e+08 | G20: =5+114+21+35+4391901 -> 4392076 | H20: คน/หลักสูตร/สาขา/ครั้ง | I20: =SUM(F20/G20) -> 144.33015
A21: 13. โครงการฝึกอบรมแรงงานกลุ่มเป้าหมายเฉพาะเพื่อเพิ่มโอกาสในการประกอบอาชีพ | B21: =+'ตารางที่ 5 ส่ง'!B32 -> 73909542 | C21: =+'ตารางที่ 5 ส่ง'!C32 -> 152632.72 | D21: =+'ตารางที่ 5 ส่ง'!D32 -> 2824512.9 | E21: =+'ตารางที่ 5 ส่ง'!E32 -> 8617314.6 | F21: =+B21+C21+D21+E21 -> 85504003 | G21: 31569 | H21: คน | I21: =SUM(F21/G21) -> 2708.4799
A22: 14. โครงการฝึกอบรมแรงงานผู้สูงอายุเพื่อเพิ่มโอกาสในการประกอบอาชีพ | B22: =+'ตารางที่ 5 ส่ง'!B33 -> 25740910 | C22: =+'ตารางที่ 5 ส่ง'!C33 -> 53158.292 | D22: =+'ตารางที่ 5 ส่ง'!D33 -> 983709.65 | E22: =+'ตารางที่ 5 ส่ง'!E33 -> 3001202.7 | F22: =+B22+C22+D22+E22 -> 29778980 | G22: 8200 | H22: คน | I22: =SUM(F22/G22) -> 3631.583
A23: 15. โครงการเสริมสร้างธรรมาภิบาลป้องกันและลดความเสี่ยงในการเกิดการทุจริตและประพฤติมิชอบ | B23: =+'ตารางที่ 5 ส่ง'!B34 -> 764581.47 | C23: =+'ตารางที่ 5 ส่ง'!C34 -> 1578.9592 | D23: =+'ตารางที่ 5 ส่ง'!D34 -> 29219.099 | E23: =+'ตารางที่ 5 ส่ง'!E34 -> 89144.634 | F23: =+B23+C23+D23+E23 -> 884524.16 | G23: =+'ตารางที่ 5 ส่ง'!G34 -> 170 | H23: คน | I23: =SUM(F23/G23) -> 5203.0833
A24: 16. โครงการพัฒนาอุตสาหกรรมเทคโนโลยีชั้นสูงและอุตสาหกรรมแห่งอนาคตในพื้นที่ระเบียงเศรษฐกิจภาคตะวันออก | B24: =+'ตารางที่ 5 ส่ง'!B35 -> 94808103 | C24: =+'ตารางที่ 5 ส่ง'!C35 -> 195790.94 | D24: =+'ตารางที่ 5 ส่ง'!D35 -> 3623168.2 | E24: =+'ตารางที่ 5 ส่ง'!E35 -> 11053935 | F24: =+B24+C24+D24+E24 -> 1.09681e+08 | G24: 10939 | H24: คน | I24: =SUM(F24/G24) -> 10026.602
A25: 17. โครงการเพิ่มศักยภาพผู้มีรายได้น้อยที่ลงทะเบียนสวัสดิการแห่งรัฐ | B25: =+'ตารางที่ 5 ส่ง'!B36+'ตารางที่ 5 ส่ง'!B37 -> 7.8904808e+08 | C25: =+'ตารางที่ 5 ส่ง'!C36+'ตารางที่ 5 ส่ง'!C37 -> 1629485.9 | D25: =+'ตารางที่ 5 ส่ง'!D36+'ตารางที่ 5 ส่ง'!D37 -> 30154110 | E25: =+'ตารางที่ 5 ส่ง'!E36+'ตารางที่ 5 ส่ง'!E37 -> 91997262 | F25: =+B25+C25+D25+E25 -> 9.1282894e+08 | G25: =270230+11607 -> 281837 | H25: คน | I25: =SUM(F25/G25) -> 3238.8542
A26: รวมต้นทุนผลผลิต | B26: =SUM(B8:B25) -> 2.5486049e+09 | C26: =SUM(C8:C25) -> 5263197.2 | D26: =SUM(D8:D25) -> 97396995 | E26: =SUM(E8:E25) -> 2.9714878e+08 | F26: =SUM(F8:F25) -> 2.9484139e+09 | G26: =SUM(G8:G25) -> 4955265 | I26: =+F26/G26 -> 595.0063

Sheet ตารางที่ 7 ส่ง
A1: กรมพัฒนาฝีมือแรงงาน | J1: กรมพัฒนาฝีมือแรงงาน
A2: รายงานการคำนวณต้นทุนผลผลิต | J2: รายงานการคำนวณต้นทุนผลผลิต
A3: ประจำปีงบประมาณ พ.ศ. 2560 | J3: ประจำปีงบประมาณ พ.ศ. 2561
A4: ตารางเปรียบเทียบผลการคำนวณต้นทุนผลผลิตระหว่างปีงบประมาณ พ.ศ. 2559 และปีงบประมาณ พ.ศ. 2560 | J4: ตารางเปรียบเทียบผลการคำนวณต้นทุนผลผลิตระหว่างปีงบประมาณ พ.ศ. 2560 และปีงบประมาณ พ.ศ. 2561
A6: ตารางที่ 7 เปรียบเทียบผลการคำนวณต้นทุนกิจกรรมย่อยแยกตามแหล่งเงิน | J6: ตารางที่ 7 เปรียบเทียบผลการคำนวณต้นทุนกิจกรรมย่อยแยกตามแหล่งเงิน
A8: ต้นทุนผลผลิตประจำปีงบประมาณ พ.ศ. 2560 (ต.ค. 59-ก.ย. 60) | J8: ต้นทุนผลผลิตประจำปีงบประมาณ พ.ศ. 2561 (ต.ค. 60-ก.ย. 61) | R8: ผลการเปรียบเทียบ
A9: กิจกรรมย่อย | B9: เงินใน | C9: เงินนอก | D9: งบกลาง | E9: ค่าเสื่อม | F9: ต้นทุน | G9: ปริมาณ | H9: หน่วย | I9: ต้นทุน | J9: เงินใน | K9: เงินนอก | L9: งบกลาง | M9: ค่าเสื่อม | N9: ต้นทุน | O9: ปริมาณ | P9: หน่วย | Q9: ต้นทุน | R9: ต้นทุน | S9: หน่วย | T9: ต้นทุน
B10: งปม. | C10: งปม. | E10: ราคา | F10: รวม | H10: นับ | I10: ต่อหน่วย | J10: งปม. | K10: งปม. | M10: ราคา | N10: รวม | P10: นับ | Q10: ต่อหน่วย | R10: รวม | S10: นับ | T10: ต่อหน่วย
R11: เพิ่ม (ลด) % | S11: เพิ่ม (ลด) % | T11: เพิ่ม (ลด) %
A12: (1) | B12: (2) | C12: (3) | D12: (4) | E12: (5) | F12: (6) =(2) ถึง (5) | G12: (7) | H12: (8) | I12: (9) = (6)/(7) | J12: (10) | K12: (11) | L12: (12) | M12: (13) | N12: (14) | O12: (15) | P12: (16) | Q12: (17) = (14)/(15) | R12: (18) = (14)-(6) | S12: (19) = (15)-(7) | T12: (20) = (17)-(9)
R13: *100/(6) | S13: *100/(7) | T13: *100/(9)
A14: กิจกรรมย่อยของหน่วยงานหลัก
A15: 1. ฝึกทักษะอาชีพให้กับกลุ่มเป้าหมายในพื้นที่จังหวัดชายแดนภาคใต้ | B15: 15405232 | C15: 88124.27 | D15: 1138846.4 | E15: 2527513.2 | F15: =SUM(B15:E15) -> 19159716 | G15: 867 | H15: คน | I15: =+F15/G15 -> 22098.865 | J15: ='ตารางที่ 3ส่ง'!B9 -> 12279851 | K15: ='ตารางที่ 3ส่ง'!C9 -> 30075.751 | L15: ='ตารางที่ 3ส่ง'!D9 -> 503611.31 | M15: ='ตารางที่ 3ส่ง'!E9 -> 1615922.9 | N15: =+J15+K15+L15+M15 -> 14429461 | O15: 600 | P15: คน | Q15: =+N15/O15 -> 24049.102 | R15: =SUM(N15-F15)*100/F15 -> -24.688544 | S15: =SUM(O15-G15)*100/G15 -> -30.795848 | T15: =SUM(Q15-I15)*100/I15 -> 8.8250537
A16: 2. ฝึกอบรมฝีมือให้กับกลุ่มเป้าหมายตามโครงการพาคนกลับบ้าน | B16: 0 | C16: 0 | D16: 0 | E16: 0 | F16: =SUM(B16:E16) -> 0 | J16: ='ตารางที่ 3ส่ง'!B10 -> 4162661.3 | K16: ='ตารางที่ 3ส่ง'!C10 -> 10195.17 | L16: ='ตารางที่ 3ส่ง'!D10 -> 170715.7 | M16: ='ตารางที่ 3ส่ง'!E10 -> 547770.48 | N16: =+J16+K16+L16+M16 -> 4891342.7 | O16: 200 | P16: คน | Q16: =+N16/O16 -> 24456.713 | R16: 0 | S16: 0 | T16: 0
A17: 3. เพิ่มศักยภาพกำลังแรงงานภาคอุตสาหกรรมและบริการไปสู่ Thailand 4.0 | B17: 3.7994476e+08 | C17: 1636467.8 | D17: 21148378 | E17: 46935920 | F17: =SUM(B17:E17) -> 4.4966553e+08 | G17: 100038 | H17: คน | I17: =+F17/G17 -> 4494.9472 | J17: ='ตารางที่ 3ส่ง'!B11 -> 3.7734525e+08 | K17: ='ตารางที่ 3ส่ง'!C11 -> 724192.15 | L17: ='ตารางที่ 3ส่ง'!D11 -> 15475378 | M17: ='ตารางที่ 3ส่ง'!E11 -> 49655394 | N17: =+J17+K17+L17+M17 -> 4.4320021e+08 | O17: 103461 | P17: คน | Q17: =+N17/O17 -> 4283.7418 | R17: =SUM(N17-F17)*100/F17 -> -1.4378051 | S17: =SUM(O17-G17)*100/G17 -> 3.4216998 | T17: =SUM(Q17-I17)*100/I17 -> -4.6987284
A18: 4. เพิ่มศักยภาพแรงงานเตรียมเข้าสู่อุตสาหกรรมเป้าหมายแห่งอนาคต | B18: 0 | C18: 0 | D18: 0 | E18: 0 | F18: =SUM(B18:E18) -> 0 | J18: ='ตารางที่ 3ส่ง'!B12 -> 46621807 | K18: ='ตารางที่ 3ส่ง'!C12 -> 114185.9 | L18: ='ตารางที่ 3ส่ง'!D12 -> 1912015.8 | M18: ='ตารางที่ 3ส่ง'!E12 -> 6135029.4 | N18: =+J18+K18+L18+M18 -> 54783038 | O18: 14136 | P18: คน | Q18: =+N18/O18 -> 3875.4271 | R18: 0 | S18: 0 | T18: 0
A19: 5. ศูนย์ฝึกอบรมเทคโนโลยีชั้นสูงรองรับอุตสาหกรรมแห่งอนาคต | B19: 0 | C19: 0 | D19: 0 | E19: 0 | F19: =SUM(B19:E19) -> 0 | J19: ='ตารางที่ 3ส่ง'!B13 -> 1.554754e+08 | K19: ='ตารางที่ 3ส่ง'!C13 -> 363949.34 | L19: ='ตารางที่ 3ส่ง'!D13 -> 6376231.3 | M19: ='ตารางที่ 3ส่ง'!E13 -> 20459228 | N19: =+J19+K19+L19+M19 -> 1.8267481e+08 | O19: 10939 | P19: คน | Q19: =+N19/O19 -> 16699.407 | R19: 0 | S19: 0 | T19: 0
A20: 6. พัฒนาหลักสูตรยกระดับฝีมือตามความสามารถ | B20: 0 | C20: 0 | D20: 0 | E20: 0 | F20: =SUM(B20:E20) -> 0 | J20: ='ตารางที่ 3ส่ง'!B14 -> 832532.27 | K20: ='ตารางที่ 3ส่ง'!C14 -> 2039.034 | L20: ='ตารางที่ 3ส่ง'!D14 -> 34143.14 | M20: ='ตารางที่ 3ส่ง'!E14 -> 109554.1 | N20: =+J20+K20+L20+M20 -> 978268.54 | O20: 60 | P20: หลักสูตร | Q20: =+N20/O20 -> 16304.476 | R20: 0 | S20: 0 | T20: 0
A21: (Competency Based Curriculum) | B21: 0 | C21: 0 | D21: 0 | E21: 0 | F21: =SUM(B21:E21) -> 0
A22: 7. จัดทำมาตรฐานฝีมือแรงงานแห่งชาติและวิธีการทดสอบมาตรฐานฝีมือเพื่อรองรับ Thailank 4.0 | B22: 0 | C22: 0 | D22: 0 | E22: 0 | F22: =SUM(B22:E22) -> 0 | J22: ='ตารางที่ 3ส่ง'!B16 -> 11320689 | K22: ='ตารางที่ 3ส่ง'!C16 -> 0 | L22: ='ตารางที่ 3ส่ง'!D16 -> 37642.88 | M22: ='ตารางที่ 3ส่ง'!E16 -> 653000.45 | N22: =SUM(J22:M22) -> 12011332 | O22: 10 | P22: สาขา | Q22: =+N22/O22 -> 1201133.2 | R22: 0 | S22: 0 | T22: 0
A23: 8. เพิ่มผลิตภาพแรงงานสู่ SME 4.0 | B23: 63112607 | C23: 344565.91 | D23: 4452889.4 | E23: 9882576.7 | F23: =SUM(B23:E23) -> 77792639 | G23: 13750 | H23: แห่ง | I23: =+F23/G23 -> 5657.6464 | J23: ='ตารางที่ 3ส่ง'!B17 -> 50368202 | K23: ='ตารางที่ 3ส่ง'!C17 -> 123361.56 | L23: ='ตารางที่ 3ส่ง'!D17 -> 2065659.9 | M23: ='ตารางที่ 3ส่ง'!E17 -> 6628022.9 | N23: =+J23+K23+L23+M23 -> 59185246 | O23: 12479 | P23: คน | Q23: =+N23/O23 -> 4742.7876 | R23: =SUM(N23-F23)*100/F23 -> -23.91922 | S23: =SUM(O23-G23)*100/G23 -> -9.2436364 | T23: =SUM(Q23-I23)*100/I23 -> -16.170308
A24: 9. เพิ่มทักษะกำลังแรงงานในพื้นที่ 10 จังหวัด ในพื้นที่เขตพัฒนาเศรษฐกิจพิเศษ | B24: 59117338 | C24: 287285.13 | D24: 3712639.2 | E24: 8239693.1 | F24: =SUM(B24:E24)+0.01 -> 71356956 | G24: 19559 | H24: คน | I24: =+F24/G24 -> 3648.2926 | J24: ='ตารางที่ 3ส่ง'!B18 -> 45581142 | K24: ='ตารางที่ 3ส่ง'!C18 -> 111637.11 | L24: ='ตารางที่ 3ส่ง'!D18 -> 1869336.9 | M24: ='ตารางที่ 3ส่ง'!E18 -> 5998086.8 | N24: =+J24+K24+L24+M24 -> 53560202 | O24: 11869 | P24: คน | Q24: =+N24/O24 -> 4512.6129 | R24: =SUM(N24-F24)*100/F24 -> -24.94046 | S24: =SUM(O24-G24)*100/G24 -> -39.316938 | T24: =SUM(Q24-I24)*100/I24 -> 23.691089
A25: 10. วิจัยเพื่อขับเคลื่อนผลิตภาพแรงงานสู่ Thailand 4.0 | B25: 0 | C25: 0 | D25: 0 | E25: 0 | F25: =SUM(B25:E25) -> 0 | G25: 0 | J25: ='ตารางที่ 3ส่ง'!B19 -> 4091057.5 | K25: ='ตารางที่ 3ส่ง'!C19 -> 864.24 | L25: ='ตารางที่ 3ส่ง'!D19 -> 16847.81 | M25: ='ตารางที่ 3ส่ง'!E19 -> 32456.21 | N25: =+J25+K25+L25+M25 -> 4141225.7 | O25: 3 | P25: เรื่อง | Q25: =+N25/O25 -> 1380408.6 | R25: 0 | S25: 0 | T25: 0
A26: 11. ควบคุมและกำกับดูแลการประกอบอาชีพที่อาจเป็นอันตรายต่อสาธารณะหรือต้องใช้ความรู้ความสามารถสู่ Safety At Work | B26: 7370830.3 | C26: 64330.72 | D26: 831357.87 | E26: 1845084.6 | F26: =SUM(B26:E26) -> 10111604 | G26: 1235 | H26: คน | I26: =+F26/G26 -> 8187.5332 | J26: ='ตารางที่ 3ส่ง'!B20 -> 1426948 | K26: ='ตารางที่ 3ส่ง'!C20 -> 0 | L26: ='ตารางที่ 3ส่ง'!D20 -> 132660 | M26: ='ตารางที่ 3ส่ง'!E20 -> 617577 | N26: =+J26+K26+L26+M26 -> 2177185 | O26: 25924 | P26: คน | Q26: =+N26/O26 -> 83.983374 | R26: =SUM(N26-F26)*100/F26 -> -78.46845 | S26: =+(O26-G26)*100/G26 -> 1999.1093 | T26: =+(Q26-I26)*100/I26 -> -98.974253
A27: 12. พัฒนาฝีมือให้แก่กลุ่มวิสาหกิจชุมชน และผู้มีรายได้น้อย | B27: 0 | C27: 0 | D27: 0 | E27: 0 | F27: =SUM(B27:E27) -> 0 | J27: ='ตารางที่ 3ส่ง'!B21 -> 13320516 | K27: ='ตารางที่ 3ส่ง'!C21 -> 32624.544 | L27: ='ตารางที่ 3ส่ง'!D21 -> 546290.23 | M27: ='ตารางที่ 3ส่ง'!E21 -> 1752865.5 | N27: =+J27+K27+L27+M27 -> 15652297 | O27: 4063 | P27: คน | Q27: =+N27/O27 -> 3852.3989 | R27: 0 | S27: 0 | T27: 0
A28: 13. ทดสอบมาตรฐานฝีมือแรงงานให้มีสมรรถนะ | B28: 1.0236009e+08 | C28: 528745.64 | D28: 6833078.4 | E28: 15165079 | F28: =SUM(B28:E28) -> 1.2488699e+08 | G28: 77344 | H28: คน | I28: =+F28/G28 -> 1614.6953 | J28: ='ตารางที่ 3ส่ง'!B22 -> 25808500 | K28: ='ตารางที่ 3ส่ง'!C22 -> 63210.054 | L28: ='ตารางที่ 3ส่ง'!D22 -> 2081975.6 | M28: ='ตารางที่ 3ส่ง'!E22 -> 7587450.7 | N28: =+J28+K28+L28+M28 -> 35541137 | O28: 36832 | P28: คน | Q28: =+N28/O28 -> 964.95267 | R28: =SUM(N28-F28)*100/F28 -> -71.541363 | S28: =SUM(O28-G28)*100/G28 -> -52.378982 | T28: =SUM(Q28-I28)*100/I28 -> -40.239335
A29: 14. ส่งเสริมมาตรฐานฝีมือแรงงานแห่งชาติ | B29: 0 | C29: 0 | D29: 0 | E29: 0 | F29: =SUM(B29:E29) -> 0 | J29: ='ตารางที่ 3ส่ง'!B23 -> 1873197.6 | K29: ='ตารางที่ 3ส่ง'!C23 -> 4587.8265 | L29: ='ตารางที่ 3ส่ง'!D23 -> 76822.064 | M29: ='ตารางที่ 3ส่ง'!E23 -> 246496.72 | N29: =+J29+K29+L29+M29 -> 2201104.2 | O29: 129 | P29: แห่ง | Q29: =+N29/O29 -> 17062.823 | R29: 0 | S29: 0 | T29: 0
A30: 15. พัฒนาศักยภาพแรงงานเพื่อรองรับการจ่ายค่าจ้างตามมาตรฐานฝีมือ | B30: 0 | C30: 0 | D30: 0 | E30: 0 | F30: =SUM(B30:E30) -> 0 | J30: ='ตารางที่ 3ส่ง'!B24 -> 15818113 | K30: ='ตารางที่ 3ส่ง'!C24 -> 38741.646 | L30: ='ตารางที่ 3ส่ง'!D24 -> 648719.65 | M30: ='ตารางที่ 3ส่ง'!E24 -> 2081527.8 | N30: =+J30+K30+L30+M30 -> 18587102 | O30: 5071 | P30: คน | Q30: =+N30/O30 -> 3665.3722 | R30: 0 | S30: 0 | T30: 0
A31: 16. พัฒนาศักยภาพมาตรฐานฝีมือแรงงานไทยในต่างประเทศ | B31: 0 | C31: 0 | D31: 0 | E31: 0 | F31: =SUM(B31:E31) -> 0 | J31: ='ตารางที่ 3ส่ง'!B25 -> 4555666.5 | K31: ='ตารางที่ 3ส่ง'!C25 -> 0 | L31: ='ตารางที่ 3ส่ง'!D25 -> 31380.51 | M31: ='ตารางที่ 3ส่ง'!E25 -> 97832.3 | N31: =+J31+K31+L31+M31 -> 4684879.4 | O31: 246 | P31: คน | Q31: =+N31/O31 -> 19044.225 | R31: 0 | S31: 0 | T31: 0
A32: 17. พัฒนาฝีมือแรงงานนานาชาติ | B32: 51687630 | C32: 440621.37 | D32: 5694232 | E32: 12637566 | F32: =SUM(B32:E32)+0.01 -> 70460049 | G32: 2429 | H32: คน | I32: =+F32/G32 -> 29007.842 | J32: ='ตารางที่ 3ส่ง'!B26 -> 26849166 | K32: ='ตารางที่ 3ส่ง'!C26 -> 65758.846 | L32: ='ตารางที่ 3ส่ง'!D26 -> 1101116.3 | M32: ='ตารางที่ 3ส่ง'!E26 -> 3533119.6 | N32: =+J32+K32+L32+M32 -> 31549160 | O32: 2003 | P32: คน | Q32: =+N32/O32 -> 15750.954 | R32: =SUM(N32-F32)*100/F32 -> -55.224044 | S32: =SUM(O32-G32)*100/G32 -> -17.538082 | T32: =SUM(Q32-I32)*100/I32 -> -45.70105
A33: 18. พัฒนาระบบการฝึกอบรมฝีมือแรงงาน | B33: 14409857 | C33: 185060.98 | D33: 2391577.4 | E33: 5307777.8 | F33: =SUM(B33:E33) -> 22294273 | G33: 15 | H33: หลักสูตร | I33: =+F33/G33 -> 1486284.9 | J33: ='ตารางที่ 3ส่ง'!B27 -> 11031053 | K33: ='ตารางที่ 3ส่ง'!C27 -> 27017.2 | L33: ='ตารางที่ 3ส่ง'!D27 -> 952396.6 | M33: ='ตารางที่ 3ส่ง'!E27 -> 1451591.8 | N33: =+J33+K33+L33+M33 -> 13462058 | O33: 35 | P33: หลักสูตร | Q33: =+N33/O33 -> 384630.23 | R33: =SUM(N33-F33)*100/F33 -> -39.61652 | S33: =SUM(O33-G33)*100/G33 -> 133.33333 | T33: =SUM(Q33-I33)*100/I33 -> -74.121366
A34: 19.ส่งเสริมและสนับสนุนให้สถานประกอบกิจการดำเนินการพัฒนาฝีมือแรงงาน | B34: 4.3929236e+08 | C34: 2771508.4 | D34: 35816719 | E34: 79490291 | F34: =SUM(B34:E34) -> 5.5737088e+08 | G34: 3978493 | H34: คน | I34: =+F34/G34 -> 140.09598 | J34: ='ตารางที่ 3ส่ง'!B28 -> 3.1677853e+08 | K34: ='ตารางที่ 3ส่ง'!C28 -> 775852.43 | L34: ='ตารางที่ 3ส่ง'!D28 -> 12991465 | M34: ='ตารางที่ 3ส่ง'!E28 -> 41685334 | N34: =SUM(J34:M34) -> 3.7223118e+08 | O34: 4391901 | P34: คน | Q34: =+N34/O34 -> 84.754 | R34: =SUM(N34-F34)*100/F34 -> -33.216608 | S34: =SUM(O34-G34)*100/G34 -> 10.39107 | T34: =SUM(Q34-I34)*100/I34 -> -39.502904
A35: 20. จัดทำหลักเกณฑ์ พัฒนาระบบ ส่งเสริมและรับรองมาตรฐานฝีมือแรงงาน | B35: 67352922 | C35: 593076.36 | D35: 7664436.2 | E35: 17010164 | F35: =SUM(B35:E35) -> 92620598 | G35: 17 | H35: สาขา | I35: =+F35/G35 -> 5448270.5 | J35: ='ตารางที่ 3ส่ง'!B29 -> 48801853 | K35: ='ตารางที่ 3ส่ง'!C29 -> 25487.925 | L35: ='ตารางที่ 3ส่ง'!D29 -> 944456.69 | M35: ='ตารางที่ 3ส่ง'!E29 -> 1369426.2 | N35: =SUM(J35:M35)+0.01 -> 51141224 | O35: 21 | P35: สาขา | Q35: =+N35/O35 -> 2435296.4 | R35: =SUM(N35-F35)*100/F35 -> -44.784179 | S35: =SUM(O35-G35)*100/G35 -> 23.529412 | T35: =SUM(Q35-I35)*100/I35 -> -55.301478
A36: 21. พัฒนาช่างเครื่องช่วยคนพิการกับมูลนิธิขาเทียม | B36: 3043228.4 | C36: 14981.13 | D36: 193603.89 | E36: 429677.25 | F36: =SUM(B36:E36) -> 3681490.7 | G36: 61 | H36: คน | I36: =+F36/G36 -> 60352.307 | J36: ='ตารางที่ 3ส่ง'!B30 -> 3330129.1 | K36: ='ตารางที่ 3ส่ง'!C30 -> 8156.1359 | L36: ='ตารางที่ 3ส่ง'!D30 -> 136572.56 | M36: ='ตารางที่ 3ส่ง'!E30 -> 438216.39 | N36: =SUM(J36:M36)-0.01 -> 3913074.1 | O36: 114 | P36: คน | Q36: =+N36/O36 -> 34325.212 | R36: =SUM(N36-F36)*100/F36 -> 6.29048 | S36: =SUM(O36-G36)*100/G36 -> 86.885246 | T36: =SUM(Q36-I36)*100/I36 -> -43.125269
A37: 22. ขับเคลื่อนยุทธศาสตร์การพัฒนากำลังคนระดับชาติรองรับการพัฒนาอุตสาหกรรมศักยภาพของประเทศ | B37: 26052449 | C37: 153336.24 | D37: 1981592.7 | E37: 4397873 | F37: =SUM(B37:E37) -> 32585251 | G37: 3 | H37: อุตาหกรรม | I37: =+F37/G37 -> 10861750 | J37: ='ตารางที่ 3ส่ง'!B31 -> 7492790.4 | K37: ='ตารางที่ 3ส่ง'!C31 -> 18351.306 | L37: ='ตารางที่ 3ส่ง'!D31 -> 307288.26 | M37: ='ตารางที่ 3ส่ง'!E31 -> 985986.87 | N37: =SUM(J37:M37)-0.01 -> 8804416.8 | O37: 5 | P37: ครั้ง | Q37: =+N37/O37 -> 1760883.4 | R37: =SUM(N37-F37)*100/F37 -> -72.980362 | S37: =SUM(O37-G37)*100/G37 -> 66.666667 | T37: =SUM(Q37-I37)*100/I37 -> -83.788217
A38: 23.ฝึกอบรมแรงงานกลุ่มเป้าหมายเฉพาะเพื่อเพิ่มโอกาสในการประกอบอาชีพ | B38: 28260894 | C38: 136592.62 | D38: 1765211.9 | E38: 3917645.5 | F38: =SUM(B38:E38) -> 34080345 | G38: 14365 | H38: คน | I38: =+F38/G38 -> 2372.457 | J38: ='ตารางที่ 3ส่ง'!B32 -> 72222174 | K38: ='ตารางที่ 3ส่ง'!C32 -> 176886.2 | L38: ='ตารางที่ 3ส่ง'!D32 -> 2961917.4 | M38: ='ตารางที่ 3ส่ง'!E32 -> 9503817.9 | N38: =SUM(J38:M38)+0.01 -> 84864796 | O38: 31569 | P38: คน | Q38: =+N38/O38 -> 2688.232 | R38: =SUM(N38-F38)*100/F38 -> 149.0139 | S38: =SUM(O38-G38)*100/G38 -> 119.76331 | T38: =SUM(Q38-I38)*100/I38 -> 13.310041
A39: 24. ฝึกอบรมแรงงานผู้สูงอายุเพื่อเพิ่มโอกาสในการประกอบอาชีพ | B39: 27142659 | C39: 131305.17 | D39: 1696881.1 | E39: 3765994.7 | F39: =SUM(B39:E39)-0.01 -> 32736840 | G39: 7906 | H39: คน | I39: =+F39/G39 -> 4140.7589 | J39: ='ตารางที่ 3ส่ง'!B33 -> 24975968 | K39: ='ตารางที่ 3ส่ง'!C33 -> 61171.02 | L39: ='ตารางที่ 3ส่ง'!D33 -> 1024294.2 | M39: ='ตารางที่ 3ส่ง'!E33 -> 3286622.9 | N39: =SUM(J39:M39) -> 29348056 | O39: 8200 | P39: คน | Q39: =+N39/O39 -> 3579.0312 | R39: =SUM(N39-F39)*100/F39 -> -10.35159 | S39: =SUM(O39-G39)*100/G39 -> 3.7186947 | T39: =SUM(Q39-I39)*100/I39 -> -13.565814
A40: 25. เสริมสร้างธรรมาภิบาลป้องกันและลดความเสี่ยงในการเกิดการทุจริตและประพฤติมิชอบ | B40: 918796.6 | C40: 4406.21 | D40: 56942.32 | E40: 126375.66 | F40: =SUM(B40:E40) -> 1106520.8 | G40: 171 | H40: คน | I40: =+F40/G40 -> 6470.8818 | J40: ='ตารางที่ 3ส่ง'!B34 -> 298823.68 | K40: ='ตารางที่ 3ส่ง'!C34 -> 0 | L40: ='ตารางที่ 3ส่ง'!D34 -> 0 | M40: ='ตารางที่ 3ส่ง'!E34 -> 0 | N40: =SUM(J40:M40) -> 298823.68 | O40: 170 | P40: คน | Q40: =+N40/O40 -> 1757.7864 | R40: =SUM(N40-F40)*100/F40 -> -72.9943 | S40: =SUM(O40-G40)*100/G40 -> -0.58479532 | T40: =SUM(Q40-I40)*100/I40 -> -72.835443
A41: 26. พัฒนาอุตสาหกรรมเทคโนโลยีชั้นสูงและอุตสาหกรรมแห่งอนาคตในพื้นที่ระเบียงเศรษฐกิจภาคตะวันออก | B41: 0 | C41: 0 | D41: 0 | E41: 0 | F41: =SUM(B41:E41) -> 0 | J41: ='ตารางที่ 3ส่ง'!B35 -> 91994815 | K41: ='ตารางที่ 3ส่ง'!C35 -> 225313.26 | L41: ='ตารางที่ 3ส่ง'!D35 -> 3772816.9 | M41: ='ตารางที่ 3ส่ง'!E35 -> 12105728 | N41: =SUM(J41:M41)+0.01 -> 1.0809867e+08 | O41: 10939 | P41: คน | Q41: =+N41/O41 -> 9881.952 | R41: 0 | S41: 0 | T41: 0
A42: 27. ฝึกอบรมฝีมือแรงงานตามโครงการอันเนื่องมาจากพระราชดำริ | B42: 27137771 | C42: 131305.17 | D42: 1696881.1 | E42: 3765994.7 | F42: =SUM(B42:E42)-0.01 -> 32731952 | G42: 6258 | H42: คน | I42: =+F42/G42 -> 5230.4173 | N42: =SUM(J42:M42) -> 0 | R42: 0 | S42: 0 | T42: 0
A43: 28. จัดตั้งศูนย์ทดสอบมาตรฐานฝีมือแรงงาน | B43: 4180043.5 | C43: 37012.2 | D43: 478315.49 | E43: 1061555.6 | F43: =SUM(B43:E43) -> 5756926.8 | G43: 124 | H43: แห่ง | I43: =+F43/G43 -> 46426.829 | N43: =SUM(J43:M43) -> 0 | R43: 0 | S43: 0 | T43: 0
A44: 29. จัดหาครุภัณฑ์ฝึกและทดสอบมาตรฐานฝีมือแรงงานพนักงานควบคุมเครื่องจักรรถยก | B44: 39535772 | C44: 191229.67 | D44: 2471296.7 | E44: 5484703.7 | F44: =SUM(B44:E44) -> 47683002 | G44: 5 | H44: แห่ง | I44: =+F44/G44 -> 9536600.5 | N44: =SUM(J44:M44) -> 0 | R44: 0 | S44: 0 | T44: 0
A45: 30. ฝึกอบรมฝีมือแรงงานรองรับระบบขนส่งด้านโลจิสติกส์และก่อสร้าง | B45: 69313837 | C45: 352497.1 | D45: 4555385.6 | E45: 10110053 | F45: =SUM(B45:E45) -> 84331772 | G45: 20958 | H45: คน | I45: =+F45/G45 -> 4023.8464 | N45: =SUM(J45:M45) -> 0 | R45: 0 | S45: 0 | T45: 0
A46: 31. พัฒนาฝีมือแรงงานเพื่อส่งเสริมการประกอบอาชีพ | B46: 1.2484072e+08 | C46: 719975.32 | D46: 9304375 | E46: 20649783 | F46: =SUM(B46:E46) -> 1.5551485e+08 | G46: 23791 | H46: คน | I46: =+F46/G46 -> 6536.7093 | N46: =SUM(J46:M46) -> 0 | R46: 0 | S46: 0 | T46: 0
A47: 32. การฝึกอาชีพเสริมเพื่อการมีงานทำหรือการประกอบอาชีพอิสระ | J47: ='ตารางที่ 3ส่ง'!B36 -> 6.5790862e+08 | K47: ='ตารางที่ 3ส่ง'!C36 -> 1611346.6 | L47: ='ตารางที่ 3ส่ง'!D36 -> 26981616 | M47: ='ตารางที่ 3ส่ง'!E36 -> 86575125 | N47: =SUM(J47:M47) -> 7.7307671e+08 | O47: 270230 | P47: คน | Q47: =N47/O47 -> 2860.8101 | R47: 0 | S47: 0 | T47: 0
A48: 33. การส่งเสริมและฝึกอาชีพหลักสูตรฝึกอาชีพเร่งด่วนช่างอเนกประสงค์ (ช่างชุมชน) | J48: ='ตารางที่ 3ส่ง'!B37 -> 1.0885359e+08 | K48: ='ตารางที่ 3ส่ง'!C37 -> 266603.69 | L48: ='ตารางที่ 3ส่ง'!D37 -> 4464215.5 | M48: ='ตารางที่ 3ส่ง'!E37 -> 14324198 | N48: =SUM(J48:M48) -> 1.2790861e+08 | O48: 11607 | P48: คน | Q48: =N48/O48 -> 11019.954 | R48: 0 | S48: 0 | T48: 0
A49: กิจกรรมย่อยของหน่วยงานสนับสนุน
A50: 1. บริหารให้หน่วยงานปฏิบัติตามนโยบาย | B50: 7271732.8 | C50: 150.68 | D50: 476686.61 | E50: 511420.63 | F50: =SUM(B50:E50) -> 8259990.7 | G50: 14861 | H50: เรื่อง | I50: =+F50/G50 -> 555.81661 | J50: 7240249.5 | K50: 0 | L50: 238211.51 | M50: 374138.95 | N50: =+J50+K50+L50+M50 -> 7852599.9 | O50: 14929 | P50: เรื่อง | Q50: =+N50/O50 -> 525.99638 | R50: =SUM(N50-F50)*100/F50 -> -4.932097 | S50: =SUM(O50-G50)*100/G50 -> 0.45757351 | T50: =SUM(Q50-I50)*100/I50 -> -5.3651211
A51: 2. ตรวจติดตามและให้คำแนะนำการปฏิบัติราชการ | B51: 7464722.9 | C51: -17614.67 | D51: 323314.45 | E51: 300738.17 | F51: =SUM(B51:E51)+0.01 -> 8071160.8 | G51: 545 | H51: ครั้ง | I51: =+F51/G51 -> 14809.469 | J51: 7895166.2 | K51: 16391 | L51: 312736.48 | M51: 363493.32 | N51: =+J51+K51+L51+M51 -> 8587787 | O51: 545 | P51: ครั้ง | Q51: =+N51/O51 -> 15757.407 | R51: =SUM(N51-F51)*100/F51 -> 6.4008905 | S51: =SUM(O51-G51)*100/G51 -> 0 | T51: =SUM(Q51-I51)*100/I51 -> 6.4008905
A52: 3. ด้านงานสารบรรณ | B52: 4685486.1 | C52: 24027.32 | D52: 248047.19 | E52: 307884.05 | F52: =SUM(B52:E52) -> 5265444.7 | G52: 59763 | H52: จำนวนหนังสือเข้า-ออก (เรื่อง) | I52: =+F52/G52 -> 88.105427 | J52: =22120438.79*15/100 -> 3318065.8 | K52: =-37123.31*15/100 -> -5568.4965 | L52: =1489100.86*15/100 -> 223365.13 | M52: =2094412.99*15/100 -> 314161.95 | N52: =+J52+K52+L52+M52 -> 3850024.4 | O52: 60865 | P52: เรื่อง | Q52: =+N52/O52 -> 63.255145 | R52: =SUM(N52-F52)*100/F52 -> -26.881305 | S52: =SUM(O52-G52)*100/G52 -> 1.8439503 | T52: =SUM(Q52-I52)*100/I52 -> -28.205166
A53: 4. ด้านยานพาหนะ | B53: 5856857.6 | C53: 30034.16 | D53: 310058.99 | E53: 384855.06 | F53: =SUM(B53:E53) -> 6581805.8 | G53: 188037 | H53: กิโลเมตร | I53: =+F53/G53 -> 35.002717 | J53: =22120438.79*15/100 -> 3318065.8 | K53: =-37123.31*15/100 -> -5568.4965 | L53: =1489100.86*15/100 -> 223365.13 | M53: =2094412.99*15/100 -> 314161.95 | N53: =+J53+K53+L53+M53 -> 3850024.4 | O53: 205636 | P53: กิโลเมตร | Q53: =+N53/O53 -> 18.722521 | R53: =SUM(N53-F53)*100/F53 -> -41.505044 | S53: =SUM(O53-G53)*100/G53 -> 9.3593282 | T53: =SUM(Q53-I53)*100/I53 -> -46.511234
A54: 5. ด้านงานช่วยอำนวยการ | B54: 7028229.2 | C54: 36040.99 | D54: 372070.79 | E54: 461826.06 | F54: =SUM(B54:E54) -> 7898167 | G54: 3065 | H54: เรื่อง | I54: =+F54/G54 -> 2576.8897 | J54: =22120438.79*20/100 -> 4424087.8 | K54: =-37123.31*20/100 -> -7424.662 | L54: =1489100.86*20/100 -> 297820.17 | M54: =2094412.99*20/100 -> 418882.6 | N54: =+J54+K54+L54+M54 -> 5133365.9 | O54: 2361 | P54: เรื่อง | Q54: =+N54/O54 -> 2174.2337 | R54: =SUM(N54-F54)*100/F54 -> -35.005605 | S54: =SUM(O54-G54)*100/G54 -> -22.969005 | T54: =SUM(Q54-I54)*100/I54 -> -15.625658
A55: 6. ด้านอาคารและสถานที่ | B55: 21529804 | C55: 127.5 | D55: 191903.72 | E55: 435650.62 | F55: =SUM(B55:E55) -> 22157485 | G55: 811 | H55: ครั้ง | I55: =+F55/G55 -> 27321.19 | J55: =22120438.79*30/100 -> 6636131.6 | K55: =-37123.31*30/100 -> -11136.993 | L55: =1489100.86*30/100 -> 446730.26 | M55: =2094412.99*30/100 -> 628323.9 | N55: =+J55+K55+L55+M55 -> 7700048.8 | O55: 474 | P55: ครั้ง | Q55: =+N55/O55 -> 16244.829 | R55: =SUM(N55-F55)*100/F55 -> -65.248544 | S55: =SUM(O55-G55)*100/G55 -> -41.553637 | T55: =SUM(Q55-I55)*100/I55 -> -40.541285
A56: 7. ด้านสุขภาพและความปลอดภัยในการทำงาน | B56: 0 | C56: 0 | D56: 0 | E56: 0 | F56: =SUM(B56:E56) -> 0 | G56: 0 | J56: =22120438.79*15/100 -> 3318065.8 | K56: =-37123.31*15/100 -> -5568.4965 | L56: =1489100.86*15/100 -> 223365.13 | M56: =2094412.99*15/100 -> 314161.95 | N56: =+J56+K56+L56+M56 -> 3850024.4 | O56: 150 | P56: คน | Q56: =+N56/O56 -> 25666.829 | R56: 0 | S56: 0 | T56: 0
A57: 8. งานห้องสมุด | B57: 0 | C57: 0 | D57: 0 | E57: 0 | F57: =SUM(B57:E57) -> 0 | G57: 0 | J57: =22120438.79*5/100 -> 1106021.9 | K57: =-37123.31*5/100 -> -1856.1655 | L57: =1489100.86*5/100 -> 74455.043 | M57: =2094412.99*5/100 -> 104720.65 | N57: =+J57+K57+L57+M57 -> 1283341.5 | O57: 4 | P57: เรื่อง | Q57: =+N57/O57 -> 320835.37 | R57: 0 | S57: 0 | T57: 0
A58: 9. ด้านแผนงานและประเมินผล | B58: 15940337 | C58: 52412.97 | D58: 882073.07 | E58: 4986290.5 | F58: =SUM(B58:E58) -> 21861113 | G58: 1 | H58: ด้าน | I58: =+F58/G58 -> 21861113 | J58: 12378603 | K58: 0 | L58: 825542.51 | M58: 1590354.1 | N58: =+J58+K58+L58+M58 -> 14794500 | O58: 3 | P58: เรื่อง | Q58: =+N58/O58 -> 4931500 | R58: =SUM(N58-F58)*100/F58 -> -32.325038 | S58: =SUM(O58-G58)*100/G58 -> 200 | T58: =SUM(Q58-I58)*100/I58 -> -77.441679
A59: 10. พัฒนามาตรฐานฝีมือแรงงานแห่งชาติ | B59: 17283502 | C59: 0 | D59: 303594.06 | E59: 241171.88 | F59: =SUM(B59:E59) -> 17828268 | G59: 174 | H59: สาขา | I59: =+F59/G59 -> 102461.31 | J59: 20291311 | K59: 0 | L59: 139771.35 | M59: 435753.06 | N59: =+J59+K59+L59+M59 -> 20866835 | O59: 30 | P59: สาขา | Q59: =+N59/O59 -> 695561.17 | R59: =SUM(N59-F59)*100/F59 -> 17.043536 | S59: =SUM(O59-G59)*100/G59 -> -82.758621 | T59: =SUM(Q59-I59)*100/I59 -> 578.85251
A60: 11. ส่งเสริมมาตรฐานฝีมือแรงงานแห่งชาติ | B60: 13921995 | C60: 0 | D60: 244547.36 | E60: 194265.81 | F60: =SUM(B60:E60) -> 14360808 | G60: 550 | H60: สาขา | I60: =+F60/G60 -> 26110.56 | J60: 5996744.8 | K60: 0 | L60: 41307 | M60: 128779.26 | N60: =+J60+K60+L60+M60 -> 6166831 | O60: 800 | P60: คน | Q60: =+N60/O60 -> 7708.5388 | R60: =SUM(N60-F60)*100/F60 -> -57.05791 | S60: =SUM(O60-G60)*100/G60 -> 45.454545 | T60: =SUM(Q60-I60)*100/I60 -> -70.477313
A61: 12. การแข่งขันฝีมือแรงงาน | B61: 67954010 | C61: 3870813 | D61: 1193648.9 | E61: 948221.95 | F61: =SUM(B61:E61) -> 73966693 | G61: 59 | H61: สาขา | I61: =+F61/G61 -> 1253672.8 | J61: 2.0158824e+08 | K61: =257842.59-50000 -> 207842.59 | L61: 1388587.6 | M61: 4329079.4 | N61: =+J61+K61+L61+M61 -> 2.0751375e+08 | O61: 105 | P61: สาขา | Q61: =+N61/O61 -> 1976321.5 | R61: =SUM(N61-F61)*100/F61 -> 180.55027 | S61: =SUM(O61-G61)*100/G61 -> 77.966102 | T61: =SUM(Q61-I61)*100/I61 -> 57.64253
A62: 13. พัฒนาระบบฝึกอบรมฝีมือแรงงาน | B62: 0 | C62: 0 | D62: 0 | E62: 0 | F62: =SUM(B62:E62) -> 0 | J62: 7171768.2 | K62: -352.03 | L62: 337808.19 | M62: 472049.6 | N62: =+J62+K62+L62+M62 -> 7981274 | O62: 35 | P62: หลักสูตร | Q62: =+N62/O62 -> 228036.4 | R62: 0 | S62: 0 | T62: 0
A63: 14. ด้านพัฒนาและจัดทำหลักสูตรการฝึกอบรมฝีมือแรงงาน | B63: 7854148.7 | C63: 66124.54 | D63: 325474.38 | E63: 537817.17 | F63: =SUM(B63:E63) -> 8783564.8 | G63: 27 | H63: หลักสูตร | I63: =+F63/G63 -> 325317.21 | J63: 4482355.2 | K63: -112.65 | L63: 135123.28 | M63: 590062 | N63: =+J63+K63+L63+M63 -> 5207427.8 | O63: 25 | P63: หลักสูตร | Q63: =+N63/O63 -> 208297.11 | R63: =SUM(N63-F63)*100/F63 -> -40.713959 | S63: =SUM(O63-G63)*100/G63 -> -7.4074074 | T63: =SUM(Q63-I63)*100/I63 -> -35.971076
A64: 15. ด้านพัฒนาบุคลากรฝึก | B64: 11678464 | C64: 159063.06 | D64: 491201.48 | E64: 460419.65 | F64: =SUM(B64:E64) -> 12789148 | G64: 464 | H64: คน | I64: =+F64/G64 -> 27562.819 | J64: 7470591.9 | K64: -211.22 | L64: 320917.78 | M64: 188819.84 | N64: =+J64+K64+L64+M64 -> 7980118.3 | O64: 218 | P64: คน | Q64: =+N64/O64 -> 36606.047 | R64: =SUM(N64-F64)*100/F64 -> -37.602424 | S64: =SUM(O64-G64)*100/G64 -> -53.017241 | T64: =SUM(Q64-I64)*100/I64 -> 32.809519
A65: 16. ด้านการพัฒนาระบบและรูปแบบการฝึก | B65: 934277.11 | C65: 12725.05 | D65: 39296.12 | E65: 36833.57 | F65: =SUM(B65:E65) -> 1023131.8 | G65: 4 | H65: หลักสูตร | I65: =+F65/G65 -> 255782.96 | J65: 3287060.5 | K65: -281.62 | L65: 253356.14 | M65: 354037.2 | N65: =+J65+K65+L65+M65 -> 3894172.2 | O65: 80 | P65: คน | Q65: =+N65/O65 -> 48677.152 | R65: =SUM(N65-F65)*100/F65 -> 280.61294 | S65: =SUM(O65-G65)*100/G65 -> 1900 | T65: =SUM(Q65-I65)*100/I65 -> -80.969353
A66: 17. พัฒนาครุภัณฑ์การฝึก | B66: 3269969.9 | C66: 44537.66 | D66: 137536.41 | E66: 128917.5 | F66: =SUM(B66:E66) -> 3580961.5 | G66: 20 | H66: สาขา | I66: =+F66/G66 -> 179048.07 | J66: 2390589.4 | K66: -70.41 | L66: 168904.09 | M66: 236024.8 | N66: =+J66+K66+L66+M66 -> 2795447.9 | O66: 64 | P66: คน | Q66: =+N66/O66 -> 43678.873 | R66: =SUM(N66-F66)*100/F66 -> -21.935828 | S66: =SUM(O66-G66)*100/G66 -> 220 | T66: =SUM(Q66-I66)*100/I66 -> -75.604946
A67: 18. ด้านพัฒนาวิทยากรต้นแบบ | F67: =SUM(B67:E67) -> 0 | J67: 4482355.2 | K67: -98.57 | L67: 168904.09 | M67: 236024.8 | N67: =+J67+K67+L67+M67 -> 4887185.5 | O67: 130 | P67: คน | Q67: =+N67/O67 -> 37593.734 | R67: 0 | S67: 0 | T67: 0
A68: 19. ด้านการเงินและบัญชี | B68: 5713430 | C68: 10289.46 | D68: 376318.93 | E68: 460720.79 | F68: =SUM(B68:E68) -> 6560759.1 | G68: 218266 | H68: จำนวนเอกสารรายการ | I68: =+F68/G68 -> 30.058549 | J68: 5685029.7 | K68: 7111.91 | L68: 325487.14 | M68: 484627.86 | N68: =+J68+K68+L68+M68 -> 6502256.6 | O68: 343410 | P68: จำนวนเอกสารรายการ | Q68: =+N68/O68 -> 18.934383 | R68: =SUM(N68-F68)*100/F68 -> -0.89170352 | S68: =SUM(O68-G68)*100/G68 -> 57.335545 | T68: =SUM(Q68-I68)*100/I68 -> -37.008324
A69: 20. ด้านพัสดุ (จัดซื้อจัดจ้าง) | B69: 5713430 | C69: 10289.46 | D69: 376318.93 | E69: 460720.79 | F69: =SUM(B69:E69) -> 6560759.1 | G69: 1774 | H69: จัดจ้าง | I69: =+F69/G69 -> 3698.2859 | J69: 5685029.7 | K69: 7111.91 | L69: 325487.14 | M69: 484627.86 | N69: =+J69+K69+L69+M69 -> 6502256.6 | O69: 1153 | P69: จำนวนครั้งของการจัดซื้อจัดจ้าง | Q69: =+N69/O69 -> 5639.4247 | R69: =SUM(N69-F69)*100/F69 -> -0.89170352 | S69: =SUM(O69-G69)*100/G69 -> -35.005637 | T69: =SUM(Q69-I69)*100/I69 -> 52.487526
A70: 21. ด้านงบประมาณ | B70: 4897225.7 | C70: 8819.53 | D70: 322559.1 | E70: 394903.54 | F70: =SUM(B70:E70) -> 5623507.9 | G70: 2331869600 | H70: ได้รับจัดสรร | I70: =+F70/G70 -> 0.0024115876 | J70: 4872882.6 | K70: 6095.93 | L70: 278988.97 | M70: 415395.31 | N70: =+J70+K70+L70+M70 -> 5573362.8 | O70: 2.3623518e+09 | P70: จำนวนเงินงบประมาณที่ได้รับจัดสรร | Q70: =+N70/O70 -> 0.0023592434 | R70: =SUM(N70-F70)*100/F70 -> -0.89170392 | S70: =SUM(O70-G70)*100/G70 -> 1.3071999 | T70: =SUM(Q70-I70)*100/I70 -> -2.1705306
A71: 22. ด้านบริหารบุคลากร | B71: 8000500.9 | C71: 154635.43 | D71: 359558.82 | E71: 462022.91 | F71: =SUM(B71:E71) -> 8976718.1 | G71: 2499 | H71: จำนวนบุคลากร | I71: =+F71/G71 -> 3592.1241 | J71: 7177581.9 | K71: 6928.2 | L71: 367582.03 | M71: 481208.39 | N71: =+J71+K71+L71+M71 -> 8033300.5 | O71: 2458 | P71: คน | Q71: =+N71/O71 -> 3268.2264 | R71: =SUM(N71-F71)*100/F71 -> -10.509605 | S71: =SUM(O71-G71)*100/G71 -> -1.6406563 | T71: =SUM(Q71-I71)*100/I71 -> -9.0168845
A72: 23. ด้านพัฒนาทรัพยากรบุคคล | B72: 13334168 | C72: 137818.92 | D72: 599264.7 | E72: 770038.19 | F72: =SUM(B72:E72) -> 14841290 | G72: 32810 | H72: ฝึกอบรม | I72: =+F72/G72 -> 452.34045 | J72: 11962636 | K72: 11547 | L72: 612636.72 | M72: 802013.99 | N72: =+J72+K72+L72+M72 -> 13388834 | O72: 13783 | P72: คน | Q72: =+N72/O72 -> 971.40203 | R72: =SUM(N72-F72)*100/F72 -> -9.7865875 | S72: =SUM(O72-G72)*100/G72 -> -57.991466 | T72: =SUM(Q72-I72)*100/I72 -> 114.7502
A73: 24. ด้านวินัยและความรับผิดทางละเมิด | B73: 5333667.3 | C73: 103090.3 | D73: 239705.88 | E73: 308015.28 | F73: =SUM(B73:E73) -> 5984478.8 | G73: 15 | H73: เรื่อง | I73: =+F73/G73 -> 398965.25 | J73: 4785054.6 | K73: 4618.8 | L73: 245054.69 | M73: 320805.59 | N73: =+J73+K73+L73+M73 -> 5355533.7 | O73: 20 | P73: เรื่อง | Q73: =+N73/O73 -> 267776.68 | R73: =SUM(N73-F73)*100/F73 -> -10.509605 | S73: =SUM(O73-G73)*100/G73 -> 33.333333 | T73: =SUM(Q73-I73)*100/I73 -> -32.882204
A74: 25. ด้านกฏหมายของกรมพัฒนาฝีมือแรงงาน | B74: 7049518.7 | C74: -63346.48 | D74: 328205.57 | E74: 464468.84 | F74: =SUM(B74:E74) -> 7778846.6 | G74: 3057 | H74: เรื่อง | I74: =+F74/G74 -> 2544.6014 | J74: 6887215.1 | K74: =170745.71-8271.32 -> 162474.39 | L74: 392862.94 | M74: 359407.52 | N74: =+J74+K74+L74+M74 -> 7801960 | O74: 3281 | P74: เรื่อง | Q74: =+N74/O74 -> 2377.9214 | R74: =SUM(N74-F74)*100/F74 -> 0.29713081 | S74: =SUM(O74-G74)*100/G74 -> 7.3274452 | T74: =SUM(Q74-I74)*100/I74 -> -6.5503417
A75: 26. ส่งเสริมประสานความร่วมมือกับภาครัฐ/เอกชน | B75: 13097677 | C75: -20195.3 | D75: 241319.21 | E75: 390640.27 | F75: =SUM(B75:E75) -> 13709441 | G75: 2521 | H75: ครั้ง | I75: =+F75/G75 -> 5438.0963 | J75: 7241651.3 | K75: 22733.4 | L75: 74394.5 | M75: 66962.23 | N75: =+J75+K75+L75+M75 -> 7405741.5 | O75: 1 | P75: ด้าน | Q75: =+N75/O75 -> 7405741.5 | R75: =SUM(N75-F75)*100/F75 -> -45.980718 | S75: =SUM(O75-G75)*100/G75 -> -99.960333 | T75: =SUM(Q75-I75)*100/I75 -> 136082.61
A76: 27. ด้านพัฒนาระบบบริหารราชการ | B76: 4183924.2 | C76: -53759.48 | D76: 190456.62 | E76: 245005.8 | F76: =SUM(B76:E76) -> 4565627.2 | G76: 1 | H76: ด้าน | I76: =+F76/G76 -> 4565627.2 | J76: =5619383.23*0.7 -> 3933568.3 | K76: =42006.77*0.7 -> 29404.739 | L76: =239180.48*0.7 -> 167426.34 | M76: =309643.12*0.7 -> 216750.18 | N76: =+J76+K76+L76+M76 -> 4347149.5 | O76: 1 | P76: ด้าน | Q76: =+N76/O76 -> 4347149.5 | R76: =SUM(N76-F76)*100/F76 -> -4.7852718 | S76: =SUM(O76-G76)*100/G76 -> 0 | T76: =SUM(Q76-I76)*100/I76 -> -4.7852718
A77: 28. ดำเนินการเกี่ยวกับระบบควบคุมภายในกรม | B77: 1793110.4 | C77: -23039.78 | D77: 81624.27 | E77: 105002.48 | F77: =SUM(B77:E77)+0.01 -> 1956697.4 | G77: 95 | H77: หน่วยงาน | I77: =+F77/G77 -> 20596.814 | J77: =5619383.23*0.3 -> 1685815 | K77: =42006.77*0.3 -> 12602.031 | L77: =239180.48*0.3 -> 71754.144 | M77: =309643.12*0.3 -> 92892.936 | N77: =+J77+K77+L77+M77 -> 1863064.1 | O77: 92 | P77: แห่ง | Q77: =+N77/O77 -> 20250.697 | R77: =SUM(N77-F77)*100/F77 -> -4.7852719 | S77: =SUM(O77-G77)*100/G77 -> -3.1578947 | T77: =SUM(Q77-I77)*100/I77 -> -1.6804438
A78: 29. ด้านตรวจสอบภายใน | B78: 5117289.9 | C78: -12816.27 | D78: 201294.88 | E78: 240171.91 | F78: =SUM(B78:E78)+0.01 -> 5545940.5 | G78: 2473 | H78: คน/วัน | I78: =+F78/G78 -> 2242.5962 | J78: 4443505.5 | K78: -1543.04 | L78: 264469.35 | M78: 375655.57 | N78: =+J78+K78+L78+M78 -> 5082087.3 | O78: 3013 | P78: งาน/คน/วัน | Q78: =+N78/O78 -> 1686.72 | R78: =SUM(N78-F78)*100/F78 -> -8.3638318 | S78: =SUM(O78-G78)*100/G78 -> 21.835827 | T78: =SUM(Q78-I78)*100/I78 -> -24.787174
A79: 30. ด้านการวิเทศสัมพันธ์ | B79: 5095989.6 | C79: 25557.42 | D79: 226798.39 | E79: 300212.57 | F79: 5648557.9 | G79: 1178 | H79: เรื่อง | I79: =+F79/G79 -> 4795.0407 | J79: 4376697.3 | K79: -3303.79 | L79: 250813.48 | M79: 285399.93 | N79: =+J79+K79+L79+M79 -> 4909606.9 | O79: 827 | P79: ครั้ง | Q79: =+N79/O79 -> 5936.6468 | R79: =SUM(N79-F79)*100/F79 -> -13.082118 | S79: =SUM(O79-G79)*100/G79 -> -29.796265 | T79: =SUM(Q79-I79)*100/I79 -> 23.80806
A80: 31. ด้านเทคโนโลยีสารสนเทศภายในหน่วยงาน | B80: 4181529.6 | C80: 26088.22 | D80: 221834.02 | E80: 357431.03 | F80: =SUM(B80:E80) -> 4786882.9 | G80: 18985 | H80: จำนวนเครื่องคอมพิวเตอร์ | I80: =+F80/G80 -> 252.14026 | J80: =6986937.19*0.7 -> 4890856 | K80: =54921*0.7 -> 38444.7 | L80: =287674.48*0.7 -> 201372.14 | M80: =1282663.25*0.7 -> 897864.27 | N80: =+J80+K80+L80+M80 -> 6028537.1 | O80: 20050 | P80: รายการ | Q80: =+N80/O80 -> 300.67517 | R80: =SUM(N80-F80)*100/F80 -> 25.938681 | S80: =SUM(O80-G80)*100/G80 -> 5.6096919 | T80: =SUM(Q80-I80)*100/I80 -> 19.24917
A81: 32. ด้านเครือข่ายอินเตอร์เน็ตและเว็ปไซด์ | B81: 1792084.1 | C81: 11180.67 | D81: 95071.72 | E81: 153184.73 | F81: =SUM(B81:E81) -> 2051521.2 | G81: 23 | H81: ระบบ | I81: =+F81/G81 -> 89196.575 | J81: =6986937.19*0.3 -> 2096081.2 | K81: =54921*0.3 -> 16476.3 | L81: =287674.48*0.3 -> 86302.344 | M81: =1282663.25*0.3 -> 384798.97 | N81: =+J81+K81+L81+M81 -> 2583658.8 | O81: 24 | P81: ระบบ | Q81: =+N81/O81 -> 107652.45 | R81: =SUM(N81-F81)*100/F81 -> 25.938681 | S81: =SUM(O81-G81)*100/G81 -> 4.3478261 | T81: =SUM(Q81-I81)*100/I81 -> 20.691236
A82: 33. จัดทำหลักเกณฑ์รับรองความรู้ความสามารถ | B82: 7281933 | C82: 77974.5 | D82: 320739 | E82: 1427859.1 | F82: =SUM(B82:E82) -> 9108505.7 | G82: 5 | H82: ครั้ง | I82: =+F82/G82 -> 1821701.1 | J82: =2841897.68-1420948 -> 1420949.7 | K82: 0 | L82: =265320.23-132660 -> 132660.23 | M82: =235154.5-117577 -> 117577.5 | N82: =+J82+K82+L82+M82 -> 1671187.4 | O82: 5 | P82: ครั้ง | Q82: =+N82/O82 -> 334237.48 | R82: =SUM(N82-F82)*100/F82 -> -81.652452 | S82: =SUM(O82-G82)*100/G82 -> 0 | T82: =SUM(Q82-I82)*100/I82 -> -81.652452
A83: 34. ด้านการประชาสัมพันธ์ | B83: 5856857.6 | C83: 30034.16 | D83: 310058.99 | E83: 384855.06 | F83: =SUM(B83:E83) -> 6581805.8 | G83: 910 | H83: ครั้ง | I83: =+F83/G83 -> 7232.7537 | J83: 23245827 | K83: -125098 | L83: 161846.62 | M83: 492379.47 | N83: =+J83+K83+L83+M83 -> 23774956 | O83: 870 | P83: เรื่อง | Q83: =+N83/O83 -> 27327.535 | R83: =SUM(N83-F83)*100/F83 -> 261.22238 | S83: =SUM(O83-G83)*100/G83 -> -4.3956044 | T83: =SUM(Q83-I83)*100/I83 -> 277.8303
A84: 35. ด้านประกันคุณภาพการพัฒนาฝีมือแรงงาน | B84: 7007078.3 | C84: 95437.84 | D84: 294720.88 | E84: 276251.79 | F84: =SUM(B84:E84) -> 7673488.8 | G84: 15 | H84: แห่ง | I84: =+F84/G84 -> 511565.92 | R84: 0 | S84: 0 | T84: 0
A85: 36. ศึกษารูปแบบศักยภาพแรงงาน | B85: 23673963 | C85: -68173.22 | D85: 833250.32 | E85: 873970.16 | F85: =SUM(B85:E85) -> 25313010 | G85: 10 | H85: โครงการ | I85: =+F85/G85 -> 2531301 | R85: 0 | S85: 0 | T85: 0
A86: 37. ด้านพัฒนาและจัดทำชุดการฝึกอบรมฝีมือแรงงาน (ต้นแบบ) | B86: 2335692.8 | C86: 31812.61 | D86: 98240.3 | E86: 92083.93 | F86: =SUM(B86:E86) -> 2557829.6 | G86: 11 | H86: เรื่อง | I86: =+F86/G86 -> 232529.96 | R86: 0 | S86: 0 | T86: 0
A87: 38. พัฒนาสถานฝึก | B87: 2335692.8 | C87: 31812.61 | D87: 98240.3 | E87: 92083.93 | F87: =SUM(B87:E87) -> 2557829.6 | G87: 8 | H87: แห่ง | I87: =+F87/G87 -> 319728.7 | R87: 0 | S87: 0 | T87: 0
A88: 39. พัฒนาระบบสารสนเทศสถานฝึก | B88: 18155257 | C88: 220112.81 | D88: 735857.4 | E88: 1012713.5 | F88: =SUM(B88:E88) -> 20123941 | G88: 12 | H88: แห่ง | I88: =+F88/G88 -> 1676995 | R88: 0 | S88: 0 | T88: 0
A89: รวมต้นทุนผลผลิต | B89: =SUM(B15:B88) -> 1.8951034e+09 | C89: =SUM(C15:C88)+0.02 -> 13824493 | D89: =SUM(D15:D88) -> 1.2597553e+08 | E89: =SUM(E15:E88)-0.01 -> 2.7195999e+08 | F89: =SUM(B89:E89) -> 2.3068634e+09 | G89: =SUM(G15:G88) -> 2336690038 | I89: =+F89/G89 -> 0.9872355 | J89: =SUM(J15:J84) -> 2.5486049e+09 | K89: =SUM(K15:K84) -> 5263197.2 | L89: =SUM(L15:L84) -> 97396995 | M89: =SUM(M15:M84) -> 2.9714878e+08 | N89: =+J89+K89+L89+M89 -> 2.9484139e+09 | O89: =SUM(O15:O83) -> 2.3679801e+09 | Q89: =+N89/O89 -> 1.2451177 | R89: =+(N89-F89)*100/F89 -> 27.810512 | S89: =+(O89-G89)*100/G89 -> 1.3390744 | T89: =+(Q89-I89)*100/I89 -> 26.121649

Sheet ตารางที่ 8 ส่ง
A1: กรมพัฒนาฝีมือแรงงาน
A2: รายงานการคำนวณต้นทุนผลผลิต
A3: ประจำปีงบประมาณ พ.ศ. 2561
A4: ตารางเปรียบเทียบผลการคำนวณต้นทุนผลผลิตระหว่างปีงบประมาณ พ.ศ. 2560 และปีงบประมาณ พ.ศ. 2561
A6: ตารางที่ 8 เปรียบเทียบผลการคำนวณต้นทุนผลผลิตย่อยแยกตามแหล่งเงิน
A8: ต้นทุนผลผลิตประจำปีงบประมาณ พ.ศ. 2560 (ต.ค. 59-ก.ย. 60) | J8: ต้นทุนผลผลิตประจำปีงบประมาณ พ.ศ. 2561 (ต.ค. 60-ก.ย. 61) | R8: ผลการเปรียบเทียบ
A9: กิจกรรมหลัก | B9: เงินใน | C9: เงินนอก | D9: งบกลาง | E9: ค่าเสื่อม | F9: ต้นทุน | G9: ปริมาณ | H9: หน่วย | I9: ต้นทุน | J9: เงินใน | K9: เงินนอก | L9: งบกลาง | M9: ค่าเสื่อม | N9: ต้นทุน | O9: ปริมาณ | P9: หน่วย | Q9: ต้นทุน | R9: ต้นทุน | S9: หน่วย | T9: ต้นทุน
B10: งปม. | C10: งปม. | E10: ราคา | F10: รวม | H10: นับ | I10: ต่อหน่วย | J10: งปม. | K10: งปม. | M10: ราคา | N10: รวม | P10: นับ | Q10: ต่อหน่วย | R10: รวม | S10: นับ | T10: ต่อหน่วย
R11: เพิ่ม (ลด) | S11: เพิ่ม (ลด) | T11: เพิ่ม (ลด)
R12: % | S12: % | T12: %
A14: (1) | B14: (2) | C14: (3) | D14: (4) | E14: (5) | F14: (6) =(2) ถึง (5) | G14: (7) | H14: (8) | I14: (9) = (6)/(7) | J14: (10) | K14: (11) | L14: (12) | M14: (13) | N14: (14) =(10) ถึง (13) | O14: (15) | P14: (16) | Q14: (17) = (14)/(15) | R14: (18) = (14)-(6) | S14: (19) = (15)-(7) | T14: (20) = (17)-(9)
R15: *100/(6) | S15: *100/(7) | T15: *100/(9)
A16: 1. ฝึกทักษะอาชีพให้กับกลุ่มเป้าหมายในพื้นที่จังหวัดชายแดนภาคใต้ | B16: 18951034 | C16: 138244.93 | D16: 1259755.3 | E16: 2719599.9 | F16: =SUM(B16:E16) -> 23068634 | G16: 867 | H16: คน | I16: =+F16/G16 -> 26607.421 | J16: ='ตารางที่ 5 ส่ง'!B8 -> 12488164 | K16: ='ตารางที่ 5 ส่ง'!C8 -> 25789.666 | L16: ='ตารางที่ 5 ส่ง'!D8 -> 477245.28 | M16: ='ตารางที่ 5 ส่ง'!E8 -> 1456029 | N16: =SUM(J16:M16) -> 14447228 | O16: ='ตารางที่ 5 ส่ง'!G8 -> 600 | P16: คน | Q16: =+N16/O16 -> 24078.713 | R16: =SUM(N16-F16)*100/F16 -> -37.372849 | S16: =SUM(O16-G16)*100/G16 -> -30.795848 | T16: =(+Q16-I16)*100/I16 -> -9.5037669
A17: 2. ฝึกอบรมฝีมือให้กับกลุ่มเป้าหมายตามโครงการพาคนกลับบ้าน | F17: =SUM(B17:E17) -> 0 | J17: ='ตารางที่ 5 ส่ง'!B9 -> 4077767.9 | K17: ='ตารางที่ 5 ส่ง'!C9 -> 8421.1155 | L17: ='ตารางที่ 5 ส่ง'!D9 -> 155835.19 | M17: ='ตารางที่ 5 ส่ง'!E9 -> 475438.05 | N17: =SUM(J17:M17) -> 4717462.2 | O17: ='ตารางที่ 5 ส่ง'!G9 -> 200 | P17: คน | Q17: =+N17/O17 -> 23587.311 | R17: 0 | S17: 0 | T17: 0
A18: 3. เพิ่มศักยภาพกำลังแรงงานภาคอุตสาหกรรมและบริการไปสู่ Thailand 4.0 | B18: 4.2564021e+08 | C18: 3104981.2 | D18: 28294104 | E18: 61082214 | F18: =SUM(B18:E18) -> 5.1812151e+08 | G18: 100038 | H18: คน | I18: =+F18/G18 -> 5179.247 | J18: ='ตารางที่ 5 ส่ง'!B10 -> 3.9375946e+08 | K18: ='ตารางที่ 5 ส่ง'!C10 -> 813163.97 | L18: ='ตารางที่ 5 ส่ง'!D10 -> 15047836 | M18: ='ตารางที่ 5 ส่ง'!E10 -> 45909486 | N18: =SUM(J18:M18) -> 4.5552994e+08 | O18: 103461 | P18: คน | Q18: =+N18/O18 -> 4402.9146 | R18: =+(N18-F18)*100/F18 -> -12.08048 | S18: =+(O18-G18)*100/G18 -> 3.4216998 | T18: =+(Q18-I18)*100/I18 -> -14.989292
A19: 4. เพิ่มศักยภาพแรงงานเตรียมเข้าสู่อุตสาหกรรมเป้าหมายแห่งอนาคต | F19: =SUM(B19:E19) -> 0 | J19: ='ตารางที่ 5 ส่ง'!B11 -> 48933214 | K19: ='ตารางที่ 5 ส่ง'!C11 -> 101053.39 | L19: ='ตารางที่ 5 ส่ง'!D11 -> 1870022.3 | M19: ='ตารางที่ 5 ส่ง'!E11 -> 5705256.5 | N19: =SUM(J19:M19) -> 56609547 | O19: 14136 | P19: คน | Q19: =+N19/O19 -> 4004.6369 | R19: 0 | S19: 0 | T19: 0
A20: 5. ศูนย์ฝึกอบรมเทคโนโลยีชั้นสูงรองรับอุตสาหกรรมแห่งอนาคต | F20: =SUM(B20:E20) -> 0 | J20: ='ตารางที่ 5 ส่ง'!B12 -> 1.5903295e+08 | K20: ='ตารางที่ 5 ส่ง'!C12 -> 328423.51 | L20: ='ตารางที่ 5 ส่ง'!D12 -> 6077572.5 | M20: ='ตารางที่ 5 ส่ง'!E12 -> 18542084 | N20: =SUM(J20:M20) -> 1.8398103e+08 | O20: 10939 | P20: คน | Q20: =+N20/O20 -> 16818.816 | R20: 0 | S20: 0 | T20: 0
A21: 6. พัฒนาหลักสูตรยกระดับฝีมือตามความสามารถ | F21: =SUM(B21:E21) -> 0 | J21: ='ตารางที่ 5 ส่ง'!B13 -> 764581.47 | K21: ='ตารางที่ 5 ส่ง'!C13 -> 1578.9592 | L21: ='ตารางที่ 5 ส่ง'!D13 -> 29219.099 | M21: ='ตารางที่ 5 ส่ง'!E13 -> 89144.634 | N21: =SUM(J21:M21) -> 884524.16 | O21: 60 | P21: หลักสูตร | Q21: =+N21/O21 -> 14742.069 | R21: 0 | S21: 0 | T21: 0
A22: (Competency Based Curriculum)
A23: 7. จัดทำมาตรฐานฝีมือแรงงานแห่งชาติและวิธีการทดสอบมาตรฐานฝีมือเพื่อรองรับ Thailank 4.0 | F23: =SUM(B23:E23) -> 0 | J23: ='ตารางที่ 5 ส่ง'!B15 -> 6371512.3 | K23: ='ตารางที่ 5 ส่ง'!C15 -> 13157.993 | L23: ='ตารางที่ 5 ส่ง'!D15 -> 243492.49 | M23: ='ตารางที่ 5 ส่ง'!E15 -> 742871.95 | N23: =SUM(J23:M23) -> 7371034.7 | O23: 10 | P23: สาขา | Q23: =+N23/O23 -> 737103.47 | R23: 0 | S23: 0 | T23: 0
A24: 8. เพิ่มผลิตภาพแรงงานสู่ SME 4.0 | B24: 74098541 | C24: 540537.68 | D24: 4925643.3 | E24: 10633636 | F24: =SUM(B24:E24) -> 90198358 | G24: 13750 | H24: แห่ง | I24: =+F24/G24 -> 6559.8806 | J24: ='ตารางที่ 5 ส่ง'!B16 -> 62695681 | K24: ='ตารางที่ 5 ส่ง'!C16 -> 129474.65 | L24: ='ตารางที่ 5 ส่ง'!D16 -> 2395966.1 | M24: ='ตารางที่ 5 ส่ง'!E16 -> 7309860 | N24: =SUM(J24:M24) -> 72530981 | O24: 12479 | P24: คน | Q24: =+N24/O24 -> 5812.2431 | R24: =SUM(N24-F24)*100/F24 -> -19.587248 | S24: =SUM(O24-G24)*100/G24 -> -9.2436364 | T24: =SUM(Q24-I24)*100/I24 -> -11.39712
A25: 9. เพิ่มทักษะกำลังแรงงานในพื้นที่ 10 จังหวัด ในพื้นที่เขตพัฒนาเศรษฐกิจพิเศษ | B25: 61780369 | C25: 450678.48 | D25: 4106802.3 | E25: 8865895.7 | F25: =SUM(B25:E25) -> 75203746 | G25: 19559 | H25: คน | I25: =+F25/G25 -> 3844.9689 | J25: ='ตารางที่ 5 ส่ง'!B17 -> 46384609 | K25: ='ตารางที่ 5 ส่ง'!C17 -> 95790.189 | L25: ='ตารางที่ 5 ส่ง'!D17 -> 1772625.3 | M25: ='ตารางที่ 5 ส่ง'!E17 -> 5408107.8 | N25: =SUM(J25:M25) -> 53661133 | O25: 11869 | P25: คน | Q25: =+N25/O25 -> 4521.1166 | R25: =SUM(N25-F25)*100/F25 -> -28.645665 | S25: =SUM(O25-G25)*100/G25 -> -39.316938 | T25: =SUM(Q25-I25)*100/I25 -> 17.585259
A26: 10. วิจัยเพื่อขับเคลื่อนผลิตภาพแรงงานสู่ Thailand 4.0 | F26: 0 | J26: ='ตารางที่ 5 ส่ง'!B18 -> 1274302.5 | K26: ='ตารางที่ 5 ส่ง'!C18 -> 2631.5986 | L26: ='ตารางที่ 5 ส่ง'!D18 -> 48698.498 | M26: ='ตารางที่ 5 ส่ง'!E18 -> 148574.39 | N26: =SUM(J26:M26) -> 1474206.9 | O26: 3 | P26: เรื่อง | Q26: =+N26/O26 -> 491402.31 | R26: 0 | S26: 0 | T26: 0
A27: 11. ควบคุมและกำกับดูแลการประกอบอาชีพที่อาจเป็นอันตรายต่อสาธารณะหรือต้องใช้ความรู้ความสามารถสู่ Safety At Work | B27: 13834254 | C27: 100918.8 | D27: 919621.38 | E27: 1985307.9 | F27: =SUM(B27:E27) -> 16840103 | G27: 1235 | H27: คน | I27: =+F27/G27 -> 13635.711 | J27: ='ตารางที่ 5 ส่ง'!B19 -> 8920117.2 | K27: ='ตารางที่ 5 ส่ง'!C19 -> 18421.19 | L27: ='ตารางที่ 5 ส่ง'!D19 -> 340889.48 | M27: ='ตารางที่ 5 ส่ง'!E19 -> 1040020.7 | N27: =SUM(J27:M27) -> 10319449 | O27: 25924 | P27: คน | Q27: =+N27/O27 -> 398.06544 | R27: =SUM(N27-F27)*100/F27 -> -38.720987 | S27: =SUM(O27-G27)*100/G27 -> 1999.1093 | T27: =SUM(Q27-I27)*100/I27 -> -97.080714
A28: 12. พัฒนาฝีมือให้แก่กลุ่มวิสาหกิจชุมชน และผู้มีรายได้น้อย | J28: ='ตารางที่ 5 ส่ง'!B20 -> 13762467 | K28: ='ตารางที่ 5 ส่ง'!C20 -> 28421.265 | L28: ='ตารางที่ 5 ส่ง'!D20 -> 525943.78 | M28: ='ตารางที่ 5 ส่ง'!E20 -> 1604603.4 | N28: =SUM(J28:M28) -> 15921435 | O28: 4063 | P28: แห่ง | Q28: =+N28/O28 -> 3918.6402 | R28: 0 | S28: 0 | T28: 0
A29: 13. ทดสอบมาตรฐานฝีมือแรงงานให้มีสมรรถนะ | B29: 1.1162159e+08 | C29: 814262.65 | D29: 7419958.8 | E29: 16018443 | F29: =SUM(B29:E29) -> 1.3587425e+08 | G29: 77344 | H29: คน | I29: =+F29/G29 -> 1756.7523 | J29: ='ตารางที่ 5 ส่ง'!B21 -> 2.0439811e+08 | K29: ='ตารางที่ 5 ส่ง'!C21 -> 422108.42 | L29: ='ตารางที่ 5 ส่ง'!D21 -> 7811239 | M29: ='ตารางที่ 5 ส่ง'!E21 -> 23831332 | N29: =SUM(J29:M29) -> 2.3646279e+08 | O29: 36832 | P29: คน | Q29: =+N29/O29 -> 6420.0367 | R29: =SUM(N29-F29)*100/F29 -> 74.030612 | S29: =SUM(O29-G29)*100/G29 -> -52.378982 | T29: =SUM(Q29-I29)*100/I29 -> 265.44917
A30: 14. ส่งเสริมมาตรฐานฝีมือแรงงานแห่งชาติ | F30: =SUM(B30:E30) -> 0 | J30: ='ตารางที่ 5 ส่ง'!B22 -> 3313186.4 | K30: ='ตารางที่ 5 ส่ง'!C22 -> 6842.1564 | L30: ='ตารางที่ 5 ส่ง'!D22 -> 126616.09 | M30: ='ตารางที่ 5 ส่ง'!E22 -> 386293.41 | N30: =SUM(J30:M30) -> 3832938 | O30: 129 | P30: แห่ง | Q30: =+N30/O30 -> 29712.698 | R30: 0 | S30: 0 | T30: 0
A31: 15. พัฒนาศักยภาพแรงงานเพื่อรองรับการจ่ายค่าจ้างตามมาตรฐานฝีมือ | F31: =SUM(B31:E31) -> 0 | J31: ='ตารางที่ 5 ส่ง'!B23 -> 16056211 | K31: ='ตารางที่ 5 ส่ง'!C23 -> 33158.142 | L31: ='ตารางที่ 5 ส่ง'!D23 -> 613601.07 | M31: ='ตารางที่ 5 ส่ง'!E23 -> 1872037.3 | N31: =SUM(J31:M31) -> 18575007 | O31: 5071 | P31: คน | Q31: =+N31/O31 -> 3662.9871 | R31: 0 | S31: 0 | T31: 0
A32: 16. พัฒนาศักยภาพมาตรฐานฝีมือแรงงานไทยในต่างประเทศ | F32: =SUM(B32:E32) -> 0 | J32: ='ตารางที่ 5 ส่ง'!B24 -> 6626372.8 | K32: ='ตารางที่ 5 ส่ง'!C24 -> 13684.313 | L32: ='ตารางที่ 5 ส่ง'!D24 -> 253232.19 | M32: ='ตารางที่ 5 ส่ง'!E24 -> 772586.82 | N32: =SUM(J32:M32) -> 7665876.1 | O32: 246 | P32: คน | Q32: =+N32/O32 -> 31162.098 | R32: 0 | S32: 0 | T32: 0
A33: 17. พัฒนาฝีมือแรงงานนานาชาติ | B33: 31648226 | C33: 230869.04 | D33: 2103791.4 | E33: 4541731.8 | F33: =SUM(B33:E33) -> 38524618 | G33: 2429 | H33: คน | I33: =+F33/G33 -> 15860.279 | J33: ='ตารางที่ 5 ส่ง'!B25 -> 27524933 | K33: ='ตารางที่ 5 ส่ง'!C25 -> 56842.53 | L33: ='ตารางที่ 5 ส่ง'!D25 -> 1051887.6 | M33: ='ตารางที่ 5 ส่ง'!E25 -> 3209206.8 | N33: =SUM(J33:M33) -> 31842870 | O33: 2003 | P33: คน | Q33: =+N33/O33 -> 15897.589 | R33: =SUM(N33-F33)*100/F33 -> -17.3441 | S33: =SUM(O33-G33)*100/G33 -> -17.538082 | T33: =SUM(Q33-I33)*100/I33 -> 0.2352377
A34: 18.พัฒนาและยกระดับผลิตภาพแรงงาน | F34: 0 | I34: 0 | J34: ='ตารางที่ 5 ส่ง'!B26 -> 0 | K34: ='ตารางที่ 5 ส่ง'!C26 -> 0 | L34: ='ตารางที่ 5 ส่ง'!D26 -> 0 | M34: ='ตารางที่ 5 ส่ง'!E26 -> 0 | N34: =SUM(J34:M34) -> 0 | R34: 0 | S34: 0 | T34: 0
A35: 18. พัฒนาระบบการฝึกอบรมฝีมือแรงงาน | B35: 39797170 | C35: 290314.36 | D35: 2645486.2 | E35: 5711159.8 | F35: =SUM(B35:E35) -> 48444131 | G35: 15 | H35: หลักสูตร | I35: =+F35/G35 -> 3229608.7 | J35: ='ตารางที่ 5 ส่ง'!B27 -> 36445050 | K35: ='ตารางที่ 5 ส่ง'!C27 -> 75263.72 | L35: ='ตารางที่ 5 ส่ง'!D27 -> 1392777 | M35: ='ตารางที่ 5 ส่ง'!E27 -> 4249227.5 | N35: =SUM(J35:M35) -> 42162319 | O35: 35 | P35: หลักสูตร | Q35: =+N35/O35 -> 1204637.7 | R35: =SUM(N35-F35)*100/F35 -> -12.967128 | S35: =SUM(O35-G35)*100/G35 -> 133.33333 | T35: =SUM(Q35-I35)*100/I35 -> -62.700198
A36: 19.ส่งเสริมและสนับสนุนให้สถานประกอบกิจการดำเนินการพัฒนาฝีมือแรงงาน | B36: 5.9601e+08 | C36: 4347803.1 | D36: 39619305 | E36: 85531417 | F36: =SUM(B36:E36) -> 7.2550853e+08 | G36: 3978493 | H36: คน | I36: =+F36/G36 -> 182.35762 | J36: ='ตารางที่ 5 ส่ง'!B28 -> 3.8025185e+08 | K36: ='ตารางที่ 5 ส่ง'!C28 -> 785269.02 | L36: ='ตารางที่ 5 ส่ง'!D28 -> 14531632 | M36: ='ตารางที่ 5 ส่ง'!E28 -> 44334598 | N36: =SUM(J36:M36) -> 4.3990335e+08 | O36: 4391901 | P36: คน | Q36: =+N36/O36 -> 100.1624 | R36: =SUM(N36-F36)*100/F36 -> -39.366205 | S36: =SUM(O36-G36)*100/G36 -> 10.39107 | T36: =SUM(Q36-I36)*100/I36 -> -45.073642
A37: 20. จัดทำหลักเกณฑ์ พัฒนาระบบ ส่งเสริมและรับรองมาตรฐานฝีมือแรงงาน | B37: 1.2754046e+08 | C37: 930388.39 | D37: 8478153.3 | E37: 18302907 | F37: =SUM(B37:E37) -> 1.552519e+08 | G37: 17 | H37: สาขา | I37: =+F37/G37 -> 9132465 | J37: ='ตารางที่ 5 ส่ง'!B29 -> 1.1264834e+08 | K37: ='ตารางที่ 5 ส่ง'!C29 -> 232633.32 | L37: ='ตารางที่ 5 ส่ง'!D29 -> 4304947.2 | M37: ='ตารางที่ 5 ส่ง'!E29 -> 13133976 | N37: =SUM(J37:M37) -> 1.3031989e+08 | O37: 21 | P37: สาขา | Q37: =+N37/O37 -> 6205709.2 | R37: =SUM(N37-F37)*100/F37 -> -16.059069 | S37: =SUM(O37-G37)*100/G37 -> 23.529412 | T37: =SUM(Q37-I37)*100/I37 -> -32.047818
A38: 21. พัฒนาช่างเครื่องช่วยคนพิการกับมูลนิธิขาเทียม | B38: 3221675.7 | C38: 23501.64 | D38: 214158.4 | E38: 462331.98 | F38: =SUM(B38:E38) -> 3921667.7 | G38: 61 | H38: คน | I38: =+F38/G38 -> 64289.635 | J38: ='ตารางที่ 5 ส่ง'!B30 -> 3313186.4 | K38: ='ตารางที่ 5 ส่ง'!C30 -> 6842.1564 | L38: ='ตารางที่ 5 ส่ง'!D30 -> 126616.09 | M38: ='ตารางที่ 5 ส่ง'!E30 -> 386293.41 | N38: =SUM(J38:M38) -> 3832938 | O38: 114 | P38: คน | Q38: =+N38/O38 -> 33622.264 | R38: =SUM(N38-F38)*100/F38 -> -2.2625495 | S38: =SUM(O38-G38)*100/G38 -> 86.885246 | T38: =SUM(Q38-I38)*100/I38 -> -47.701891
A39: 22. ขับเคลื่อนยุทธศาสตร์การพัฒนากำลังคนระดับชาติรองรับการพัฒนาอุตสาหกรรมศักยภาพของประเทศ | B39: 32974798 | C39: 240546.18 | D39: 2191974.2 | E39: 4732103.8 | F39: =SUM(B39:E39) -> 40139423 | G39: 3 | H39: อุตสาหกรรม | I39: =+F39/G39 -> 13379808 | J39: ='ตารางที่ 5 ส่ง'!B31 -> 15291629 | K39: ='ตารางที่ 5 ส่ง'!C31 -> 31579.183 | L39: ='ตารางที่ 5 ส่ง'!D31 -> 584381.97 | M39: ='ตารางที่ 5 ส่ง'!E31 -> 1782892.7 | N39: =SUM(J39:M39) -> 17690483 | O39: 5 | P39: ครั้ง | Q39: =+N39/O39 -> 3538096.7 | R39: =SUM(N39-F39)*100/F39 -> -55.92741 | S39: =SUM(O39-G39)*100/G39 -> 66.666667 | T39: =SUM(Q39-I39)*100/I39 -> -73.556446
A40: 23.ฝึกอบรมแรงงานกลุ่มเป้าหมายเฉพาะเพื่อเพิ่มโอกาสในการประกอบอาชีพ | B40: 29374102 | C40: 214279.64 | D40: 1952620.7 | E40: 4215379.9 | F40: =SUM(B40:E40) -> 35756382 | G40: 14365 | H40: คน | I40: =+F40/G40 -> 2489.1321 | J40: ='ตารางที่ 5 ส่ง'!B32 -> 73909542 | K40: ='ตารางที่ 5 ส่ง'!C32 -> 152632.72 | L40: ='ตารางที่ 5 ส่ง'!D32 -> 2824512.9 | M40: ='ตารางที่ 5 ส่ง'!E32 -> 8617314.6 | N40: =SUM(J40:M40) -> 85504003 | O40: 31569 | P40: คน | Q40: =+N40/O40 -> 2708.4799 | R40: =SUM(N40-F40)*100/F40 -> 139.12935 | S40: =SUM(O40-G40)*100/G40 -> 119.76331 | T40: =SUM(Q40-I40)*100/I40 -> 8.8122223
A41: 24. ฝึกอบรมแรงงานผู้สูงอายุเพื่อเพิ่มโอกาสในการประกอบอาชีพ | B41: 28237040 | C41: 205984.95 | D41: 1877035.4 | E41: 4052203.9 | F41: =SUM(B41:E41) -> 34372264 | G41: 7906 | H41: คน | I41: =+F41/G41 -> 4347.6175 | J41: ='ตารางที่ 5 ส่ง'!B33 -> 25740910 | K41: ='ตารางที่ 5 ส่ง'!C33 -> 53158.292 | L41: ='ตารางที่ 5 ส่ง'!D33 -> 983709.65 | M41: ='ตารางที่ 5 ส่ง'!E33 -> 3001202.7 | N41: =SUM(J41:M41) -> 29778980 | O41: 8200 | P41: คน | Q41: =+N41/O41 -> 3631.583 | R41: =SUM(N41-F41)*100/F41 -> -13.363344 | S41: =SUM(O41-G41)*100/G41 -> 3.7186947 | T41: =SUM(Q41-I41)*100/I41 -> -16.469585
A42: 25. เสริมสร้างธรรมาภิบาลป้องกันและลดความเสี่ยงในการเกิดการทุจริตและประพฤติมิชอบ | B42: 947551.68 | C42: 6912.25 | D42: 62987.77 | E42: 135980 | F42: =SUM(B42:E42) -> 1153431.7 | G42: 171 | H42: คน | I42: =+F42/G42 -> 6745.2146 | J42: ='ตารางที่ 5 ส่ง'!B34 -> 764581.47 | K42: ='ตารางที่ 5 ส่ง'!C34 -> 1578.9592 | L42: ='ตารางที่ 5 ส่ง'!D34 -> 29219.099 | M42: ='ตารางที่ 5 ส่ง'!E34 -> 89144.634 | N42: =SUM(J42:M42) -> 884524.16 | O42: 170 | P42: คน | Q42: =+N42/O42 -> 5203.0833 | R42: =SUM(N42-F42)*100/F42 -> -23.313694 | S42: =SUM(O42-G42)*100/G42 -> -0.58479532 | T42: =SUM(Q42-I42)*100/I42 -> -22.862598
A43: 26. พัฒนาอุตสาหกรรมเทคโนโลยีชั้นสูงและอุตสาหกรรมแห่งอนาคตในพื้นที่ระเบียงเศรษฐกิจภาคตะวันออก | J43: ='ตารางที่ 5 ส่ง'!B35 -> 94808103 | K43: ='ตารางที่ 5 ส่ง'!C35 -> 195790.94 | L43: ='ตารางที่ 5 ส่ง'!D35 -> 3623168.2 | M43: ='ตารางที่ 5 ส่ง'!E35 -> 11053935 | N43: =SUM(J43:M43) -> 1.09681e+08 | O43: 10939 | P43: คน | Q43: =+N43/O43 -> 10026.602 | R43: 0 | S43: 0 | T43: 0
A44: 27. ฝึกอบรมฝีมือแรงงานตามโครงการอันเนื่องมาจากพระราชดำริ | B44: 28237040 | C44: 205984.95 | D44: 1877035.4 | E44: 4052203.9 | F44: =SUM(B44:E44) -> 34372264 | G44: 6258 | H44: คน | I44: =+F44/G44 -> 5492.5318 | N44: =SUM(J44:M44) -> 0
A45: 28. จัดตั้งศูนย์ทดสอบมาตรฐานฝีมือแรงงาน | B45: 5116779 | C45: 37326.13 | D45: 340133.93 | E45: 734291.98 | F45: =SUM(B45:E45) -> 6228531.1 | G45: 124 | H45: แห่ง | I45: =+F45/G45 -> 50230.089
A46: 29. จัดหาครุภัณฑ์ฝึกและทดสอบมาตรฐานฝีมือแรงงานพนักงานควบคุมเครื่องจักรรถยก | B46: 41123743 | C46: 299991.5 | D46: 2733669 | E46: 5901531.8 | F46: =SUM(B46:E46) -> 50058935 | G46: 5 | H46: แห่ง | I46: =+F46/G46 -> 10011787
A47: 30. ฝึกอบรมฝีมือแรงงานรองรับระบบขนส่งด้านโลจิสติกส์และก่อสร้าง | B47: 70118824 | C47: 511506.25 | D47: 4661094.7 | E47: 10062520 | F47: =SUM(B47:E47) -> 85353945 | G47: 20958 | H47: คน | I47: =+F47/G47 -> 4072.6188
A48: 31.พัฒนาฝีมือแรงงานเพื่อส่งเสริมการประกอบอาชีพ | B48: 1.5482994e+08 | C48: 1129461.1 | D48: 10292201 | E48: 22219131 | F48: =SUM(B48:E48) -> 1.8847074e+08 | G48: 23791 | H48: คน | I48: =+F48/G48 -> 7921.9342
A49: 32.การฝึกอาชีพเสริมเพื่อการมีงานทำหรือการประกอบอาชีพอิสระ | J49: ='ตารางที่ 5 ส่ง'!B36 -> 6.7767405e+08 | K49: ='ตารางที่ 5 ส่ง'!C36 -> 1399484.1 | L49: ='ตารางที่ 5 ส่ง'!D36 -> 25897861 | M49: ='ตารางที่ 5 ส่ง'!E36 -> 79011860 | N49: =SUM(J49:M49) -> 7.8398325e+08 | O49: 270230 | P49: คน | Q49: =+N49/O49 -> 2901.1703 | R49: 0 | S49: 0 | T49: 0
A50: 33. การส่งเสริมและฝึกอาชีพหลักสูตรฝึกอาชีพเร่งด่วนช่างอเนกประสงค์ (ช่างชุมชน) | J50: ='ตารางที่ 5 ส่ง'!B37 -> 1.1137403e+08 | K50: ='ตารางที่ 5 ส่ง'!C37 -> 230001.72 | L50: ='ตารางที่ 5 ส่ง'!D37 -> 4256248.7 | M50: ='ตารางที่ 5 ส่ง'!E37 -> 12985402 | N50: =SUM(J50:M50) -> 1.2884569e+08 | O50: 11607 | P50: คน | Q50: =+N50/O50 -> 11100.688 | R50: 0 | S50: 0 | T50: 0
A51: รวมต้นทุนผลผลิต | B51: =SUM(B16:B50) -> 1.8951034e+09 | C51: =SUM(C16:C50)-0.03 -> 13824493 | D51: =SUM(D16:D50)-0.01 -> 1.2597553e+08 | E51: =SUM(E16:E50) -> 2.7195999e+08 | F51: =SUM(F16:F50)-0.06 -> 2.3068634e+09 | G51: =SUM(G16:G50) -> 4267389 | I51: =+F51/G51 -> 540.57958 | J51: ='ตารางที่ 5 ส่ง'!B38 -> 2.5486049e+09 | K51: ='ตารางที่ 5 ส่ง'!C38 -> 5263197.2 | L51: ='ตารางที่ 5 ส่ง'!D38 -> 97396995 | M51: ='ตารางที่ 5 ส่ง'!E38 -> 2.9714878e+08 | N51: =SUM(J51:M51) -> 2.9484139e+09 | O51: =SUM(O16:O50) -> 4952816 | Q51: =+N51/O51 -> 595.30051 | R51: =SUM(N51-F51)*100/F51 -> 27.810512 | S51: =SUM(O51-G51)*100/G51 -> 16.061976 | T51: =+(Q51-I51)*100/I51 -> 10.12264

Sheet ตารางที่ 9 ส่ง
A1: กรมพัฒนาฝีมือแรงงาน
A2: รายงานการคำนวณต้นทุนผลผลิต
A3: ประจำปีงบประมาณ พ.ศ. 2561
A4: ตารางเปรียบเทียบผลการคำนวณต้นทุนผลผลิตระหว่างปีงบประมาณ พ.ศ. 2560 และปีงบประมาณ พ.ศ. 2561
A6: ตารางที่ 9 เปรียบเทียบผลการคำนวณต้นทุนกิจกรรมหลักแยกตามแหล่งเงิน
A8: ต้นทุนผลผลิตประจำปีงบประมาณ พ.ศ. 2560 (ต.ค. 59-ก.ย. 60) | J8: ต้นทุนผลผลิตประจำปีงบประมาณ พ.ศ. 2561 (ต.ค. 60-ก.ย. 61) | R8: ผลการเปรียบเทียบ
A9: กิจกรรมหลัก | B9: เงินใน | C9: เงินนอก | D9: งบกลาง | E9: ค่าเสื่อม | F9: ต้นทุน | G9: ปริมาณ | H9: หน่วย | I9: ต้นทุน | J9: เงินใน | K9: เงินนอก | L9: งบกลาง | M9: ค่าเสื่อม | N9: ต้นทุน | O9: ปริมาณ | P9: หน่วย | Q9: ต้นทุน | R9: ต้นทุน | S9: หน่วย | T9: ต้นทุน
B10: งปม. | C10: งปม. | E10: ราคา | F10: รวม | H10: นับ | I10: ต่อหน่วย | J10: งปม. | K10: งปม. | M10: ราคา | N10: รวม | P10: นับ | Q10: ต่อหน่วย | R10: รวม | S10: นับ | T10: ต่อหน่วย
R11: เพิ่ม (ลด) | S11: เพิ่ม (ลด) | T11: เพิ่ม (ลด)
R12: % | S12: % | T12: %
A14: (1) | B14: (2) | C14: (3) | D14: (4) | E14: (5) | F14: (6) =(2) ถึง (5) | G14: (7) | H14: (8) | I14: (9) = (6)/(7) | J14: (10) | K14: (11) | L14: (12) | M14: (13) | N14: (14) =(10) ถึง (13) | O14: (15) | P14: (16) | Q14: (17) = (14)/(15) | R14: (18) = (14)-(6) | S14: (19) = (15)-(7) | T14: (20) = (17)-(9)
R15: *100/(6) | S15: *100/(7) | T15: *100/(9)
A16: 1. ฝึกทักษะอาชีพให้กับกลุ่มเป้าหมายในพื้นที่จังหวัดชายแดนภาคใต้ | B16: ='ตารางที่ 8 ส่ง'!B16 -> 18951034 | C16: ='ตารางที่ 8 ส่ง'!C16 -> 138244.93 | D16: ='ตารางที่ 8 ส่ง'!D16 -> 1259755.3 | E16: ='ตารางที่ 8 ส่ง'!E16 -> 2719599.9 | F16: =SUM(B16:E16) -> 23068634 | G16: 867 | H16: คน | I16: =+F16/G16 -> 26607.421 | J16: ='ตารางที่ 8 ส่ง'!J16 -> 12488164 | K16: ='ตารางที่ 8 ส่ง'!K16 -> 25789.666 | L16: ='ตารางที่ 8 ส่ง'!L16 -> 477245.28 | M16: ='ตารางที่ 8 ส่ง'!M16 -> 1456029 | N16: =SUM(J16:M16) -> 14447228 | O16: 600 | P16: คน | Q16: =+N16/O16 -> 24078.713 | R16: =SUM(N16-F16)*100/F16 -> -37.372849 | S16: =SUM(O16-G16)*100/G16 -> -30.795848 | T16: =SUM(Q16-I16)*100/I16 -> -9.5037669
A17: 2. ฝึกอบรมฝีมือให้กับกลุ่มเป้าหมายตามโครงการพาคนกลับบ้าน | B17: ='ตารางที่ 8 ส่ง'!B17 -> 0 | J17: ='ตารางที่ 8 ส่ง'!J17 -> 4077767.9 | K17: ='ตารางที่ 8 ส่ง'!K17 -> 8421.1155 | L17: ='ตารางที่ 8 ส่ง'!L17 -> 155835.19 | M17: ='ตารางที่ 8 ส่ง'!M17 -> 475438.05 | N17: =SUM(J17:M17) -> 4717462.2 | O17: 200 | P17: คน | Q17: =+N17/O17 -> 23587.311 | R17: 0 | S17: 0 | T17: 0
A18: 3. เพิ่มศักยภาพกำลังแรงงานภาคอุตสาหกรรมและบริการไปสู่ Thailand 4.0 | B18: ='ตารางที่ 8 ส่ง'!B18 -> 4.2564021e+08 | C18: ='ตารางที่ 8 ส่ง'!C18 -> 3104981.2 | D18: ='ตารางที่ 8 ส่ง'!D18 -> 28294104 | E18: ='ตารางที่ 8 ส่ง'!E18 -> 61082214 | F18: ='ตารางที่ 8 ส่ง'!F18 -> 5.1812151e+08 | G18: ='ตารางที่ 8 ส่ง'!G18 -> 100038 | H18: คน | I18: =+F18/G18 -> 5179.247 | J18: ='ตารางที่ 8 ส่ง'!J18 -> 3.9375946e+08 | K18: ='ตารางที่ 8 ส่ง'!K18 -> 813163.97 | L18: ='ตารางที่ 8 ส่ง'!L18 -> 15047836 | M18: ='ตารางที่ 8 ส่ง'!M18 -> 45909486 | N18: =SUM(J18:M18) -> 4.5552994e+08 | O18: 103461 | P18: คน | Q18: =+N18/O18 -> 4402.9146 | R18: =SUM(N18-F18)*100/F18 -> -12.08048 | S18: =SUM(O18-G18)*100/G18 -> 3.4216998 | T18: =SUM(Q18-I18)*100/I18 -> -14.989292
A19: 4. เพิ่มศักยภาพแรงงานเตรียมเข้าสู่อุตสาหกรรมเป้าหมายแห่งอนาคต | J19: ='ตารางที่ 8 ส่ง'!J19 -> 48933214 | K19: ='ตารางที่ 8 ส่ง'!K19 -> 101053.39 | L19: ='ตารางที่ 8 ส่ง'!L19 -> 1870022.3 | M19: ='ตารางที่ 8 ส่ง'!M19 -> 5705256.5 | N19: =SUM(J19:M19) -> 56609547 | O19: 14136 | P19: คน | Q19: =+N19/O19 -> 4004.6369 | R19: 0 | S19: 0 | T19: 0
A20: 5. ศูนย์ฝึกอบรมเทคโนโลยีชั้นสูงรองรับอุตสาหกรรมแห่งอนาคต | J20: ='ตารางที่ 8 ส่ง'!J20 -> 1.5903295e+08 | K20: ='ตารางที่ 8 ส่ง'!K20 -> 328423.51 | L20: ='ตารางที่ 8 ส่ง'!L20 -> 6077572.5 | M20: ='ตารางที่ 8 ส่ง'!M20 -> 18542084 | N20: =SUM(J20:M20) -> 1.8398103e+08 | O20: 10939 | P20: คน | Q20: =+N20/O20 -> 16818.816 | R20: 0 | S20: 0 | T20: 0
A21: 6. พัฒนาหลักสูตรยกระดับฝีมือตามความสามารถ | J21: ='ตารางที่ 8 ส่ง'!J21:J22 -> 764581.47 | K21: ='ตารางที่ 8 ส่ง'!K21:K22 -> 1578.9592 | L21: ='ตารางที่ 8 ส่ง'!L21:L22 -> 29219.099 | M21: ='ตารางที่ 8 ส่ง'!M21:M22 -> 89144.634 | N21: =SUM(J21:M21) -> 884524.16 | O21: 60 | P21: หลักสูตร | Q21: =+N21/O21 -> 14742.069 | R21: 0 | S21: 0 | T21: 0
A22: (Competency Based Curriculum)
A23: 7. จัดทำมาตรฐานฝีมือแรงงานแห่งชาติและวิธีการทดสอบมาตรฐานฝีมือเพื่อรองรับ Thailank 4.0 | J23: ='ตารางที่ 8 ส่ง'!J23 -> 6371512.3 | K23: ='ตารางที่ 8 ส่ง'!K23 -> 13157.993 | L23: ='ตารางที่ 8 ส่ง'!L23 -> 243492.49 | M23: ='ตารางที่ 8 ส่ง'!M23 -> 742871.95 | N23: =SUM(J23:M23) -> 7371034.7 | O23: 10 | P23: สาขา | Q23: =+N23/O23 -> 737103.47 | R23: 0 | S23: 0 | T23: 0
A24: 8. เพิ่มผลิตภาพแรงงานสู่ SME 4.0 | B24: ='ตารางที่ 8 ส่ง'!B24 -> 74098541 | C24: ='ตารางที่ 8 ส่ง'!C24 -> 540537.68 | D24: ='ตารางที่ 8 ส่ง'!D24 -> 4925643.3 | E24: ='ตารางที่ 8 ส่ง'!E24 -> 10633636 | F24: =SUM(B24:E24) -> 90198358 | G24: 13750 | H24: แห่ง | I24: =+F24/G24 -> 6559.8806 | J24: ='ตารางที่ 8 ส่ง'!J24 -> 62695681 | K24: ='ตารางที่ 8 ส่ง'!K24 -> 129474.65 | L24: ='ตารางที่ 8 ส่ง'!L24 -> 2395966.1 | M24: ='ตารางที่ 8 ส่ง'!M24 -> 7309860 | N24: =SUM(J24:M24) -> 72530981 | O24: 12479 | P24: คน | Q24: =+N24/O24 -> 5812.2431 | R24: =SUM(N24-F24)*100/F24 -> -19.587248 | S24: =SUM(O24-G24)*100/G24 -> -9.2436364 | T24: =SUM(Q24-I24)*100/I24 -> -11.39712
A25: 9. เพิ่มทักษะกำลังแรงงานในพื้นที่ 10 จังหวัด ในพื้นที่เขตพัฒนาเศรษฐกิจพิเศษ | B25: ='ตารางที่ 8 ส่ง'!B25 -> 61780369 | C25: ='ตารางที่ 8 ส่ง'!C25 -> 450678.48 | D25: ='ตารางที่ 8 ส่ง'!D25 -> 4106802.3 | E25: ='ตารางที่ 8 ส่ง'!E25 -> 8865895.7 | F25: =SUM(B25:E25) -> 75203746 | G25: 19559 | H25: คน | I25: =+F25/G25 -> 3844.9689 | J25: ='ตารางที่ 8 ส่ง'!J25 -> 46384609 | K25: ='ตารางที่ 8 ส่ง'!K25 -> 95790.189 | L25: ='ตารางที่ 8 ส่ง'!L25 -> 1772625.3 | M25: ='ตารางที่ 8 ส่ง'!M25 -> 5408107.8 | N25: =SUM(J25:M25) -> 53661133 | O25: 11869 | P25: คน | Q25: =+N25/O25 -> 4521.1166 | R25: =SUM(N25-F25)*100/F25 -> -28.645665 | S25: =SUM(O25-G25)*100/G25 -> -39.316938 | T25: =SUM(Q25-I25)*100/I25 -> 17.585259
A26: 10. วิจัยเพื่อขับเคลื่อนผลิตภาพแรงงานสู่ Thailand 4.0 | B26: ='ตารางที่ 8 ส่ง'!B26 -> 0 | J26: ='ตารางที่ 8 ส่ง'!J26 -> 1274302.5 | K26: ='ตารางที่ 8 ส่ง'!K26 -> 2631.5986 | L26: ='ตารางที่ 8 ส่ง'!L26 -> 48698.498 | M26: ='ตารางที่ 8 ส่ง'!M26 -> 148574.39 | N26: =SUM(J26:M26) -> 1474206.9 | O26: 3 | P26: เรื่อง | Q26: =+N26/O26 -> 491402.31
A27: 11. ควบคุมและกำกับดูแลการประกอบอาชีพที่อาจเป็นอันตรายต่อสาธารณะหรือต้องใช้ความรู้ความสามารถสู่ Safety At Work | B27: ='ตารางที่ 8 ส่ง'!B27 -> 13834254 | C27: ='ตารางที่ 8 ส่ง'!C27 -> 100918.8 | D27: ='ตารางที่ 8 ส่ง'!D27 -> 919621.38 | E27: ='ตารางที่ 8 ส่ง'!E27 -> 1985307.9 | F27: ='ตารางที่ 8 ส่ง'!F27 -> 16840103 | G27: ='ตารางที่ 8 ส่ง'!G27 -> 1235 | H27: คน | I27: =+F27/G27 -> 13635.711 | J27: ='ตารางที่ 8 ส่ง'!J27 -> 8920117.2 | K27: ='ตารางที่ 8 ส่ง'!K27 -> 18421.19 | L27: ='ตารางที่ 8 ส่ง'!L27 -> 340889.48 | M27: ='ตารางที่ 8 ส่ง'!M27 -> 1040020.7 | N27: =SUM(J27:M27) -> 10319449 | O27: 25924 | P27: คน | Q27: =+N27/O27 -> 398.06544 | R27: =SUM(N27-F27)*100/F27 -> -38.720987 | S27: =SUM(O27-G27)*100/G27 -> 1999.1093 | T27: =SUM(Q27-I27)*100/I27 -> -97.080714
A28: 12. พัฒนาฝีมือให้แก่กลุ่มวิสาหกิจชุมชน และผู้มีรายได้น้อย | J28: ='ตารางที่ 8 ส่ง'!J28 -> 13762467 | K28: ='ตารางที่ 8 ส่ง'!K28 -> 28421.265 | L28: ='ตารางที่ 8 ส่ง'!L28 -> 525943.78 | M28: ='ตารางที่ 8 ส่ง'!M28 -> 1604603.4 | N28: =SUM(J28:M28) -> 15921435 | O28: 4063 | P28: แห่ง | Q28: =+N28/O28 -> 3918.6402 | R28: 0 | S28: 0 | T28: 0
A29: 13. ทดสอบมาตรฐานฝีมือแรงงานให้มีสมรรถนะ | B29: ='ตารางที่ 8 ส่ง'!B29 -> 1.1162159e+08 | C29: ='ตารางที่ 8 ส่ง'!C29 -> 814262.65 | D29: ='ตารางที่ 8 ส่ง'!D29 -> 7419958.8 | E29: ='ตารางที่ 8 ส่ง'!E29 -> 16018443 | F29: =SUM(B29:E29) -> 1.3587425e+08 | G29: 77344 | H29: คน | I29: =+F29/G29 -> 1756.7523 | J29: ='ตารางที่ 8 ส่ง'!J29 -> 2.0439811e+08 | K29: ='ตารางที่ 8 ส่ง'!K29 -> 422108.42 | L29: ='ตารางที่ 8 ส่ง'!L29 -> 7811239 | M29: ='ตารางที่ 8 ส่ง'!M29 -> 23831332 | N29: =SUM(J29:M29) -> 2.3646279e+08 | O29: 36832 | P29: คน | Q29: =+N29/O29 -> 6420.0367 | R29: =SUM(N29-F29)*100/F29 -> 74.030612 | S29: =SUM(O29-G29)*100/G29 -> -52.378982 | T29: =SUM(Q29-I29)*100/I29 -> 265.44917
A30: 14. ส่งเสริมมาตรฐานฝีมือแรงงานแห่งชาติ | J30: ='ตารางที่ 8 ส่ง'!J30 -> 3313186.4 | K30: ='ตารางที่ 8 ส่ง'!K30 -> 6842.1564 | L30: ='ตารางที่ 8 ส่ง'!L30 -> 126616.09 | M30: ='ตารางที่ 8 ส่ง'!M30 -> 386293.41 | N30: =SUM(J30:M30) -> 3832938 | O30: 129 | P30: แห่ง | Q30: =+N30/O30 -> 29712.698 | R30: 0 | S30: 0 | T30: 0
A31: 15. พัฒนาศักยภาพแรงงานเพื่อรองรับการจ่ายค่าจ้างตามมาตรฐานฝีมือ | J31: ='ตารางที่ 8 ส่ง'!J31 -> 16056211 | K31: ='ตารางที่ 8 ส่ง'!K31 -> 33158.142 | L31: ='ตารางที่ 8 ส่ง'!L31 -> 613601.07 | M31: ='ตารางที่ 8 ส่ง'!M31 -> 1872037.3 | N31: =SUM(J31:M31) -> 18575007 | O31: 5071 | P31: คน | Q31: =+N31/O31 -> 3662.9871 | R31: 0 | S31: 0 | T31: 0
A32: 16. พัฒนาศักยภาพมาตรฐานฝีมือแรงงานไทยในต่างประเทศ | J32: ='ตารางที่ 8 ส่ง'!J32 -> 6626372.8 | K32: ='ตารางที่ 8 ส่ง'!K32 -> 13684.313 | L32: ='ตารางที่ 8 ส่ง'!L32 -> 253232.19 | M32: ='ตารางที่ 8 ส่ง'!M32 -> 772586.82 | N32: =SUM(J32:M32) -> 7665876.1 | O32: 246 | P32: คน | Q32: =+N32/O32 -> 31162.098 | R32: 0 | S32: 0 | T32: 0
A33: 17. พัฒนาฝีมือแรงงานนานาชาติ | B33: ='ตารางที่ 8 ส่ง'!B33 -> 31648226 | C33: ='ตารางที่ 8 ส่ง'!C33 -> 230869.04 | D33: ='ตารางที่ 8 ส่ง'!D33 -> 2103791.4 | E33: ='ตารางที่ 8 ส่ง'!E33 -> 4541731.8 | F33: =SUM(B33:E33) -> 38524618 | G33: 2429 | H33: คน | I33: =+F33/G33 -> 15860.279 | J33: ='ตารางที่ 8 ส่ง'!J33 -> 27524933 | K33: ='ตารางที่ 8 ส่ง'!K33 -> 56842.53 | L33: ='ตารางที่ 8 ส่ง'!L33 -> 1051887.6 | M33: ='ตารางที่ 8 ส่ง'!M33 -> 3209206.8 | N33: =SUM(J33:M33) -> 31842870 | O33: 2003 | P33: คน | Q33: =+N33/O33 -> 15897.589 | R33: =SUM(N33-F33)*100/F33 -> -17.3441 | S33: =SUM(O33-G33)*100/G33 -> -17.538082 | T33: =SUM(Q33-I33)*100/I33 -> 0.2352377
A34: 18.พัฒนาและยกระดับผลิตภาพแรงงาน | J34: ='ตารางที่ 8 ส่ง'!J34 -> 0 | K34: ='ตารางที่ 8 ส่ง'!K34 -> 0 | L34: ='ตารางที่ 8 ส่ง'!L34 -> 0 | M34: ='ตารางที่ 8 ส่ง'!M34 -> 0 | N34: =SUM(J34:M34) -> 0 | R34: 0 | S34: 0 | T34: 0
A35: 18. พัฒนาระบบการฝึกอบรมฝีมือแรงงาน | B35: ='ตารางที่ 8 ส่ง'!B35 -> 39797170 | C35: ='ตารางที่ 8 ส่ง'!C35 -> 290314.36 | D35: ='ตารางที่ 8 ส่ง'!D35 -> 2645486.2 | E35: ='ตารางที่ 8 ส่ง'!E35 -> 5711159.8 | F35: =SUM(B35:E35) -> 48444131 | G35: 15 | H35: หลักสูตร | I35: =+F35/G35 -> 3229608.7 | J35: ='ตารางที่ 8 ส่ง'!J35 -> 36445050 | K35: ='ตารางที่ 8 ส่ง'!K35 -> 75263.72 | L35: ='ตารางที่ 8 ส่ง'!L35 -> 1392777 | M35: ='ตารางที่ 8 ส่ง'!M35 -> 4249227.5 | N35: =SUM(J35:M35) -> 42162319 | O35: 35 | P35: หลักสูตร | Q35: =+N35/O35 -> 1204637.7 | R35: =SUM(N35-F35)*100/F35 -> -12.967128 | S35: =SUM(O35-G35)*100/G35 -> 133.33333 | T35: =SUM(Q35-I35)*100/I35 -> -62.700198
A36: 19.ส่งเสริมและสนับสนุนให้สถานประกอบกิจการดำเนินการพัฒนาฝีมือแรงงาน | B36: ='ตารางที่ 8 ส่ง'!B36 -> 5.9601e+08 | C36: ='ตารางที่ 8 ส่ง'!C36 -> 4347803.1 | D36: ='ตารางที่ 8 ส่ง'!D36 -> 39619305 | E36: ='ตารางที่ 8 ส่ง'!E36 -> 85531417 | F36: =SUM(B36:E36) -> 7.2550853e+08 | G36: 3978493 | H36: คน | I36: =+F36/G36 -> 182.35762 | J36: ='ตารางที่ 8 ส่ง'!J36 -> 3.8025185e+08 | K36: ='ตารางที่ 8 ส่ง'!K36 -> 785269.02 | L36: ='ตารางที่ 8 ส่ง'!L36 -> 14531632 | M36: ='ตารางที่ 8 ส่ง'!M36 -> 44334598 | N36: =SUM(J36:M36) -> 4.3990335e+08 | O36: 4391901 | P36: คน | Q36: =+N36/O36 -> 100.1624 | R36: =SUM(N36-F36)*100/F36 -> -39.366205 | S36: =SUM(O36-G36)*100/G36 -> 10.39107 | T36: =SUM(Q36-I36)*100/I36 -> -45.073642
A37: 20. จัดทำหลักเกณฑ์ พัฒนาระบบ ส่งเสริมและรับรองมาตรฐานฝีมือแรงงาน | B37: ='ตารางที่ 8 ส่ง'!B37 -> 1.2754046e+08 | C37: ='ตารางที่ 8 ส่ง'!C37 -> 930388.39 | D37: ='ตารางที่ 8 ส่ง'!D37 -> 8478153.3 | E37: ='ตารางที่ 8 ส่ง'!E37 -> 18302907 | F37: =SUM(B37:E37) -> 1.552519e+08 | G37: 17 | H37: สาขา | I37: =+F37/G37 -> 9132465 | J37: ='ตารางที่ 8 ส่ง'!J37 -> 1.1264834e+08 | K37: ='ตารางที่ 8 ส่ง'!K37 -> 232633.32 | L37: ='ตารางที่ 8 ส่ง'!L37 -> 4304947.2 | M37: ='ตารางที่ 8 ส่ง'!M37 -> 13133976 | N37: =SUM(J37:M37) -> 1.3031989e+08 | O37: 21 | P37: สาขา | Q37: =+N37/O37 -> 6205709.2 | R37: =SUM(N37-F37)*100/F37 -> -16.059069 | S37: =SUM(O37-G37)*100/G37 -> 23.529412 | T37: =SUM(Q37-I37)*100/I37 -> -32.047818
A38: 21. พัฒนาช่างเครื่องช่วยคนพิการกับมูลนิธิขาเทียม | B38: ='ตารางที่ 8 ส่ง'!B38 -> 3221675.7 | C38: ='ตารางที่ 8 ส่ง'!C38 -> 23501.64 | D38: ='ตารางที่ 8 ส่ง'!D38 -> 214158.4 | E38: ='ตารางที่ 8 ส่ง'!E38 -> 462331.98 | F38: =SUM(B38:E38) -> 3921667.7 | G38: 61 | H38: คน | I38: =+F38/G38 -> 64289.635 | J38: ='ตารางที่ 8 ส่ง'!J38 -> 3313186.4 | K38: ='ตารางที่ 8 ส่ง'!K38 -> 6842.1564 | L38: ='ตารางที่ 8 ส่ง'!L38 -> 126616.09 | M38: ='ตารางที่ 8 ส่ง'!M38 -> 386293.41 | N38: =SUM(J38:M38) -> 3832938 | O38: 114 | P38: คน | Q38: =+N38/O38 -> 33622.264 | R38: =SUM(N38-F38)*100/F38 -> -2.2625495 | S38: =SUM(O38-G38)*100/G38 -> 86.885246 | T38: =SUM(Q38-I38)*100/I38 -> -47.701891
A39: 22. ขับเคลื่อนยุทธศาสตร์การพัฒนากำลังคนระดับชาติรองรับการพัฒนาอุตสาหกรรมศักยภาพของประเทศ | B39: ='ตารางที่ 8 ส่ง'!B39 -> 32974798 | C39: ='ตารางที่ 8 ส่ง'!C39 -> 240546.18 | D39: ='ตารางที่ 8 ส่ง'!D39 -> 2191974.2 | E39: ='ตารางที่ 8 ส่ง'!E39 -> 4732103.8 | F39: =SUM(B39:E39) -> 40139423 | G39: 3 | H39: อุตสาหกรรม | I39: =+F39/G39 -> 13379808 | J39: ='ตารางที่ 8 ส่ง'!J39 -> 15291629 | K39: ='ตารางที่ 8 ส่ง'!K39 -> 31579.183 | L39: ='ตารางที่ 8 ส่ง'!L39 -> 584381.97 | M39: ='ตารางที่ 8 ส่ง'!M39 -> 1782892.7 | N39: =SUM(J39:M39) -> 17690483 | O39: 5 | P39: ครั้ง | Q39: =+N39/O39 -> 3538096.7 | R39: =SUM(N39-F39)*100/F39 -> -55.92741 | S39: =SUM(O39-G39)*100/G39 -> 66.666667 | T39: =SUM(Q39-I39)*100/I39 -> -73.556446
A40: 23.ฝึกอบรมแรงงานกลุ่มเป้าหมายเฉพาะเพื่อเพิ่มโอกาสในการประกอบอาชีพ | B40: ='ตารางที่ 8 ส่ง'!B40 -> 29374102 | C40: ='ตารางที่ 8 ส่ง'!C40 -> 214279.64 | D40: ='ตารางที่ 8 ส่ง'!D40 -> 1952620.7 | E40: ='ตารางที่ 8 ส่ง'!E40 -> 4215379.9 | F40: =SUM(B40:E40) -> 35756382 | G40: 14365 | H40: คน | I40: =+F40/G40 -> 2489.1321 | J40: ='ตารางที่ 8 ส่ง'!J40 -> 73909542 | K40: ='ตารางที่ 8 ส่ง'!K40 -> 152632.72 | L40: ='ตารางที่ 8 ส่ง'!L40 -> 2824512.9 | M40: ='ตารางที่ 8 ส่ง'!M40 -> 8617314.6 | N40: =SUM(J40:M40) -> 85504003 | O40: 31569 | P40: คน | Q40: =+N40/O40 -> 2708.4799 | R40: =SUM(N40-F40)*100/F40 -> 139.12935 | S40: =SUM(O40-G40)*100/G40 -> 119.76331 | T40: =SUM(Q40-I40)*100/I40 -> 8.8122223
A41: 24. ฝึกอบรมแรงงานผู้สูงอายุเพื่อเพิ่มโอกาสในการประกอบอาชีพ | B41: ='ตารางที่ 8 ส่ง'!B41 -> 28237040 | C41: ='ตารางที่ 8 ส่ง'!C41 -> 205984.95 | D41: ='ตารางที่ 8 ส่ง'!D41 -> 1877035.4 | E41: ='ตารางที่ 8 ส่ง'!E41 -> 4052203.9 | F41: =SUM(B41:E41) -> 34372264 | G41: 7906 | H41: คน | I41: =+F41/G41 -> 4347.6175 | J41: ='ตารางที่ 8 ส่ง'!J41 -> 25740910 | K41: ='ตารางที่ 8 ส่ง'!K41 -> 53158.292 | L41: ='ตารางที่ 8 ส่ง'!L41 -> 983709.65 | M41: ='ตารางที่ 8 ส่ง'!M41 -> 3001202.7 | N41: =SUM(J41:M41) -> 29778980 | O41: 8200 | P41: คน | Q41: =+N41/O41 -> 3631.583 | R41: =SUM(N41-F41)*100/F41 -> -13.363344 | S41: =SUM(O41-G41)*100/G41 -> 3.7186947 | T41: =SUM(Q41-I41)*100/I41 -> -16.469585
A42: 25. เสริมสร้างธรรมาภิบาลป้องกันและลดความเสี่ยงในการเกิดการทุจริตและประพฤติมิชอบ | B42: ='ตารางที่ 8 ส่ง'!B42 -> 947551.68 | C42: ='ตารางที่ 8 ส่ง'!C42 -> 6912.25 | D42: ='ตารางที่ 8 ส่ง'!D42 -> 62987.77 | E42: ='ตารางที่ 8 ส่ง'!E42 -> 135980 | F42: =SUM(B42:E42) -> 1153431.7 | G42: 171 | H42: คน | I42: =+F42/G42 -> 6745.2146 | J42: ='ตารางที่ 8 ส่ง'!J42 -> 764581.47 | K42: ='ตารางที่ 8 ส่ง'!K42 -> 1578.9592 | L42: ='ตารางที่ 8 ส่ง'!L42 -> 29219.099 | M42: ='ตารางที่ 8 ส่ง'!M42 -> 89144.634 | N42: =SUM(J42:M42) -> 884524.16 | O42: 170 | P42: คน | Q42: =+N42/O42 -> 5203.0833 | R42: =SUM(N42-F42)*100/F42 -> -23.313694 | S42: =SUM(O42-G42)*100/G42 -> -0.58479532 | T42: =SUM(Q42-I42)*100/I42 -> -22.862598
A43: 26. พัฒนาอุตสาหกรรมเทคโนโลยีชั้นสูงและอุตสาหกรรมแห่งอนาคตในพื้นที่ระเบียงเศรษฐกิจภาคตะวันออก | J43: ='ตารางที่ 8 ส่ง'!J43 -> 94808103 | K43: ='ตารางที่ 8 ส่ง'!K43 -> 195790.94 | L43: ='ตารางที่ 8 ส่ง'!L43 -> 3623168.2 | M43: ='ตารางที่ 8 ส่ง'!M43 -> 11053935 | N43: =SUM(J43:M43) -> 1.09681e+08 | O43: 10939 | P43: คน | Q43: =+N43/O43 -> 10026.602 | R43: 0 | S43: 0 | T43: 0
A44: 27. ฝึกอบรมฝีมือแรงงานตามโครงการอันเนื่องมาจากพระราชดำริ | B44: ='ตารางที่ 8 ส่ง'!B44 -> 28237040 | C44: ='ตารางที่ 8 ส่ง'!C44 -> 205984.95 | D44: ='ตารางที่ 8 ส่ง'!D44 -> 1877035.4 | E44: ='ตารางที่ 8 ส่ง'!E44 -> 4052203.9 | F44: =SUM(B44:E44) -> 34372264 | G44: 6258 | H44: คน | I44: =F44/G44 -> 5492.5318 | N44: =SUM(J44:M44) -> 0
A45: 28. จัดตั้งศูนย์ทดสอบมาตรฐานฝีมือแรงงาน | B45: ='ตารางที่ 8 ส่ง'!B45 -> 5116779 | C45: ='ตารางที่ 8 ส่ง'!C45 -> 37326.13 | D45: ='ตารางที่ 8 ส่ง'!D45 -> 340133.93 | E45: ='ตารางที่ 8 ส่ง'!E45 -> 734291.98 | F45: =SUM(B45:E45) -> 6228531.1 | G45: 124 | H45: แห่ง | I45: =F45/G45 -> 50230.089
A46: 29. จัดหาครุภัณฑ์ฝึกและทดสอบมาตรฐานฝีมือแรงงานพนักงานควบคุมเครื่องจักรรถยก | B46: ='ตารางที่ 8 ส่ง'!B46 -> 41123743 | C46: ='ตารางที่ 8 ส่ง'!C46 -> 299991.5 | D46: ='ตารางที่ 8 ส่ง'!D46 -> 2733669 | E46: ='ตารางที่ 8 ส่ง'!E46 -> 5901531.8 | F46: =SUM(B46:E46) -> 50058935 | G46: 5 | H46: แห่ง | I46: =F46/G46 -> 10011787
A47: 30. ฝึกอบรมฝีมือแรงงานรองรับระบบขนส่งด้านโลจิสติกส์และก่อสร้าง | B47: ='ตารางที่ 8 ส่ง'!B47 -> 70118824 | C47: ='ตารางที่ 8 ส่ง'!C47 -> 511506.25 | D47: ='ตารางที่ 8 ส่ง'!D47 -> 4661094.7 | E47: ='ตารางที่ 8 ส่ง'!E47 -> 10062520 | F47: =SUM(B47:E47) -> 85353945 | G47: 20958 | H47: คน | I47: =F47/G47 -> 4072.6188
A48: 31. พัฒนาฝีมือแรงงานเพื่อส่งเสริมการประกอบอาชีพ | B48: ='ตารางที่ 8 ส่ง'!B48 -> 1.5482994e+08 | C48: ='ตารางที่ 8 ส่ง'!C48 -> 1129461.1 | D48: ='ตารางที่ 8 ส่ง'!D48 -> 10292201 | E48: ='ตารางที่ 8 ส่ง'!E48 -> 22219131 | F48: =SUM(B48:E48) -> 1.8847074e+08 | G48: 23791 | H48: คน | I48: =F48/G48 -> 7921.9342
A49: 32. การฝึกอาชีพเสริมเพื่อการมีงานทำหรือการประกอบอาชีพอิสระ | J49: ='ตารางที่ 8 ส่ง'!J49 -> 6.7767405e+08 | K49: ='ตารางที่ 8 ส่ง'!K49 -> 1399484.1 | L49: ='ตารางที่ 8 ส่ง'!L49 -> 25897861 | M49: ='ตารางที่ 8 ส่ง'!M49 -> 79011860 | N49: =SUM(J49:M49) -> 7.8398325e+08 | O49: 270230 | P49: คน | Q49: =+N49/O49 -> 2901.1703 | R49: 0 | S49: 0 | T49: 0
A50: 33. การส่งเสริมและฝึกอาชีพหลักสูตรฝึกอาชีพเร่งด่วนช่างอเนกประสงค์ (ช่างชุมชน) | J50: ='ตารางที่ 8 ส่ง'!J50 -> 1.1137403e+08 | K50: ='ตารางที่ 8 ส่ง'!K50 -> 230001.72 | L50: ='ตารางที่ 8 ส่ง'!L50 -> 4256248.7 | M50: ='ตารางที่ 8 ส่ง'!M50 -> 12985402 | N50: =SUM(J50:M50) -> 1.2884569e+08 | O50: 11607 | P50: คน | Q50: =+N50/O50 -> 11100.688 | R50: 0 | S50: 0 | T50: 0
A51: รวมต้นทุนผลผลิต | B51: =SUM(B16:B50) -> 1.8951034e+09 | C51: =SUM(C16:C50)-0.03 -> 13824493 | D51: =SUM(D16:D50)-0.01 -> 1.2597553e+08 | E51: =SUM(E16:E50) -> 2.7195999e+08 | F51: =+B51+C51+D51+E51-0.02 -> 2.3068634e+09 | G51: =SUM(G16:G49) -> 4267389 | I51: =+F51/G51 -> 540.57958 | J51: ='ตารางที่ 8 ส่ง'!J51 -> 2.5486049e+09 | K51: ='ตารางที่ 8 ส่ง'!K51 -> 5263197.2 | L51: ='ตารางที่ 8 ส่ง'!L51 -> 97396995 | M51: ='ตารางที่ 8 ส่ง'!M51 -> 2.9714878e+08 | N51: =SUM(J51:M51) -> 2.9484139e+09 | O51: =SUM(O16:O50) -> 4952816 | Q51: =N51/O51 -> 595.30051 | R51: =(N51-F51)*100/F51 -> 27.810512 | S51: =(O51-G51)*100/G51 -> 16.061976 | T51: =(Q51-I51)*100/I51 -> 10.12264

Sheet ตารางที่ 10 ส่ง
A1: กรมพัฒนาฝีมือแรงงาน
A2: รายงานการคำนวณต้นทุนผลผลิต
A3: ประจำปีงบประมาณ พ.ศ. 2561
A4: ตารางเปรียบเทียบผลการคำนวณต้นทุนผลผลิตระหว่างปีงบประมาณ พ.ศ. 2560 และปีงบประมาณ พ.ศ. 2561
A6: ตารางที่ 10 เปรียบเทียบผลการคำนวณต้นทุนผลผลิตหลักแยกตามแหล่งเงิน
A8: ต้นทุนผลผลิตประจำปีงบประมาณ พ.ศ. 2560 (ต.ค. 59-ก.ย. 60) | J8: ต้นทุนผลผลิตประจำปีงบประมาณ พ.ศ. 2561 (ต.ค. 60-ก.ย. 61) | R8: ผลการเปรียบเทียบ
A9: ผลผลิตหลัก/โครงการ | B9: เงินใน | C9: เงินนอก | D9: งบกลาง | E9: ค่าเสื่อม | F9: ต้นทุน | G9: ปริมาณ | H9: หน่วย | I9: ต้นทุน | J9: เงินใน | K9: เงินนอก | L9: งบกลาง | M9: ค่าเสื่อม | N9: ต้นทุน | O9: ปริมาณ | P9: หน่วย | Q9: ต้นทุน | R9: ต้นทุน | S9: หน่วย | T9: ต้นทุน
B10: งปม. | C10: งปม. | E10: ราคา | F10: รวม | H10: นับ | I10: ต่อหน่วย | J10: งปม. | K10: งปม. | M10: ราคา | N10: รวม | P10: นับ | Q10: ต่อหน่วย | R10: รวม | S10: นับ | T10: ต่อหน่วย
R11: เพิ่ม (ลด) | S11: เพิ่ม (ลด) | T11: เพิ่ม (ลด)
J12: 31499795 | K12: 179713.28 | L12: 1588493.2 | M12: 4091543.4 | N12: 76847164 | R12: เพิ่ม (ลด) % | S12: เพิ่ม (ลด) % | T12: เพิ่ม (ลด) %
A13: (1) | B13: (2) | C13: (3) | D13: (4) | E13: (5) | F13: (6) =(2) ถึง (5) | G13: (7) | H13: (8) | I13: (9) = (6)/(7) | J13: (10) | K13: (11) | L13: (12) | M13: (13) | N13: (14) =(10) ถึง (13) | O13: (15) | P13: (16) | Q13: (17) = (14)/(15) | R13: (18) = (14)-(6) | S13: (19) = (15)-(7) | T13: (20) = (17)-(9)
R14: *100/(6) | S14: *100/(7) | T14: *100/(9)
A15: 1. โครงการอบรมฝีมือแรงงานในพั้นที่จังหวัดชายแดนภาคใต้ | B15: 18951034 | C15: 138244.93 | D15: 1259755.3 | E15: 2719599.9 | F15: =SUM(B15:E15) -> 23068634 | G15: 867 | H15: คน | I15: =+F15/G15 -> 26607.421 | J15: ='ตารางที่ 6 ส่ง'!B8 -> 16565932 | K15: ='ตารางที่ 6 ส่ง'!C8 -> 34210.782 | L15: ='ตารางที่ 6 ส่ง'!D8 -> 633080.47 | M15: ='ตารางที่ 6 ส่ง'!E8 -> 1931467.1 | N15: =SUM(J15:M15) -> 19164690 | O15: ='ตารางที่ 6 ส่ง'!G8 -> 800 | P15: คน | Q15: =+N15/O15 -> 23955.863 | R15: =SUM(N15-F15)*100/F15 -> -16.923167 | S15: =SUM(O15-G15)*100/G15 -> -7.727797 | T15: =SUM(Q15-I15)*100/I15 -> -9.9654824
A16: 2.โครงการเพิ่มศักยภาพแรงงานรองรับ Thailand 4.0 | B16: 5.702366e+08 | C16: 4159790 | D16: 37906037 | E16: 81832761 | F16: =SUM(B16:E16) -> 6.9413519e+08 | G16: 177382 | H16: คน | I16: =+F16/G16 -> 3913.2222 | J16: ='ตารางที่ 6 ส่ง'!B9 -> 4.4269267e+08 | K16: ='ตารางที่ 6 ส่ง'!C9 -> 914217.35 | L16: ='ตารางที่ 6 ส่ง'!D9 -> 16917858 | M16: ='ตารางที่ 6 ส่ง'!E9 -> 51614743 | N16: =SUM(J16:M16) -> 5.1213949e+08 | O16: 117597 | P16: คน | Q16: =+N16/O16 -> 4355.0387 | R16: 0 | S16: 0 | T16: 0
A17: 3.โครงการศูนย์ฝึกอบรมเทคโนโลยีชั้นสูงรองรับอุตสาหกรรมแห่งอนาคต | J17: ='ตารางที่ 6 ส่ง'!B10 -> 1.5903295e+08 | K17: ='ตารางที่ 6 ส่ง'!C10 -> 328423.51 | L17: ='ตารางที่ 6 ส่ง'!D10 -> 6077572.5 | M17: ='ตารางที่ 6 ส่ง'!E10 -> 18542084 | N17: =SUM(J17:M17) -> 1.8398103e+08 | O17: 10939 | P17: คน | Q17: =+N17/O17 -> 16818.816 | R17: 0 | S17: 0 | T17: 0
A18: 4. โครงการบูรณาการจัดทำมาตรฐานฝีมือแรงงาน และพัฒนาหลักสูตรรองรับ Thailand 4.0 | J18: ='ตารางที่ 6 ส่ง'!B11 -> 7136093.7 | K18: ='ตารางที่ 6 ส่ง'!C11 -> 14736.952 | L18: ='ตารางที่ 6 ส่ง'!D11 -> 272711.59 | M18: ='ตารางที่ 6 ส่ง'!E11 -> 832016.58 | N18: =SUM(J18:M18) -> 8255558.9 | O18: 70 | P18: หลักสูตร/สาขา | Q18: =+N18/O18 -> 117936.56 | R18: 0 | S18: 0 | T18: 0
A19: 5. โครงการเพิ่มผลิตภาพแรงงานสู่ SME 4.0 (STEM Workforce Towards SMA 4.0) | B19: 74098541 | C19: 540537.68 | D19: 4925643.3 | E19: 10633636 | F19: =SUM(B19:E19) -> 90198358 | G19: 13750 | H19: แห่ง | I19: =+F19/G19 -> 6559.8806 | J19: ='ตารางที่ 6 ส่ง'!B12 -> 62695681 | K19: ='ตารางที่ 6 ส่ง'!C12 -> 129474.65 | L19: ='ตารางที่ 6 ส่ง'!D12 -> 2395966.1 | M19: ='ตารางที่ 6 ส่ง'!E12 -> 7309860 | N19: =SUM(J19:M19) -> 72530981 | O19: 12479 | P19: คน | Q19: =+N19/O19 -> 5812.2431 | R19: =SUM(N19-F19)*100/F19 -> -19.587248 | S19: =SUM(O19-G19)*100/G19 -> -9.2436364 | T19: =SUM(Q19-I19)*100/I19 -> -11.39712
A20: 6. โครงการเพิ่มทักษะกำลังแรงงานในพื้นที่ 10 จังหวัด ในพื้นที่เขตพัฒนาเศรษฐกิจพิเศษ | B20: 1.0290411e+08 | C20: 750669.98 | D20: 6840471.3 | E20: 14767428 | F20: =SUM(B20:E20) -> 1.2526268e+08 | G20: 19559 | H20: คน | I20: =+F20/G20 -> 6404.35 | J20: ='ตารางที่ 6 ส่ง'!B13 -> 46384609 | K20: ='ตารางที่ 6 ส่ง'!C13 -> 95790.189 | L20: ='ตารางที่ 6 ส่ง'!D13 -> 1772625.3 | M20: ='ตารางที่ 6 ส่ง'!E13 -> 5408107.8 | N20: =SUM(J20:M20) -> 53661133 | O20: 11869 | P20: คน | Q20: =+N20/O20 -> 4521.1166 | R20: =SUM(N20-F20)*100/F20 -> -57.161117 | S20: =SUM(O20-G20)*100/G20 -> -39.316938 | T20: =SUM(Q20-I20)*100/I20 -> -29.405535
A21: 7. โครงการฝึกอบรมฝีมือแรงงานรองรับระบบขนส่งด้านโลจิสติกส์และก่อสร้าง | B21: 70118824 | C21: 511506.25 | D21: 4661094.7 | E21: 10062520 | F21: =SUM(B21:E21) -> 85353945 | G21: 20958 | H21: คน | I21: =+F21/G21 -> 4072.6188 | R21: 0 | S21: 0 | T21: 0
A22: 8. โครงการวิจัยเพื่อขับเคลื่อนผลิตภาพแรงงานสู่ Thailand 4.0 | J22: ='ตารางที่ 6 ส่ง'!B14 -> 1274302.5 | K22: ='ตารางที่ 6 ส่ง'!C14 -> 2631.5986 | L22: ='ตารางที่ 6 ส่ง'!D14 -> 48698.498 | M22: ='ตารางที่ 6 ส่ง'!E14 -> 148574.39 | N22: =SUM(J22:M22) -> 1474206.9 | O22: 3 | P22: เรื่อง | Q22: =+N22/O22 -> 491402.31 | R22: 0 | S22: 0 | T22: 0
A23: 9. โครงการควบคุมและกำกับดูแลการประกอบอาชีพที่อาจเป็นอันตรายต่อสาธารณะ | J23: ='ตารางที่ 6 ส่ง'!B15 -> 8920117.2 | K23: ='ตารางที่ 6 ส่ง'!C15 -> 18421.19 | L23: ='ตารางที่ 6 ส่ง'!D15 -> 340889.48 | M23: ='ตารางที่ 6 ส่ง'!E15 -> 1040020.7 | N23: =SUM(J23:M23) -> 10319449 | O23: ='ตารางที่ 6 ส่ง'!G15 -> 25924 | P23: คน | Q23: =+N23/O23 -> 398.06544 | R23: 0 | S23: 0 | T23: 0
A24: 10. โครงการพัฒนาฝีมือให้แก่กลุ่มวิสาหกิจชุมขน และผู้มีรายได้น้อย | B24: 0 | C24: 0 | D24: 0 | E24: 0 | J24: ='ตารางที่ 6 ส่ง'!B16 -> 13762467 | K24: ='ตารางที่ 6 ส่ง'!C16 -> 28421.265 | L24: ='ตารางที่ 6 ส่ง'!D16 -> 525943.78 | M24: ='ตารางที่ 6 ส่ง'!E16 -> 1604603.4 | N24: =SUM(J24:M24) -> 15921435 | O24: 4063 | P24: คน | Q24: =+N24/O24 -> 3918.6402 | R24: 0 | S24: 0 | T24: 0
A25: 11. โครงการยกระดับแรงงานไทยให้ได้มาตรฐานฝีมือแรงงานเพื่อรองรับการแข่งขัน | F25: =SUM(B25:E25) -> 0 | J25: ='ตารางที่ 6 ส่ง'!B17 -> 2.3039388e+08 | K25: ='ตารางที่ 6 ส่ง'!C17 -> 475793.03 | L25: ='ตารางที่ 6 ส่ง'!D17 -> 8804688.4 | M25: ='ตารางที่ 6 ส่ง'!E17 -> 26862250 | N25: =SUM(J25:M25) -> 2.6653661e+08 | O25: 42278 | P25: คน | Q25: =+N25/O25 -> 6304.3809 | R25: 0 | S25: 0 | T25: 0
A26: 12. โครงการพัฒนาฝีมือแรงงานนานาชาติเพื่อการพัฒนาความร่วมมือทางเศรษฐกิจในอนุภูมิภาคลุ่มน้ำโขงและเอเซียตะวันออกเฉียงใต้ (GMS-ASEAN) | B26: 31648226 | C26: 230869.04 | D26: 2103791.4 | E26: 4541731.8 | F26: =SUM(B26:E26) -> 38524618 | G26: 2429 | H26: คน | I26: =+F26/G26 -> 15860.279 | J26: ='ตารางที่ 6 ส่ง'!B18 -> 27524933 | K26: ='ตารางที่ 6 ส่ง'!C18 -> 56842.53 | L26: ='ตารางที่ 6 ส่ง'!D18 -> 1051887.6 | M26: ='ตารางที่ 6 ส่ง'!E18 -> 3209206.8 | N26: =SUM(J26:M26) -> 31842870 | O26: 2003 | P26: คน | Q26: =N26/O26 -> 15897.589 | R26: =SUM(N26-F26)*100/F26 -> -17.3441 | S26: =SUM(O26-G26)*100/G26 -> -17.538082 | T26: =SUM(Q26-I26)*100/I26 -> 0.2352377
A27: 12. รายการค่าใช้จ่ายบุคลากรภาครัฐ | J27: ='ตารางที่ 6 ส่ง'!B19 -> 0 | K27: ='ตารางที่ 6 ส่ง'!C19 -> 0 | L27: ='ตารางที่ 6 ส่ง'!D19 -> 0 | M27: ='ตารางที่ 6 ส่ง'!E19 -> 0 | N27: =SUM(J27:M27) -> 0 | R27: 0 | S27: 0 | T27: 0
A28: 13. พัฒนา/ขับเคลื่อนความร่วมมือเครือข่าย และส่งเสริมการพัฒนาฝีมือแรงงาน | B28: 9.3201183e+08 | C28: 6798885.7 | D28: 61954766 | E28: 1.3374992e+08 | F28: =SUM(B28:E28) -> 1.1345154e+09 | G28: 4002284 | H28: คน | I28: =+F28/G28 -> 283.46699 | J28: ='ตารางที่ 6 ส่ง'!B20 -> 5.4795006e+08 | K28: ='ตารางที่ 6 ส่ง'!C20 -> 1131587.4 | L28: ='ตารางที่ 6 ส่ง'!D20 -> 20940354 | M28: ='ตารางที่ 6 ส่ง'!E20 -> 63886987 | N28: =SUM(J28:M28) -> 6.3390898e+08 | O28: 4392076 | P28: คน | Q28: =N28/O28 -> 144.33015 | R28: =SUM(N28-F28)*100/F28 -> -44.125132 | S28: =+(O28-G28)*100/G28 -> 9.7392389 | T28: =+(Q28-I28)*100/I28 -> -49.083966
A29: 14. โครงการฝึกอบรมแรงงานกลุ่มเป้าหมายเฉพาะเพื่อเพิ่มโอกาสในการประกอบอาชีพ | B29: 29374102 | C29: 214279.64 | D29: 1952620.7 | E29: 4215379.9 | F29: =SUM(B29:E29) -> 35756382 | G29: 14365 | H29: คน | I29: =+F29/G29 -> 2489.1321 | J29: ='ตารางที่ 6 ส่ง'!B21 -> 73909542 | K29: ='ตารางที่ 6 ส่ง'!C21 -> 152632.72 | L29: ='ตารางที่ 6 ส่ง'!D21 -> 2824512.9 | M29: ='ตารางที่ 6 ส่ง'!E21 -> 8617314.6 | N29: =SUM(J29:M29) -> 85504003 | O29: 31569 | P29: คน | Q29: =N29/O29 -> 2708.4799 | R29: =SUM(N29-F29)*100/F29 -> 139.12935 | S29: =SUM(O29-G29)*100/G29 -> 119.76331 | T29: =SUM(Q29-I29)*100/I29 -> 8.8122223
A30: 15. โครงการฝึกอบรมแรงงานผู้สูงอายุเพื่อเพิ่มโอกาสในการประกอบอาชีพ | B30: 28237040 | C30: 205984.95 | D30: 1877035.4 | E30: 4052203.9 | F30: =SUM(B30:E30) -> 34372264 | G30: 7906 | H30: คน | I30: =+F30/G30 -> 4347.6175 | J30: ='ตารางที่ 6 ส่ง'!B22 -> 25740910 | K30: ='ตารางที่ 6 ส่ง'!C22 -> 53158.292 | L30: ='ตารางที่ 6 ส่ง'!D22 -> 983709.65 | M30: ='ตารางที่ 6 ส่ง'!E22 -> 3001202.7 | N30: =SUM(J30:M30) -> 29778980 | O30: 8200 | P30: คน | Q30: =N30/O30 -> 3631.583 | R30: =SUM(N30-F30)*100/F30 -> -13.363344 | S30: =SUM(O30-G30)*100/G30 -> 3.7186947 | T30: =SUM(Q30-I30)*100/I30 -> -16.469585
A31: 16. โครงการส่งเสริมธรรมาภิบาลป้องกันและลดความเสี่ยงในการเกิดการทุจริตและประพฤติมิชอบ | B31: 947551.68 | C31: 6912.25 | D31: 62987.77 | E31: 135980 | F31: =SUM(B31:E31) -> 1153431.7 | G31: 171 | H31: คน | I31: =+F31/G31 -> 6745.2146 | J31: ='ตารางที่ 6 ส่ง'!B23 -> 764581.47 | K31: ='ตารางที่ 6 ส่ง'!C23 -> 1578.9592 | L31: ='ตารางที่ 6 ส่ง'!D23 -> 29219.099 | M31: ='ตารางที่ 6 ส่ง'!E23 -> 89144.634 | N31: =SUM(J31:M31) -> 884524.16 | O31: ='ตารางที่ 6 ส่ง'!G23 -> 170 | P31: คน | Q31: =N31/O31 -> 5203.0833 | R31: =SUM(N31-F31)*100/F31 -> -23.313694 | S31: =SUM(O31-G31)*100/G31 -> -0.58479532 | T31: =SUM(Q31-I31)*100/I31 -> -22.862598
A32: 17. โครงการพัฒนาอุตสาหกรรมเทคโนโลยีชั้นสูงและอุตสาหกรรมแห่งอนาคตในพื้นที่ระเบียงเศรษฐกิจภาคตะวันออก | J32: ='ตารางที่ 6 ส่ง'!B24 -> 94808103 | K32: ='ตารางที่ 6 ส่ง'!C24 -> 195790.94 | L32: ='ตารางที่ 6 ส่ง'!D24 -> 3623168.2 | M32: ='ตารางที่ 6 ส่ง'!E24 -> 11053935 | N32: =SUM(J32:M32) -> 1.09681e+08 | O32: 10939 | P32: คน | Q32: =N32/O32 -> 10026.602 | R32: 0 | S32: 0 | T32: 0
A33: 18. โครงการเพิ่มศักยภาพผู้มีรายได้น้อยที่ลงทะเบียนสวัสดิการแห่งรัฐ | J33: ='ตารางที่ 6 ส่ง'!B25 -> 7.8904808e+08 | K33: ='ตารางที่ 6 ส่ง'!C25 -> 1629485.9 | L33: ='ตารางที่ 6 ส่ง'!D25 -> 30154110 | M33: ='ตารางที่ 6 ส่ง'!E25 -> 91997262 | N33: =SUM(J33:M33) -> 9.1282894e+08 | O33: ='ตารางที่ 6 ส่ง'!G25 -> 281837 | P33: คน | Q33: =N33/O33 -> 3238.8542 | R33: 0 | S33: 0 | T33: 0
A34: 19. โครงการพัฒนาฝีมือแรงงานร่วมเทิดทูนสถาบันพระมหากษัตริย์ | B34: 36575495 | C34: 266812.72 | D34: 2431327.8 | E34: 5248827.8 | F34: =SUM(B34:E34) -> 44522463 | G34: 6319 | H34: คน | I34: =+F34/G34 -> 7045.8084
A35: รวมต้นทุนผลผลิต | B35: =SUM(B15:B34)+0.01 -> 1.8951034e+09 | C35: =SUM(C15:C34) -> 13824493 | D35: =SUM(D15:D34)+0.01 -> 1.2597553e+08 | E35: =SUM(E15:E34) -> 2.7195999e+08 | F35: =+B35+C35+D35+E35-0.01 -> 2.3068634e+09 | G35: =SUM(G15:G34) -> 4265990 | I35: =+F35/G35 -> 540.75686 | J35: =SUM(J15:J34) -> 2.5486049e+09 | K35: =SUM(K15:K34) -> 5263197.2 | L35: =SUM(L15:L34) -> 97396995 | M35: =SUM(M15:M34) -> 2.9714878e+08 | N35: =SUM(J35:M35) -> 2.9484139e+09 | O35: =SUM(O15:O34) -> 4952816 | Q35: =N35/O35 -> 595.30051 | R35: =+(N35-F35)*100/F35 -> 27.810512 | S35: =+(O35-G35)*100/G35-0.04 -> 16.060038 | T35: =+(Q35-I35)*100/I35+0.03 -> 10.116538
A37: ตารางที่ 10 เปรียบเทียบผลการคำนวณต้นทุนกิจกรรมหลักแยกตามแหล่งเงิน
A38: วิเคราะห์สาเหตุของการเปลี่ยนแปลงของต้นทุนกิจกรรมหลักแยกตามแหล่งเงิน
A39: ต้นทุนต่อหน่วยลดลงทุกผลผลิตจากปีงบประมาณ 2560 ประกอบกับกรมได้รับมอบหมายให้ดำเนินโครงการเพิ่มศักยภาพผู้มีรายได้น้อยที่ลงทะเบียนสวัสดิการแห่งรัฐ

Sheet ตารางที่ 11 ส่ง
A1: กรมพัฒนาฝีมือแรงงาน | M1: กรมพัฒนาฝีมือแรงงาน
A2: รายงานการคำนวณต้นทุนผลผลิต | M2: รายงานการคำนวณต้นทุนผลผลิต
A3: ประจำปีงบประมาณ พ.ศ. 2561 | M3: ประจำปีงบประมาณ พ.ศ. 2561
A4: รายงานเปรียบเทียบผลการคำนวณต้นทุนผลผลิตระหว่างปีงบประมาณ พ.ศ. 2560 และ ปีงบประมาณ พ.ศ 2561 | M4: รายงานเปรียบเทียบผลการคำนวณต้นทุนผลผลิตระหว่างปีงบประมาณ พ.ศ. 2560 และ ปีงบประมาณ พ.ศ 2561
A5: ตารางที่ 11 รายงานเปรียบเทียบต้นทุนทางตรงตามศูนย์ต้นทุนแยกตามประเภทค่าใช้จ่าย ลักษณะของต้นทุน (คงที่/ผันแปร) | M5: ตารางที่ 11 รายงานเปรียบเทียบต้นทุนทางตรงตามศูนย์ต้นทุนแยกตามประเภทค่าใช้จ่าย ลักษณะของต้นทุน (คงที่/ผันแปร)
K6: (หน่วย : บาท) | Z6: (หน่วย : บาท)
B7: ค่าใช้จ่ายทางตรงปีงบประมาณ พ.ศ. 2560 | N7: ค่าใช้จ่ายทางตรงปีงบประมาณ พ.ศ. 2561
B8: ต้นทุนคงที่ | G8: ต้นทุนผันแปร | N8: ต้นทุนคงที่ | S8: ต้นทุนผันแปร | Y8: ต้นทุน | Z8: ต้นทุน | AA8: ต้นทุน
A9: ศูนย์ต้นทุน | B9: ค่าตอบแทน | C9: ค่าใช้จ่ายบุคลากร | D9: ค่าเสื่อมราคา | E9: ค่าใช้จ่ายอื่น ๆ | F9: รวม | G9: ค่าตอบแทน | H9: ค่าใช้จ่ายบุคลากร | I9: ค่าสาธารณูปโภค | J9: ค่าใช้จ่ายอื่น | K9: รวม | L9: ต้นทุนรวม | M9: ศูนย์ต้นทุน | N9: ค่าตอบแทน | O9: ค่าใช้จ่ายบุคลากร | P9: ค่าเสื่อมราคา | Q9: ค่าใช้จ่ายอื่น ๆ | R9: รวม | S9: ค่าตอบแทน | T9: ค่าใช้จ่ายบุคลากร | U9: ค่าสาธารณูปโภค | V9: ค่าใช้จ่ายอื่น | W9: รวม | X9: ต้นทุนรวม | Y9: คงที่เพิ่ม/ | Z9: ผันแปร | AA9: รวมเพิ่ม/
B10: ใช้สอยและวัสดุ | C10: (อื่น ๆ) | D10: และค่าตัด | G10: ใช้สอยและวัสดุ | H10: (ค่าล่วงเวลา) | J10: (เงินอุดหนุนฯ) | N10: ใช้สอยและวัสดุ | O10: (อื่น ๆ) | P10: และค่าตัด | S10: ใช้สอยและวัสดุ | T10: (ค่าล่วงเวลา) | V10: (เงินอุดหนุนฯ) | Y10: (ลด)% | Z10: เพิ่ม/ | AA10: (ลด)%
B11: (อื่น ๆ) | D11: จำหน่าย | G11: (คชจ.อบรม เดินทาง | N11: (อื่น ๆ) | P11: จำหน่าย | S11: (คชจ.อบรม เดินทาง | Z11: (ลด)%
G12: ค่าวัสดุ เชื้อเพลิง) | S12: ค่าวัสดุ เชื้อเพลิง) | T12: =+T14+P14 -> 0
B13: (1) | C13: (2) | D13: (3) | E13: (4) | F13: (5) =(1)+(2) | G13: (6) | H13: (7) | I13: (8) | J13: (9) | K13: (10) = (6)+(7) | L13: (11) = (5)+(10) | N13: (12) | O13: (13) | P13: (14) | Q13: (15) | R13: (16) =(12)+(13) | S13: (17) | T13: (18) | U13: (19) | V13: (20) | W13: (21) = (17)+(18) | X13: (22) = (16)+(21) | Y13: (23)=(16)-(5) | Z13: (24)=(21)-(10) | AA13: (25)=(22)-(11)
F14: +(3)+(4) | K14: +(8)+(9) | R14: +(14)+(15) | W14: +(19)+(20) | Y14: x100/(5) | Z14: x100/(10) | AA14: x100/(11)
A15: ศูนย์ต้นทุนหลัก | M15: ศูนย์ต้นทุนหลัก
A16: 1. สถาบันพัฒนาฝีมือแรงงานภาค 25 แห่ง | B16: 76210260 | C16: 8966693.8 | D16: 91271954 | E16: 10181412 | F16: =SUM(B16:E16) -> 1.8663032e+08 | G16: 2.8735296e+08 | H16: 4818853.4 | I16: 29905800 | J16: 17506436 | K16: =SUM(G16:J16) -> 3.3958405e+08 | L16: =SUM(F16+K16) -> 5.2621437e+08 | M16: 1. สถาบันพัฒนาฝีมือแรงงานภาค 25 แห่ง | N16: 1.3253072e+08 | O16: 8185595.9 | P16: 1.0755664e+08 | Q16: 23876708 | R16: =SUM(N16:Q16) -> 2.7214966e+08 | S16: 4.0067676e+08 | T16: 6891950 | U16: 31355692 | V16: 18286832 | W16: =SUM(S16:V16) -> 4.5721123e+08 | X16: =SUM(R16+W16) -> 7.293609e+08 | Y16: =SUM((R16-F16)*100/F16) -> 45.822857 | Z16: =SUM((W16-K16)*100/K16) -> 34.638608 | AA16: =SUM((X16-L16)*100/L16) -> 38.605281
A17: 2. สำนักงานพัฒนาฝีมือแรงงานจังหวัด 52 แห่ง | B17: 1.1018207e+08 | C17: 5799141.8 | D17: 1.3429857e+08 | E17: 22937515 | F17: =SUM(B17:E17) -> 2.732173e+08 | G17: 2.11112e+08 | H17: 3192462.1 | I17: 27026037 | J17: 11928101 | K17: =SUM(G17:J17) -> 2.532586e+08 | L17: =SUM(F17+K17) -> 5.264759e+08 | M17: 2. สำนักงานพัฒนาฝีมือแรงงานจังหวัด 52 แห่ง | N17: 1.4117429e+08 | O17: 5042482.8 | P17: 1.4057182e+08 | Q17: 33715671 | R17: =SUM(N17:Q17) -> 3.2050426e+08 | S17: 4.6591195e+08 | T17: 7364056 | U17: 29102456 | V17: 14230887 | W17: =SUM(S17:V17) -> 5.1660935e+08 | X17: =SUM(R17+W17) -> 8.3711361e+08 | Y17: =SUM((R17-F17)*100/F17) -> 17.307452 | Z17: =SUM((W17-K17)*100/K17) -> 103.98492 | AA17: =SUM((X17-L17)*100/L17) -> 59.003214
A18: 3. สถาบันพัฒนาฝีมือ แรงงานนานาชาติ | B18: 4204192 | C18: 137747 | D18: 18075444 | E18: 0 | F18: =SUM(B18:E18) -> 22417383 | G18: 14839413 | H18: 38360 | I18: 1254192.6 | J18: 0 | K18: =SUM(G18:J18) -> 16131965 | L18: =SUM(F18+K18) -> 38549348 | M18: 3. สถาบันพัฒนาฝีมือ แรงงานนานาชาติ | N18: 5152063.9 | O18: 28378 | P18: 17476285 | Q18: 0 | R18: =SUM(N18:Q18) -> 22656727 | S18: 17029752 | T18: 9040 | U18: 1626859.8 | V18: 0 | W18: =SUM(S18:V18) -> 18665652 | X18: =SUM(R18+W18) -> 41322379 | Y18: =SUM((R18-F18)*100/F18) -> 1.067674 | Z18: =SUM((W18-K18)*100/K18) -> 15.706003 | AA18: =SUM((X18-L18)*100/L18) -> 7.193459
A19: 4. สถาบันพัฒนาบุคลากรในอุตสาหกรรมยานยนต์และชิ้นส่วนอะไหล่ยานยนต์ | B19: 1555813.1 | C19: 52134 | D19: 7890032.8 | E19: 318767 | F19: =SUM(B19:E19) -> 9816746.9 | G19: 5753193.7 | H19: 198940 | I19: 580905 | J19: 0 | K19: =SUM(G19:J19) -> 6533038.7 | L19: =+F19+K19 -> 16349786 | M19: 4. สถาบันพัฒนาบุคลากรในอุตสาหกรรมยานยนต์และชิ้นส่วนอะไหล่ยานยนต์ | N19: 2947969 | O19: 25833.85 | P19: 8045246.4 | Q19: 0 | R19: =SUM(N19:Q19) -> 11019049 | S19: 6660186.6 | T19: 121350 | U19: 1299309.7 | V19: 0 | W19: =SUM(S19:V19) -> 8080846.3 | X19: =+R19+W19 -> 19099896 | Y19: =SUM((R19-F19)*100/F19) -> 12.247462 | Z19: =SUM((W19-K19)*100/K19) -> 23.692002 | AA19: =SUM((X19-L19)*100/L19) -> 16.820465
A20: 5. สถาบันพัฒนาทรัพยากรมนุษย์สำหรับ อุตสาหกรรมบริการสุขภาพ | B20: 2826315.2 | C20: 31651.75 | D20: 121054.85 | E20: 88500 | F20: =SUM(B20:E20) -> 3067521.8 | G20: 8139316.6 | H20: 42560 | I20: 579744.7 | J20: 615000 | K20: =SUM(G20:J20) -> 9376621.3 | L20: =SUM(F20+K20) -> 12444143 | M20: 7. สถาบันพัฒนาทรัพยากรมนุษย์สำหรับ อุตสาหกรรมบริการสุขภาพ | N20: 2718627.3 | O20: 84611 | P20: 235253.67 | Q20: 0 | R20: =SUM(N20:Q20) -> 3038492 | S20: 2948497.7 | T20: 5440 | U20: 600497.86 | V20: 792860 | W20: =SUM(S20:V20) -> 4347295.6 | X20: =SUM(R20+W20) -> 7385787.6 | Y20: =SUM((R20-F20)*100/F20) -> -0.94636067 | Z20: =SUM((W20-K20)*100/K20) -> -53.636865 | AA20: =SUM((X20-L20)*100/L20) -> -40.648484
A21: ศูนย์ต้นทุนสนับสนุน | E21: 0 | F21: =SUM(B21:E21) -> 0 | K21: =SUM(G21:J21) -> 0 | M21: ศูนย์ต้นทุนสนับสนุน | Q21: 0
A22: 1. สำนักอธิบดี | B22: 379635 | D22: 153218.31 | E22: 0 | F22: =SUM(B22:E22) -> 532853.31 | G22: 1090664.2 | H22: 362430 | I22: 245926.65 | J22: 0 | K22: =SUM(G22:J22) -> 1699020.8 | L22: =SUM(F22+K22) -> 2231874.1 | M22: 1. สำนักอธิบดี | N22: 384846.79 | O22: 0 | P22: 168378.74 | Q22: 0 | R22: =SUM(N22:Q22) -> 553225.53 | S22: 762838 | T22: 398370 | U22: 239261.35 | V22: 0 | W22: =SUM(S22:V22) -> 1400469.4 | X22: =SUM(R22+W22) -> 1953694.9 | Y22: =SUM((R22-F22)*100/F22) -> 3.8232323 | Z22: =SUM((W22-K22)*100/K22) -> -17.571972 | AA22: =SUM((X22-L22)*100/L22) -> -12.463931
A23: 2. สำนักงานผู้ตรวจราชการกรม | B23: 777832.35 | C23: 83480 | D23: 52751.22 | E23: 0 | F23: =SUM(B23:E23) -> 914063.57 | G23: 1230449.4 | I23: 157142.14 | J23: 0 | K23: =SUM(G23:J23) -> 1387591.5 | L23: =SUM(F23+K23) -> 2301655.1 | M23: 2. สำนักงานผู้ตรวจราชการกรม | N23: 972742.08 | O23: 8200 | P23: 69550.19 | Q23: 355 | R23: =SUM(N23:Q23) -> 1050847.3 | S23: 1288418.8 | T23: 0 | U23: 156199.28 | V23: 0 | W23: =SUM(S23:V23) -> 1444618.1 | X23: =SUM(R23+W23) -> 2495465.4 | Y23: =SUM((R23-F23)*100/F23) -> 14.964353 | Z23: =SUM((W23-K23)*100/K23) -> 4.1097534 | AA23: =SUM((X23-L23)*100/L23) -> 8.4204749
A24: 3. สำนักงานเลขานุการกรม | B24: 1407797.6 | C24: 57078 | D24: 299485.62 | E24: 0 | F24: =SUM(B24:E24) -> 1764361.2 | G24: 2803228.5 | H24: 265240 | I24: 282034.11 | J24: 0 | K24: =SUM(G24:J24) -> 3350502.6 | L24: =SUM(F24+K24) -> 5114863.8 | M24: 3. สำนักงานเลขานุการกรม | N24: 1690880.4 | O24: 89766 | P24: 507120.08 | Q24: 0 | R24: =SUM(N24:Q24) -> 2287766.5 | S24: 1319114.3 | T24: 390380 | U24: 224435.38 | V24: 0 | W24: =SUM(S24:V24) -> 1933929.7 | X24: =SUM(R24+W24) -> 4221696.2 | Y24: =SUM((R24-F24)*100/F24) -> 29.665424 | Z24: =SUM((W24-K24)*100/K24) -> -42.279416 | AA24: =SUM((X24-L24)*100/L24) -> -17.462198
A25: 4. กองแผนและสารสนเทศ | B25: 263510.85 | C25: 28695 | D25: 4242329.7 | E25: 0 | F25: =SUM(B25:E25) -> 4534535.6 | G25: 2945746.8 | H25: 54210 | I25: 50047.61 | J25: 0 | K25: =SUM(G25:J25) -> 3050004.4 | L25: =SUM(F25+K25) -> 7584539.9 | M25: 4. กองแผนและสารสนเทศ | N25: 2868888 | O25: 30140 | P25: 594009.4 | Q25: 0 | R25: =SUM(N25:Q25) -> 3493037.4 | S25: 1477066.1 | T25: 15890 | U25: 53183.42 | V25: 0 | W25: =SUM(S25:V25) -> 1546139.5 | X25: =SUM(R25+W25) -> 5039176.9 | Y25: =SUM((R25-F25)*100/F25) -> -22.968134 | Z25: =SUM((W25-K25)*100/K25) -> -49.306973 | AA25: =SUM((X25-L25)*100/L25) -> -33.559887
A26: 5. กองพัฒนาศักยภาพฯ | B26: 693726.81 | C26: 94056.25 | D26: 130009.39 | F26: =SUM(B26:E26) -> 917792.45 | G26: 10097905 | H26: 8930 | I26: 75029.78 | J26: 0 | K26: =SUM(G26:J26) -> 10181865 | L26: =SUM(F26+K26) -> 11099658 | M26: 5. กองพัฒนาศักยภาพฯ | N26: 3567558.1 | O26: 96326.75 | P26: 116845.46 | Q26: 1285 | R26: =SUM(N26:Q26) -> 3782015.4 | S26: 7811673 | T26: 31480 | U26: 51972.25 | V26: 0 | W26: =SUM(S26:V26) -> 7895125.3 | X26: =SUM(R26+W26) -> 11677141 | Y26: =SUM((R26-F26)*100/F26) -> 312.07741 | Z26: =SUM((W26-K26)*100/K26) -> -22.458948 | AA26: =SUM((X26-L26)*100/L26) -> 5.2027111
A27: 6. สำนักพัฒนามาตรฐานฯ | B27: 36908057 | C27: 134537.5 | D27: 116176.94 | E27: 1245700 | F27: =SUM(B27:E27) -> 38404471 | G27: 40256797 | H27: 403360 | I27: 260948.17 | J27: 1116899.8 | K27: =SUM(G27:J27) -> 42038005 | L27: =SUM(F27+K27) -> 80442476 | M27: 6. สำนักพัฒนามาตรฐานฯ | N27: 1.3355695e+08 | O27: 100223 | P27: 3609911.3 | Q27: 33161210 | R27: =SUM(N27:Q27) -> 1.7042829e+08 | S27: 45259347 | T27: 432480 | U27: 240587.46 | V27: 1282315.5 | W27: =SUM(S27:V27) -> 47214730 | X27: =SUM(R27+W27) -> 2.1764302e+08 | Y27: =SUM((R27-F27)*100/F27) -> 343.772 | Z27: =SUM((W27-K27)*100/K27) -> 12.314393 | AA27: =SUM((X27-L27)*100/L27) -> 170.55734
A28: 7. สำนักพัฒนาผู้ฝึกฯ | B28: 14346374 | C28: 369159 | D28: 1197436.5 | E28: 0 | F28: =SUM(B28:E28) -> 15912970 | G28: 11229571 | H28: 113360 | I28: 252468.43 | J28: 0 | K28: =SUM(G28:J28) -> 11595399 | L28: =SUM(F28+K28) -> 27508369 | M28: 7. สำนักพัฒนาผู้ฝึกฯ | N28: 3573548.2 | O28: 196903.75 | P28: 1125686.8 | Q28: 0 | R28: =SUM(N28:Q28) -> 4896138.8 | S28: 4492811.7 | T28: 47520 | U28: 205704.46 | V28: 0 | W28: =SUM(S28:V28) -> 4746036.1 | X28: =SUM(R28+W28) -> 9642174.9 | Y28: =SUM((R28-F28)*100/F28) -> -69.231772 | Z28: =SUM((W28-K28)*100/K28) -> -59.069663 | AA28: =SUM((X28-L28)*100/L28) -> -64.948213
A29: 8. กองบริหารการคลัง | B29: 787292 | C29: 52452.5 | D29: 131520.73 | E29: 0 | F29: =SUM(B29:E29) -> 971265.23 | G29: 1059023.1 | H29: 94360 | I29: 139077.8 | J29: 0 | K29: =SUM(G29:J29) -> 1292460.9 | L29: =SUM(F29+K29) -> 2263726.1 | M29: 8. กองบริหารการคลัง | N29: 55019.6 | O29: 60711.5 | P29: 91298.32 | Q29: 20319.75 | R29: =SUM(N29:Q29) -> 227349.17 | S29: 1117044.9 | T29: 227610 | U29: 109041.52 | V29: 0 | W29: =SUM(S29:V29) -> 1453696.4 | X29: =SUM(R29+W29) -> 1681045.6 | Y29: =SUM((R29-F29)*100/F29) -> -76.592473 | Z29: =SUM((W29-K29)*100/K29) -> 12.475084 | AA29: =SUM((X29-L29)*100/L29) -> -25.739884
A30: 9. กองบริหารทรัพยากรบุคคล | B30: 1064144.1 | C30: 119541.75 | D30: 189925.32 | E30: 0 | F30: =SUM(B30:E30) -> 1373611.2 | G30: 9302878.3 | H30: 113020 | I30: 142108.76 | J30: 0 | K30: =SUM(G30:J30) -> 9558007 | L30: =SUM(F30+K30) -> 10931618 | M30: 9. กองบริหารทรัพยากรบุคคล | N30: 625322.6 | O30: 117772 | P30: 193100.96 | Q30: 0 | R30: =SUM(N30:Q30) -> 936195.56 | S30: 5405685.9 | T30: 54340 | U30: 160216.48 | V30: 0 | W30: =SUM(S30:V30) -> 5620242.4 | X30: =SUM(R30+W30) -> 6556438 | Y30: =SUM((R30-F30)*100/F30) -> -31.844211 | Z30: =SUM((W30-K30)*100/K30) -> -41.198595 | AA30: =SUM((X30-L30)*100/L30) -> -40.023171
A31: 10. กลุ่มกฏหมาย | B31: 642750 | C31: 15132.5 | D31: 23603.18 | E31: 0 | F31: =SUM(B31:E31) -> 681485.68 | G31: 377652.25 | H31: 0 | I31: 56376.97 | J31: 0 | K31: =SUM(G31:J31) -> 434029.22 | L31: =SUM(F31+K31) -> 1115514.9 | M31: 10. กลุ่มกฏหมาย | N31: 380983.55 | O31: 9134 | P31: 20412.76 | Q31: 0 | R31: =SUM(N31:Q31) -> 410530.31 | S31: 482278.62 | T31: 16020 | U31: 57777.71 | V31: 0 | W31: =SUM(S31:V31) -> 556076.33 | X31: =SUM(R31+W31) -> 966606.64 | Y31: =SUM((R31-F31)*100/F31) -> -39.75951 | Z31: =SUM((W31-K31)*100/K31) -> 28.119561 | AA31: =SUM((X31-L31)*100/L31) -> -13.348836
A32: 11. กองยุทธศาสตร์และเครือข่ายฯ | B32: 4287963 | C32: 4475 | D32: 59991.05 | E32: 0 | F32: =SUM(B32:E32) -> 4352429 | G32: 4685138.2 | H32: 213130 | I32: 80300.94 | J32: 0 | K32: =SUM(G32:J32) -> 4978569.1 | L32: =SUM(F32+K32) -> 9330998.2 | M32: 11. กองยุทธศาสตร์และเครือข่ายฯ | N32: 1413112 | O32: 0 | P32: 66962.23 | Q32: 0 | R32: =SUM(N32:Q32) -> 1480074.2 | S32: 1666645.7 | T32: 114330 | U32: 40777 | V32: 0 | W32: =SUM(S32:V32) -> 1821752.7 | X32: =SUM(R32+W32) -> 3301827 | Y32: =SUM((R32-F32)*100/F32) -> -65.994294 | Z32: =SUM((W32-K32)*100/K32) -> -63.408106 | AA32: =SUM((X32-L32)*100/L32) -> -64.614429
A33: 12. กองส่งเสริมการพัฒนาฯ | B33: 783587.47 | C33: 72593.75 | D33: 157423.08 | E33: 0 | F33: =SUM(B33:E33) -> 1013604.3 | G33: 2835742.4 | H33: 113910 | I33: 183647.1 | J33: 0 | K33: =SUM(G33:J33) -> 3133299.5 | L33: =SUM(F33+K33) -> 4146903.8 | M33: 12. กองส่งเสริมการพัฒนาฯ | N33: 655296.43 | O33: 36262.25 | P33: 270203.27 | Q33: 0 | R33: =SUM(N33:Q33) -> 961761.95 | S33: 2465844 | T33: 9830 | U33: 139190.33 | V33: 0 | W33: =SUM(S33:V33) -> 2614864.3 | X33: =SUM(R33+W33) -> 3576626.2 | Y33: =SUM((R33-F33)*100/F33) -> -5.1146537 | Z33: =SUM((W33-K33)*100/K33) -> -16.545982 | AA33: =SUM((X33-L33)*100/L33) -> -13.751887
A34: 13. กลุ่มพัฒนาระบบบริหาร | B34: 6090 | C34: 8000 | D34: 19359.06 | E34: 0 | F34: =SUM(B34:E34) -> 33449.06 | G34: 1628975.5 | H34: 4790 | I34: 21618.82 | J34: 0 | K34: =SUM(G34:J34) -> 1655384.4 | L34: =SUM(F34+K34) -> 1688833.4 | M34: 12. กลุ่มพัฒนาระบบบริหาร | N34: 75179 | O34: 15969 | P34: 15702.99 | Q34: 0 | R34: =SUM(N34:Q34) -> 106850.99 | S34: 1216206.8 | T34: 0 | U34: 24644.25 | V34: 0 | W34: =SUM(S34:V34) -> 1240851.1 | X34: =SUM(R34+W34) -> 1347702.1 | Y34: =SUM((R34-F34)*100/F34) -> 219.44392 | Z34: =SUM((W34-K34)*100/K34) -> -25.041513 | AA34: =SUM((X34-L34)*100/L34) -> -20.199231
A35: 14. กลุ่มตรวจสอบภายใน | B35: 331280 | C35: 16305 | D35: 19739.09 | E35: 0 | F35: =SUM(B35:E35) -> 367324.09 | G35: 877844.64 | H35: 7830 | I35: 16692.45 | J35: 0 | K35: =SUM(G35:J35) -> 902367.09 | L35: =SUM(F35+K35) -> 1269691.2 | M35: 13. กลุ่มตรวจสอบภายใน | N35: 325684 | O35: 36710 | P35: 22923.82 | Q35: 0 | R35: =SUM(N35:Q35) -> 385317.82 | S35: 285934.61 | T35: 17680 | U35: 16382.83 | V35: 0 | W35: =SUM(S35:V35) -> 319997.44 | X35: =SUM(R35+W35) -> 705315.26 | Y35: =SUM((R35-F35)*100/F35) -> 4.8985979 | Z35: =SUM((W35-K35)*100/K35) -> -64.537998 | AA35: =SUM((X35-L35)*100/L35) -> -44.449857
A36: 15. กองวิเทศสัมพันธ์ | B36: 307727.16 | C36: 2520 | D36: 24671.56 | E36: 0 | F36: =SUM(B36:E36) -> 334918.72 | G36: 1726400.2 | H36: 1760 | I36: 24000.35 | J36: 0 | K36: =SUM(G36:J36) -> 1752160.6 | L36: =SUM(F36+K36) -> 2087079.3 | M36: 14. กองวิเทศสัมพันธ์ | N36: 328850.1 | O36: 13186 | P36: 20851.11 | Q36: 0 | R36: =SUM(N36:Q36) -> 362887.21 | S36: 520411.07 | T36: 2200 | U36: 21290.69 | V36: 0 | W36: =SUM(S36:V36) -> 543901.76 | X36: =SUM(R36+W36) -> 906788.97 | Y36: =SUM((R36-F36)*100/F36) -> 8.3508291 | Z36: =SUM((W36-K36)*100/K36) -> -68.958224 | AA36: =SUM((X36-L36)*100/L36) -> -56.552251
A37: 16. ศูนย์ข้อมูลเทคโนโลยีสารสนเทศ | B37: 751330 | C37: 37861 | D37: 324595.09 | E37: 0 | F37: =SUM(B37:E37) -> 1113786.1 | G37: 835147.31 | H37: 0 | I37: 20557.61 | J37: 0 | K37: =SUM(G37:J37) -> 855704.92 | L37: =SUM(F37+K37) -> 1969491 | M37: 15. ศูนย์ข้อมูลเทคโนโลยีสารสนเทศ | N37: 1933385.8 | O37: 48317 | P37: 1018114.4 | Q37: 0 | R37: =SUM(N37:Q37) -> 2999817.2 | S37: 348478.11 | T37: 0 | U37: 20704.97 | V37: 0 | W37: =SUM(S37:V37) -> 369183.08 | X37: =SUM(R37+W37) -> 3369000.3 | Y37: =SUM((R37-F37)*100/F37) -> 169.33513 | Z37: =SUM((W37-K37)*100/K37) -> -56.856263 | AA37: =SUM((X37-L37)*100/L37) -> 71.059441
A38: 17. สำนักงานรับรองฯ | B38: 1995946 | C38: 44301.75 | D38: 1124764 | E38: 0 | F38: =SUM(B38:E38) -> 3165011.8 | G38: 3434269.4 | I38: 23776.68 | J38: 0 | K38: =SUM(G38:J38) -> 3458046.1 | L38: =SUM(F38+K38) -> 6623057.8 | M38: 16. สำนักงานรับรองฯ | N38: 2633675.7 | O38: 79150 | P38: 2661445.4 | Q38: 0 | R38: =SUM(N38:Q38) -> 5374271.1 | S38: 3936471.1 | T38: 0 | U38: 18253.8 | V38: 0 | W38: =SUM(S38:V38) -> 3954724.9 | X38: =SUM(R38+W38) -> 9328996 | Y38: =SUM((R38-F38)*100/F38) -> 69.802562 | Z38: =SUM((W38-K38)*100/K38) -> 14.362992 | AA38: =SUM((X38-L38)*100/L38) -> 40.856328
A39: 18. กองสื่อสารองค์กร | B39: 5526304.5 | C39: 148890 | D39: 132555.5 | F39: =SUM(B39:E39) -> 5807750 | G39: 12237373 | H39: 4070 | I39: 19439.22 | K39: =SUM(G39:J39) -> 12260882 | L39: =SUM(F39+K39) -> 18068632 | M39: 17. กองสื่อสารองค์กร | N39: 17838545 | O39: 1986 | P39: 198436.34 | Q39: 0 | R39: =SUM(N39:Q39) -> 18038968 | S39: 1180568.6 | T39: 207950 | U39: 0 | V39: 0 | W39: =SUM(S39:V39) -> 1388518.6 | X39: =SUM(R39+W39) -> 19427486 | Y39: =SUM((R39-F39)*100/F39) -> 210.60166 | Z39: =SUM((W39-K39)*100/K39) -> -88.675215 | AA39: =SUM((X39-L39)*100/L39) -> 7.5205134
A40: รวมต้นทุนผลผลิต | B40: =SUM(B16:B39) -> 2.6624e+08 | C40: =SUM(C16:C39) -> 16276447 | D40: =SUM(D16:D39) -> 2.6005661e+08 | E40: =SUM(E16:E39) -> 34771895 | F40: =SUM(F16:F39) -> 5.7734496e+08 | G40: =SUM(G16:G39) -> 6.3585169e+08 | H40: =SUM(H16:H39) -> 10051575 | I40: =SUM(I16:I39) -> 61397873 | ... L40: =SUM(L16:L39) -> 1.3158125e+09 | M40: รวมต้นทุนผลผลิต | N40: =SUM(N16:N39) -> 4.5740413e+08 | O40: =SUM(O16:O39) -> 14307659 | P40: =SUM(P16:P39) -> 2.846562e+08 | Q40: =SUM(Q16:Q39) -> 90775549 | R40: =SUM(R16:R39) -> 8.4714354e+08 | S40: =SUM(S16:S39) -> 9.7426399e+08 | T40: =SUM(T16:T39) -> 16357916 | U40: =SUM(U16:U39) -> 65764439 | ... W40: =SUM(W16:W39) -> 1.0909792e+09 | X40: =SUM(R40+W40) -> 1.9381228e+09 | Y40: =(R40-F40)*100/F40 -> 46.730914 | Z40: =(W40-K40)*100/K40 -> 47.735565 | AA40: =(X40-L40)*100/L40 -> 47.29475

Sheet ตารางที่ 12 ส่ง
A1: กรมพัฒนาฝีมือแรงงาน
A2: รายงานการคำนวณต้นทุนผลผลิต
A3: ประจำปีงบประมาณ พ.ศ. 2561
A4: รายงานเปรียบเทียบผลการคำนวณต้นทุนผลผลิตระหว่างปีงบประมาณ พ.ศ. 2560 และ ปีงบประมาณ พ.ศ 2561
A6: ตารางที่ 12 รายงานเปรียบเทียบต้นทุนทางอ้อมตามลักษณะของต้นทุน (คงที่/ผันแปร)
J7: (หน่วย : บาท)
B8: งบประมาณ พ.ศ. 2560 | E8: งบประมาณ พ.ศ. 2561 | H8: ผลการเปรียบเทียบ
A9: ต้นทุนทางอ้อม | B9: ต้นทุนคงที่ | C9: ต้นทุนผันแปร | D9: รวม | E9: ต้นทุนคงที่ | F9: ต้นทุนผันแปร | G9: รวม | H9: ต้นทุน | I9: ต้นทุน | J9: ต้นทุน
H10: คงที่ | I10: ผันแปร | J10: รวม
H11: เพิ่ม/(ลด)% | I11: เพิ่ม/(ลด)% | J11: เพิ่ม/(ลด)%
B12: (1) | C12: (2) | D12: (3) = (1)+(2) | E12: (4) | F12: (5) | G12: (6) = (4)+(5) | H12: (7) = (4)-(1) | I12: (8) = (5)-(2) | J12: (9) = (6)-(3)
H13: x100/ (1) | I13: x100/ (2) | J13: x100/ (3)
A14: ค่าตอบแทนใช้สอยและวัสดุ | B14: 17840127 | C14: 1142786.4 | D14: =SUM(B14:C14)+0.01 -> 18982913 | E14: 13588444 | F14: 591027.77 | G14: =SUM(E14:F14) -> 14179472
A15: ค่าใช้จ่ายบุคลากร | B15: 9.5270916e+08 | C15: 0 | D15: =SUM(B15:C15) -> 9.5270916e+08 | E15: 9.7505952e+08 | F15: 0 | G15: =SUM(E15:F15) -> 9.7505952e+08
A16: ค่าสาธารณูปโภค | B16: 0 | C16: 7455388.8 | D16: =SUM(B16:C16) -> 7455388.8 | E16: 0 | F16: 8559532.9 | G16: =SUM(E16:F16) -> 8559532.9
A17: ค่าเสื่อมราคาและตัดจำหน่าย | B17: 11903376 | C17: 0 | D17: =SUM(B17:C17) -> 11903376 | E17: 12492583 | F17: 0 | G17: =SUM(E17:F17) -> 12492583
A19: รวมต้นทุนผลผลิต | B19: =SUM(B14:B17) -> 9.8245266e+08 | C19: =SUM(C14:C17) -> 8598175.2 | D19: =SUM(D14:D18) -> 9.9105084e+08 | E19: =SUM(E14:E18) -> 1.0011405e+09 | F19: =SUM(F14:F18) -> 9150560.7 | G19: =SUM(G14:G18) -> 1.0102911e+09 | H19: =SUM(E19-B19)*100/B19 -> 1.9021664 | I19: =SUM(F19-C19)*100/C19 -> 6.4244503 | J19: =SUM(G19-D19)*100/D19 -> 1.9414009
