Workbook

Sheet ตารางที่ 1ส่ง
A1: กรมพัฒนาฝีมือแรงงาน
A2: รายงานการคำนวณต้นทุนผลผลิต
A3: ประจำปีงบประมาณ พ.ศ. 2561
A4: ตารางที่ 1 รายงานต้นทุนรวม โดยแยกประเภทตามแหล่งเงิน
E5: (หน่วย : บาท)
A6: ประเภทค่าใช้จ่าย | B6: เงินในงบประมาณ | C6: เงินนอกงบประมาณ | D6: งบกลาง | E6: รวม
A7: 1. ค่าใช้จ่ายบุคลากร | B7: 9.0834822e+08 | C7: -15422 | D7: 97392298 | E7: =SUM(B7:D7) -> 1005725094
A8: 2. ค่าใช้จ่ายด้านการฝึกอบรม | B8: 8.3595773e+08 | C8: 2149823.6 | E8: =SUM(B8:D8) -> 8.3810755e+08
A9: 3. ค่าใช้จ่ายเดินทาง | B9: 31936863 | C9: 34024.59 | E9: =SUM(B9:D9) -> 31970887
A10: 4. ค่าตอบแทน ใช้สอยวัสดุ และสาธารณูปโภค | B10: 6.4705786e+08 | C10: 3035266.8 | E10: =SUM(B10:D10) -> 6.5009312e+08
A11: 5. ค่าเสื่อมราคา | B11: 1.5947173e+08 | C11: 1.3506736e+08 | D11: 2609691.3 | E11: =SUM(B11:D11) -> 2.9714878e+08
A12: 6. ค่าใช้จ่ายเงินอุดหนุน | B12: 34592894 | E12: =SUM(B12:D12) -> 34592894
A13: 7. ค่าจำหน่ายครุภัณฑ์ | B13: 132 | C13: 3963.4 | D13: 4697.8 | E13: =SUM(B13:D13) -> 8793.2
A14: 8. ค่าใช้จ่ายอื่นๆ | B14: 90711215 | C14: 55540.75 | E14: =SUM(B14:D14) -> 90766755
A15: รวมต้นทุนผลผลิต | B15: =SUM(B7:B14) -> 2.7080766e+09 | C15: =SUM(C7:C14) -> 1.4033056e+08 | D15: =SUM(D7:D14) -> 1.0000669e+08 | E15: =SUM(E7:E14) -> 2.9484139e+09
A24: หมายเหตุ :
A25: ค่าใช้จ่ายในระบบ GFMIS | E25: 2.9484139e+09
A27: หัก ต้นทุนที่ไม่เกี่ยวข้องในต้นทุนผลผลิต | E27: =SUM(D28:D48) -> 3.0068021e+08
A28: - เบี้ยหวัด | D28: 9728
A29: - บำนาญปกติ | D29: 1.2641991e+08
A30: - บำนาญพิเศษ | D30: 54240
A31: - เงินช่วยเหลือรายเดือนผู้รับเบี้ยหวัดบำนาญ | D31: 483256.8
A32: - เงินช่วยค่าครองชีพผู้รับเบี้ยหวัดบำนาญ | D32: 7766120.8
A33: - เงินบำเหน็จ | D33: 8912833.7
A34: - เงินบำเหน็จตกทอด | D34: 1524339.7
A35: - เงินบำเหน็จดำรงชีพ | D35: 10385486
A36: - เงินช่วยพิเศษกรณีผู้รับบำนาญตาย | D36: 49755
A37: - บำเหน็จรายเดือนสำหรับการเบิกเงินบำเหน็จลูกจ้าง | D37: 22800594
A38: - เงินช่วยการศึกษาบุตร | D38: 389548
A39: - ค่ารักษาพยาบาลผู้ป่วยนอก-รพ.รัฐ-เบี้ยหวัด/บำนาญ | D39: 13024617
... A48: - TE-ภายในกรมเดียวกัน | D48: 720189.33
A49: รวมต้นทุนผลผลิต | E49: =+E25+E27 -> 3.2490941e+09

Sheet ตารางที่ 2ส่ง
A1: กรมพัฒนาฝีมือแรงงาน
A2: รายงานการคำนวณต้นทุนผลผลิต
A3: ประจำปีงบประมาณ พ.ศ. 2561
A4: ตารางที่ 2 รายงานต้นทุนตามศูนย์ต้นทุนแยกตามประเภทค่าใช้จ่าย
M5: หน่วย : บาท
C6: ค่าใช้จ่ายทางตรง | H6: ค่าใช้จ่ายทางอ้อม | N6: รวม (ค่าใช้จ่ายทางตรง+ค่าใช้จ่ายทางอ้อม)
A7: ศูนย์ต้นทุน | B7: ค่าใช้จ่ายเดินทาง | C7: ค่าตอบแทน ใช้สอย | D7: ค่าเสื่อมราคา | E7: ค่าใช้จ่ายอื่นและค่าใช้จ่ายอุดหนุน | F7: ค่าใช้จ่ายบุคลากร | G7: รวมค่าใช้จ่ายทางตรง | H7: ค่าใช้จ่ายบุคลากร | I7: ค่าตอบแทน ใช้สอย | J7: ค่าเสื่อมราคา | K7: ค่าใช้จ่ายอุดหนุน | L7: ค่าใช้จ่ายอื่น | M7: รวมค่าใช้จ่ายทางอ้อม
B8: และค่าใช้จ่ายอบรม | C8: วัสดุและ | D8: และตัดจำหน่าย | I8: วัสดุและ | J8: และตัดจำหน่าย
C9: ค่าสาธารณูปโภค | I9: ค่าสาธารณูปโภค
A10: ศูนย์ต้นทุนหลัก | B10: =SUM(B11:B19) -> 8.1499194e+08 | C10: =SUM(C11:C19) -> 4.267437e+08 | D10: =SUM(D11:D19) -> 2.7389404e+08 | E10: =SUM(E11:E19) -> 90894165 | F10: =SUM(F11:F19) -> 27758737 | G10: =SUM(G11:G19) -> 1.6342826e+09 | H10: =SUM(H11:H19) -> 8.1138877e+08 | I10: =SUM(I11:I19) -> 0 | ... M10: =SUM(M11:M19) -> 8.1138877e+08 | N10: =+G10+M10 -> 2.4456713e+09 | O10: =SUM(M11:M19) -> 8.1138877e+08
A11: 1. สถาบันพัฒนาฝีมือ | B11: =8706995.7+358074283.22 -> 3.6678128e+08 | C11: 1.9778189e+08 | D11: =107556641.07+3978.4 -> 1.0756062e+08 | E11: =23872729.76+18286832 -> 42159562 | F11: 15077546 | G11: =SUM(B11:F11) -> 7.293609e+08 | H11: 4.1811635e+08 | I11: 0 | J11: 0 | K11: 0 | L11: 0 | M11: =SUM(H11:J11) -> 4.1811635e+08 | N11: =SUM(G11+M11) -> 1.1474773e+09
A12: แรงงานภาค 25 แห่ง
A13: 2. สำนักงานพัฒนาฝีมือแรงงาน | B13: =8060502.87+415114373.35 -> 4.2317488e+08 | C13: 2.1301382e+08 | D13: =140571815.51+4814.8 -> 1.4057663e+08 | E13: =33710856.27+14230886.55 -> 47941743 | F13: 12406539 | G13: =SUM(B13:F13) -> 8.3711361e+08 | H13: 3.7914998e+08 | I13: 0 | J13: 0 | K13: 0 | L13: 0 | M13: =SUM(H13:J13) -> 3.7914998e+08 | N13: =SUM(G13+M13) -> 1.2162636e+09 | P13: =1216263591.37-385182230.88-139974563.85-33744672.61-470853286.66-7482466-29238515.72-14490886.55 -> 1.3529697e+08
A14: จังหวัด 52 แห่ง | P14: =+N13-522065154.93 -> 6.9419844e+08
A15: 3. สถาบันพัฒนาฝีมือ | B15: =285610.21+16075106.79 -> 16360717 | C15: 7447959 | D15: 17476285 | E15: - | F15: 37418 | G15: =SUM(B15:F15) -> 41322379 | H15: 6881853.5 | I15: 0 | J15: 0 | K15: 0 | L15: 0 | M15: =SUM(H15:J15) -> 6881853.5 | N15: =SUM(G15+M15) -> 48204233 | Q15: =+P14-33744672.61-139974563.85-385182230.88 -> 1.3529697e+08
A16: แรงงานนานาชาติ | Q16: =135296969.1+385182230.88+139974563.85+33744672.61 -> 6.9419844e+08
A17: 4. สถาบันพัฒนาบุคลากรในอุตสาหกรรม | B17: =54312+5873111.93 -> 5927423.9 | C17: 4980041.4 | D17: 8045246.4 | E17: - | F17: 147183.85 | G17: =SUM(B17:F17) -> 19099896 | H17: 4498698.2 | I17: 0 | J17: 0 | K17: 0 | L17: 0 | M17: =SUM(H17:J17) -> 4498698.2 | N17: =SUM(G17+M17) -> 23598594 | Q17: =470853286.66+7482466+29238515.72+14490886.55 -> 5.2206515e+08
A18: ยานยนต์และชิ้นส่วนอะไหล่ยานยนต์ | Q18: =SUM(Q16:Q17) -> 1.2162636e+09
A19: 5. สถาบันพัฒนาทรัพยากรมนุษย์สำหรับ | B19: =151175+2596468.5 -> 2747643.5 | C19: 3519979.4 | D19: 235253.67 | E19: 792860 | F19: 90051 | G19: =SUM(B19:F19) -> 7385787.6 | H19: 2741886.5 | I19: 0 | J19: 0 | K19: 0 | L19: 0 | M19: =SUM(H19:J19) -> 2741886.5 | N19: =SUM(G19+M19) -> 10127674
A20: อุตสาหกรรมบริการสุขภาพ | O20: =+G21+O21 -> 1.9890234e+08
O21: =SUM(H22:J22) -> 1.9890234e+08
A22: ศูนย์ต้นทุนสนับสนุน | B22: =SUM(B23:B40) -> 55086502 | C22: =SUM(C23:C40) -> 2.0061042e+08 | D22: =SUM(D23:D40) -> 10770954 | E22: =SUM(E23:E40) -> 34465485 | F22: =SUM(F23:F40) -> 2906837.2 | G22: =SUM(G23:G40) -> 3.038402e+08 | H22: =SUM(H23:H40) -> 1.6367075e+08 | I22: =SUM(I23:I40) -> 22739005 | ... M22: =SUM(M23:M40) -> 1.9890234e+08 | N22: =+G22+M22 -> 5.0274254e+08 | O22: =+N10+N22 -> 2.9484139e+09
A23: 1. สำนักอธิบดี | B23: 757810 | C23: 629136.17 | D23: 168378.74 | E23: - | F23: 398370 | G23: =SUM(B23:F23) -> 1953694.9 | H23: 5318620 | I23: 374524.79 | J23: 205760.21 | M23: =SUM(H23:L23) -> 5898905 | N23: =SUM(G23+M23) -> 7852600 | O23: =SUM(H22:M22) -> 3.9780468e+08
A24: 2. สำนักงานผู้ตรวจราชการกรม | B24: =1945620.08+15000 -> 1960620.1 | C24: 456740.12 | D24: 69550.19 | E24: 355 | F24: 8200 | G24: =SUM(B24:F24) -> 2495465.4 | H24: 5263343.1 | I24: 535035.41 | J24: 293943.13 | M24: =SUM(H24:L24) -> 6092321.6 | N24: =SUM(G24+M24) -> 8587787 | O24: =SUM(N23:N40) -> 5.0274254e+08
A25: 3. สำนักงานเลขานุการกรม | B25: =88489+265920 -> 354409 | C25: 2880021.1 | D25: 507120.08 | E25: - | F25: 480146 | G25: =SUM(B25:F25) -> 4221696.2 | H25: 16968649 | I25: 2889191.2 | J25: 1587292.9 | M25: =SUM(H25:L25) -> 21445133 | N25: =SUM(G25+M25) -> 25666829
A26: 4. กองแผนงานฯ | B26: =140773+958474 -> 1099247 | C26: 3299890.5 | D26: 594009.4 | E26: - | F26: 46030 | G26: =SUM(B26:F26) -> 5039176.9 | H26: 11007562 | I26: 1872623.9 | J26: 1028801 | M26: =SUM(H26:L26) -> 13908987 | N26: =SUM(G26+M26) -> 18948163 | O26: =+G22+M22 -> 5.0274254e+08
A27: 5. กองพัฒนาศักยภาพฯ | B27: =551072.8+6318950 -> 6870022.8 | C27: 4561180.6 | D27: 116845.46 | E27: 1285 | F27: 127806.75 | G27: =SUM(B27:F27) -> 11677141 | H27: 12862726 | I27: 1551602.7 | J27: 852435.07 | M27: =SUM(H27:L27) -> 15266764 | N27: =SUM(G27+M27) -> 26943904
A28: 6. สำนักพัฒนามาตรฐานฯ | B28: =8430929.3+17259221.76 -> 25690151 | C28: 1.5336673e+08 | D28: 3609911.3 | E28: =1282315.5+33161209.54 -> 34443525 | F28: 532703 | G28: =SUM(B28:F28) -> 2.1764302e+08 | H28: 17743081 | I28: 2514666.4 | J28: 1381532.7 | M28: =SUM(H28:L28) -> 21639280 | N28: =SUM(G28+M28) -> 239282300
A29: 7. สำนักพัฒนาผู้ฝึกฯ | B29: =302731.38+3511205.75 -> 3813937.1 | C29: 4458127.2 | D29: 1125686.8 | E29: - | F29: 244423.75 | G29: =SUM(B29:F29) -> 9642174.9 | H29: 20806364 | I29: 2247148.7 | J29: 1234561.1 | M29: =SUM(H29:L29) -> 24288074 | N29: =SUM(G29+M29) -> 33930249 | O29: =SUM(#REF!+N29) -> #REF!
A30: 8. กองบริหารการคลัง | B30: =36587+328574.2 -> 365161.2 | C30: 915944.85 | D30: 91298.32 | E30: 20319.75 | F30: 288321.5 | G30: =SUM(B30:F30) -> 1681045.6 | H30: 13265459 | I30: 2354155.8 | J30: 1293352.7 | M30: =SUM(H30:L30) -> 16912967 | N30: =SUM(G30+M30) -> 18594013 | O30: 49108774
A31: 9. กองบริหารทรัพยากรบุคคล | B31: =439320.98+4204299.51 -> 4643620.5 | C31: 1547604.5 | D31: 193100.96 | E31: - | F31: 172112 | G31: =SUM(B31:F31) -> 6556438 | H31: 16242133 | I31: 2568169.9 | J31: 1410927 | M31: =SUM(H31:L31) -> 20221230 | N31: =SUM(G31+M31) -> 26777668
A32: 10. กลุ่มกฏหมาย | B32: =273978+113383 -> 387361 | C32: 533678.88 | D32: 20412.76 | E32: - | F32: 25154 | G32: =SUM(B32:F32) -> 966606.64 | H32: 5268565.5 | I32: 1016567.2 | J32: 558491.92 | M32: =SUM(H32:L32) -> 6843624.6 | N32: =SUM(G32+M32) -> 7810231.3
A33: 11. กองยุทธศาสตร์และเครือข่ายฯ | B33: =172689+1070236 -> 1242925 | C33: 1877609.7 | D33: 66962.23 | E33: - | F33: 114330 | G33: =SUM(B33:F33) -> 3301826.9 | H33: 4103914.5 | I33: - | J33: - | M33: =SUM(H33:L33) -> 4103914.5 | N33: =SUM(G33+M33) -> 7405741.4
A34: 12. กองส่งเสริมการพัฒนาฝีมือฯ | B34: =2803+929943.91 -> 932746.91 | C34: 2327583.8 | D34: 270203.27 | E34: - | F34: 46092.25 | G34: =SUM(B34:F34) -> 3576626.2 | H34: 13453212 | I34: 1712113.3 | J34: 940618.03 | M34: =SUM(H34:L34) -> 16105943 | N34: =SUM(G34+M34) -> 19682570
A35: 13. กลุ่มพัฒนาระบบบริหาร | B35: =6116+1061612.16 -> 1067728.2 | C35: 248301.91 | D35: 15702.99 | E35: - | F35: 15969 | G35: =SUM(B35:F35) -> 1347702.1 | H35: 4033591.4 | I35: 535035.42 | J35: 293940.13 | M35: =SUM(H35:L35) -> 4862566.9 | N35: =SUM(G35+M35) -> 6210269
A36: 14. กลุ่มตรวจสอบภายใน | B36: =437858.81+33300 -> 471158.81 | C36: 156842.63 | D36: 22923.82 | E36: - | F36: 54390 | G36: =SUM(B36:F36) -> 705315.26 | H36: 3381997.8 | I36: 642042.48 | J36: 352731.75 | M36: =SUM(H36:L36) -> 4376772.1 | N36: =SUM(G36+M36) -> 5082087.3
A37: 15. กองวิเทศสัมพันธ์ | B37: =648071.1+3600 -> 651671.1 | C37: 218880.76 | D37: 20851.11 | E37: - | F37: 15386 | G37: =SUM(B37:F37) -> 906788.97 | H37: 3256737.3 | I37: 481531.86 | J37: 264548.82 | M37: =SUM(H37:L37) -> 4002818 | N37: =SUM(G37+M37) -> 4909606.9
A38: 16. ศูนย์ข้อมูลเทคโนโลยีสารสนเทศ | B38: =1320+166250 -> 167570 | C38: 2134998.9 | D38: 1018114.4 | E38: - | F38: 48317 | G38: =SUM(B38:F38) -> 3369000.3 | H38: 4497114.9 | I38: 481531.86 | J38: 264548.82 | M38: =SUM(H38:L38) -> 5243195.6 | N38: =SUM(G38+M38) -> 8612195.9
A39: 17. สนง.รับรองความรู้ความสามารถ | B39: =25531+3489640.58 -> 3515171.6 | C39: 3073229.1 | D39: 2661445.4 | E39: - | F39: 79150 | G39: =SUM(B39:F39) -> 9328996.1 | H39: 2679189.6 | I39: 428028.32 | J39: 235154.5 | M39: =SUM(H39:L39) -> 3342372.4 | N39: =SUM(G39+M39) -> 12671368
A40: 18. กองสื่อสารองค์กร | B40: =450591+644600 -> 1095191 | C40: 17923923 | D40: 198436.34 | E40: - | F40: 209936 | G40: =SUM(B40:F40) -> 19427486 | H40: 3518490.6 | I40: 535035.42 | J40: 293943.13 | M40: =SUM(H40:L40) -> 4347469.2 | N40: =SUM(G40+M40) -> 23774956
...

Sheet ตารางที่ 3ส่ง
A1: กรมพัฒนาฝีมือแรงงาน
A2: รายงานการคำนวณต้นทุนผลผลิต
A3: ประจำปีงบประมาณ พ.ศ. 2561
A4: ตารางที่ 3 รายงานต้นทุนกิจกรรมย่อยแยกตามแหล่งเงิน
I5: หน่วย : บาท
A6: กิจกรรมย่อย | B6: เงินใน | C6: เงินนอก | D6: งบกลาง | E6: ค่าเสื่อมราคา | F6: ต้นทุนรวม | G6: ปริมาณ | H6: หน่วยนับ | I6: ต้นทุนต่อหน่วย
B7: งบประมาณ | C7: งบประมาณ
A8: กิจกรรมย่อยของหน่วยงานหลัก | B8: =+B9+B10+B11+B12+B13+B14+B16+B17+B18+B19+B20+B21+B22+B23+B24+B25+B26+B27+B28+B29+B30+B31+B32+B33+B34+B35+B36+B37 -> 2.1414191e+09 | C8: =+C9+C10+C11+C12+C13+C14+C16+C17+C18+C19+C20+C21+C22+C23+C24+C25+C26+C27+C28+C29+C30+C31+C32+C33+C34+C35+C36+C37 -> 4881608.9 | D8: =SUM(D9:D37) -> 87617586 | E8: =+E9+E10+E11+E12+E13+E14+E16+E17+E18+E19+E20+E21+E22+E23+E24+E25+E26+E27+E28+E29+E30+E31+E32+E33+E35+E36+E37 -> 2.7947738e+08 | F8: =+F9+F10+F11+F12+F13+F14+F16+F17+F18+F19+F20+F21+F22+F23+F24+F25+F26+F27+F28+F29+F30+F31+F32+F33+F35+F36+F37 -> 2.5130968e+09 | G8: =SUM(G9:G37) -> 4952816 | I8: =SUM(F8/G8) -> 507.40767
A9: 1. ฝึกทักษะอาชีพให้กับกลุ่มเป้าหมายในพื้นที่จังหวัดชายแดนภาคใต้ | B9: =2081330666.3*0.59/100 -> 12279851 | C9: =5097584.96*0.59/100 -> 30075.751 | D9: =85357848.85*0.59/100 -> 503611.31 | E9: =273885241.98*0.59/100 -> 1615922.9 | F9: =+B9+C9+D9+E9 -> 14429461 | G9: 600 | H9: คน | I9: =+(F9/G9) -> 24049.102
A10: 2. ฝึกอบรมฝีมือให้กับกลุ่มเป้าหมายตามโครงการพาคนกลับบ้าน | B10: =2081330666.3*0.2/100 -> 4162661.3 | C10: =5097584.96*0.2/100 -> 10195.17 | D10: =85357848.85*0.2/100 -> 170715.7 | E10: =273885241.98*0.2/100 -> 547770.48 | F10: =+B10+C10+D10+E10 -> 4891342.7 | G10: 200 | H10: คน | I10: =+F10/G10 -> 24456.713
A11: 3. เพิ่มศักยภาพกำลังแรงงานภาคอุตสาหกรรมและบริการไปสู่ Thailand 4.0 | B11: =2081330666.3*18.13/100 -> 3.7734525e+08 | C11: =5097584.96*18.13/100-200000 -> 724192.15 | D11: =85357848.85*18.13/100 -> 15475378 | E11: =273885241.98*18.13/100 -> 49655394 | F11: =+B11+C11+D11+E11 -> 4.4320021e+08 | G11: 103461 | H11: คน | I11: =+F11/G11 -> 4283.7418
A12: 4. เพิ่มศักยภาพแรงงานเตรียมเข้าสู่อุตสาหกรรมเป้าหมายแห่งอนาคต | B12: =2081330666.3*2.24/100 -> 46621807 | C12: =5097584.96*2.24/100 -> 114185.9 | D12: =85357848.85*2.24/100 -> 1912015.8 | E12: =273885241.98*2.24/100 -> 6135029.4 | F12: =+B12+C12+D12+E12 -> 54783038 | G12: 14136 | H12: คน | I12: =SUM(F12/G12) -> 3875.4271
A13: 5. ศูนย์ฝึกอบรมเทคโนโลยีชั้นสูงรองรับอุตสาหกรรมแห่งอนาคต | B13: =2081330666.3*7.47/100 -> 1.554754e+08 | C13: =5097584.96*7.47/100-16840.26 -> 363949.34 | D13: =85357848.85*7.47/100 -> 6376231.3 | E13: =273885241.98*7.47/100 -> 20459228 | F13: =+B13+C13+D13+E13 -> 1.8267481e+08 | G13: 10939 | H13: คน | I13: =SUM(F13/G13) -> 16699.407
A14: 6. พัฒนาหลักสูตรยกระดับฝีมือตามความสามารถ | B14: =2081330666.3*0.04/100 -> 832532.27 | C14: =5097584.96*0.04/100 -> 2039.034 | D14: =85357848.85*0.04/100 -> 34143.14 | E14: =273885241.98*0.04/100 -> 109554.1 | F14: =+B14+C14+D14+E14 -> 978268.54 | G14: 60 | H14: หลักสูตร | I14: =SUM(F14/G14) -> 16304.476
A15: (Competency Based Curriculum)
A16: 7. จัดทำมาตรฐานฝีมือแรงงานแห่งชาติและวิธีการทดสอบมาตรฐานฝีมือเพื่อรองรับ Thailank 4.0 | B16: =39638.62+11081249.96+199800 -> 11320689 | C16: 0 | D16: 37642.88 | E16: 653000.45 | F16: =+B16+C16+D16+E16 -> 12011332 | G16: 10 | H16: สาขา | I16: =SUM(F16/G16) -> 1201133.2
A17: 8. เพิ่มผลิตภาพแรงงานสู่ SME 4.0 | B17: =2081330666.3*2.42/100 -> 50368202 | C17: =5097584.96*2.42/100 -> 123361.56 | D17: =85357848.85*2.42/100 -> 2065659.9 | E17: =273885241.98*2.42/100 -> 6628022.9 | F17: =+B17+C17+D17+E17 -> 59185246 | G17: 12479 | H17: คน | I17: =SUM(F17/G17) -> 4742.7876
A18: 9. เพิ่มทักษะกำลังแรงงานในพื้นที่ 10 จังหวัด ในพื้นที่เขตพัฒนาเศรษฐกิจพิเศษ | B18: =2081330666.3*2.19/100 -> 45581142 | C18: =5097584.96*2.19/100 -> 111637.11 | D18: =85357848.85*2.19/100 -> 1869336.9 | E18: =273885241.98*2.19/100 -> 5998086.8 | F18: =+B18+C18+D18+E18 -> 53560202 | G18: 11869 | H18: คน | I18: =SUM(F18/G18) -> 4512.6129
A19: 10. วิจัยเพื่อขับเคลื่อนผลิตภาพแรงงานสู่ Thailand 4.0 | B19: =29910+4061147.47 -> 4091057.5 | C19: 864.24 | D19: 16847.81 | E19: 32456.21 | F19: =+B19+C19+D19+E19 -> 4141225.7 | G19: 3 | H19: เรื่อง | I19: =SUM(F19/G19) -> 1380408.6
A20: 11. ควบคุมและกำกับดูแลการประกอบอาชีพที่อาจเป็นอันตรายต่อสาธารณะหรือต้องใช้ความรู้ความสามารถสู่ Safety At Work | B20: =6000+1420948 -> 1426948 | C20: 0 | D20: 132660 | E20: =117577+500000 -> 617577 | F20: =+B20+C20+D20+E20 -> 2177185 | G20: 25924 | H20: คน | I20: =SUM(F20/G20) -> 83.983374
A21: 12. พัฒนาฝีมือให้แก่กลุ่มวิสาหกิจชุมชน และผู้มีรายได้น้อย | B21: =2081330666.3*0.64/100 -> 13320516 | C21: =5097584.96*0.64/100 -> 32624.544 | D21: =85357848.85*0.64/100 -> 546290.23 | E21: =273885241.98*0.64/100 -> 1752865.5 | F21: =+B21+C21+D21+E21 -> 15652297 | G21: 4063 | H21: คน | I21: =SUM(F21/G21) -> 3852.3989
A22: 13. ทดสอบมาตรฐานฝีมือแรงงานให้มีสมรรถนะ | B22: =2081330666.3*1.24/100 -> 25808500 | C22: =5097584.96*1.24/100 -> 63210.054 | D22: =85357848.85*1.24/100+1023538.32 -> 2081975.6 | E22: =273885241.98*1.24/100+4191273.67 -> 7587450.7 | F22: =+B22+C22+D22+E22 -> 35541137 | G22: 36832 | H22: คน | I22: =SUM(F22/G22) -> 964.95267
A23: 14. ส่งเสริมมาตรฐานฝีมือแรงงานแห่งชาติ | B23: =2081330666.3*0.09/100 -> 1873197.6 | C23: =5097584.96*0.09/100 -> 4587.8265 | D23: =85357848.85*0.09/100 -> 76822.064 | E23: =273885241.98*0.09/100 -> 246496.72 | F23: =+B23+C23+D23+E23 -> 2201104.2 | G23: 129 | H23: แห่ง | I23: =SUM(F23/G23) -> 17062.823
A24: 15. พัฒนาศักยภาพแรงงานเพื่อรองรับการจ่ายค่าจ้างตามมาตรฐานฝีมือ | B24: =2081330666.3*0.76/100 -> 15818113 | C24: =5097584.96*0.76/100 -> 38741.646 | D24: =85357848.85*0.76/100 -> 648719.65 | E24: =273885241.98*0.76/100 -> 2081527.8 | F24: =+B24+C24+D24+E24 -> 18587102 | G24: 5071 | H24: คน | I24: =SUM(F24/G24) -> 3665.3722
A25: 16. พัฒนาศักยภาพมาตรฐานฝีมือแรงงานไทยในต่างประเทศ | B25: 4555666.5 | C25: 0 | D25: 31380.51 | E25: 97832.3 | F25: =+B25+C25+D25+E25 -> 4684879.4 | G25: 246 | H25: คน | I25: =SUM(F25/G25) -> 19044.225
A26: 17. พัฒนาฝีมือแรงงานนานาชาติ | B26: =2081330666.3*1.29/100 -> 26849166 | C26: =5097584.96*1.29/100 -> 65758.846 | D26: =85357848.85*1.29/100 -> 1101116.3 | E26: =273885241.98*1.29/100 -> 3533119.6 | F26: =+B26+C26+D26+E26 -> 31549160 | G26: 2003 | H26: คน | I26: =SUM(F26/G26) -> 15750.954
A27: 18. พัฒนาระบบการฝึกอบรมฝีมือแรงงาน | B27: =2081330666.3*0.53/100 -> 11031053 | C27: =5097584.96*0.53/100 -> 27017.2 | D27: =85357848.85*0.53/100+500000 -> 952396.6 | E27: =273885241.98*0.53/100 -> 1451591.8 | F27: =+B27+C27+D27+E27 -> 13462058 | G27: 35 | H27: หลักสูตร | I27: =SUM(F27/G27) -> 384630.23
A28: 19.ส่งเสริมและสนับสนุนให้สถานประกอบกิจการดำเนินการพัฒนาฝีมือแรงงาน | B28: =2081330666.3*15.22/100 -> 3.1677853e+08 | C28: =5097584.96*15.22/100 -> 775852.43 | D28: =85357848.85*15.22/100 -> 12991465 | E28: =273885241.98*15.22/100 -> 41685334 | F28: =+B28+C28+D28+E28 -> 3.7223118e+08 | G28: 4391901 | H28: คน | I28: =SUM(F28/G28) -> 84.754
A29: 20. จัดทำหลักเกณฑ์ พัฒนาระบบ ส่งเสริมและรับรองมาตรฐานฝีมือแรงงาน | B29: =2081330666.3*0.5/100+38395199.58 -> 48801853 | C29: =5097584.96*0.5/100 -> 25487.925 | D29: =85357848.85*0.5/100+517667.45 -> 944456.69 | E29: =273885241.98*0.5/100 -> 1369426.2 | F29: =+B29+C29+D29+E29 -> 51141224 | G29: 21 | H29: สาขา | I29: =SUM(F29/G29) -> 2435296.4
A30: 21. พัฒนาช่างเครื่องช่วยคนพิการกับมูลนิธิขาเทียม | B30: =2081330666.3*0.16/100 -> 3330129.1 | C30: =5097584.96*0.16/100 -> 8156.1359 | D30: =85357848.85*0.16/100 -> 136572.56 | E30: =273885241.98*0.16/100 -> 438216.39 | F30: =+B30+C30+D30+E30 -> 3913074.1 | G30: 114 | H30: คน | I30: =SUM(F30/G30) -> 34325.212
A31: 22. ขับเคลื่อนยุทธศาสตร์การพัฒนากำลังคนระดับชาติรองรับการพัฒนาอุตสาหกรรมศักยภาพของประเทศ | B31: =2081330666.3*0.36/100 -> 7492790.4 | C31: =5097584.96*0.36/100 -> 18351.306 | D31: =85357848.85*0.36/100 -> 307288.26 | E31: =273885241.98*0.36/100 -> 985986.87 | F31: =+B31+C31+D31+E31 -> 8804416.8 | G31: 5 | H31: ครั้ง | I31: =SUM(F31/G31) -> 1760883.4
A32: 23.ฝึกอบรมแรงงานกลุ่มเป้าหมายเฉพาะเพื่อเพิ่มโอกาสในการประกอบอาชีพ | B32: =2081330666.3*3.47/100 -> 72222174 | C32: =5097584.96*3.47/100 -> 176886.2 | D32: =85357848.85*3.47/100 -> 2961917.4 | E32: =273885241.98*3.47/100 -> 9503817.9 | F32: =+B32+C32+D32+E32 -> 84864796 | G32: 31569 | H32: คน | I32: =SUM(F32/G32) -> 2688.232
A33: 24. ฝึกอบรมแรงงานผู้สูงอายุเพื่อเพิ่มโอกาสในการประกอบอาชีพ | B33: =2081330666.3*1.2/100 -> 24975968 | C33: =5097584.96*1.2/100 -> 61171.02 | D33: =85357848.85*1.2/100 -> 1024294.2 | E33: =273885241.98*1.2/100 -> 3286622.9 | F33: =+B33+C33+D33+E33 -> 29348056 | G33: 8200 | H33: คน | I33: =SUM(F33/G33) -> 3579.0312
A34: 25. เสริมสร้างธรรมาภิบาลป้องกันและลดความเสี่ยงในการเกิดการทุจริตและประพฤติมิชอบ | B34: 298823.68 | D34: 0 | F34: =+B34+C34+D34+E34 -> 298823.68 | G34: 170 | H34: คน | I34: =SUM(F34/G34) -> 1757.7864
A35: 26. พัฒนาอุตสาหกรรมเทคโนโลยีชั้นสูงและอุตสาหกรรมแห่งอนาคตในพื้นที่ระเบียงเศรษฐกิจภาคตะวันออก | B35: =2081330666.3*4.42/100 -> 91994815 | C35: =5097584.96*4.42/100 -> 225313.26 | D35: =85357848.85*4.42/100 -> 3772816.9 | E35: =273885241.98*4.42/100 -> 12105728 | F35: =+B35+C35+D35+E35 -> 1.0809867e+08 | G35: 10939 | H35: คน | I35: =SUM(F35/G35) -> 9881.952
A36: 27. การฝึกอาชีพเสริมเพื่อการมีงานทำหรือการประกอบอาชีพอิสระ | B36: =2081330666.3*31.61/100 -> 6.5790862e+08 | C36: =5097584.96*31.61/100 -> 1611346.6 | D36: =85357848.85*31.61/100 -> 26981616 | E36: =273885241.98*31.61/100 -> 86575125 | F36: =+B36+C36+D36+E36 -> 7.7307671e+08 | G36: 270230 | H36: คน | I36: =SUM(F36/G36) -> 2860.8101
A37: 28. การส่งเสริมและฝึกอาชีพหลักสูตรฝึกอาชีพเร่งด่วนช่างอเนกประสงค์ (ช่างชุมชน) | B37: =2081330666.3*5.23/100 -> 1.0885359e+08 | C37: =5097584.96*5.23/100 -> 266603.69 | D37: =85357848.85*5.23/100 -> 4464215.5 | E37: =273885241.98*5.23/100 -> 14324198 | F37: =+B37+C37+D37+E37 -> 1.2790861e+08 | G37: 11607 | H37: คน | I37: =SUM(F37/G37) -> 11019.954
A38: กิจกรรมย่อยของหน่วยงานสนับสนุน | B38: =SUM(B39:B72) -> 4.0718586e+08 | C38: =SUM(C39:C72) -> 381588.26 | D38: =SUM(D39:D72) -> 9779409.6 | E38: =SUM(E39:E72) -> 17671397 | F38: =SUM(F39:F72) -> 4.3501826e+08 | G38: =SUM(G39:G72) -> 2.3630272e+09 | I38: =SUM(F38/G38) -> 0.18409363
A39: 1. บริหารให้หน่วยงานปฏิบัติตามนโยบาย | B39: 7240249.5 | C39: 0 | D39: 238211.51 | E39: 374138.95 | F39: =SUM(B39:E39) -> 7852599.9 | G39: 14929 | H39: เรื่อง | I39: =SUM(F39/G39) -> 525.99638
A40: 2. ตรวจติดตามและให้คำแนะนำการปฏิบัติราชการ | B40: 7895166.2 | C40: 16391 | D40: 312736.48 | E40: 363493.32 | F40: =SUM(B40:E40) -> 8587787 | G40: 545 | H40: ครั้ง | I40: =SUM(F40/G40) -> 15757.407
...

Sheet ตารางที่ 4 ส่ง
A1: กรมพัฒนาฝีมือแรงงาน
A2: รายงานการคำนวณต้นทุนผลผลิต
A3: ประจำปีงบประมาณ พ.ศ. 2561
A4: ตารางที่ 4 รายงานต้นทุนผลผลิตย่อยแยกตามแหล่งเงิน
I5: หน่วย : บาท
A6: ผลผลิตย่อย | B6: เงินในงบประมาณ | C6: เงินนอกงบประมาณ | D6: งบกลาง | E6: ค่าเสื่อมราคา | F6: ต้นทุนรวม | G6: ปริมาณ | H6: หน่วยนับ | I6: ต้นทุนต่อหน่วย
A8: 1. ฝึกทักษะอาชีพให้กับกลุ่มเป้าหมายในพื้นที่จังหวัดชายแดนภาคใต้ | B8: =2548604910.44*0.49/100 -> 12488164 | C8: =5263197.2*0.49/100 -> 25789.666 | D8: =97396995.42*0.49/100 -> 477245.28 | E8: =297148778.59*0.49/100 -> 1456029 | F8: =SUM(B8:E8) -> 14447228 | G8: 600 | H8: คน | I8: =+F8/G8 -> 24078.713
A9: 2. ฝึกอบรมฝีมือให้กับกลุ่มเป้าหมายตามโครงการพาคนกลับบ้าน | B9: =2548604910.44*0.16/100 -> 4077767.9 | C9: =5263197.2*0.16/100 -> 8421.1155 | D9: =97396995.42*0.16/100 -> 155835.19 | E9: =297148778.59*0.16/100 -> 475438.05 | F9: =SUM(B9:E9) -> 4717462.2 | G9: 200 | H9: คน | I9: =+F9/G9 -> 23587.311
A10: 3. เพิ่มศักยภาพกำลังแรงงานภาคอุตสาหกรรมและบริการไปสู่ Thailand 4.0 | B10: =2548604910.44*15.45/100 -> 3.9375946e+08 | C10: =5263197.2*15.45/100 -> 813163.97 | D10: =97396995.42*15.45/100 -> 15047836 | E10: =297148778.59*15.45/100 -> 45909486 | F10: =SUM(B10:E10) -> 4.5552994e+08 | G10: 103461 | H10: คน | I10: =+F10/G10 -> 4402.9146
A11: 4. เพิ่มศักยภาพแรงงานเตรียมเข้าสู่อุตสาหกรรมเป้าหมายแห่งอนาคต | B11: =2548604910.44*1.92/100 -> 48933214 | C11: =5263197.2*1.92/100 -> 101053.39 | D11: =97396995.42*1.92/100 -> 1870022.3 | E11: =297148778.59*1.92/100 -> 5705256.5 | F11: =SUM(B11:E11) -> 56609547 | G11: 14136 | H11: คน | I11: =+F11/G11 -> 4004.6369
A12: 5. ศูนย์ฝึกอบรมเทคโนโลยีชั้นสูงรองรับอุตสาหกรรมแห่งอนาคต | B12: =2548604910.44*6.24/100 -> 1.5903295e+08 | C12: =5263197.2*6.24/100 -> 328423.51 | D12: =97396995.42*6.24/100 -> 6077572.5 | E12: =297148778.59*6.24/100 -> 18542084 | F12: =SUM(B12:E12) -> 1.8398103e+08 | G12: 10939 | H12: คน | I12: =+F12/G12 -> 16818.816
A13: 6. พัฒนาหลักสูตรยกระดับฝีมือตามความสามารถ | B13: =2548604910.44*0.03/100 -> 764581.47 | C13: =5263197.2*0.03/100 -> 1578.9592 | D13: =97396995.42*0.03/100 -> 29219.099 | E13: =297148778.59*0.03/100 -> 89144.634 | F13: =SUM(B13:E13) -> 884524.16 | G13: 60 | H13: หลักสูตร | I13: =+F13/G13 -> 14742.069
A14: (Competency Based Curriculum) | F14: =SUM(B14:E14) -> 0
A15: 7. จัดทำมาตรฐานฝีมือแรงงานแห่งชาติและวิธีการทดสอบมาตรฐานฝีมือเพื่อรองรับ Thailank 4.0 | B15: =2548604910.44*0.25/100 -> 6371512.3 | C15: =5263197.2*0.25/100 -> 13157.993 | D15: =97396995.42*0.25/100 -> 243492.49 | E15: =297148778.59*0.25/100 -> 742871.95 | F15: =SUM(B15:E15) -> 7371034.7 | G15: 10 | H15: สาขา | I15: =+F15/G15 -> 737103.47
A16: 8. เพิ่มผลิตภาพแรงงานสู่ SME 4.0 | B16: =2548604910.44*2.46/100 -> 62695681 | C16: =5263197.2*2.46/100 -> 129474.65 | D16: =97396995.42*2.46/100 -> 2395966.1 | E16: =297148778.59*2.46/100 -> 7309860 | F16: =SUM(B16:E16) -> 72530981 | G16: 12479 | H16: คน | I16: =+F16/G16 -> 5812.2431
A17: 9. เพิ่มทักษะกำลังแรงงานในพื้นที่ 10 จังหวัด ในพื้นที่เขตพัฒนาเศรษฐกิจพิเศษ | B17: =2548604910.44*1.82/100 -> 46384609 | C17: =5263197.2*1.82/100 -> 95790.189 | D17: =97396995.42*1.82/100 -> 1772625.3 | E17: =297148778.59*1.82/100 -> 5408107.8 | F17: =SUM(B17:E17) -> 53661133 | G17: 11869 | H17: คน | I17: =+F17/G17 -> 4521.1166
A18: 10. วิจัยเพื่อขับเคลื่อนผลิตภาพแรงงานสู่ Thailand 4.0 | B18: =2548604910.44*0.05/100 -> 1274302.5 | C18: =5263197.2*0.05/100 -> 2631.5986 | D18: =97396995.42*0.05/100 -> 48698.498 | E18: =297148778.59*0.05/100 -> 148574.39 | F18: =SUM(B18:E18) -> 1474206.9 | G18: 3 | H18: เรื่อง | I18: =+F18/G18 -> 491402.31
A19: 11. ควบคุมและกำกับดูแลการประกอบอาชีพที่อาจเป็นอันตรายต่อสาธารณะหรือต้องใช้ความรู้ความสามารถสู่ Safety At Work | B19: =2548604910.44*0.35/100 -> 8920117.2 | C19: =5263197.2*0.35/100 -> 18421.19 | D19: =97396995.42*0.35/100 -> 340889.48 | E19: =297148778.59*0.35/100 -> 1040020.7 | F19: =SUM(B19:E19) -> 10319449 | G19: 25924 | H19: คน | I19: =+F19/G19 -> 398.06544
A20: 12. พัฒนาฝีมือให้แก่กลุ่มวิสาหกิจชุมชน และผู้มีรายได้น้อย | B20: =2548604910.44*0.54/100 -> 13762467 | C20: =5263197.2*0.54/100 -> 28421.265 | D20: =97396995.42*0.54/100 -> 525943.78 | E20: =297148778.59*0.54/100 -> 1604603.4 | F20: =SUM(B20:E20) -> 15921435 | G20: 4063 | H20: คน | I20: =+F20/G20 -> 3918.6402
A21: 13. ทดสอบมาตรฐานฝีมือแรงงานให้มีสมรรถนะ | B21: =2548604910.44*8.02/100 -> 2.0439811e+08 | C21: =5263197.2*8.02/100 -> 422108.42 | D21: =97396995.42*8.02/100 -> 7811239 | E21: =297148778.59*8.02/100 -> 23831332 | F21: =SUM(B21:E21) -> 2.3646279e+08 | G21: 36832 | H21: คน | I21: =+F21/G21 -> 6420.0367
A22: 14. ส่งเสริมมาตรฐานฝีมือแรงงานแห่งชาติ | B22: =2548604910.44*0.13/100 -> 3313186.4 | C22: =5263197.2*0.13/100 -> 6842.1564 | D22: =97396995.42*0.13/100 -> 126616.09 | E22: =297148778.59*0.13/100 -> 386293.41 | F22: =SUM(B22:E22) -> 3832938 | G22: 129 | H22: แห่ง | I22: =+F22/G22 -> 29712.698
A23: 15. พัฒนาศักยภาพแรงงานเพื่อรองรับการจ่ายค่าจ้างตามมาตรฐานฝีมือ | B23: =2548604910.44*0.63/100 -> 16056211 | C23: =5263197.2*0.63/100 -> 33158.142 | D23: =97396995.42*0.63/100 -> 613601.07 | E23: =297148778.59*0.63/100 -> 1872037.3 | F23: =SUM(B23:E23) -> 18575007 | G23: 5071 | H23: คน | I23: =+F23/G23 -> 3662.9871
A24: 16. พัฒนาศักยภาพมาตรฐานฝีมือแรงงานไทยในต่างประเทศ | B24: =2548604910.44*0.26/100 -> 6626372.8 | C24: =5263197.2*0.26/100 -> 13684.313 | D24: =97396995.42*0.26/100 -> 253232.19 | E24: =297148778.59*0.26/100 -> 772586.82 | F24: =SUM(B24:E24) -> 7665876.1 | G24: 246 | H24: คน | I24: =+F24/G24 -> 31162.098
A25: 17. พัฒนาฝีมือแรงงานนานาชาติ | B25: =2548604910.44*1.08/100 -> 27524933 | C25: =5263197.2*1.08/100 -> 56842.53 | D25: =97396995.42*1.08/100 -> 1051887.6 | E25: =297148778.59*1.08/100 -> 3209206.8 | F25: =SUM(B25:E25) -> 31842870 | G25: 2003 | H25: คน | I25: =+F25/G25 -> 15897.589
A26: 18. พัฒนาระบบการฝึกอบรมฝีมือแรงงาน | B26: =2548604910.44*1.43/100 -> 36445050 | C26: =5263197.2*1.43/100 -> 75263.72 | D26: =97396995.42*1.43/100 -> 1392777 | E26: =297148778.59*1.43/100 -> 4249227.5 | F26: =SUM(B26:E26) -> 42162319 | G26: 35 | H26: หลักสูตร | I26: =+F26/G26 -> 1204637.7
A27: 19.ส่งเสริมและสนับสนุนให้สถานประกอบกิจการดำเนินการพัฒนาฝีมือแรงงาน | B27: =2548604910.44*14.92/100 -> 3.8025185e+08 | C27: =5263197.2*14.92/100 -> 785269.02 | D27: =97396995.42*14.92/100 -> 14531632 | E27: =297148778.59*14.92/100 -> 44334598 | F27: =SUM(B27:E27) -> 4.3990335e+08 | G27: 4391901 | H27: คน | I27: =+F27/G27 -> 100.1624
A28: 20. จัดทำหลักเกณฑ์ พัฒนาระบบ ส่งเสริมและรับรองมาตรฐานฝีมือแรงงาน | B28: =2548604910.44*4.42/100 -> 1.1264834e+08 | C28: =5263197.2*4.42/100 -> 232633.32 | D28: =97396995.42*4.42/100 -> 4304947.2 | E28: =297148778.59*4.42/100 -> 13133976 | F28: =SUM(B28:E28) -> 1.3031989e+08 | G28: 21 | H28: สาขา | I28: =+F28/G28 -> 6205709.2
A29: 21. พัฒนาช่างเครื่องช่วยคนพิการกับมูลนิธิขาเทียม | B29: =2548604910.44*0.13/100 -> 3313186.4 | C29: =5263197.2*0.13/100 -> 6842.1564 | D29: =97396995.42*0.13/100 -> 126616.09 | E29: =297148778.59*0.13/100 -> 386293.41 | F29: =SUM(B29:E29) -> 3832938 | G29: 114 | H29: คน | I29: =+F29/G29 -> 33622.264
A30: 22. ขับเคลื่อนยุทธศาสตร์การพัฒนากำลังคนระดับชาติรองรับการพัฒนาอุตสาหกรรมศักยภาพของประเทศ | B30: =2548604910.44*0.6/100 -> 15291629 | C30: =5263197.2*0.6/100 -> 31579.183 | D30: =97396995.42*0.6/100 -> 584381.97 | E30: =297148778.59*0.6/100 -> 1782892.7 | F30: =SUM(B30:E30) -> 17690483 | G30: 5 | H30: ครั้ง | I30: =+F30/G30 -> 3538096.7
A31: 23.ฝึกอบรมแรงงานกลุ่มเป้าหมายเฉพาะเพื่อเพิ่มโอกาสในการประกอบอาชีพ | B31: =2548604910.44*2.9/100 -> 73909542 | C31: =5263197.2*2.9/100 -> 152632.72 | D31: =97396995.42*2.9/100 -> 2824512.9 | E31: =297148778.59*2.9/100 -> 8617314.6 | F31: =SUM(B31:E31) -> 85504003 | G31: 31569 | H31: คน | I31: =+F31/G31 -> 2708.4799
A32: 24. ฝึกอบรมแรงงานผู้สูงอายุเพื่อเพิ่มโอกาสในการประกอบอาชีพ | B32: =2548604910.44*1.01/100 -> 25740910 | C32: =5263197.2*1.01/100 -> 53158.292 | D32: =97396995.42*1.01/100 -> 983709.65 | E32: =297148778.59*1.01/100 -> 3001202.7 | F32: =SUM(B32:E32) -> 29778980 | G32: 8200 | H32: คน | I32: =+F32/G32 -> 3631.583
A33: 25. เสริมสร้างธรรมาภิบาลป้องกันและลดความเสี่ยงในการเกิดการทุจริตและประพฤติมิชอบ | B33: =2548604910.44*0.03/100 -> 764581.47 | C33: =5263197.2*0.03/100 -> 1578.9592 | D33: =97396995.42*0.03/100 -> 29219.099 | E33: =297148778.59*0.03/100 -> 89144.634 | F33: =SUM(B33:E33) -> 884524.16 | G33: 170 | H33: คน | I33: =+F33/G33 -> 5203.0833
A34: 26. พัฒนาอุตสาหกรรมเทคโนโลยีชั้นสูงและอุตสาหกรรมแห่งอนาคตในพื้นที่ระเบียงเศรษฐกิจภาคตะวันออก | B34: =2548604910.44*3.72/100 -> 94808103 | C34: =5263197.2*3.72/100 -> 195790.94 | D34: =97396995.42*3.72/100 -> 3623168.2 | E34: =297148778.59*3.72/100 -> 11053935 | F34: =SUM(B34:E34) -> 1.09681e+08 | G34: 10939 | H34: คน | I34: =+F34/G34 -> 10026.602
A35: 27. การฝึกอาชีพเสริมเพื่อการมีงานทำหรือการประกอบอาชีพอิสระ | B35: =2548604910.44*26.59/100 -> 6.7767405e+08 | C35: =5263197.2*26.59/100 -> 1399484.1 | D35: =97396995.42*26.59/100 -> 25897861 | E35: =297148778.59*26.59/100 -> 79011860 | F35: =SUM(B35:E35) -> 7.8398325e+08 | G35: 270230 | H35: คน | I35: =+F35/G35 -> 2901.1703
A36: 28. การส่งเสริมและฝึกอาชีพหลักสูตรฝึกอาชีพเร่งด่วนช่างอเนกประสงค์ (ช่างชุมชน) | B36: =2548604910.44*4.37/100 -> 1.1137403e+08 | C36: =5263197.2*4.37/100 -> 230001.72 | D36: =97396995.42*4.37/100 -> 4256248.7 | E36: =297148778.59*4.37/100 -> 12985402 | F36: =SUM(B36:E36) -> 1.2884569e+08 | G36: 11607 | H36: คน | I36: =+F36/G36 -> 11100.688
A37: รวมต้นทุนผลผลิต | B37: =B8+B9+B10+B11+B12+B13+B15+B16+B17+B18+B19+B20+B21+B22+B23+B24+B25+B26+B27+B28+B29+B30+B31+B32+B33+B34+B35+B36 -> 2.5486049e+09 | C37: =SUM(C8:C36) -> 5263197.2 | D37: =SUM(D8:D36) -> 97396995 | E37: =SUM(E8:E36) -> 2.9714878e+08 | F37: =SUM(F8:F36) -> 2.9484139e+09 | G37: =SUM(G8:G36) -> 4952816 | I37: =+F37/G37 -> 595.30051
B40: =2548604910.44-2548604910.44 -> 0 | C40: =5263197.2-5263197.2 -> 0 | D40: =97396995.42-97396995.42 -> 0 | E40: =297148778.59-297148778.59 -> 0 | F40: =2948413881.65-2948413881.65 -> 0

Sheet ตารางที่ 5 ส่ง
A1: กรมพัฒนาฝีมือแรงงาน
A2: รายงานการคำนวณต้นทุนผลผลิต
A3: ประจำปีงบประมาณ พ.ศ. 2561
A4: ตารางที่ 5 รายงานต้นทุนกิจกรรมหลักแยกตามแหล่งเงิน
I5: หน่วย : บาท
A6: กิจกรรมหลัก | B6: เงินในงบประมาณ | C6: เงินนอกงบประมาณ | D6: งบกลาง | E6: ค่าเสื่อมราคา | F6: ต้นทุนรวม | G6: ปริมาณ | H6: หน่วยนับ | I6: ต้นทุนต่อหน่วย
A8: 1. ฝึกทักษะอาชีพให้กับกลุ่มเป้าหมายในพื้นที่จังหวัดชายแดนภาคใต้ | B8: =2548604910.44*0.49/100 -> 12488164 | C8: =5263197.2*0.49/100 -> 25789.666 | D8: =97396995.42*0.49/100 -> 477245.28 | E8: =297148778.59*0.49/100 -> 1456029 | F8: =SUM(B8:E8) -> 14447228 | G8: 600 | H8: คน | I8: =+F8/G8 -> 24078.713
A9: 2. ฝึกอบรมฝีมือให้กับกลุ่มเป้าหมายตามโครงการพาคนกลับบ้าน | B9: =2548604910.44*0.16/100 -> 4077767.9 | C9: =5263197.2*0.16/100 -> 8421.1155 | D9: =97396995.42*0.16/100 -> 155835.19 | E9: =297148778.59*0.16/100 -> 475438.05 | F9: =SUM(B9:E9) -> 4717462.2 | G9: 200 | H9: คน | I9: =+F9/G9 -> 23587.311
A10: 3. เพิ่มศักยภาพกำลังแรงงานภาคอุตสาหกรรมและบริการไปสู่ Thailand 4.0 | B10: =2548604910.44*15.45/100 -> 3.9375946e+08 | C10: =5263197.2*15.45/100 -> 813163.97 | D10: =97396995.42*15.45/100 -> 15047836 | E10: =297148778.59*15.45/100 -> 45909486 | F10: =SUM(B10:E10) -> 4.5552994e+08 | G10: 103461 | H10: คน | I10: =+F10/G10 -> 4402.9146
A11: 4. เพิ่มศักยภาพแรงงานเตรียมเข้าสู่อุตสาหกรรมเป้าหมายแห่งอนาคต | B11: =2548604910.44*1.92/100 -> 48933214 | C11: =5263197.2*1.92/100 -> 101053.39 | D11: =97396995.42*1.92/100 -> 1870022.3 | E11: =297148778.59*1.92/100 -> 5705256.5 | F11: =SUM(B11:E11) -> 56609547 | G11: 14136 | H11: คน | I11: =+F11/G11 -> 4004.6369
A12: 5. ศูนย์ฝึกอบรมเทคโนโลยีชั้นสูงรองรับอุตสาหกรรมแห่งอนาคต | B12: =2548604910.44*6.24/100 -> 1.5903295e+08 | C12: =5263197.2*6.24/100 -> 328423.51 | D12: =97396995.42*6.24/100 -> 6077572.5 | E12: =297148778.59*6.24/100 -> 18542084 | F12: =SUM(B12:E12) -> 1.8398103e+08 | G12: 10939 | H12: คน | I12: =+F12/G12 -> 16818.816
A13: 6. พัฒนาหลักสูตรยกระดับฝีมือตามความสามารถ | B13: =2548604910.44*0.03/100 -> 764581.47 | C13: =5263197.2*0.03/100 -> 1578.9592 | D13: =97396995.42*0.03/100 -> 29219.099 | E13: =297148778.59*0.03/100 -> 89144.634 | F13: =SUM(B13:E13) -> 884524.16 | G13: 60 | H13: หลักสูตร | I13: =+F13/G13 -> 14742.069
A14: (Competency Based Curriculum) | F14: =SUM(B14:E14) -> 0
A15: 7. จัดทำมาตรฐานฝีมือแรงงานแห่งชาติและวิธีการทดสอบมาตรฐานฝีมือเพื่อรองรับ Thailank 4.0 | B15: =2548604910.44*0.25/100 -> 6371512.3 | C15: =5263197.2*0.25/100 -> 13157.993 | D15: =97396995.42*0.25/100 -> 243492.49 | E15: =297148778.59*0.25/100 -> 742871.95 | F15: =SUM(B15:E15) -> 7371034.7 | G15: 10 | H15: สาขา | I15: =+F15/G15 -> 737103.47
A16: 8. เพิ่มผลิตภาพแรงงานสู่ SME 4.0 | B16: =2548604910.44*2.46/100 -> 62695681 | C16: =5263197.2*2.46/100 -> 129474.65 | D16: =97396995.42*2.46/100 -> 2395966.1 | E16: =297148778.59*2.46/100 -> 7309860 | F16: =SUM(B16:E16) -> 72530981 | G16: 12479 | H16: คน | I16: =+F16/G16 -> 5812.2431
A17: 9. เพิ่มทักษะกำลังแรงงานในพื้นที่ 10 จังหวัด ในพื้นที่เขตพัฒนาเศรษฐกิจพิเศษ | B17: =2548604910.44*1.82/100 -> 46384609 | C17: =5263197.2*1.82/100 -> 95790.189 | D17: =97396995.42*1.82/100 -> 1772625.3 | E17: =297148778.59*1.82/100 -> 5408107.8 | F17: =SUM(B17:E17) -> 53661133 | G17: 11869 | H17: คน | I17: =+F17/G17 -> 4521.1166
A18: 10. วิจัยเพื่อขับเคลื่อนผลิตภาพแรงงานสู่ Thailand 4.0 | B18: =2548604910.44*0.05/100 -> 1274302.5 | C18: =5263197.2*0.05/100 -> 2631.5986 | D18: =97396995.42*0.05/100 -> 48698.498 | E18: =297148778.59*0.05/100 -> 148574.39 | F18: =SUM(B18:E18) -> 1474206.9 | G18: 3 | H18: เรื่อง | I18: =+F18/G18 -> 491402.31
A19: 11. ควบคุมและกำกับดูแลการประกอบอาชีพที่อาจเป็นอันตรายต่อสาธารณะหรือต้องใช้ความรู้ความสามารถสู่ Safety At Work | B19: =2548604910.44*0.35/100 -> 8920117.2 | C19: =5263197.2*0.35/100 -> 18421.19 | D19: =97396995.42*0.35/100 -> 340889.48 | E19: =297148778.59*0.35/100 -> 1040020.7 | F19: =SUM(B19:E19) -> 10319449 | G19: 25924 | H19: คน | I19: =+F19/G19 -> 398.06544
A20: 12. พัฒนาฝีมือให้แก่กลุ่มวิสาหกิจชุมชน และผู้มีรายได้น้อย | B20: =2548604910.44*0.54/100 -> 13762467 | C20: =5263197.2*0.54/100 -> 28421.265 | D20: =97396995.42*0.54/100 -> 525943.78 | E20: =297148778.59*0.54/100 -> 1604603.4 | F20: =SUM(B20:E20) -> 15921435 | G20: 4063 | H20: คน | I20: =+F20/G20 -> 3918.6402
A21: 13. ทดสอบมาตรฐานฝีมือแรงงานให้มีสมรรถนะ | B21: =2548604910.44*8.02/100 -> 2.0439811e+08 | C21: =5263197.2*8.02/100 -> 422108.42 | D21: =97396995.42*8.02/100 -> 7811239 | E21: =297148778.59*8.02/100 -> 23831332 | F21: =SUM(B21:E21) -> 2.3646279e+08 | G21: 36832 | H21: คน | I21: =+F21/G21 -> 6420.0367
A22: 14. ส่งเสริมมาตรฐานฝีมือแรงงานแห่งชาติ | B22: =2548604910.44*0.13/100 -> 3313186.4 | C22: =5263197.2*0.13/100 -> 6842.1564 | D22: =97396995.42*0.13/100 -> 126616.09 | E22: =297148778.59*0.13/100 -> 386293.41 | F22: =SUM(B22:E22) -> 3832938 | G22: 129 | H22: แห่ง | I22: =+F22/G22 -> 29712.698
A23: 15. พัฒนาศักยภาพแรงงานเพื่อรองรับการจ่ายค่าจ้างตามมาตรฐานฝีมือ | B23: =2548604910.44*0.63/100 -> 16056211 | C23: =5263197.2*0.63/100 -> 33158.142 | D23: =97396995.42*0.63/100 -> 613601.07 | E23: =297148778.59*0.63/100 -> 1872037.3 | F23: =SUM(B23:E23) -> 18575007 | G23: 5071 | H23: คน | I23: =+F23/G23 -> 3662.9871
A24: 16. พัฒนาศักยภาพมาตรฐานฝีมือแรงงานไทยในต่างประเทศ | B24: =2548604910.44*0.26/100 -> 6626372.8 | C24: =5263197.2*0.26/100 -> 13684.313 | D24: =97396995.42*0.26/100 -> 253232.19 | E24: =297148778.59*0.26/100 -> 772586.82 | F24: =SUM(B24:E24) -> 7665876.1 | G24: 246 | H24: คน | I24: =+F24/G24 -> 31162.098
A25: 17. พัฒนาฝีมือแรงงานนานาชาติ | B25: =2548604910.44*1.08/100 -> 27524933 | C25: =5263197.2*1.08/100 -> 56842.53 | D25: =97396995.42*1.08/100 -> 1051887.6 | E25: =297148778.59*1.08/100 -> 3209206.8 | F25: =SUM(B25:E25) -> 31842870 | G25: 2003 | H25: คน | I25: =+F25/G25 -> 15897.589
A26: 18.พัฒนาและยกระดับผลิตภาพแรงงาน | F26: =SUM(B26:E26) -> 0
A27: 18. พัฒนาระบบการฝึกอบรมฝีมือแรงงาน | B27: =2548604910.44*1.43/100 -> 36445050 | C27: =5263197.2*1.43/100 -> 75263.72 | D27: =97396995.42*1.43/100 -> 1392777 | E27: =297148778.59*1.43/100 -> 4249227.5 | F27: =SUM(B27:E27) -> 42162319 | G27: 35 | H27: หลักสูตร | I27: =+F27/G27 -> 1204637.7
A28: 19.ส่งเสริมและสนับสนุนให้สถานประกอบกิจการดำเนินการพัฒนาฝีมือแรงงาน | B28: =2548604910.44*14.92/100 -> 3.8025185e+08 | C28: =5263197.2*14.92/100 -> 785269.02 | D28: =97396995.42*14.92/100 -> 14531632 | E28: =297148778.59*14.92/100 -> 44334598 | F28: =SUM(B28:E28) -> 4.3990335e+08 | G28: 4391901 | H28: คน | I28: =+F28/G28 -> 100.1624
A29: 20. จัดทำหลักเกณฑ์ พัฒนาระบบ ส่งเสริมและรับรองมาตรฐานฝีมือแรงงาน | B29: =2548604910.44*4.42/100 -> 1.1264834e+08 | C29: =5263197.2*4.42/100 -> 232633.32 | D29: =97396995.42*4.42/100 -> 4304947.2 | E29: =297148778.59*4.42/100 -> 13133976 | F29: =SUM(B29:E29) -> 1.3031989e+08 | G29: 21 | H29: สาขา | I29: =+F29/G29 -> 6205709.2
A30: 21. พัฒนาช่างเครื่องช่วยคนพิการกับมูลนิธิขาเทียม | B30: =2548604910.44*0.13/100 -> 3313186.4 | C30: =5263197.2*0.13/100 -> 6842.1564 | D30: =97396995.42*0.13/100 -> 126616.09 | E30: =297148778.59*0.13/100 -> 386293.41 | F30: =SUM(B30:E30) -> 3832938 | G30: 114 | H30: คน | I30: =+F30/G30 -> 33622.264
A31: 22. ขับเคลื่อนยุทธศาสตร์การพัฒนากำลังคนระดับชาติรองรับการพัฒนาอุตสาหกรรมศักยภาพของประเทศ | B31: =2548604910.44*0.6/100 -> 15291629 | C31: =5263197.2*0.6/100 -> 31579.183 | D31: =97396995.42*0.6/100 -> 584381.97 | E31: =297148778.59*0.6/100 -> 1782892.7 | F31: =SUM(B31:E31) -> 17690483 | G31: 5 | H31: ครั้ง | I31: =+F31/G31 -> 3538096.7
A32: 23.ฝึกอบรมแรงงานกลุ่มเป้าหมายเฉพาะเพื่อเพิ่มโอกาสในการประกอบอาชีพ | B32: =2548604910.44*2.9/100 -> 73909542 | C32: =5263197.2*2.9/100 -> 152632.72 | D32: =97396995.42*2.9/100 -> 2824512.9 | E32: =297148778.59*2.9/100 -> 8617314.6 | F32: =SUM(B32:E32) -> 85504003 | G32: 31569 | H32: คน | I32: =+F32/G32 -> 2708.4799
A33: 24. ฝึกอบรมแรงงานผู้สูงอายุเพื่อเพิ่มโอกาสในการประกอบอาชีพ | B33: =2548604910.44*1.01/100 -> 25740910 | C33: =5263197.2*1.01/100 -> 53158.292 | D33: =97396995.42*1.01/100 -> 983709.65 | E33: =297148778.59*1.01/100 -> 3001202.7 | F33: =SUM(B33:E33) -> 29778980 | G33: 8200 | H33: คน | I33: =+F33/G33 -> 3631.583
A34: 25. เสริมสร้างธรรมาภิบาลป้องกันและลดความเสี่ยงในการเกิดการทุจริตและประพฤติมิชอบ | B34: =2548604910.44*0.03/100 -> 764581.47 | C34: =5263197.2*0.03/100 -> 1578.9592 | D34: =97396995.42*0.03/100 -> 29219.099 | E34: =297148778.59*0.03/100 -> 89144.634 | F34: =SUM(B34:E34) -> 884524.16 | G34: 170 | H34: คน | I34: =+F34/G34 -> 5203.0833
A35: 26. พัฒนาอุตสาหกรรมเทคโนโลยีชั้นสูงและอุตสาหกรรมแห่งอนาคตในพื้นที่ระเบียงเศรษฐกิจภาคตะวันออก | B35: =2548604910.44*3.72/100 -> 94808103 | C35: =5263197.2*3.72/100 -> 195790.94 | D35: =97396995.42*3.72/100 -> 3623168.2 | E35: =297148778.59*3.72/100 -> 11053935 | F35: =SUM(B35:E35) -> 1.09681e+08 | G35: 10939 | H35: คน | I35: =+F35/G35 -> 10026.602
A36: 27. การฝึกอาชีพเสริมเพื่อการมีงานทำหรือการประกอบอาชีพอิสระ | B36: =2548604910.44*26.59/100 -> 6.7767405e+08 | C36: =5263197.2*26.59/100 -> 1399484.1 | D36: =97396995.42*26.59/100 -> 25897861 | E36: =297148778.59*26.59/100 -> 79011860 | F36: =SUM(B36:E36) -> 7.8398325e+08 | G36: 270230 | H36: คน | I36: =+F36/G36 -> 2901.1703
A37: 28. การส่งเสริมและฝึกอาชีพหลักสูตรฝึกอาชีพเร่งด่วนช่างอเนกประสงค์ (ช่างชุมชน) | B37: =2548604910.44*4.37/100 -> 1.1137403e+08 | C37: =5263197.2*4.37/100 -> 230001.72 | D37: =97396995.42*4.37/100 -> 4256248.7 | E37: =297148778.59*4.37/100 -> 12985402 | F37: =SUM(B37:E37) -> 1.2884569e+08 | G37: 11607 | H37: คน | I37: =+F37/G37 -> 11100.688
A38: รวมต้นทุนผลผลิต | B38: =SUM(B8:B37) -> 2.5486049e+09 | C38: =SUM(C8:C37) -> 5263197.2 | D38: =SUM(D8:D37) -> 97396995 | E38: =SUM(E8:E37) -> 2.9714878e+08 | F38: =SUM(F8:F37) -> 2.9484139e+09 | G38: =SUM(G8:G37) -> 4952816 | I38: =+F38/G38 -> 595.30051

Sheet ตารางที่ 6 ส่ง
A1: กรมพัฒนาฝีมือแรงงาน
A2: รายงานการคำนวณต้นทุนผลผลิต
A3: ประจำปีงบประมาณ พ.ศ. 2561
A4: ตารางที่ 6 รายงานต้นทุนผลผลิตหลักแยกตามแหล่งเงิน
I5: หน่วย : บาท
A6: ผลผลิตหลัก/โครงการ | B6: เงินในงบประมาณ | C6: เงินนอกงบประมาณ | D6: งบกลาง | E6: ค่าเสื่อมราคา | F6: ต้นทุนรวม | G6: ปริมาณ | H6: หน่วยนับ | I6: ต้นทุนต่อหน่วย
A8: 1. โครงการอบรมฝีมือแรงงานในพั้นที่จังหวัดชายแดนภาคใต้ | B8: =+'ตารางที่ 5 ส่ง'!B8+'ตารางที่ 5 ส่ง'!B9 -> 16565932 | C8: =+'ตารางที่ 5 ส่ง'!C8+'ตารางที่ 5 ส่ง'!C9 -> 34210.782 | D8: =+'ตารางที่ 5 ส่ง'!D8+'ตารางที่ 5 ส่ง'!D9 -> 633080.47 | E8: =+'ตารางที่ 5 ส่ง'!E8+'ตารางที่ 5 ส่ง'!E9 -> 1931467.1 | F8: =+B8+C8+D8+E8 -> 19164690 | G8: =+'ตารางที่ 5 ส่ง'!G8+'ตารางที่ 5 ส่ง'!G9 -> 800 | H8: คน | I8: =SUM(F8/G8) -> 23955.863
A9: 2.โครงการเพิ่มศักยภาพแรงงานรองรรับ Thailand 4.0 | B9: =+'ตารางที่ 5 ส่ง'!B10+'ตารางที่ 5 ส่ง'!B11 -> 4.4269267e+08 | C9: =+'ตารางที่ 5 ส่ง'!C10+'ตารางที่ 5 ส่ง'!C11 -> 914217.35 | D9: =+'ตารางที่ 5 ส่ง'!D10+'ตารางที่ 5 ส่ง'!D11 -> 16917858 | E9: =+'ตารางที่ 5 ส่ง'!E10+'ตารางที่ 5 ส่ง'!E11 -> 51614743 | F9: =+B9+C9+D9+E9 -> 5.1213949e+08 | G9: 117597 | H9: คน | I9: =SUM(F9/G9) -> 4355.0387
A10: 3.โครงการศูนย์ฝึกอบรมเทคโนโลยีชั้นสูงรองรับอุตสาหกรรมแห่งอนาคต | B10: =+'ตารางที่ 5 ส่ง'!B12 -> 1.5903295e+08 | C10: =+'ตารางที่ 5 ส่ง'!C12 -> 328423.51 | D10: =+'ตารางที่ 5 ส่ง'!D12 -> 6077572.5 | E10: =+'ตารางที่ 5 ส่ง'!E12 -> 18542084 | F10: =+B10+C10+D10+E10 -> 1.8398103e+08 | G10: 10939 | H10: คน | I10: =SUM(F10/G10) -> 16818.816
A11: 4. โครงการบูรณาการจัดทำมาตรฐานฝีมือแรงงาน และพัฒนาหลักสูตรรองรับ Thailand 4.0 | B11: =+'ตารางที่ 5 ส่ง'!B13+'ตารางที่ 5 ส่ง'!B15 -> 7136093.7 | C11: =+'ตารางที่ 5 ส่ง'!C13+'ตารางที่ 5 ส่ง'!C15 -> 14736.952 | D11: =+'ตารางที่ 5 ส่ง'!D13+'ตารางที่ 5 ส่ง'!D15 -> 272711.59 | E11: =+'ตารางที่ 5 ส่ง'!E13+'ตารางที่ 5 ส่ง'!E15 -> 832016.58 | F11: =+B11+C11+D11+E11 -> 8255558.9 | G11: 70 | H11: หลักสูตร/สาขา | I11: =SUM(F11/G11) -> 117936.56
A12: 5. โครงการเพิ่มผลิตภาพแรงงานสู่ SME 4.0 (STEM Workforce Towards SMA 4.0) | B12: =+'ตารางที่ 5 ส่ง'!B16 -> 62695681 | C12: =+'ตารางที่ 5 ส่ง'!C16 -> 129474.65 | D12: =+'ตารางที่ 5 ส่ง'!D16 -> 2395966.1 | E12: =+'ตารางที่ 5 ส่ง'!E16 -> 7309860 | F12: =+B12+C12+D12+E12 -> 72530981 | G12: 12479 | H12: คน | I12: =SUM(F12/G12) -> 5812.2431
A13: 6. โครงการเพิ่มทักษะกำลังแรงงานในพื้นที่ 10 จังหวัด ในพื้นที่เขตพัฒนาเศรษฐกิจพิเศษ | B13: =+'ตารางที่ 5 ส่ง'!B17 -> 46384609 | C13: =+'ตารางที่ 5 ส่ง'!C17 -> 95790.189 | D13: =+'ตารางที่ 5 ส่ง'!D17 -> 1772625.3 | E13: =+'ตารางที่ 5 ส่ง'!E17 -> 5408107.8 | F13: =+B13+C13+D13+E13 -> 53661133 | G13: 11869 | H13: คน | I13: =SUM(F13/G13) -> 4521.1166
A14: 7. โครงการวิจัยเพื่อขับเคลื่อนผลิตภาพแรงงานสู่ Thailand 4.0 | B14: =+'ตารางที่ 5 ส่ง'!B18 -> 1274302.5 | C14: =+'ตารางที่ 5 ส่ง'!C18 -> 2631.5986 | D14: =+'ตารางที่ 5 ส่ง'!D18 -> 48698.498 | E14: =+'ตารางที่ 5 ส่ง'!E18 -> 148574.39 | F14: =+B14+C14+D14+E14 -> 1474206.9 | G14: 3 | H14: เรื่อง | I14: =SUM(F14/G14) -> 491402.31
A15: 8. โครงการควบคุมและกำกับดูแลการประกอบอาชีพที่อาจเป็นอันตราย | B15: =+'ตารางที่ 5 ส่ง'!B19 -> 8920117.2 | C15: =+'ตารางที่ 5 ส่ง'!C19 -> 18421.19 | D15: =+'ตารางที่ 5 ส่ง'!D19 -> 340889.48 | E15: =+'ตารางที่ 5 ส่ง'!E19 -> 1040020.7 | F15: =+B15+C15+D15+E15 -> 10319449 | G15: ='ตารางที่ 5 ส่ง'!G19 -> 25924 | H15: คน | I15: =SUM(F15/G15) -> 398.06544
A16: 9. โครงการพัฒนาฝีมือให้แก่กลุ่มวิสาหกิจชุมขน และผู้มีรายได้น้อย | B16: =+'ตารางที่ 5 ส่ง'!B20 -> 13762467 | C16: =+'ตารางที่ 5 ส่ง'!C20 -> 28421.265 | D16: =+'ตารางที่ 5 ส่ง'!D20 -> 525943.78 | E16: =+'ตารางที่ 5 ส่ง'!E20 -> 1604603.4 | F16: =+B16+C16+D16+E16 -> 15921435 | G16: 4063 | H16: คน | I16: =SUM(F16/G16) -> 3918.6402
A17: 10. โครงการยกระดับแรงงานไทยให้ได้มาตรฐานฝีมือแรงงานเพื่อรองรับการแข่งขัน | B17: =+'ตารางที่ 5 ส่ง'!B21+'ตารางที่ 5 ส่ง'!B22+'ตารางที่ 5 ส่ง'!B23+'ตารางที่ 5 ส่ง'!B24 -> 2.3039388e+08 | C17: =+'ตารางที่ 5 ส่ง'!C21+'ตารางที่ 5 ส่ง'!C22+'ตารางที่ 5 ส่ง'!C23+'ตารางที่ 5 ส่ง'!C24 -> 475793.03 | D17: =+'ตารางที่ 5 ส่ง'!D21+'ตารางที่ 5 ส่ง'!D22+'ตารางที่ 5 ส่ง'!D23+'ตารางที่ 5 ส่ง'!D24 -> 8804688.4 | E17: =+'ตารางที่ 5 ส่ง'!E21+'ตารางที่ 5 ส่ง'!E22+'ตารางที่ 5 ส่ง'!E23+'ตารางที่ 5 ส่ง'!E24 -> 26862250 | F17: =+B17+C17+D17+E17 -> 2.6653661e+08 | G17: 42278 | H17: คน | I17: =SUM(F17/G17) -> 6304.3809
A18: 11. โครงการพัฒนาฝีมือแรงงานนานาชาติเพื่อการพัฒนาความร่วมมือทางเศรษฐกิจในอนุภูมิภาคลุ่มน้ำโขงและเอเซียตะวันออกเฉียงใต้ (GMS-ASEAN) | B18: =+'ตารางที่ 5 ส่ง'!B25 -> 27524933 | C18: =+'ตารางที่ 5 ส่ง'!C25 -> 56842.53 | D18: =+'ตารางที่ 5 ส่ง'!D25 -> 1051887.6 | E18: =+'ตารางที่ 5 ส่ง'!E25 -> 3209206.8 | F18: =+B18+C18+D18+E18 -> 31842870 | G18: 2003 | H18: คน | I18: =SUM(F18/G18) -> 15897.589
A19: 12. รายการค่าใช้จ่ายบุคลากรภาครัฐ พัฒนาและยกระดับผลิตภาพแรงงาน | B19: =+'ตารางที่ 5 ส่ง'!B26 -> 0 | C19: =+'ตารางที่ 5 ส่ง'!C26 -> 0 | D19: =+'ตารางที่ 5 ส่ง'!D26 -> 0 | E19: =+'ตารางที่ 5 ส่ง'!E26 -> 0 | F19: =+B19+C19+D19+E19 -> 0 | G19: 2449 | H19: คน | I19: =SUM(F19/G19) -> 0
A20: 12. พัฒนา/ขับเคลื่อนความร่วมมือเครือข่าย และส่งเสริมการพัฒนาฝีมือแรงงาน | B20: =+'ตารางที่ 5 ส่ง'!B27+'ตารางที่ 5 ส่ง'!B28+'ตารางที่ 5 ส่ง'!B29+'ตารางที่ 5 ส่ง'!B30+'ตารางที่ 5 ส่ง'!B31 -> 5.4795006e+08 | C20: =+'ตารางที่ 5 ส่ง'!C27+'ตารางที่ 5 ส่ง'!C28+'ตารางที่ 5 ส่ง'!C29+'ตารางที่ 5 ส่ง'!C30+'ตารางที่ 5 ส่ง'!C31 -> 1131587.4 | D20: =+'ตารางที่ 5 ส่ง'!D27+'ตารางที่ 5 ส่ง'!D28+'ตารางที่ 5 ส่ง'!D29+'ตารางที่ 5 ส่ง'!D30+'ตารางที่ 5 ส่ง'!D31 -> 20940354 | E20: =+'ตารางที่ 5 ส่ง'!E27+'ตารางที่ 5 ส่ง'!E28+'ตารางที่ 5 ส่ง'!E29+'ตารางที่ 5 ส่ง'!E30+'ตารางที่ 5 ส่ง'!E31 -> 63886987 | F20: =+B20+C20+D20+E20 -> 6.3390898e+08 | G20: =5+114+21+35+4391901 -> 4392076 | H20: คน/หลักสูตร/สาขา/ครั้ง | I20: =SUM(F20/G20) -> 144.33015
A21: 13. โครงการฝึกอบรมแรงงานกลุ่มเป้าหมายเฉพาะเพื่อเพิ่มโอกาสในการประกอบอาชีพ | B21: =+'ตารางที่ 5 ส่ง'!B32 -> 73909542 | C21: =+'ตารางที่ 5 ส่ง'!C32 -> 152632.72 | D21: =+'ตารางที่ 5 ส่ง'!D32 -> 2824512.9 | E21: =+'ตารางที่ 5 ส่ง'!E32 -> 8617314.6 | F21: =+B21+C21+D21+E21 -> 85504003 | G21: 31569 | H21: คน | I21: =SUM(F21/G21) -> 2708.4799
A22: 14. โครงการฝึกอบรมแรงงานผู้สูงอายุเพื่อเพิ่มโอกาสในการประกอบอาชีพ | B22: =+'ตารางที่ 5 ส่ง'!B33 -> 25740910 | C22: =+'ตารางที่ 5 ส่ง'!C33 -> 53158.292 | D22: =+'ตารางที่ 5 ส่ง'!D33 -> 983709.65 | E22: =+'ตารางที่ 5 ส่ง'!E33 -> 3001202.7 | F22: =+B22+C22+D22+E22 -> 29778980 | G22: 8200 | H22: คน | I22: =SUM(F22/G22) -> 3631.583
A23: 15. โครงการเสริมสร้างธรรมาภิบาลป้องกันและลดความเสี่ยงในการเกิดการทุจริตและประพฤติมิชอบ | B23: =+'ตารางที่ 5 ส่ง'!B34 -> 764581.47 | C23: =+'ตารางที่ 5 ส่ง'!C34 -> 1578.9592 | D23: =+'ตารางที่ 5 ส่ง'!D34 -> 29219.099 | E23: =+'ตารางที่ 5 ส่ง'!E34 -> 89144.634 | F23: =+B23+C23+D23+E23 -> 884524.16 | G23: =+'ตารางที่ 5 ส่ง'!G34 -> 170 | H23: คน | I23: =SUM(F23/G23) -> 5203.0833
A24: 16. โครงการพัฒนาอุตสาหกรรมเทคโนโลยีชั้นสูงและอุตสาหกรรมแห่งอนาคตในพื้นที่ระเบียงเศรษฐกิจภาคตะวันออก | B24: =+'ตารางที่ 5 ส่ง'!B35 -> 94808103 | C24: =+'ตารางที่ 5 ส่ง'!C35 -> 195790.94 | D24: =+'ตารางที่ 5 ส่ง'!D35 -> 3623168.2 | E24: =+'ตารางที่ 5 ส่ง'!E35 -> 11053935 | F24: =+B24+C24+D24+E24 -> 1.09681e+08 | G24: 10939 | H24: คน | I24: =SUM(F24/G24) -> 10026.602
A25: 17. โครงการเพิ่มศักยภาพผู้มีรายได้น้อยที่ลงทะเบียนสวัสดิการแห่งรัฐ | B25: =+'ตารางที่ 5 ส่ง'!B36+'ตารางที่ 5 ส่ง'!B37 -> 7.8904808e+08 | C25: =+'ตารางที่ 5 ส่ง'!C36+'ตารางที่ 5 ส่ง'!C37 -> 1629485.9 | D25: =+'ตารางที่ 5 ส่ง'!D36+'ตารางที่ 5 ส่ง'!D37 -> 30154110 | E25: =+'ตารางที่ 5 ส่ง'!E36+'ตารางที่ 5 ส่ง'!E37 -> 91997262 | F25: =+B25+C25+D25+E25 -> 9.1282894e+08 | G25: =270230+11607 -> 281837 | H25: คน | I25: =SUM(F25/G25) -> 3238.8542
A26: รวมต้นทุนผลผลิต | B26: =SUM(B8:B25) -> 2.5486049e+09 | C26: =SUM(C8:C25) -> 5263197.2 | D26: =SUM(D8:D25) -> 97396995 | E26: =SUM(E8:E25) -> 2.9714878e+08 | F26: =SUM(F8:F25) -> 2.9484139e+09 | G26: =SUM(G8:G25) -> 4955265 | I26: =+F26/G26 -> 595.0063

Sheet ตารางที่ 7 ส่ง
A1: กรมพัฒนาฝีมือแรงงาน | J1: กรมพัฒนาฝีมือแรงงาน
A2: รายงานการคำนวณต้นทุนผลผลิต | J2: รายงานการคำนวณต้นทุนผลผลิต
A3: ประจำปีงบประมาณ พ.ศ. 2560 | J3: ประจำปีงบประมาณ พ.ศ. 2561
A4: ตารางเปรียบเทียบผลการคำนวณต้นทุนผลผลิตระหว่างปีงบประมาณ พ.ศ. 2559 และปีงบประมาณ พ.ศ. 2560 | J4: ตารางเปรียบเทียบผลการคำนวณต้นทุนผลผลิตระหว่างปีงบประมาณ พ.ศ. 2560 และปีงบประมาณ พ.ศ. 2561
A6: ตารางที่ 7 เปรียบเทียบผลการคำนวณต้นทุนกิจกรรมย่อยแยกตามแหล่งเงิน | J6: ตารางที่ 7 เปรียบเทียบผลการคำนวณต้นทุนกิจกรรมย่อยแยกตามแหล่งเงิน
A8: ต้นทุนผลผลิตประจำปีงบประมาณ พ.ศ. 2560 (ต.ค. 59-ก.ย. 60) | J8: ต้นทุนผลผลิตประจำปีงบประมาณ พ.ศ. 2561 (ต.ค. 60-ก.ย. 61) | R8: ผลการเปรียบเทียบ
A9: กิจกรรมย่อย | B9: เงินใน | C9: เงินนอก | D9: งบกลาง | E9: ค่าเสื่อม | F9: ต้นทุน | G9: ปริมาณ | H9: หน่วย | I9: ต้นทุน | J9: เงินใน | K9: เงินนอก | L9: งบกลาง | M9: ค่าเสื่อม | N9: ต้นทุน | O9: ปริมาณ | P9: หน่วย | Q9: ต้นทุน | R9: ต้นทุน | S9: หน่วย | T9: ต้นทุน
B10: งปม. | C10: งปม. | E10: ราคา | F10: รวม | H10: นับ | I10: ต่อหน่วย | J10: งปม. | K10: งปม. | M10: ราคา | N10: รวม | P10: นับ | Q10: ต่อหน่วย | R10: รวม | S10: นับ | T10: ต่อหน่วย
R11: เพิ่ม (ลด) % | S11: เพิ่ม (ลด) % | T11: เพิ่ม (ลด) %
A12: (1) | B12: (2) | C12: (3) | D12: (4) | E12: (5) | F12: (6) =(2) ถึง (5) | G12: (7) | H12: (8) | I12: (9) = (6)/(7) | J12: (10) | K12: (11) | L12: (12) | M12: (13) | N12: (14) | O12: (15) | P12: (16) | Q12: (17) = (14)/(15) | R12: (18) = (14)-(6) | S12: (19) = (15)-(7) | T12: (20) = (17)-(9)
R13: *100/(6) | S13: *100/(7) | T13: *100/(9)
A14: กิจกรรมย่อยของหน่วยงานหลัก
A15: 1. ฝึกทักษะอาชีพให้กับกลุ่มเป้าหมายในพื้นที่จังหวัดชายแดนภาคใต้ | B15: 15405232 | C15: 88124.27 | D15: 1138846.4 | E15: 2527513.2 | F15: =SUM(B15:E15) -> 19159716 | G15: 867 | H15: คน | I15: =+F15/G15 -> 22098.865 | J15: ='ตารางที่ 3ส่ง'!B9 -> 12279851 | K15: ='ตารางที่ 3ส่ง'!C9 -> 30075.751 | L15: ='ตารางที่ 3ส่ง'!D9 -> 503611.31 | M15: ='ตารางที่ 3ส่ง'!E9 -> 1615922.9 | N15: =+J15+K15+L15+M15 -> 14429461 | O15: 600 | P15: คน | Q15: =+N15/O15 -> 24049.102 | R15: =SUM(N15-F15)*100/F15 -> -24.688544 | S15: =SUM(O15-G15)*100/G15 -> -30.795848 | T15: =SUM(Q15-I15)*100/I15 -> 8.8250537
A16: 2. ฝึกอบรมฝีมือให้กับกลุ่มเป้าหมายตามโครงการพาคนกลับบ้าน | B16: 0 | C16: 0 | D16: 0 | E16: 0 | F16: =SUM(B16:E16) -> 0 | J16: ='ตารางที่ 3ส่ง'!B10 -> 4162661.3 | K16: ='ตารางที่ 3ส่ง'!C10 -> 10195.17 | L16: ='ตารางที่ 3ส่ง'!D10 -> 170715.7 | M16: ='ตารางที่ 3ส่ง'!E10 -> 547770.48 | N16: =+J16+K16+L16+M16 -> 4891342.7 | O16: 200 | P16: คน | Q16: =+N16/O16 -> 24456.713 | R16: 0 | S16: 0 | T16: 0
A17: 3. เพิ่มศักยภาพกำลังแรงงานภาคอุตสาหกรรมและบริการไปสู่ Thailand 4.0 | B17: 3.7994476e+08 | C17: 1636467.8 | D17: 21148378 | E17: 46935920 | F17: =SUM(B17:E17) -> 4.4966553e+08 | G17: 100038 | H17: คน | I17: =+F17/G17 -> 4494.9472 | J17: ='ตารางที่ 3ส่ง'!B11 -> 3.7734525e+08 | K17: ='ตารางที่ 3ส่ง'!C11 -> 724192.15 | L17: ='ตารางที่ 3ส่ง'!D11 -> 15475378 | M17: ='ตารางที่ 3ส่ง'!E11 -> 49655394 | N17: =+J17+K17+L17+M17 -> 4.4320021e+08 | O17: 103461 | P17: คน | Q17: =+N17/O17 -> 4283.7418 | R17: =SUM(N17-F17)*100/F17 -> -1.4378051 | S17: =SUM(O17-G17)*100/G17 -> 3.4216998 | T17: =SUM(Q17-I17)*100/I17 -> -4.6987284
A18: 4. เพิ่มศักยภาพแรงงานเตรียมเข้าสู่อุตสาหกรรมเป้าหมายแห่งอนาคต | B18: 0 | C18: 0 | D18: 0 | E18: 0 | F18: =SUM(B18:E18) -> 0 | J18: ='ตารางที่ 3ส่ง'!B12 -> 46621807 | K18: ='ตารางที่ 3ส่ง'!C12 -> 114185.9 | L18: ='ตารางที่ 3ส่ง'!D12 -> 1912015.8 | M18: ='ตารางที่ 3ส่ง'!E12 -> 6135029.4 | N18: =+J18+K18+L18+M18 -> 54783038 | O18: 14136 | P18: คน | Q18: =+N18/O18 -> 3875.4271 | R18: 0 | S18: 0 | T18: 0
A19: 5. ศูนย์ฝึกอบรมเทคโนโลยีชั้นสูงรองรับอุตสาหกรรมแห่งอนาคต | B19: 0 | C19: 0 | D19: 0 | E19: 0 | F19: =SUM(B19:E19) -> 0 | J19: ='ตารางที่ 3ส่ง'!B13 -> 1.554754e+08 | K19: ='ตารางที่ 3ส่ง'!C13 -> 363949.34 | L19: ='ตารางที่ 3ส่ง'!D13 -> 6376231.3 | M19: ='ตารางที่ 3ส่ง'!E13 -> 20459228 | N19: =+J19+K19+L19+M19 -> 1.8267481e+08 | O19: 10939 | P19: คน | Q19: =+N19/O19 -> 16699.407 | R19: 0 | S19: 0 | T19: 0
A20: 6. พัฒนาหลักสูตรยกระดับฝีมือตามความสามารถ | B20: 0 | C20: 0 | D20: 0 | E20: 0 | F20: =SUM(B20:E20) -> 0 | J20: ='ตารางที่ 3ส่ง'!B14 -> 832532.27 | K20: ='ตารางที่ 3ส่ง'!C14 -> 2039.034 | L20: ='ตารางที่ 3ส่ง'!D14 -> 34143.14 | M20: ='ตารางที่ 3ส่ง'!E14 -> 109554.1 | N20: =+J20+K20+L20+M20 -> 978268.54 | O20: 60 | P20: หลักสูตร | Q20: =+N20/O20 -> 16304.476 | R20: 0 | S20: 0 | T20: 0
A21: (Competency Based Curriculum) | B21: 0 | C21: 0 | D21: 0 | E21: 0 | F21: =SUM(B21:E21) -> 0
A22: 7. จัดทำมาตรฐานฝีมือแรงงานแห่งชาติและวิธีการทดสอบมาตรฐานฝีมือเพื่อรองรับ Thailank 4.0 | B22: 0 | C22: 0 | D22: 0 | E22: 0 | F22: =SUM(B22:E22) -> 0 | J22: ='ตารางที่ 3ส่ง'!B16 -> 11320689 | K22: ='ตารางที่ 3ส่ง'!C16 -> 0 | L22: ='ตารางที่ 3ส่ง'!D16 -> 37642.88 | M22: ='ตารางที่ 3ส่ง'!E16 -> 653000.45 | N22: =SUM(J22:M22) -> 12011332 | O22: 10 | P22: สาขา | Q22: =+N22/O22 -> 1201133.2 | R22: 0 | S22: 0 | T22: 0
A23: 8. เพิ่มผลิตภาพแรงงานสู่ SME 4.0 | B23: 63112607 | C23: 344565.91 | D23: 4452889.4 | E23: 9882576.7 | F23: =SUM(B23:E23) -> 77792639 | G23: 13750 | H23: แห่ง | I23: =+F23/G23 -> 5657.6464 | J23: ='ตารางที่ 3ส่ง'!B17 -> 50368202 | K23: ='ตารางที่ 3ส่ง'!C17 -> 123361.56 | L23: ='ตารางที่ 3ส่ง'!D17 -> 2065659.9 | M23: ='ตารางที่ 3ส่ง'!E17 -> 6628022.9 | N23: =+J23+K23+L23+M23 -> 59185246 | O23: 12479 | P23: คน | Q23: =+N23/O23 -> 4742.7876 | R23: =SUM(N23-F23)*100/F23 -> -23.91922 | S23: =SUM(O23-G23)*100/G23 -> -9.2436364 | T23: =SUM(Q23-I23)*100/I23 -> -16.170308
A24: 9. เพิ่มทักษะกำลังแรงงานในพื้นที่ 10 จังหวัด ในพื้นที่เขตพัฒนาเศรษฐกิจพิเศษ | B24: 59117338 | C24: 287285.13 | D24: 3712639.2 | E24: 8239693.1 | F24: =SUM(B24:E24)+0.01 -> 71356956 | G24: 19559 | H24: คน | I24: =+F24/G24 -> 3648.2926 | J24: ='ตารางที่ 3ส่ง'!B18 -> 45581142 | K24: ='ตารางที่ 3ส่ง'!C18 -> 111637.11 | L24: ='ตารางที่ 3ส่ง'!D18 -> 1869336.9 | M24: ='ตารางที่ 3ส่ง'!E18 -> 5998086.8 | N24: =+J24+K24+L24+M24 -> 53560202 | O24: 11869 | P24: คน | Q24: =+N24/O24 -> 4512.6129 | R24: =SUM(N24-F24)*100/F24 -> -24.94046 | S24: =SUM(O24-G24)*100/G24 -> -39.316938 | T24: =SUM(Q24-I24)*100/I24 -> 23.691089
A25: 10. วิจัยเพื่อขับเคลื่อนผลิตภาพแรงงานสู่ Thailand 4.0 | B25: 0 | C25: 0 | D25: 0 | E25: 0 | F25: =SUM(B25:E25) -> 0 | G25: 0 | J25: ='ตารางที่ 3ส่ง'!B19 -> 4091057.5 | K25: ='ตารางที่ 3ส่ง'!C19 -> 864.24 | L25: ='ตารางที่ 3ส่ง'!D19 -> 16847.81 | M25: ='ตารางที่ 3ส่ง'!E19 -> 32456.21 | N25: =+J25+K25+L25+M25 -> 4141225.7 | O25: 3 | P25: เรื่อง | Q25: =+N25/O25 -> 1380408.6 | R25: 0 | S25: 0 | T25: 0
A26: 11. ควบคุมและกำกับดูแลการประกอบอาชีพที่อาจเป็นอันตรายต่อสาธารณะหรือต้องใช้ความรู้ความสามารถสู่ Safety At Work | B26: 7370830.3 | C26: 64330.72 | D26: 831357.87 | E26: 1845084.6 | F26: =SUM(B26:E26) -> 10111604 | G26: 1235 | H26: คน | I26: =+F26/G26 -> 8187.5332 | J26: ='ตารางที่ 3ส่ง'!B20 -> 1426948 | K26: ='ตารางที่ 3ส่ง'!C20 -> 0 | L26: ='ตารางที่ 3ส่ง'!D20 -> 132660 | M26: ='ตารางที่ 3ส่ง'!E20 -> 617577 | N26: =+J26+K26+L26+M26 -> 2177185 | O26: 25924 | P26: คน | Q26: =+N26/O26 -> 83.983374 | R26: =SUM(N26-F26)*100/F26 -> -78.46845 | S26: =+(O26-G26)*100/G26 -> 1999.1093 | T26: =+(Q26-I26)*100/I26 -> -98.974253
A27: 12. พัฒนาฝีมือให้แก่กลุ่มวิสาหกิจชุมชน และผู้มีรายได้น้อย | B27: 0 | C27: 0 | D27: 0 | E27: 0 | F27: =SUM(B27:E27) -> 0 | J27: ='ตารางที่ 3ส่ง'!B21 -> 13320516 | K27: ='ตารางที่ 3ส่ง'!C21 -> 32624.544 | L27: ='ตารางที่ 3ส่ง'!D21 -> 546290.23 | M27: ='ตารางที่ 3ส่ง'!E21 -> 1752865.5 | N27: =+J27+K27+L27+M27 -> 15652297 | O27: 4063 | P27: คน | Q27: =+N27/O27 -> 3852.3989 | R27: 0 | S27: 0 | T27: 0
A28: 13. ทดสอบมาตรฐานฝีมือแรงงานให้มีสมรรถนะ | B28: 1.0236009e+08 | C28: 528745.64 | D28: 6833078.4 | E28: 15165079 | F28: =SUM(B28:E28) -> 1.2488699e+08 | G28: 77344 | H28: คน | I28: =+F28/G28 -> 1614.6953 | J28: ='ตารางที่ 3ส่ง'!B22 -> 25808500 | K28: ='ตารางที่ 3ส่ง'!C22 -> 63210.054 | L28: ='ตารางที่ 3ส่ง'!D22 -> 2081975.6 | M28: ='ตารางที่ 3ส่ง'!E22 -> 7587450.7 | N28: =+J28+K28+L28+M28 -> 35541137 | O28: 36832 | P28: คน | Q28: =+N28/O28 -> 964.95267 | R28: =SUM(N28-F28)*100/F28 -> -71.541363 | S28: =SUM(O28-G28)*100/G28 -> -52.378982 | T28: =SUM(Q28-I28)*100/I28 -> -40.239335
A29: 14. ส่งเสริมมาตรฐานฝีมือแรงงานแห่งชาติ | B29: 0 | C29: 0 | D29: 0 | E29: 0 | F29: =SUM(B29:E29) -> 0 | J29: ='ตารางที่ 3ส่ง'!B23 -> 1873197.6 | K29: ='ตารางที่ 3ส่ง'!C23 -> 4587.8265 | L29: ='ตารางที่ 3ส่ง'!D23 -> 76822.064 | M29: ='ตารางที่ 3ส่ง'!E23 -> 246496.72 | N29: =+J29+K29+L29+M29 -> 2201104.2 | O29: 129 | P29: แห่ง | Q29: =+N29/O29 -> 17062.823 | R29: 0 | S29: 0 | T29: 0
A30: 15. พัฒนาศักยภาพแรงงานเพื่อรองรับการจ่ายค่าจ้างตามมาตรฐานฝีมือ | B30: 0 | C30: 0 | D30: 0 | E30: 0 | F30: =SUM(B30:E30) -> 0 | J30: ='ตารางที่ 3ส่ง'!B24 -> 15818113 | K30: ='ตารางที่ 3ส่ง'!C24 -> 38741.646 | L30: ='ตารางที่ 3ส่ง'!D24 -> 648719.65 | M30: ='ตารางที่ 3ส่ง'!E24 -> 2081527.8 | N30: =+J30+K30+L30+M30 -> 18587102 | O30: 5071 | P30: คน | Q30: =+N30/O30 -> 3665.3722 | R30: 0 | S30: 0 | T30: 0
A31: 16. พัฒนาศักยภาพมาตรฐานฝีมือแรงงานไทยในต่างประเทศ | B31: 0 | C31: 0 | D31: 0 | E31: 0 | F31: =SUM(B31:E31) -> 0 | J31: ='ตารางที่ 3ส่ง'!B25 -> 4555666.5 | K31: ='ตารางที่ 3ส่ง'!C25 -> 0 | L31: ='ตารางที่ 3ส่ง'!D25 -> 31380.51 | M31: ='ตารางที่ 3ส่ง'!E25 -> 97832.3 | N31: =+J31+K31+L31+M31 -> 4684879.4 | O31: 246 | P31: คน | Q31: =+N31/O31 -> 19044.225 | R31: 0 | S31: 0 | T31: 0
A32: 17. พัฒนาฝีมือแรงงานนานาชาติ | B32: 51687630 | C32: 440621.37 | D32: 5694232 | E32: 12637566 | F32: =SUM(B32:E32)+0.01 -> 70460049 | G32: 2429 | H32: คน | I32: =+F32/G32 -> 29007.842 | J32: ='ตารางที่ 3ส่ง'!B26 -> 26849166 | K32: ='ตารางที่ 3ส่ง'!C26 -> 65758.846 | L32: ='ตารางที่ 3ส่ง'!D26 -> 1101116.3 | M32: ='ตารางที่ 3ส่ง'!E26 -> 3533119.6 | N32: =+J32+K32+L32+M32 -> 31549160 | O32: 2003 | P32: คน | Q32: =+N32/O32 -> 15750.954 | R32: =SUM(N32-F32)*100/F32 -> -55.224044 | S32: =SUM(O32-G32)*100/G32 -> -17.538082 | T32: =SUM(Q32-I32)*100/I32 -> -45.70105
A33: 18. พัฒนาระบบการฝึกอบรมฝีมือแรงงาน | B33: 14409857 | C33: 185060.98 | D33: 2391577.4 | E33: 5307777.8 | F33: =SUM(B33:E33) -> 22294273 | G33: 15 | H33: หลักสูตร | I33: =+F33/G33 -> 1486284.9 | J33: ='ตารางที่ 3ส่ง'!B27 -> 11031053 | K33: ='ตารางที่ 3ส่ง'!C27 -> 27017.2 | L33: ='ตารางที่ 3ส่ง'!D27 -> 952396.6 | M33: ='ตารางที่ 3ส่ง'!E27 -> 1451591.8 | N33: =+J33+K33+L33+M33 -> 13462058 | O33: 35 | P33: หลักสูตร | Q33: =+N33/O33 -> 384630.23 | R33: =SUM(N33-F33)*100/F33 -> -39.61652 | S33: =SUM(O33-G33)*100/G33 -> 133.33333 | T33: =SUM(Q33-I33)*100/I33 -> -74.121366
A34: 19.ส่งเสริมและสนับสนุนให้สถานประกอบกิจการดำเนินการพัฒนาฝีมือแรงงาน | B34: 4.3929236e+08 | C34: 2771508.4 | D34: 35816719 | E34: 79490291 | F34: =SUM(B34:E34) -> 5.5737088e+08 | G34: 3978493 | H34: คน | I34: =+F34/G34 -> 140.09598 | J34: ='ตารางที่ 3ส่ง'!B28 -> 3.1677853e+08 | K34: ='ตารางที่ 3ส่ง'!C28 -> 775852.43 | L34: ='ตารางที่ 3ส่ง'!D28 -> 12991465 | M34: ='ตารางที่ 3ส่ง'!E28 -> 41685334 | N34: =SUM(J34:M34) -> 3.7223118e+08 | O34: 4391901 | P34: คน | Q34: =+N34/O34 -> 84.754 | R34: =SUM(N34-F34)*100/F34 -> -33.216608 | S34: =SUM(O34-G34)*100/G34 -> 10.39107 | T34: =SUM(Q34-I34)*100/I34 -> -39.502904
