Workbook

Sheet ปรับเป้าหมายตามวงเงิน
A1: แผนพัฒนาฝีมือแรงงานจังหวัด ปีงบประมาณ พ.ศ. 2565
A2: ปรับข้อมูล ณ วันที่ 22 ก.ย.2564
A3: ยุทธศาสตร์ชาติ แผนแม่บท ยุทธศาสตร์จัดสรรงบประมาณ | B3: หน่วยนับ | C3: รวมทั้งสิ้น | D3: ผส | E3: DSD Wellness | F3: AHRDA | G3: สพน.เชียงแสน | H3: ศป. | I3: สมฐ. | J3: สพท. | K3: รวม 1 | L3: สพร. 1 สมุทรปราการ | M3: สนพ.ฉะเชิงเทรา | N3: รวม 2 | O3: สพร.2 สุพรรณบุรี | P3: สนพ.ชัยนาท | Q3: สนพ.สิงห์บุรี | R3: สนพ.อุทัยธานี | S3: รวม 3 | T3: สพร.3 ชลบุรี | U3: MARA | V3: สนพ.ปราจีนบุรี | W3: สนพ.สระแก้ว | X3: รวม 4 | Y3: สพร.4 ราชบุรี | Z3: สนพ.กาญจนบุรี | AA3: สนพ.เพชรบุรี | AB3: สนพ.ประจวบ คีรีขันธ์ | AC3: รวม 5 | AD3: สพร.5 นครราชสีมา | AE3: สนพ.บุรีรัมย์ | AF3: สนพ. ชัยภูมิ | AG3: สนพ.สุรินทร์ | AH3: รวม 6 | AI3: สพร. 6 ขอนแก่น | AJ3: AMA | AK3: สนพ. กาฬสินธ์ | AL3: สนพ. มหาสารคาม | AM3: สนพ.หนองบัวลำภู | AN3: สนพ.มุกดาหาร | AO3: รวม 7 | AP3: สพร.7 อุบลราชธานี | AQ3: สนพ. ศรีสะเกษ | AR3: สนพ. ยโสธร | AS3: สนพ.อำนาจ เจริญ | AT3: สนพ.ร้อยเอ็ด | AU3: รวม 8 | AV3: สพร.8 นครสวรรค์ | AW3: สนพ. ตาก | AX3: สนพ.พิจิตร | AY3: สนพ.กำแพงเพชร | AZ3: รวม 9 | BA3: สพร. 9 พิษณุโลก | BB3: สนพ.เพชรบูรณ์ | BC3: สนพ.อุตรดิตถ์ | BD3: สนพ.สุโขทัย | BE3: สนพ. เลย | BF3: รวม 10 | BG3: สพร. 10 ลำปาง | BH3: สนพ.ลำพูน | BI3: สนพ. แพร่ | BJ3: รวม 11 | BK3: สพร. 11 สุราษฎร์ธานี | BL3: สนพ.ชุมพร | BM3: สนพ.ระนอง | BN3: รวม 12 | BO3: สพร. 12 สงขลา | BP3: สนพ.สตูล | BQ3: สพร. 13 กรุงเทพ | BR3: รวม 14 | BS3: สพร. 14 ปทุมธานี | BT3: สนพ.นนทบุรี | BU3: สนพ.นครนายก | BV3: รวม 15 | BW3: สพร. 15 อยุธยา | BX3: สนพ.อ่างทอง | BY3: สนพ.ลพบุรี | BZ3: สนพ. สระบุรี | CA3: รวม 16 | CB3: สพร.16 นครปฐม | CC3: สนพ.สมุทรสาคร | CD3: สนพ..สมุทรสงคราม | CE3: รวม 17 | CF3: สพร. 17 ระยอง | CG3: สนพ.จันทบุรี | CH3: สนพ. ตราด | CI3: รวม 18 | CJ3: สพร. 18 อุดรธานี | CK3: สนพ.หนองคาย | CL3: สนพ. สกลนคร | CM3: สนพ.นครพนม | CN3: สนพ. บึงกาฬ | CO3: รวม 19 | CP3: สพร. 19 เชียงใหม่ | CQ3: สนพ.แม่ฮ่องสอน | CR3: รวม 20 | CS3: สพร. 20 เชียงราย | CT3: สนพ. พะเยา | CU3: สนพ. น่าน | CV3: รวม 21 | CW3: สพร. 21 ภูเก็ต | CX3: สนพ. พังงา | CY3: สนพ.กระบี่ | CZ3: รวม 22 | DA3: สพร. 22 นครศรีธรรมราช | DB3: สนพ. พัทลุง | DC3: สนพ. ตรัง | DD3: สพร. 23 ปัตตานี | DE3: สพร. 24 ยะลา | DF3: สพร. 25 นราธิวาส
A4: รวมทั้งสิ้น | B4: คน | C4: =C5+C6 -> 4114174 | E4: =E5+E6 -> 840 | F4: =F5+F6 -> 700 | G4: =G5+G6 -> 400 | H4: =H5+H6 -> 250 | I4: =I5+I6 -> 0 | J4: =J5+J6 -> 40 | K4: =K5+K6 -> 471930 | L4: =L5+L6 -> 390760 | ... DF4: =DF5+DF6 -> 2150 | DG4: =DF4+DE4+DD4+CZ4+CV4+CR4+CO4+CI4+CE4+CA4+BV4+BR4+BN4+BQ4+BJ4+BF4+AZ4+AU4+AO4+AH4+AC4+X4+S4+N4+K4+J4+H4+G4+F4+E4 -> 4114174
A5: กรมพัฒนาฝีมือแรงงานดำเนินการเอง | B5: คน | C5: =C9+C12+C14+C18+C21+C23+C25+C27+C29+C30+C42+C43+C48+C51+C55+C59+C64+C67 -> 114174 | D5: =D9+D12+D14+D18+D21+D23+D25+D27+D29+D30+D42+D43+D48+D51+D55+D59+D64+D67 -> 0 | E5: =E9+E12+E14+E18+E21+E23+E25+E27+E29+E30+E42+E43+E48+E51+E55+E59+E64+E67 -> 840 | F5: =F9+F12+F14+F18+F21+F23+F25+F27+F29+F30+F42+F43+F48+F51+F55+F59+F64+F67 -> 700 | G5: =G9+G12+G14+G18+G21+G23+G25+G27+G29+G30+G42+G43+G48+G51+G55+G59+G64+G67 -> 400 | H5: =H9+H12+H14+H18+H21+H23+H25+H27+H29+H30+H42+H43+H48+H51+H55+H59+H64+H67 -> 250 | I5: =I9+I12+I14+I18+I21+I23+I25+I27+I29+I30+I42+I43+I48+I51+I55+I59+I64+I67 -> 0 | J5: =J9+J12+J14+J18+J21+J23+J25+J27+J29+J30+J42+J43+J48+J51+J55+J59+J64+J67 -> 40 | ... DF5: =DF9+DF12+DF14+DF18+DF21+DF23+DF25+DF27+DF29+DF30+DF42+DF43+DF48+DF51+DF55+DF59+DF64+DF67 -> 1600 | DG5: =DF5+DE5+DD5+CZ5+CV5+CR5+CO5+CI5+CE5+CA5+BV5+BR5+BN5+BQ5+BJ5+BF5+AZ5+AU5+AO5+AH5+AC5+X5+S5+N5+K5+J5+H5+G5+F5+E5 -> 114174
A6: ส่งเสริมสถานประกอบกิจการดำเนินการ | B6: คน | C6: =C38 -> 4000000 | D6: =D38 -> 0 | E6: =E38 -> 0 | F6: =F38 -> 0 | G6: =G38 -> 0 | H6: =H38 -> 0 | I6: =I38 -> 0 | J6: =J38 -> 0 | ... DF6: =DF38 -> 550 | DG6: =DF6+DE6+DD6+CZ6+CV6+CR6+CO6+CI6+CE6+CA6+BV6+BR6+BN6+BQ6+BJ6+BF6+AZ6+AU6+AO6+AH6+AC6+X6+S6+N6+K6+J6+H6+G6+F6+E6 -> 4000000
A7: ยุทธศาสตร์ชาติ ด้านความมั่นคง | DG7: =DF7+DE7+DD7+CZ7+CV7+CR7+CO7+CI7+CE7+CA7+BV7+BR7+BN7+BQ7+BJ7+BF7+AZ7+AU7+AO7+AH7+AC7+X7+S7+N7+K7+J7+H7+G7+F7+E7 -> 0
A8: แผนงานบูรณาการ ขับเคลื่อนการแก้ไขปัญหาจังหวัดชายแดนภาคใต้ | DG8: =DF8+DE8+DD8+CZ8+CV8+CR8+CO8+CI8+CE8+CA8+BV8+BR8+BN8+BQ8+BJ8+BF8+AZ8+AU8+AO8+AH8+AC8+X8+S8+N8+K8+J8+H8+G8+F8+E8 -> 0
A9: 1. โครงการพัฒนาเศรษฐกิจและส่งเสริมศักยภาพพื้นที่จังหวัดชายแดนภาคใต้ (เจ้าภาพ ศป.) | B9: คน | C9: =E9+F9+K9+N9+S9+X9+AC9+AH9+AO9+AU9+AZ9+BF9+BJ9+BN9+BQ9+BR9+BV9+CA9+CE9+CI9+CO9+CR9+CV9+CZ9+DD9+DE9+DF9 -> 800 | S9: =T9+U9+V9+W9 -> 0 | AH9: =AI9+AJ9+AK9+AL9+AM9 -> 0 | AO9: =AP9+AQ9+AR9+AS9+AT9 -> 0 | AU9: =AV9+AW9+AX9+AY9 -> 0 | AZ9: =BA9+BB9+BC9+BD9+BE9 -> 0 | BF9: =BG9+BH9+BI9 -> 0 | BJ9: =SUM(BJ10) -> 0 | BK9: =SUM(BK10) -> 0 | BL9: =SUM(BL10) -> 0 | BM9: =SUM(BM10) -> 0 | BN9: =SUM(BN10) -> 120 | BO9: =SUM(BO10) -> 120 | BP9: =SUM(BP10) -> 0 | BV9: =BW9+BX9+BY9+BZ9 -> 0 | CA9: =CB9+CC9+CD9 -> 0 | CE9: =CF9+CG9+CH9 -> 0 | CI9: =CJ9+CK9+CL9+CM9+CN9 -> 0 | CO9: =CP9+CQ9 -> 0 | CR9: =CS9+CT9+CU9 -> 0 | CV9: =CW9+CX9+CY9 -> 0 | CZ9: =DA9+DB9+DC9 -> 0 | DD9: =SUM(DD10) -> 240 | DE9: =SUM(DE10) -> 220 | DF9: =SUM(DF10) -> 220 | DG9: =DF9+DE9+DD9+CZ9+CV9+CR9+CO9+CI9+CE9+CA9+BV9+BR9+BN9+BQ9+BJ9+BF9+AZ9+AU9+AO9+AH9+AC9+X9+S9+N9+K9+J9+H9+G9+F9+E9 -> 800
A10: กิจกรรม ฝึกอบรมฝีมือแรงงานในพื้นที่จังหวัดชายแดนภาคใต้ | C10: =E10+F10+K10+N10+S10+X10+AC10+AH10+AO10+AU10+AZ10+BF10+BJ10+BN10+BQ10+BR10+BV10+CA10+CE10+CI10+CO10+CR10+CV10+CZ10+DD10+DE10+DF10 -> 800 | S10: =T10+U10+V10+W10 -> 0 | AH10: =AI10+AJ10+AK10+AL10+AM10 -> 0 | AO10: =AP10+AQ10+AR10+AS10+AT10 -> 0 | AU10: =AV10+AW10+AX10+AY10 -> 0 | AZ10: =BA10+BB10+BC10+BD10+BE10 -> 0 | BF10: =BG10+BH10+BI10 -> 0 | BJ10: =BK10+BL10+BM10 -> 0 | BN10: =BO10+BP10 -> 120 | BO10: 120 | BV10: =BW10+BX10+BY10+BZ10 -> 0 | CE10: =CF10+CG10+CH10 -> 0 | CI10: =CJ10+CK10+CL10+CM10+CN10 -> 0 | CR10: =CS10+CT10+CU10 -> 0 | CV10: =CW10+CX10+CY10 -> 0 | CZ10: =DA10+DB10+DC10 -> 0 | DD10: 240 | DE10: 220 | DF10: 220 | DG10: =DF10+DE10+DD10+CZ10+CV10+CR10+CO10+CI10+CE10+CA10+BV10+BR10+BN10+BQ10+BJ10+BF10+AZ10+AU10+AO10+AH10+AC10+X10+S10+N10+K10+J10+H10+G10+F10+E10 -> 800
A11: แผนงานยุทธศาสตร์ การเกษตรสร้างมูลค่า | S11: =T11+U11+V11+W11 -> 0 | X11: =Y11+Z11+AA11+AB11 -> 0 | AC11: =AD11+AE11+AF11+AG11 -> 0 | AH11: =AI11+AJ11+AK11+AL11+AM11 -> 0 | AO11: =AP11+AQ11+AR11+AS11+AT11 -> 0 | AU11: =AV11+AW11+AX11+AY11 -> 0 | AZ11: =BA11+BB11+BC11+BD11+BE11 -> 0 | BF11: =BG11+BH11+BI11 -> 0 | BV11: =BW11+BX11+BY11+BZ11 -> 0 | CE11: =CF11+CG11+CH11 -> 0 | CI11: =CJ11+CK11+CL11+CM11+CN11 -> 0 | CR11: =CS11+CT11+CU11 -> 0 | CV11: =CW11+CX11+CY11 -> 0 | CZ11: =DA11+DB11+DC11 -> 0 | DG11: =DF11+DE11+DD11+CZ11+CV11+CR11+CO11+CI11+CE11+CA11+BV11+BR11+BN11+BQ11+BJ11+BF11+AZ11+AU11+AO11+AH11+AC11+X11+S11+N11+K11+J11+H11+G11+F11+E11 -> 0
A12: 2. โครงการเพิ่มมูลค่าผลิตภัณฑ์แปรรูปเกษตรด้วยเทคโนโลยีและนวัตกรรม (เจ้าภาพ ศป.) | C12: =E12+F12+K12+N12+S12+X12+AC12+AH12+AO12+AU12+AZ12+BF12+BJ12+BN12+BQ12+BR12+BV12+CA12+CE12+CI12+CO12+CR12+CV12+CZ12+DD12+DE12+DF12 -> 2600 | K12: =L12+M12 -> 40 | L12: 20 | M12: 20 | N12: =O12+P12+Q12+R12 -> 180 | O12: 20 | P12: 40 | Q12: 20 | R12: 100 | S12: =T12+U12+V12+W12 -> 80 | T12: 20 | V12: 40 | W12: 20 | X12: =Y12+Z12+AA12+AB12 -> 200 | Y12: 140 | Z12: 20 | AA12: 20 | AB12: 20 | AC12: =AD12+AE12+AF12+AG12 -> 100 | AD12: 20 | AE12: 40 | AF12: 20 | AG12: 20 | AH12: =AI12+AJ12+AK12+AL12+AM12+AN12 -> 100 | AI12: 20 | AK12: 20 | AL12: 20 | AM12: 20 | AN12: 20 | AO12: =AP12+AQ12+AR12+AS12+AT12 -> 260 | AP12: 140 | AQ12: 60 | AR12: 20 | AS12: 20 | AT12: 20 | AU12: =AV12+AW12+AX12+AY12 -> 120 | AV12: 20 | AW12: 20 | AX12: 40 | AY12: 40 | AZ12: =BA12+BB12+BC12+BD12+BE12 -> 120 | BA12: 20 | BB12: 20 | BC12: 40 | BD12: 20 | BE12: 20 | BF12: =BG12+BH12+BI12 -> 60 | BG12: 20 | BH12: 20 | BI12: 20 | BJ12: =BK12+BL12+BM12 -> 80 | BK12: 40 | BL12: 20 | BM12: 20 | BN12: =BO12+BP12 -> 240 | BO12: 140 | BP12: 100 | BQ12: 20 | BR12: =BS12+BT12+BU12 -> 60 | BS12: 20 | BT12: 20 | BU12: 20 | BV12: =BW12+BX12+BY12+BZ12 -> 80 | BW12: 20 | BX12: 20 | BY12: 20 | BZ12: 20 | CA12: =CB12+CC12+CD12 -> 60 | CB12: 20 | CC12: 20 | CD12: 20 | CE12: =CF12+CG12+CH12 -> 100 | CF12: 20 | CG12: 60 | CH12: 20 | CI12: =CJ12+CK12+CL12+CM12+CN12 -> 240 | CJ12: 140 | CK12: 20 | CL12: 20 | CM12: 20 | CN12: 40 | CO12: =CP12+CQ12 -> 40 | CP12: 20 | CQ12: 20 | CR12: =CS12+CT12+CU12 -> 140 | CS12: 20 | CT12: 60 | CU12: 60 | CV12: =CW12+CX12+CY12 -> 80 | CW12: 20 | CX12: 20 | CY12: 40 | CZ12: =DA12+DB12+DC12 -> 100 | DA12: 60 | DB12: 20 | DC12: 20 | DD12: 40 | DE12: 40 | DF12: 20 | DG12: =DF12+DE12+DD12+CZ12+CV12+CR12+CO12+CI12+CE12+CA12+BV12+BR12+BN12+BQ12+BJ12+BF12+AZ12+AU12+AO12+AH12+AC12+X12+S12+N12+K12+J12+H12+G12+F12+E12 -> 2600
A13: แผนงานบูรณาการ พัฒนาอุตสาหกรรมและบริการแห่งอนาคต | K13: =L13+M13 -> 0 | N13: =O13+P13+Q13+R13 -> 0 | S13: =T13+U13+V13+W13 -> 0 | X13: =Y13+Z13+AA13+AB13 -> 0 | AC13: =AD13+AE13+AF13+AG13 -> 0 | AH13: =AI13+AK13+AL13+AM13+AN13 -> 0 | AO13: =AP13+AQ13+AR13+AS13+AT13 -> 0 | AU13: =AV13+AW13+AX13+AY13 -> 0 | AZ13: =BA13+BB13+BC13+BD13+BE13 -> 0 | BF13: =BG13+BH13+BI13 -> 0 | BV13: =BW13+BX13+BY13+BZ13 -> 0 | CE13: =CF13+CG13+CH13 -> 0 | CI13: =CJ13+CK13+CL13+CM13+CN13 -> 0 | CR13: =CS13+CT13+CU13 -> 0 | CV13: =CW13+CX13+CY13 -> 0 | CZ13: =DA13+DB13+DC13 -> 0 | DG13: =DF13+DE13+DD13+CZ13+CV13+CR13+CO13+CI13+CE13+CA13+BV13+BR13+BN13+BQ13+BJ13+BF13+AZ13+AU13+AO13+AH13+AC13+X13+S13+N13+K13+J13+H13+G13+F13+E13 -> 0
A14: 3. โครงการยกระดับผลิตภาพและพัฒนากำลังคนเพื่อสร้างความสามารถในการแข่งขันภาคอุตสาหกรรม (เจ้าภาพ สพท.) | C14: =C15 -> 5500 | D14: =D15 -> 0 | E14: =E15 -> 0 | F14: =F15 -> 700 | G14: =G15 -> 0 | H14: =H15 -> 0 | I14: =I15 -> 0 | J14: =J15 -> 0 | ... DF14: =DF15 -> 0 | DG14: =DF14+DE14+DD14+CZ14+CV14+CR14+CO14+CI14+CE14+CA14+BV14+BR14+BN14+BQ14+BJ14+BF14+AZ14+AU14+AO14+AH14+AC14+X14+S14+N14+K14+J14+H14+G14+F14+E14 -> 5500
A15: กิจกรรม ศูนย์ฝึกอบรมความเป็นเลิศด้านเทคโนโลยีชั้นสูง | B15: คน | C15: =D15+E15+F15+G15+H15+I15+J15+K15+N15+S15+X15+AC15+AH15+AO15+AU15+AZ15+BF15+BJ15+BN15+BQ15+BR15+BV15+CA15+CE15+CI15+CO15+CR15+CV15+CZ15+DD15+DE15+DF15 -> 5500 | F15: =F16 -> 700 | K15: =SUM(K16) -> 360 | L15: 200 | M15: 160 | N15: =SUM(N16) -> 240 | O15: =SUM(O16) -> 240 | P15: =SUM(P16) -> 0 | Q15: =SUM(Q16) -> 0 | R15: =SUM(R16) -> 0 | S15: =SUM(S16) -> 1100 | T15: 400 | U15: =SUM(U16) -> 700 | V15: =SUM(V16) -> 0 | W15: =SUM(W16) -> 0 | X15: =SUM(X16) -> 200 | Y15: =SUM(Y16) -> 200 | Z15: =SUM(Z16) -> 0 | AA15: =SUM(AA16) -> 0 | AB15: =SUM(AB16) -> 0 | AC15: =SUM(AC16) -> 240 | AD15: 240 | AE15: =SUM(AE16) -> 0 | AF15: =SUM(AF16) -> 0 | AG15: =SUM(AG16) -> 0 | AH15: =AH16 -> 600 | AI15: =SUM(AI16) -> 200 | AJ15: 400 | AK15: =SUM(AK16) -> 0 | AL15: =SUM(AL16) -> 0 | AM15: =SUM(AM16) -> 0 | AN15: =SUM(AN16) -> 0 | AO15: =SUM(AO16) -> 200 | AP15: =SUM(AP16) -> 200 | AQ15: =SUM(AQ16) -> 0 | AR15: =SUM(AR16) -> 0 | ... AW15: =SUM(AW16) -> 0 | AX15: =AX16 -> 0 | AY15: =AY16 -> 0 | AZ15: =AZ16 -> 200 | BA15: =BA16 -> 200 | BB15: =BB16 -> 0 | BC15: =BC16 -> 0 | BD15: =BD16 -> 0 | BE15: =BE16 -> 0 | ... BN15: =BN16 -> 0 | BP15: =BP16 -> 0 | BQ15: =BQ16 -> 0 | BR15: =BR16 -> 220 | BS15: =BS16 -> 220 | BT15: =BT16 -> 0 | BU15: =BU16 -> 0 | BV15: =BV16 -> 240 | BW15: =BW16 -> 240 | ... DE15: =DE16 -> 0 | DF15: 0 | DG15: =DF15+DE15+DD15+CZ15+CV15+CR15+CO15+CI15+CE15+CA15+BV15+BR15+BN15+BQ15+BJ15+BF15+AZ15+AU15+AO15+AH15+AC15+X15+S15+N15+K15+J15+H15+G15+F15+E15 -> 5500
A16: - ฝึกยกระดับฝีมือแรงงาน | B16: คน | C16: =D16+E16+F16+G16+H16+I16+J16+K16+N16+S16+X16+AC16+AH16+AO16+AU16+AZ16+BF16+BJ16+BN16+BQ16+BR16+BV16+CA16+CE16+CI16+CO16+CR16+CV16+CZ16+DD16+DE16+DF16 -> 5500 | F16: 700 | K16: =L16+M16 -> 360 | L16: 200 | M16: 160 | N16: =O16+P16+Q16+R16 -> 240 | O16: 240 | S16: =T16+U16+V16+W16 -> 1100 | T16: 400 | U16: 700 | X16: =Y16+Z16+AA16+AB16 -> 200 | Y16: 200 | AC16: =AD16+AE16+AF16+AG16 -> 240 | AD16: 240 | AH16: =AI16+AJ16+AK16+AL16+AM16+AN16 -> 600 | AI16: 200 | AJ16: 400 | AO16: =AP16+AQ16+AR16+AS16+AT16 -> 200 | AP16: 200 | AU16: =AV16+AW16+AX16+AY16 -> 200 | AV16: 200 | AZ16: =BA16+BB16+BC16+BD16+BE16 -> 200 | BA16: 200 | BF16: =BG16+BH16+BI16 -> 200 | BG16: 200 | BJ16: =BK16+BL16+BM16 -> 200 | BK16: 200 | BN16: =BO16+BP16 -> 0 | BR16: =BS16+BT16+BU16 -> 220 | BS16: 220 | BV16: =BW16+BX16+BY16+BZ16 -> 240 | BW16: 240 | CA16: =CB16+CC16+CD16 -> 200 | CB16: 200 | CE16: =CF16+CG16+CH16 -> 200 | CF16: 200 | CI16: =CJ16+CK16+CL16+CM16+CN16 -> 200 | CJ16: 200 | CR16: =CS16+CT16+CU16 -> 0 | CV16: =CW16+CX16+CY16 -> 0 | CZ16: =DA16+DB16+DC16 -> 0 | DG16: =DF16+DE16+DD16+CZ16+CV16+CR16+CO16+CI16+CE16+CA16+BV16+BR16+BN16+BQ16+BJ16+BF16+AZ16+AU16+AO16+AH16+AC16+X16+S16+N16+K16+J16+H16+G16+F16+E16 -> 5500
A17: แผนงานบูรณาการ สร้างรายได้จากการท่องเที่ยว | C17: =D17+E17+F17+G17+H17+I17+J17+K17+N17+S17+X17+AC17+AH17+AO17+AU17+AZ17+BF17+BJ17+BN17+BQ17+BR17+BV17+CA17+CE17+CI17+CO17+CR17+CV17+CZ17+DD17+DE17+DF17 -> 0 | K17: =L17+M17 -> 0 | N17: =O17+P17+Q17+R17 -> 0 | S17: =T17+U17+V17+W17 -> 0 | X17: =Y17+Z17+AA17+AB17 -> 0 | AC17: =AD17+AE17+AF17+AG17 -> 0 | AH17: =AI17+AK17+AL17+AM17+AN17 -> 0 | AO17: =AP17+AQ17+AR17+AS17+AT17 -> 0 | AU17: =AV17+AW17+AX17+AY17 -> 0 | AZ17: =BA17+BB17+BC17+BD17+BE17 -> 0 | BF17: =BG17+BH17+BI17 -> 0 | BV17: =BW17+BX17+BY17+BZ17 -> 0 | CE17: =CF17+CG17+CH17 -> 0 | CI17: =CJ17+CK17+CL17+CM17+CN17 -> 0 | CR17: =CS17+CT17+CU17 -> 0 | CV17: =CW17+CX17+CY17 -> 0 | CZ17: =DA17+DB17+DC17 -> 0 | DG17: =DF17+DE17+DD17+CZ17+CV17+CR17+CO17+CI17+CE17+CA17+BV17+BR17+BN17+BQ17+BJ17+BF17+AZ17+AU17+AO17+AH17+AC17+X17+S17+N17+K17+J17+H17+G17+F17+E17 -> 0
A18: 4. โครงการ พัฒนาปัจจัยพื้นฐานด้านการท่องเที่ยว (เจ้าภาพ สพท. ) | B18: คน | C18: =C19 -> 4624 | D18: =D19 -> 0 | E18: =E19 -> 300 | F18: =F19 -> 0 | G18: =G19 -> 0 | H18: =H19 -> 0 | I18: =I19 -> 0 | J18: =J19 -> 0 | ... DF18: =DF19 -> 0 | DG18: =DF18+DE18+DD18+CZ18+CV18+CR18+CO18+CI18+CE18+CA18+BV18+BR18+BN18+BQ18+BJ18+BF18+AZ18+AU18+AO18+AH18+AC18+X18+S18+N18+K18+J18+H18+G18+F18+E18 -> 4624
A19: - ฝึกยกระดับฝีมือแรงงาน | B19: คน | C19: =D19+E19+F19+G19+H19+I19+J19+K19+N19+S19+X19+AC19+AH19+AO19+AU19+AZ19+BF19+BJ19+BN19+BQ19+BR19+BV19+CA19+CE19+CI19+CO19+CR19+CV19+CZ19+DD19+DE19+DF19 -> 4624 | E19: 300 | K19: =L19+M19 -> 80 | L19: 80 | N19: =O19+P19+Q19+R19 -> 140 | P19: 40 | Q19: 60 | R19: 40 | S19: =T19+U19+V19+W19 -> 180 | T19: 120 | V19: 60 | X19: =Y19+Z19+AA19+AB19 -> 200 | Y19: 40 | AA19: 80 | AB19: 80 | AC19: =AD19+AE19+AF19+AG19 -> 260 | AD19: 60 | AE19: 60 | AF19: 80 | AG19: 60 | AH19: =AI19+AK19+AL19+AM19+AN19 -> 160 | AI19: 80 | AK19: 40 | AL19: 40 | AO19: =AP19+AQ19+AR19+AS19+AT19 -> 340 | AP19: 80 | AQ19: 80 | AR19: 60 | AS19: 60 | AT19: 60 | AU19: =AV19+AW19+AX19+AY19 -> 180 | AV19: 60 | AX19: 60 | AY19: 60 | AZ19: =BA19+BB19+BC19+BD19+BE19 -> 280 | BA19: 60 | BB19: 60 | BC19: 40 | BD19: 60 | BE19: 60 | BF19: =BG19+BH19+BI19 -> 180 | BG19: 80 | BH19: 60 | BI19: 40 | BJ19: =BK19+BL19+BM19 -> 0 | BN19: =SUM(BO19:BP19) -> 60 | BP19: 60 | BQ19: 60 | BR19: =BS19+BT19+BU19 -> 180 | BS19: 60 | BT19: 60 | BU19: 60 | BV19: =BW19+BX19+BY19+BZ19 -> 220 | BW19: 60 | BX19: 60 | BY19: 40 | BZ19: 60 | CA19: =SUM(CB19:CD19) -> 180 | CB19: 60 | CC19: 60 | CD19: 60 | CE19: =CF19+CG19+CH19 -> 60 | CG19: 60 | CI19: =CJ19+CK19+CL19+CM19+CN19 -> 120 | CL19: 60 | CN19: 60 | CO19: =CP19+CQ19 -> 160 | CP19: 80 | CQ19: 80 | CR19: =CS19+CT19+CU19 -> 140 | CT19: 60 | CU19: 80 | CV19: =CW19+CX19+CY19 -> 904 | CW19: 364 | CX19: 180 | CY19: 360 | CZ19: =DA19+DB19+DC19 -> 140 | DB19: 60 | DC19: 80 | DD19: 40 | DE19: 60 | DG19: =DF19+DE19+DD19+CZ19+CV19+CR19+CO19+CI19+CE19+CA19+BV19+BR19+BN19+BQ19+BJ19+BF19+AZ19+AU19+AO19+AH19+AC19+X19+S19+N19+K19+J19+H19+G19+F19+E19 -> 4624
A20: แผนงานบูรณาการ พัฒนาด้านคมนาคมและระบบโลจิสติกส์ | C20: =D20+E20+F20+G20+H20+I20+J20+K20+N20+S20+X20+AC20+AH20+AO20+AU20+AZ20+BF20+BJ20+BN20+BQ20+BR20+BV20+CA20+CE20+CI20+CO20+CR20+CV20+CZ20+DD20+DE20+DF20 -> 0 | K20: =L20+M20 -> 0 | N20: =O20+P20+Q20+R20 -> 0 | S20: =T20+U20+V20+W20 -> 0 | X20: =Y20+Z20+AA20+AB20 -> 0 | AC20: =AD20+AE20+AF20+AG20 -> 0 | AH20: =AI20+AK20+AL20+AM20+AN20 -> 0 | AO20: =AP20+AQ20+AR20+AS20+AT20 -> 0 | AU20: =AV20+AW20+AX20+AY20 -> 0 | AZ20: =BA20+BB20+BC20+BD20+BE20 -> 0 | BF20: =BG20+BH20+BI20 -> 0 | BV20: =BW20+BX20+BY20+BZ20 -> 0 | CE20: =CF20+CG20+CH20 -> 0 | CI20: =CJ20+CK20+CL20+CM20+CN20 -> 0 | CR20: =CS20+CT20+CU20 -> 0 | CV20: =CW20+CX20+CY20 -> 0 | CZ20: =DA20+DB20+DC20 -> 0 | DG20: =DF20+DE20+DD20+CZ20+CV20+CR20+CO20+CI20+CE20+CA20+BV20+BR20+BN20+BQ20+BJ20+BF20+AZ20+AU20+AO20+AH20+AC20+X20+S20+N20+K20+J20+H20+G20+F20+E20 -> 0
A21: 5. โครงการพัฒนาบุคลากรรองรับอุตสาหกรรมโลจิสติกส์ (เจ้าภาพ สพท.) | B21: คน | C21: =C22 -> 2560 | D21: =D22 -> 0 | E21: =E22 -> 0 | F21: =F22 -> 0 | G21: =G22 -> 400 | H21: =H22 -> 0 | I21: =I22 -> 0 | J21: =J22 -> 0 | ... DF21: =DF22 -> 0 | DG21: =DF21+DE21+DD21+CZ21+CV21+CR21+CO21+CI21+CE21+CA21+BV21+BR21+BN21+BQ21+BJ21+BF21+AZ21+AU21+AO21+AH21+AC21+X21+S21+N21+K21+J21+H21+G21+F21+E21 -> 2560
A22: - พัฒนาบุคลากรด้านโลจิสติกส์ | B22: คน | C22: =D22+E22+F22+G22+H22+I22+J22+K22+N22+S22+X22+AC22+AH22+AO22+AU22+AZ22+BF22+BJ22+BN22+BQ22+BR22+BV22+CA22+CE22+CI22+CO22+CR22+CV22+CZ22+DD22+DE22+DF22 -> 2560 | G22: 400 | K22: =L22+M22 -> 60 | L22: 60 | N22: =O22+P22+Q22+R22 -> 160 | O22: 80 | P22: 40 | R22: 40 | S22: =T22+U22+V22+W22 -> 40 | V22: 40 | X22: =Y22+Z22+AA22+AB22 -> 100 | Y22: 100 | AC22: =AD22+AE22+AF22+AG22 -> 220 | AD22: 100 | AE22: 40 | AF22: 40 | AG22: 40 | AH22: =AI22+AK22+AL22+AM22+AN22 -> 180 | AI22: 100 | AK22: 40 | AL22: 40 | AO22: =AP22+AQ22+AR22+AS22+AT22 -> 100 | AP22: 60 | AQ22: 40 | AU22: =AV22+AW22+AX22+AY22 -> 280 | AV22: 200 | AX22: 40 | AY22: 40 | AZ22: =BA22+BB22+BC22+BD22+BE22 -> 220 | BA22: 60 | BB22: 40 | BC22: 40 | BD22: 40 | BE22: 40 | BF22: =BG22+BH22+BI22 -> 180 | BG22: 100 | BH22: 40 | BI22: 40 | BJ22: =BK22+BL22+BM22 -> 60 | BL22: 20 | BM22: 40 | BN22: =SUM(BO22:BP22) -> 40 | BP22: 40 | BV22: =BW22+BX22+BY22+BZ22 -> 200 | BW22: 140 | BZ22: 60 | CA22: =SUM(CB22:CD22) -> 100 | CB22: 100 | CE22: =CF22+CG22+CH22 -> 0 | CI22: =CJ22+CK22+CL22+CM22+CN22 -> 60 | CL22: 40 | CM22: 20 | CO22: =SUM(CP22:CQ22) -> 100 | CP22: 100 | CR22: =CS22+CT22+CU22 -> 40 | CT22: 40 | CV22: =CW22+CX22+CY22 -> 20 | CY22: 20 | CZ22: =DA22+DB22+DC22 -> 0 | DG22: =DF22+DE22+DD22+CZ22+CV22+CR22+CO22+CI22+CE22+CA22+BV22+BR22+BN22+BQ22+BJ22+BF22+AZ22+AU22+AO22+AH22+AC22+X22+S22+N22+K22+J22+H22+G22+F22+E22 -> 2560
A23: 6. โครงการพัฒนาบุคลากรด้านโลจิสติกส์รองรับธุรกิจขนส่งและการค้าระหว่างประเทศ (เจ้าภาพ ศป.) | B23: คน | C23: =D23+E23+F23+G23+H23+I23+J23+K23+N23+S23+X23+AC23+AH23+AO23+AU23+AZ23+BF23+BJ23+BN23+BQ23+BR23+BV23+CA23+CE23+CI23+CO23+CR23+CV23+CZ23+DD23+DE23+DF23 -> 250 | H23: 250 | K23: =L23+M23 -> 0 | N23: =O23+P23+Q23+R23 -> 0 | S23: =T23+U23+V23+W23 -> 0 | X23: =Y23+Z23+AA23+AB23 -> 0 | AC23: =AD23+AE23+AF23+AG23 -> 0 | AH23: =AI23+AK23+AL23+AM23+AN23 -> 0 | AO23: =AP23+AQ23+AR23+AS23+AT23 -> 0 | AU23: =AV23+AW23+AX23+AY23 -> 0 | AZ23: =BA23+BB23+BC23+BD23+BE23 -> 0 | BF23: =BG23+BH23+BI23 -> 0 | BR23: =BS23+BT23+BU23 -> 0 | BV23: =BW23+BX23+BY23+BZ23 -> 0 | CE23: =CF23+CG23+CH23 -> 0 | CI23: =CJ23+CK23+CL23+CM23+CN23 -> 0 | CO23: =CP23+CQ23 -> 0 | CQ23: 0 | CR23: =CS23+CT23+CU23 -> 0 | CV23: =CW23+CX23+CY23 -> 0 | CZ23: =DA23+DB23+DC23 -> 0 | DG23: =DF23+DE23+DD23+CZ23+CV23+CR23+CO23+CI23+CE23+CA23+BV23+BR23+BN23+BQ23+BJ23+BF23+AZ23+AU23+AO23+AH23+AC23+X23+S23+N23+K23+J23+H23+G23+F23+E23 -> 250
A24: แผนงานยุทธศาสตร์ พัฒนาผู้ประกอบการและวิสาหกิจขนาดกลางและขนาดย่อม | K24: =L24+M24 -> 0 | N24: =O24+P24+Q24+R24 -> 0 | S24: =T24+U24+V24+W24 -> 0 | X24: =Y24+Z24+AA24+AB24 -> 0 | AC24: =AD24+AE24+AF24+AG24 -> 0 | AH24: =AI24+AK24+AL24+AM24+AN24 -> 0 | AO24: =AP24+AQ24+AR24+AS24+AT24 -> 0 | AU24: =AV24+AW24+AX24+AY24 -> 0 | AZ24: =BA24+BB24+BC24+BD24+BE24 -> 0 | BF24: =BG24+BH24+BI24 -> 0 | BV24: =BW24+BX24+BY24+BZ24 -> 0 | CE24: =CF24+CG24+CH24 -> 0 | CI24: =CJ24+CK24+CL24+CM24+CN24 -> 0 | CR24: =CS24+CT24+CU24 -> 0 | CV24: =CW24+CX24+CY24 -> 0 | CZ24: =DA24+DB24+DC24 -> 0 | DG24: =DF24+DE24+DD24+CZ24+CV24+CR24+CO24+CI24+CE24+CA24+BV24+BR24+BN24+BQ24+BJ24+BF24+AZ24+AU24+AO24+AH24+AC24+X24+S24+N24+K24+J24+H24+G24+F24+E24 -> 0
A25: 7. โครงการเพิ่มประสิทธิภาพ/ผลิตภาพ (เจ้าภาพ ศป.) | B25: คน | C25: =E25+F25+K25+N25+S25+X25+AC25+ปรับเป้าหมายตามวงเงิน!AH25+ปรับเป้าหมายตามวงเงิน!AO25+ปรับเป้าหมายตามวงเงิน!AU25+ปรับเป้าหมายตามวงเงิน!AZ25+ปรับเป้าหมายตามวงเงิน!BF25+ปรับเป้าหมายตามวงเงิน!BJ25+ปรับเป้าหมายตามวงเงิน!BN25+ปรับเป้าหมายตามวงเงิน!BQ25+ปรับเป้าหมายตามวงเงิน!BR25+ปรับเป้าหมายตามวงเงิน!BV25+ปรับเป้าหมายตามวงเงิน!CA25+ปรับเป้าหมายตามวงเงิน!CE25+ปรับเป้าหมายตามวงเงิน!CI25+ปรับเป้าหมายตามวงเงิน!CO25+ปรับเป้าหมายตามวงเงิน!CR25+ปรับเป้าหมายตามวงเงิน!CV25+ปรับเป้าหมายตามวงเงิน!CZ25+ปรับเป้าหมายตามวงเงิน!DD25+ปรับเป้าหมายตามวงเงิน!DE25+ปรับเป้าหมายตามวงเงิน!DF25 -> 7980 | K25: =L25+M25 -> 280 | L25: 210 | M25: 70 | N25: =O25+P25+Q25+R25 -> 420 | O25: 210 | P25: 70 | Q25: 70 | R25: 70 | S25: =T25+V25+W25 -> 350 | T25: 210 | V25: 70 | W25: 70 | X25: =Y25+Z25+AA25+AB25 -> 420 | Y25: 210 | Z25: 70 | AA25: 70 | AB25: 70 | AC25: =AD25+AE25+AF25+AG25 -> 420 | AD25: 210 | AE25: 70 | AF25: 70 | AG25: 70 | AH25: =AI25+AK25+AL25+AM25+AN25 -> 490 | AI25: 210 | AK25: 70 | AL25: 70 | AM25: 70 | AN25: 70 | AO25: =AP25+AQ25+AR25+AS25+AT25 -> 490 | AP25: 210 | AQ25: 70 | AR25: 70 | AS25: 70 | AT25: 70 | AU25: =AV25+AW25+AX25+AY25 -> 420 | AV25: 210 | AW25: 70 | AX25: 70 | AY25: 70 | AZ25: =BA25+BB25+BC25+BD25+BE25 -> 490 | BA25: 210 | BB25: 70 | BC25: 70 | BD25: 70 | BE25: 70 | BF25: =BG25+BH25+BI25 -> 350 | BG25: 210 | BH25: 70 | BI25: 70 | BJ25: =BK25+BL25+BM25 -> 350 | BK25: 210 | BL25: 70 | BM25: 70 | BN25: =BO25+BP25 -> 280 | BO25: 210 | BP25: 70 | BQ25: 140 | BR25: =BS25+BT25+BU25 -> 280 | BS25: 140 | BT25: 70 | BU25: 70 | BV25: =BW25+BX25+BY25+BZ25 -> 350 | BW25: 140 | BX25: 70 | BY25: 70 | BZ25: 70 | CA25: =CB25+CC25+CD25 -> 280 | CB25: 140 | CC25: 70 | CD25: 70 | CE25: =CF25+CG25+CH25 -> 280 | CF25: 140 | CG25: 70 | CH25: 70 | CI25: =CJ25+CK25+CL25+CM25+CN25 -> 420 | CJ25: 140 | CK25: 70 | CL25: 70 | CM25: 70 | CN25: 70 | CO25: =CP25+CQ25 -> 210 | CP25: 140 | CQ25: 70 | CR25: =CS25+CT25+CU25 -> 280 | CS25: 140 | CT25: 70 | CU25: 70 | CV25: =CW25+CX25+CY25 -> 280 | CW25: 140 | CX25: 70 | CY25: 70 | CZ25: =DA25+DB25+DC25 -> 280 | DA25: 140 | DB25: 70 | DC25: 70 | DD25: 140 | DE25: 140 | DF25: 140 | DG25: =DF25+DE25+DD25+CZ25+CV25+CR25+CO25+CI25+CE25+CA25+BV25+BR25+BN25+BQ25+BJ25+BF25+AZ25+AU25+AO25+AH25+AC25+X25+S25+N25+K25+J25+H25+G25+F25+E25 -> 7980
B26: แห่ง | C26: =E26+F26+K26+N26+S26+X26+AC26+ปรับเป้าหมายตามวงเงิน!AH26+ปรับเป้าหมายตามวงเงิน!AO26+ปรับเป้าหมายตามวงเงิน!AU26+ปรับเป้าหมายตามวงเงิน!AZ26+ปรับเป้าหมายตามวงเงิน!BF26+ปรับเป้าหมายตามวงเงิน!BJ26+ปรับเป้าหมายตามวงเงิน!BN26+ปรับเป้าหมายตามวงเงิน!BQ26+ปรับเป้าหมายตามวงเงิน!BR26+ปรับเป้าหมายตามวงเงิน!BV26+ปรับเป้าหมายตามวงเงิน!CA26+ปรับเป้าหมายตามวงเงิน!CE26+ปรับเป้าหมายตามวงเงิน!CI26+ปรับเป้าหมายตามวงเงิน!CO26+ปรับเป้าหมายตามวงเงิน!CR26+ปรับเป้าหมายตามวงเงิน!CV26+ปรับเป้าหมายตามวงเงิน!CZ26+ปรับเป้าหมายตามวงเงิน!DD26+ปรับเป้าหมายตามวงเงิน!DE26+ปรับเป้าหมายตามวงเงิน!DF26 -> 114 | K26: =L26+M26 -> 4 | L26: 3 | M26: 1 | N26: =O26+P26+Q26+R26 -> 6 | O26: 3 | P26: 1 | Q26: 1 | R26: 1 | S26: =T26+U26+V26+W26 -> 5 | T26: 3 | V26: 1 | W26: 1 | X26: =Y26+Z26+AA26+AB26 -> 6 | Y26: 3 | Z26: 1 | AA26: 1 | AB26: 1 | AC26: =AD26+AE26+AF26+AG26 -> 6 | AD26: 3 | AE26: 1 | AF26: 1 | AG26: 1 | AH26: =AI26+AK26+AL26+AM26+AN26 -> 7 | AI26: 3 | AK26: 1 | AL26: 1 | AM26: 1 | AN26: 1 | AO26: =AP26+AQ26+AR26+AS26+AT26 -> 7 | AP26: 3 | AQ26: 1 | AR26: 1 | AS26: 1 | AT26: 1 | AU26: =AV26+AW26+AX26+AY26 -> 6 | AV26: 3 | AW26: 1 | AX26: 1 | AY26: 1 | AZ26: =BA26+BB26+BC26+BD26+BE26 -> 7 | BA26: 3 | BB26: 1 | BC26: 1 | BD26: 1 | BE26: 1 | BF26: =BG26+BH26+BI26 -> 5 | BG26: 3 | BH26: 1 | BI26: 1 | BJ26: =BK26+BL26+BM26 -> 5 | BK26: 3 | BL26: 1 | BM26: 1 | BN26: =SUM(BO26:BP26) -> 4 | BO26: 3 | BP26: 1 | BQ26: 2 | BR26: =BS26+BT26+BU26 -> 4 | BS26: 2 | BT26: 1 | BU26: 1 | BV26: =BW26+BX26+BY26+BZ26 -> 5 | BW26: 2 | BX26: 1 | BY26: 1 | BZ26: 1 | CA26: =SUM(CB26:CD26) -> 4 | CB26: 2 | CC26: 1 | CD26: 1 | CE26: =CF26+CG26+CH26 -> 4 | CF26: 2 | CG26: 1 | CH26: 1 | CI26: =CJ26+CK26+CL26+CM26+CN26 -> 6 | CJ26: 2 | CK26: 1 | CL26: 1 | CM26: 1 | CN26: 1 | CO26: =CP26+CQ26 -> 3 | CP26: 2 | CQ26: 1 | CR26: =CS26+CT26+CU26 -> 4 | CS26: 2 | CT26: 1 | CU26: 1 | CV26: =CW26+CX26+CY26 -> 4 | CW26: 2 | CX26: 1 | CY26: 1 | CZ26: =DA26+DB26+DC26 -> 4 | DA26: 2 | DB26: 1 | DC26: 1 | DD26: 2 | DE26: 2 | DF26: 2 | DG26: =DF26+DE26+DD26+CZ26+CV26+CR26+CO26+CI26+CE26+CA26+BV26+BR26+BN26+BQ26+BJ26+BF26+AZ26+AU26+AO26+AH26+AC26+X26+S26+N26+K26+J26+H26+G26+F26+E26 -> 114
A27: 8. โครงการพัฒนาผู้ประกอบกิจการสมัยใหม่เพื่อเพิ่มมูลค่าสินค้าหรือบริการในชุมชน (เจ้าภาพ ศป.) | B27: คน | C27: =E27+F27+K27+N27+S27+X27+AC27+ปรับเป้าหมายตามวงเงิน!AH27+ปรับเป้าหมายตามวงเงิน!AO27+ปรับเป้าหมายตามวงเงิน!AU27+ปรับเป้าหมายตามวงเงิน!AZ27+ปรับเป้าหมายตามวงเงิน!BF27+ปรับเป้าหมายตามวงเงิน!BJ27+ปรับเป้าหมายตามวงเงิน!BN27+ปรับเป้าหมายตามวงเงิน!BQ27+ปรับเป้าหมายตามวงเงิน!BR27+ปรับเป้าหมายตามวงเงิน!BV27+ปรับเป้าหมายตามวงเงิน!CA27+ปรับเป้าหมายตามวงเงิน!CE27+ปรับเป้าหมายตามวงเงิน!CI27+ปรับเป้าหมายตามวงเงิน!CO27+ปรับเป้าหมายตามวงเงิน!CR27+ปรับเป้าหมายตามวงเงิน!CV27+ปรับเป้าหมายตามวงเงิน!CZ27+ปรับเป้าหมายตามวงเงิน!DD27+ปรับเป้าหมายตามวงเงิน!DE27+ปรับเป้าหมายตามวงเงิน!DF27 -> 1700 | E27: 20 | K27: =L27+M27 -> 40 | L27: 20 | M27: 20 | N27: =O27+P27+Q27+R27 -> 80 | O27: 20 | P27: 20 | Q27: 20 | R27: 20 | S27: =T27+U27+V27+W27 -> 60 | T27: 20 | V27: 20 | W27: 20 | X27: =Y27+Z27+AA27+AB27 -> 80 | Y27: 20 | Z27: 20 | AA27: 20 | AB27: 20 | AC27: =AD27+AE27+AF27+AG27 -> 100 | AD27: 20 | AE27: 40 | AF27: 20 | AG27: 20 | AH27: =AI27+AK27+AL27+AM27+AN27 -> 120 | AI27: 40 | AK27: 20 | AL27: 20 | AM27: 20 | AN27: 20 | AO27: =AP27+AQ27+AR27+AS27+AT27 -> 140 | AP27: 60 | AQ27: 20 | AR27: 20 | AS27: 20 | AT27: 20 | AU27: =AV27+AW27+AX27+AY27 -> 80 | AV27: 20 | AW27: 20 | AX27: 20 | AY27: 20 | AZ27: =BA27+BB27+BC27+BD27+BE27 -> 100 | BA27: 20 | BB27: 20 | BC27: 20 | BD27: 20 | BE27: 20 | BF27: =BG27+BH27+BI27 -> 60 | BG27: 20 | BH27: 20 | BI27: 20 | BJ27: =BK27+BL27+BM27 -> 60 | BK27: 20 | BL27: 20 | BM27: 20 | BN27: =BO27+BP27 -> 80 | BO27: 20 | BP27: 60 | BQ27: 20 | BR27: =BS27+BT27+BU27 -> 60 | BS27: 20 | BT27: 20 | BU27: 20 | BV27: =BW27+BX27+BY27+BZ27 -> 80 | BW27: 20 | BX27: 20 | BY27: 20 | BZ27: 20 | CA27: =CB27+CC27+CD27 -> 60 | CB27: 20 | CC27: 20 | CD27: 20 | CE27: =CF27+CG27+CH27 -> 60 | CF27: 20 | CG27: 20 | CH27: 20 | CI27: =CJ27+CK27+CL27+CM27+CN27 -> 120 | CJ27: 20 | CK27: 20 | CL27: 20 | CM27: 20 | CN27: 40 | CO27: =CP27+CQ27 -> 40 | CP27: 20 | CQ27: 20 | CR27: =CS27+CT27+CU27 -> 60 | CS27: 20 | CT27: 20 | CU27: 20 | CV27: =CW27+CX27+CY27 -> 60 | CW27: 20 | CX27: 20 | CY27: 20 | CZ27: =DA27+DB27+DC27 -> 60 | DA27: 20 | DB27: 20 | DC27: 20 | DD27: 20 | DE27: 20 | DF27: 20 | DG27: =DF27+DE27+DD27+CZ27+CV27+CR27+CO27+CI27+CE27+CA27+BV27+BR27+BN27+BQ27+BJ27+BF27+AZ27+AU27+AO27+AH27+AC27+X27+S27+N27+K27+J27+H27+G27+F27+E27 -> 1700
A28: แผนงานยุทธศาสตร์ พัฒนาพื้นที่เขตเศรษฐกิจพิเศษ | DG28: =DF28+DE28+DD28+CZ28+CV28+CR28+CO28+CI28+CE28+CA28+BV28+BR28+BN28+BQ28+BJ28+BF28+AZ28+AU28+AO28+AH28+AC28+X28+S28+N28+K28+J28+H28+G28+F28+E28 -> 0
A29: 9. โครงการพัฒนาศักยภาพแรงงานรองรับการท่องเที่ยวและบริการให้มีมูลค่าสูง (เจ้าภาพ สพท.) | B29: คน | C29: =E29+F29+J29+K29+N29+S29+X29+AC29+AH29+AO29+AU29+AZ29+BF29+BJ29+BN29+BQ29+BR29+BV29+CA29+CE29+CI29+CO29+CR29+CV29+CZ29+DD29+DE29+DF29 -> 680 | J29: 40 | K29: =L29+M29 -> 0 | N29: =O29+P29+Q29+R29 -> 0 | S29: =T29+U29+V29+W29 -> 0 | X29: =Y29+Z29+AA29+AB29 -> 0 | AC29: =AD29+AE29+AF29+AG29 -> 0 | AH29: =AI29+AK29+AL29+AM29+AN29 -> 0 | AO29: =AP29+AQ29+AR29+AS29+AT29 -> 0 | AU29: =AV29+AW29+AX29+AY29 -> 0 | AZ29: =BA29+BB29+BC29+BD29+BE29 -> 0 | BF29: =BG29+BH29+BI29 -> 0 | BJ29: =BK29+BL29+BM29 -> 440 | BK29: 200 | BL29: 120 | BM29: 120 | BV29: =BW29+BX29+BY29+BZ29 -> 0 | CE29: =CF29+CG29+CH29 -> 0 | CG29: 0 | CI29: =CJ29+CK29+CL29+CM29+CN29 -> 0 | CJ29: 0 | CR29: =CS29+CT29+CU29 -> 0 | CV29: =CW29+CX29+CY29 -> 0 | CZ29: =DA29+DB29+DC29 -> 200 | DA29: 200 | DG29: =DF29+DE29+DD29+CZ29+CV29+CR29+CO29+CI29+CE29+CA29+BV29+BR29+BN29+BQ29+BJ29+BF29+AZ29+AU29+AO29+AH29+AC29+X29+S29+N29+K29+J29+H29+G29+F29+E29 -> 680
A30: 10. โครงการเพิ่มทักษะกำลังแรงงานในพื้นที่เขตพัฒนาเศรษฐกิจพิเศษ (เจ้าภาพ สพท. ) | B30: คน | C30: =E30+F30+K30+N30+S30+X30+AC30+AH30+AO30+AU30+AZ30+BF30+BJ30+BN30+BQ30+BR30+BV30+CA30+CE30+CI30+CO30+CR30+CV30+CZ30+DD30+DE30+DF30 -> 7200 | K30: =L30+M30 -> 0 | N30: =O30+P30+Q30+R30 -> 0 | S30: =T30+U30+V30+W30 -> 720 | T30: =T31 -> 0 | U30: =U31 -> 0 | V30: =V31 -> 0 | W30: =W31 -> 720 | X30: =Y30+Z30+AA30+AB30 -> 720 | Y30: =Y31 -> 0 | Z30: =Z31 -> 720 | AA30: =AA31 -> 0 | AB30: =AB31 -> 0 | AC30: =AD30+AE30+AF30+AG30 -> 0 | AH30: =AI30+AK30+AL30+AM30+AN30 -> 720 | AN30: =AN31 -> 720 | AO30: =AP30+AQ30+AR30+AS30+AT30 -> 0 | AU30: =AV30+AW30+AX30+AY30 -> 720 | AV30: =AV31 -> 0 | AW30: =AW31 -> 720 | AX30: =AX31 -> 0 | AY30: =AY31 -> 0 | AZ30: =BA30+BB30+BC30+BD30+BE30 -> 0 | BF30: =BG30+BH30+BI30 -> 0 | BJ30: =BK30+BL30+BM30 -> 0 | BK30: =BK31 -> 0 | BL30: =BL31 -> 0 | BM30: =BM31 -> 0 | BN30: =SUM(BO30:BO30) -> 840 | BO30: =BO31 -> 840 | BP30: =BP31 -> 0 | BR30: =BR31 -> 0 | BS30: =BS31 -> 0 | BT30: =BT31 -> 0 | BU30: =BU31 -> 0 | BV30: =BW30+BX30+BY30+BZ30 -> 0 | CE30: =CF30+CG30+CH30 -> 720 | CF30: =CF31 -> 0 | CG30: =CG31 -> 0 | CH30: =CH31 -> 720 | CI30: =CJ30+CK30+CL30+CM30+CN30 -> 1440 | CJ30: 0 | CK30: =CK31 -> 720 | CL30: =CL31 -> 0 | CM30: =CM31 -> 720 | CN30: =CN31 -> 0 | CR30: =CS30+CT30+CU30 -> 840 | CS30: =CS31 -> 840 | CT30: =CT31 -> 0 | CU30: =CU31 -> 0 | CV30: =CW30+CX30+CY30 -> 0 | CZ30: =DA30+DB30+DC30 -> 0 | DF30: =DF31 -> 480 | DG30: =DF30+DE30+DD30+CZ30+CV30+CR30+CO30+CI30+CE30+CA30+BV30+BR30+BN30+BQ30+BJ30+BF30+AZ30+AU30+AO30+AH30+AC30+X30+S30+N30+K30+J30+H30+G30+F30+E30 -> 7200
A31: - ฝึกยกระดับฝีมือแรงงาน | B31: คน | C31: =E31+F31+K31+N31+S31+X31+AC31+AH31+AO31+AU31+AZ31+BF31+BJ31+BN31+BQ31+BR31+BV31+CA31+CE31+CI31+CO31+CR31+CV31+CZ31+DD31+DE31+DF31 -> 7200 | K31: =L31+M31 -> 0 | N31: =O31+P31+Q31+R31 -> 0 | S31: =T31+U31+V31+W31 -> 720 | W31: 720 | X31: =Y31+Z31+AA31+AB31 -> 720 | Z31: 720 | AC31: =AD31+AE31+AF31+AG31 -> 0 | AH31: =AI31+AK31+AL31+AM31+AN31 -> 720 | AN31: 720 | AO31: =AP31+AQ31+AR31+AS31+AT31 -> 0 | AU31: =AV31+AW31+AX31+AY31 -> 720 | AW31: 720 | AZ31: =BA31+BB31+BC31+BD31+BE31 -> 0 | BF31: =BG31+BH31+BI31 -> 0 | BJ31: =BK31+BL31+BM31 -> 0 | BN31: =SUM(BO31:BO31) -> 840 | BO31: 840 | BV31: =BW31+BX31+BY31+BZ31 -> 0 | CE31: =CF31+CG31+CH31 -> 720 | CH31: 720 | CI31: =CJ31+CK31+CL31+CM31+CN31 -> 1440 | CK31: 720 | CM31: 720 | CR31: =CS31+CT31+CU31 -> 840 | CS31: 840 | CV31: =CW31+CX31+CY31 -> 0 | CZ31: =DA31+DB31+DC31 -> 0 | DF31: 480 | DG31: =DF31+DE31+DD31+CZ31+CV31+CR31+CO31+CI31+CE31+CA31+BV31+BR31+BN31+BQ31+BJ31+BF31+AZ31+AU31+AO31+AH31+AC31+X31+S31+N31+K31+J31+H31+G31+F31+E31 -> 7200
A32: 11. โครงการพัฒนาทักษะแรงงานเขตพัฒนาพิเศษภาคตะวันออก (เจ้าภาพ สพท.) | B32: ชุด/ห้อง | C32: 8ชุด/4ห้อง | K32: =L32+M32 -> 0 | N32: =O32+P32+Q32+R32 -> 0 | U32: 8 ชุด/4 ห้อง | X32: =Y32+Z32+AA32+AB32 -> 0 | AC32: =AD32+AE32+AF32+AG32 -> 0 | AH32: =AI32+AK32+AL32+AM32+AN32 -> 0 | AO32: =AP32+AQ32+AR32+AS32+AT32 -> 0 | AU32: =AV32+AW32+AX32+AY32 -> 0 | AZ32: =BA32+BB32+BC32+BD32+BE32 -> 0 | BF32: =BG32+BH32+BI32 -> 0 | BV32: =BW32+BX32+BY32+BZ32 -> 0 | CE32: =CF32+CG32+CH32 -> 0 | CG32: 0 | CI32: =CJ32+CK32+CL32+CM32+CN32 -> 0 | CJ32: 0 | CR32: =CS32+CT32+CU32 -> 0 | CV32: =CW32+CX32+CY32 -> 0 | CZ32: =DA32+DB32+DC32 -> 0 | DG32: =DF32+DE32+DD32+CZ32+CV32+CR32+CO32+CI32+CE32+CA32+BV32+BR32+BN32+BQ32+BJ32+BF32+AZ32+AU32+AO32+AH32+AC32+X32+S32+N32+K32+J32+H32+G32+F32+E32 -> 0
A33: แผนงาน พื้นฐานด้านการพัฒนาและเสริมสร้างศักยภาพทรัพยากรมนุษย์ | K33: =L33+M33 -> 0 | N33: =O33+P33+Q33+R33 -> 0 | S33: =T33+U33+V33+W33 -> 0 | X33: =Y33+Z33+AA33+AB33 -> 0 | AC33: =AD33+AE33+AF33+AG33 -> 0 | AH33: =AI33+AK33+AL33+AM33+AN33 -> 0 | AO33: =AP33+AQ33+AR33+AS33+AT33 -> 0 | AU33: =AV33+AW33+AX33+AY33 -> 0 | AZ33: =BA33+BB33+BC33+BD33+BE33 -> 0 | BF33: =BG33+BH33+BI33 -> 0 | BJ33: =BK33+BL33+BM33 -> 0 | BV33: =BW33+BX33+BY33+BZ33 -> 0 | CE33: =CF33+CG33+CH33 -> 0 | CI33: =CJ33+CK33+CL33+CM33+CN33 -> 0 | CR33: =CS33+CT33+CU33 -> 0 | CV33: =CW33+CX33+CY33 -> 0 | CZ33: =DA33+DB33+DC33 -> 0 | DG33: =DF33+DE33+DD33+CZ33+CV33+CR33+CO33+CI33+CE33+CA33+BV33+BR33+BN33+BQ33+BJ33+BF33+AZ33+AU33+AO33+AH33+AC33+X33+S33+N33+K33+J33+H33+G33+F33+E33 -> 0
A34: 12. ผลผลิต พัฒนา/ขับเคลื่อนความร่วมมือเครือข่าย และส่งเสริมการพัฒนาฝีมือแรงงาน | B34: คน | C34: =D34+K34+N34+S34+X34+AC34+AH34+AO34+AU34+AZ34+BF34+BJ34+BN34+BQ34+BR34+BV34+CA34+CE34+CI34+CO34+CR34+CV34+CZ34+DD34+DE34+DF34 -> 4017210 | E34: =E38+E42+[1]ปรับเป้าหมายตามวงเงิน!E49 -> 0 | F34: =F38+F42+[1]ปรับเป้าหมายตามวงเงิน!F49 -> 0 | G34: =G38+G42+[1]ปรับเป้าหมายตามวงเงิน!G49 -> 0 | H34: =H38+H42+[1]ปรับเป้าหมายตามวงเงิน!H49 -> 0 | I34: =I38+I42+[1]ปรับเป้าหมายตามวงเงิน!I49 -> 0 | J34: =J38+J42+[1]ปรับเป้าหมายตามวงเงิน!J49 -> 0 | K34: =L34+M34 -> 468790 | L34: =L38+L43+L42 -> 388510 | M34: =M38+M43+M42 -> 80280 | N34: =O34+P34+Q34+R34 -> 12395 | O34: =O38+O43+O42 -> 5210 | P34: =P38+P43+P42 -> 2550 | Q34: =Q38+Q43+Q42 -> 3070 | R34: =R38+R43+R42 -> 1565 | S34: =S38+S43+S42 -> 367200 | T34: =T38+T43+T42 -> 308700 | U34: =U38+U43+U42 -> 0 | V34: =V38+V43+V42 -> 56140 | ... DF34: =DF38+DF43+DF42 -> 590 | DG34: =DF34+DE34+DD34+CZ34+CV34+CR34+CO34+CI34+CE34+CA34+BV34+BR34+BN34+BQ34+BJ34+BF34+AZ34+AU34+AO34+AH34+AC34+X34+S34+N34+K34+J34+H34+G34+F34+E34 -> 4017210
A35: 12.1 กิจกรรม จัดทำหลักเกณฑ์ พัฒนาระบบ ส่งเสริมและรับรองมาตรฐานฝีมือแรงงาน (สมฐ.) | B35: แห่ง | C35: 77 | K35: =L35+M35 -> 0 | N35: =O35+P35+Q35+R35 -> 0 | S35: =T35+U35+V35+W35 -> 0 | X35: =Y35+Z35+AA35+AB35 -> 0 | AC35: =AD35+AE35+AF35+AG35 -> 0 | AH35: =AI35+AK35+AL35+AM35+AN35 -> 0 | AO35: =AP35+AQ35+AR35+AS35+AT35 -> 0 | AU35: =AV35+AW35+AX35+AY35 -> 0 | AZ35: =BA35+BB35+BC35+BD35+BE35 -> 0 | BF35: =BG35+BH35+BI35 -> 0 | BJ35: =BK35+BL35+BM35 -> 0 | BV35: =BW35+BX35+BY35+BZ35 -> 0 | CE35: =CF35+CG35+CH35 -> 0 | CI35: =CJ35+CK35+CL35+CM35+CN35 -> 0 | CR35: =CS35+CT35+CU35 -> 0 | CV35: =CW35+CX35+CY35 -> 0 | CZ35: =DA35+DB35+DC35 -> 0 | DG35: =DF35+DE35+DD35+CZ35+CV35+CR35+CO35+CI35+CE35+CA35+BV35+BR35+BN35+BQ35+BJ35+BF35+AZ35+AU35+AO35+AH35+AC35+X35+S35+N35+K35+J35+H35+G35+F35+E35 -> 0
A36: - ส่งเสริมและรับรองมาตรฐานฝีมือแรงงานของผู้ประกอบอาชีพ | B36: แห่ง | C36: 77 | DG36: =DF36+DE36+DD36+CZ36+CV36+CR36+CO36+CI36+CE36+CA36+BV36+BR36+BN36+BQ36+BJ36+BF36+AZ36+AU36+AO36+AH36+AC36+X36+S36+N36+K36+J36+H36+G36+F36+E36 -> 0
A37: 12.2 กิจกรรม พัฒนาระบบการฝึกอบรมฝีมือแรงงาน (พัฒนาบุคลากร 4 โครงการ) (สพท./บค.) | B37: โครงการ | C37: 4 | K37: =L37+M37 -> 0 | N37: =O37+P37+Q37+R37 -> 0 | S37: =T37+U37+V37+W37 -> 0 | X37: =Y37+Z37+AA37+AB37 -> 0 | AC37: =AD37+AE37+AF37+AG37 -> 0 | AH37: =AI37+AK37+AL37+AM37+AN37 -> 0 | AO37: =AP37+AQ37+AR37+AS37+AT37 -> 0 | AU37: =AV37+AW37+AX37+AY37 -> 0 | AZ37: =BA37+BB37+BC37+BD37+BE37 -> 0 | BF37: =BG37+BH37+BI37 -> 0 | BV37: =BW37+BX37+BY37+BZ37 -> 0 | CE37: =CF37+CG37+CH37 -> 0 | CI37: =CJ37+CK37+CL37+CM37+CN37 -> 0 | CR37: =CS37+CT37+CU37 -> 0 | CV37: =CW37+CX37+CY37 -> 0 | CZ37: =DA37+DB37+DC37 -> 0 | DG37: =DF37+DE37+DD37+CZ37+CV37+CR37+CO37+CI37+CE37+CA37+BV37+BR37+BN37+BQ37+BJ37+BF37+AZ37+AU37+AO37+AH37+AC37+X37+S37+N37+K37+J37+H37+G37+F37+E37 -> 0
A38: 12.3 กิจกรรม ส่งเสริมและสนับสนุนให้ สปก. ดำเนินการพัฒนาฝีมือแรงงาน (เจ้าภาพ สพ.) | B38: คน | C38: =C39 -> 4000000 | D38: =D39 -> 0 | E38: =E39 -> 0 | F38: =F39 -> 0 | G38: =G39 -> 0 | H38: =H39 -> 0 | I38: =I39 -> 0 | J38: =J39 -> 0 | ... DF38: =DF39 -> 550 | DG38: =DF38+DE38+DD38+CZ38+CV38+CR38+CO38+CI38+CE38+CA38+BV38+BR38+BN38+BQ38+BJ38+BF38+AZ38+AU38+AO38+AH38+AC38+X38+S38+N38+K38+J38+H38+G38+F38+E38 -> 4000000
A39: 1) รายการ รับรองหลักสูตรและค่าใช้จ่ายในการพัฒนาฝีมือแรงงานของสถานประกอบกิจการตาม พ,ร,บ, ส่งเสริมการพัฒนาฝีมือแรงงาน พ.ศ. 2545 | B39: คน | C39: =K39+N39+S39+X39+AC39+AH39+AO39+AU39+AZ39+BF39+BJ39+BN39+BQ39+BR39+BV39+CA39+CE39+CI39+CO39+CR39+CV39+CZ39+DD39+DE39+DF39 -> 4000000 | K39: =L39+M39 -> 468000 | L39: 388000 | M39: 80000 | N39: =O39+P39+Q39+R39 -> 12000 | O39: 5000 | P39: 2500 | Q39: 3000 | R39: 1500 | S39: =T39+U39+V39+W39 -> 365800 | T39: 308000 | V39: 55800 | W39: 2000 | X39: =Y39+Z39+AA39+AB39 -> 49000 | Y39: 20000 | Z39: 12000 | AA39: 7000 | AB39: 10000 | AC39: =AD39+AE39+AF39+AG39 -> 114000 | AD39: 99500 | AE39: 6500 | AF39: 5000 | AG39: 3000 | AH39: =AI39+AK39+AL39+AM39+AN39 -> 33350 | AI39: 28000 | AK39: 1500 | AL39: 1600 | AM39: 1350 | AN39: 900 | AO39: =AP39+AQ39+AR39+AS39+AT39 -> 16800 | AP39: 7600 | AQ39: 1500 | AR39: 1100 | AS39: 600 | AT39: 6000 | AU39: =AV39+AW39+AX39+AY39 -> 18100 | AV39: 8700 | AW39: 3000 | AX39: 1400 | AY39: 5000 | AZ39: =BA39+BB39+BC39+BD39+BE39 -> 12300 | BA39: 4800 | BB39: 3600 | BC39: 2000 | BD39: 700 | BE39: 1200 | BF39: =BG39+BH39+BI39 -> 35200 | BG39: 7000 | BH39: 27300 | BI39: 900 | BJ39: =BK39+BL39+BM39 -> 18300 | BK39: 14600 | BL39: 3000 | BM39: 700 | BN39: =BO39+BP39 -> 51100 | BO39: 50000 | BP39: 1100 | BQ39: 1806430 | BR39: =BS39+BT39+BU39 -> 280650 | BS39: 168500 | BT39: 110000 | BU39: 2150 | BV39: =BW39+BX39+BY39+BZ39 -> 238800 | BW39: 176500 | BX39: 1800 | BY39: 16500 | BZ39: 44000 | CA39: =CB39+CC39+CD39 -> 138500 | CB39: 35000 | CC39: 100000 | CD39: 3500 | CE39: =CF39+CG39+CH39 -> 236500 | CF39: 229000 | CG39: 5500 | CH39: 2000 | CI39: =CJ39+CK39+CL39+CM39+CN39 -> 9200 | CJ39: 6500 | CK39: 1500 | CL39: 700 | CM39: 150 | CN39: 350 | CO39: =CP39+CQ39 -> 28000 | CP39: 28000 | CR39: =CS39+CT39+CU39 -> 5520 | CS39: 5000 | CT39: 400 | CU39: 120 | CV39: =CW39+CX39+CY39 -> 44000 | CW39: 35000 | CX39: 4500 | CY39: 4500 | CZ39: =DA39+DB39+DC39 -> 13600 | DA39: 6500 | DB39: 600 | DC39: 6500 | DD39: 2500 | DE39: 1800 | DF39: 550 | DG39: =DF39+DE39+DD39+CZ39+CV39+CR39+CO39+CI39+CE39+CA39+BV39+BR39+BN39+BQ39+BJ39+BF39+AZ39+AU39+AO39+AH39+AC39+X39+S39+N39+K39+J39+H39+G39+F39+E39 -> 4000000
B40: แห่ง | C40: =K40+N40+S40+X40+AC40+AH40+AO40+AU40+AZ40+BF40+BJ40+BN40+BQ40+BR40+BV40+CA40+CE40+CI40+CO40+CR40+CV40+CZ40+DD40+DE40+DF40 -> 3804 | K40: =L40+M40 -> 0 | N40: =O40+P40+Q40+R40 -> 72 | O40: 28 | P40: 22 | Q40: 22 | S40: =T40+U40+V40+W40 -> 167 | V40: 152 | W40: 15 | X40: =Y40+Z40+AA40+AB40 -> 260 | Y40: 114 | Z40: 80 | AA40: 66 | AC40: =AD40+AE40+AF40+AG40 -> 22 | AF40: 22 | AH40: =AI40+AK40+AL40+AM40+AN40 -> 188 | AI40: 128 | AK40: 19 | AL40: 15 | AM40: 8 | AN40: 18 | AO40: =AP40+AQ40+AR40+AS40+AT40 -> 104 | AP40: 55 | AQ40: 22 | AR40: 5 | AS40: 2 | AT40: 20 | AU40: =AV40+AW40+AX40+AY40 -> 103 | AV40: 60 | AW40: 30 | AX40: 13 | AZ40: =BA40+BB40+BC40+BD40+BE40 -> 97 | BA40: 42 | BB40: 21 | BC40: 10 | BD40: 14 | BE40: 10 | BF40: =BG40+BH40+BI40 -> 153 | BG40: 73 | BH40: 80 | BJ40: =BK40+BL40+BM40 -> 164 | BK40: 132 | BL40: 32 | BN40: =BO40+BP40 -> 1 | BP40: 1 | BR40: =BS40+BT40+BU40 -> 875 | BS40: 605 | BT40: 250 | BU40: 20 | BV40: =BW40+BX40+BY40+BZ40 -> 557 | BW40: 320 | BX40: 12 | BY40: 45 | BZ40: 180 | CA40: =CB40+CC40+CD40 -> 420 | CB40: 400 | CD40: 20 | CE40: =CF40+CG40+CH40 -> 45 | CG40: 25 | CH40: 20 | CI40: =CJ40+CK40+CL40+CM40+CN40 -> 87 | CJ40: 59 | CK40: 5 | CL40: 18 | CM40: 3 | CN40: 2 | CP40: 285 | CR40: =CS40+CT40+CU40 -> 48 | CS40: 40 | CT40: 4 | CU40: 4 | CV40: =CW40+CX40+CY40 -> 310 | CW40: 310 | CZ40: =DA40+DB40+DC40 -> 83 | DA40: 77 | DB40: 6 | DD40: 21 | DE40: 20 | DF40: 7 | DG40: =DF40+DE40+DD40+CZ40+CV40+CR40+CO40+CI40+CE40+CA40+BV40+BR40+BN40+BQ40+BJ40+BF40+AZ40+AU40+AO40+AH40+AC40+X40+S40+N40+K40+J40+H40+G40+F40+E40 -> 3804
...

Sheet Sheet1
