Workbook

Sheet Data
A2: 23 แผน | B2: ประเด็น | C2: หน่วยงานเจ้าภาพ (จ.1) ขับเคลื่อนประเด็น | D2: 37 เป้า | E2: เป้าหมาย | F2: หน่วยงานเจ้าภาพ(จ.2)ขับเคลื่อนเป้าหมาย | G2: รหัสแผนย่อย | H2: แผนย่อย | I2: 140 เป้าย่อย | J2: เป้าหมายของแผนย่อย | K2: หน่วยงานเจ้าภาพ(จ.3) ขับเคลื่อนเป้าหมายของแผนย่อย
A3: 01 | B3: ความมั่นคง | C3: สำนักงานสภาความมั่นคงแห่งชาติ | D3: 010001 | E3: ประเทศชาติมีความมั่นคงในทุกมิติ และทุกระดับเพิ่มขึ้น | F3: สำนักงานสภาความมั่นคงแห่งชาติ | G3: 0101 | H3: การรักษาความสงบภายในประเทศ | I3: 010101 | J3: ประชาชนมีความมั่นคง ปลอดภัยในชีวิต และทรัพย์สินเพิ่มขึ้น | K3: สำนักงานตำรวจแห่งชาติ | M3: =COUNTIF($K$3:$K$144,"สำนักนายกรัฐมนตรี") -> 0 | N3: 1
D4: 010002 | E4: ประชาชนอยู่ดี กินดี และมีความสุขดีขึ้น | F4: สำนักงานสภาความมั่นคงแห่งชาติ | I4: 010102 | J4: คนไทยมีความจงรักภักดี ซื่อสัตย์ พร้อมธำรงรักษาไว้ซึ่งสถาบันหลักของชาติ สถาบันศาสนาเป็นที่เคารพ ยึดเหนี่ยวจิตใจของคนไทยสูงขึ้น | K4: กระทรวงกลาโหม | M4: =COUNTIF($K$3:$K$144,"กระทรวงกลาโหม") -> 4
I5: 010103 | J5: การเมืองมีเสถียรภาพ และธรรมาภิบาลสูงขึ้น | K5: สำนักงานสภาพัฒนาการเศรษฐกิจและสังคมแห่งชาติ | M5: =COUNTIF($K$3:$K$144,"กระทรวงการคลัง") -> 3
G6: 0102 | H6: การป้องกันและแก้ไขปัญหาที่มีผลกระทบต่อความมั่นคง | I6: 010201 | J6: ปัญหาความมั่นคงที่มีอยู่ในปัจจุบัน (เช่น ปัญหายาเสพติด ความมั่นคงทางไซเบอร์ การค้ามนุษย์ ฯลฯ) ได้รับการแก้ไขดีขึ้นจนไม่ส่งผลกระทบต่อการบริหารและพัฒนาประเทศ | K6: สำนักงานสภาความมั่นคงแห่งชาติ | M6: =COUNTIF($K$3:$K$144,"กระทรวงการต่างประเทศ") -> 6
I7: 010202 | J7: ภาคใต้มีความสงบสุข ร่มเย็นมากขึ้น | K7: สำนักนายกรัฐมนตรี (กองอำนวยการรักษาความมั่นคงภายในราชอาณาจักร) | M7: =COUNTIF($K$3:$K$144,"กระทรวงการท่องเที่ยวและกีฬา") -> 12
G8: 0103 | H8: การพัฒนาศักยภาพของประเทศให้พร้อมเผชิญภัยคุกคามที่กระทบต่อความมั่นคงของชาติ | I8: 010301 | J8: หน่วยงานด้านการข่าวและประชาคมข่าวกรองทำงานอย่างมีประสิทธิภาพเพิ่มขึ้นและแผนเตรียมพร้อมแห่งชาติมีความทันสมัยและปฏิบัติได้จริง | K8: สำนักข่าวกรองแห่งชาติ | M8: =COUNTIF($K$3:$K$144,"กระทรวงการพัฒนาสังคมและความมั่นคงของมนุษย์") -> 8
I9: 010302 | J9: กองทัพและหน่วยงานด้านความมั่นคง มีความพร้อมสูงขึ้นที่จะเผชิญภัยคุกคามทุกรูปแบบทุกมิติและทุกระดับความรุนแรง | K9: กระทรวงกลาโหม | M9: =COUNTIF($K$3:$K$144,"กระทรวงเกษตรและสหกรณ์") -> 9
G10: 0104 | H10: การบูรณาการความร่วมมือด้านความมั่นคงกับอาเซียน และนานาชาติรวมทั้งองค์กรภาครัฐและมิใช่ภาครัฐ | I10: 010401 | J10: ประเทศไทยมีความมั่นคงและสามารถรับมือกับความท้าทายจากภายนอกได้ทุกรูปแบบสูงขึ้น | K10: สำนักงานสภาความมั่นคงแห่งชาติ | M10: =COUNTIF($K$3:$K$144,"กระทรวงคมนาคม") -> 6
I11: 010402 | J11: ประเทศไทยมีบทบาทเพิ่มขึ้นในการกำหนดทิศทางและส่งเสริมเสถียรภาพของภูมิภาคเอเชีย รวมทั้งเป็นประเทศแนวหน้าในภูมิภาคอาเซียน | K11: กระทรวงการต่างประเทศ | M11: =COUNTIF($K$3:$K$144,"กระทรวงทรัพยากรธรรมชาติและสิ่งแวดล้อม") -> 10
G12: 0105 | H12: การพัฒนากลไกการบริหารจัดการความมั่นคงแบบองค์รวม | I12: 010501 | J12: กลไกการบริหารจัดการความมั่นคงมีประสิทธิภาพสูงขึ้น | K12: สำนักงานสภาความมั่นคงแห่งชาติ | M12: =COUNTIF($K$3:$K$144,"กระทรวงดิจิทัลเพื่อเศรษฐกิจและสังคม") -> 3
A13: 02 | B13: การต่างประเทศ | C13: กระทรวงการต่างประเทศ | D13: 020001 | E13: การต่างประเทศไทยมีเอกภาพ ทำให้ประเทศไทยมีความมั่นคง มั่งคั่ง ยั่งยืนมีมาตรฐานสากล และมีเกียรติภูมิในประชาคมโลก | F13: กระทรวงการต่างประเทศ | G13: 0201 | H13: ความร่วมมือด้านความมั่นคงระหว่างประเทศ | I13: =+I10 -> 010401 | J13: ใช้ของแผนแม่บท ความมั่นคง แผนย่อยที่ 4 การบูรณาการความร่วมมือด้านความมั่นคงกับอาเซียน และนานาชาติรวมทั้งองค์กรภาครัฐและมิใช่ภาครัฐ เล่มความมั่นคง | K13: สำนักงานสภาความมั่นคงแห่งชาติ | M13: =COUNTIF($K$3:$K$144,"กระทรวงพลังงาน") -> 4
I14: =+I11 -> 010402 | J14: ใช้ของแผนแม่บท ความมั่นคง แผนย่อยที่ 4 การบูรณาการความร่วมมือด้านความมั่นคงกับอาเซียน และนานาชาติรวมทั้งองค์กรภาครัฐและมิใช่ภาครัฐ เล่มความมั่นคง | K14: กระทรวงการต่างประเทศ | M14: =COUNTIF($K$3:$K$144,"กระทรวงพาณิชย์") -> 5
G15: 0202 | H15: ความร่วมมือเศรษฐกิจและความร่วมมือเพื่อการพัฒนาระหว่างประเทศ | I15: 020201 | J15: ประเทศไทยเป็นหนึ่งในศูนย์กลางการค้า การลงทุน การบริการ และความเชื่อมโยงที่สำคัญในภูมิภาคเอเชีย โดยมีระบบเศรษฐกิจที่เน้นนวัตกรรมดีขึ้น | K15: กระทรวงพาณิชย์ | M15: =COUNTIF($K$3:$K$144,"กระทรวงมหาดไทย") -> 8
I16: 020202 | J16: ประเทศไทยเป็นหุ้นส่วนการพัฒนาที่ยั่งยืนกับต่างประเทศ เพื่อร่วมกันบรรลุเป้าหมายการพัฒนาที่ยั่งยืนของโลก | K16: กระทรวงการต่างประเทศ | M16: =COUNTIF($K$3:$K$144,"กระทรวงยุติธรรม") -> 3
G17: 0203 | H17: การพัฒนาที่สอดคล้องกับมาตรฐานสากลและพันธกรณีระหว่างประเทศ | I17: 020301 | J17: ประเทศไทยมีการพัฒนาที่สอดคล้องกับมาตรฐานสากลในทุกมิติและสามารถมีบทบาทเชิงรุกในการร่วมกำหนดมาตรฐานสากลเพิ่มขึ้น | K17: กระทรวงการต่างประเทศ | M17: =COUNTIF($K$3:$K$144,"กระทรวงแรงงาน") -> 3
G18: 0204 | H18: การส่งเสริมสถานะและบทบาทของประเทศไทยในประชาคมโลก | I18: 020501 | J18: ประเทศไทยมีเกียรติภูมิ อำนาจต่อรอง และได้รับการยอมรับในสากลมากขึ้น | K18: กระทรวงการต่างประเทศ | M18: =COUNTIF($K$3:$K$144,"กระทรวงวัฒนธรรม") -> 1
G19: 0205 | H19: การต่างประเทศมีเอกภาพและบูรณาการ | I19: 020501 | J19: ทุกภาคส่วนมีส่วนร่วมขับเคลื่อนการต่างประเทศอย่างมีเอกภาพ และไทยเป็นหุ้นส่วนความร่วมมือกับต่างประเทศในทุกมิติมากขึ้น | K19: กระทรวงการต่างประเทศ | M19: =COUNTIF($K$3:$K$144,"กระทรวงศึกษาธิการ") -> 3
A20: 03 | B20: การเกษตร | C20: กระทรวงเกษตรและสหกรณ์ | D20: 030001 | E20: ผลิตภัณฑ์มวลรวมในประเทศ ในสาขาเกษตรเพิ่มขึ้น | F20: กระทรวงเกษตรและสหกรณ์ | G20: 0301 | H20: เกษตรอัตลักษณ์พื้นถิ่น | I20: 030101 | J20: สินค้าเกษตรอัตลักษณ์พื้นถิ่นมีมูลค่าเพิ่มขึ้น | K20: กระทรวงเกษตรและสหกรณ์ | M20: =COUNTIF($K$3:$K$144,"กระทรวงสาธารณสุข") -> 7
D21: 030002 | E21: ผลิตภาพการผลิตของภาคเกษตรเพิ่มขึ้น | F21: กระทรวงเกษตรและสหกรณ์ | G21: 0302 | H21: เกษตรปลอดภัย | I21: 030201 | J21: สินค้าเกษตรปลอดภัยมีมูลค่าเพิ่มขึ้น | K21: กระทรวงเกษตรและสหกรณ์ | M21: =COUNTIF($K$3:$K$144,"กระทรวงการอุดมศึกษา วิทยาศาสตร์ วิจัยและนวัตกรรม") -> 7
I22: 030202 | J22: ผลิตภัณฑ์เกษตรปลอดภัยของไทยได้รับการยอมรับด้านคุณภาพความปลอดภัยและคุณค่าทางโภชนาการสูงขึ้น | K22: กระทรวงเกษตรและสหกรณ์ | M22: =COUNTIF($K$3:$K$144,"กระทรวงอุตสาหกรรม") -> 8 | N22: 2
G23: 0303 | H23: เกษตรชีวภาพ | I23: 030301 | J23: สินค้าเกษตรชีวภาพมีมูลค่าเพิ่มขึ้น | K23: กระทรวงเกษตรและสหกรณ์ | M23: =COUNTIF($K$3:$K$144,"สำนักงบประมาณ") -> 0
I24: 030302 | J24: วิสาหกิจการเกษตรจากฐานชีวภาพและภูมิปัญญาท้องถิ่นมีการจัดตั้งในทุกตำบลเพิ่มขึ้น | K24: กระทรวงเกษตรและสหกรณ์ | M24: =COUNTIF($K$3:$K$144,"สำนักข่าวกรองแห่งชาติ") -> 1
G25: 0304 | H25: เกษตรแปรรูป | I25: 030401 | J25: สินค้าเกษตรแปรรูปและผลิตภัณฑ์มีมูลค่าเพิ่มขึ้น | K25: กระทรวงอุตสาหกรรม | M25: =COUNTIF($K$3:$K$144,"สำนักงานคณะกรรมการกฤษฎีกา") -> 1
G26: 0305 | H26: เกษตรอัจฉริยะ | I26: 030501 | J26: สินค้าที่ได้จากเทคโนโลยีสมัยใหม่/อัจฉริยะมีมูลค่าเพิ่มขึ้น | K26: กระทรวงเกษตรและสหกรณ์ | M26: =COUNTIF($K$3:$K$144,"สำนักงานคณะกรรมการข้าราชการพลเรือน") -> 1
I27: 030502 | J27: ผลผลิตต่อหน่วยของฟาร์มหรือแปลงที่มีการใช้เทคโนโลยีสมัยใหม่/อัจฉริยะเพิ่มขึ้น | K27: กระทรวงเกษตรและสหกรณ์ | M27: =COUNTIF($K$3:$K$144,"สำนักงานคณะกรรมการพัฒนาระบบราชการ") -> 2
G28: 0306 | H28: การพัฒนาระบบนิเวศการเกษตร | I28: 030601 | J28: ประสิทธิภาพการผลิตสินค้าเกษตรต่อหน่วยมีการปรับตัวเพิ่มขึ้น | K28: กระทรวงเกษตรและสหกรณ์ | M28: =COUNTIF($K$3:$K$144,"สำนักงานคณะกรรมการป้องกันและปราบปรามการทุจริตแห่งชาติ") -> 3
I29: 030602 | J29: สถาบันเกษตรกร (สหกรณ์ วิสาหกิจชุมชน และกลุ่มเป้าหมาย) ที่ขึ้นทะเบียนกับกระทรวงเกษตรและสหกรณ์ มีความเข้มแข็งในระดับมาตรฐานเพิ่มขึ้น | K29: กระทรวงเกษตรและสหกรณ์
A30: 04 | B30: อุตสาหกรรมและบริการแห่งอนาคต | C30: กระทรวงอุตสาหกรรมและกระทรวงพาณิชย์ | D30: 040001 | E30: การขยายตัวของผลิตภัณฑ์ มวลรวมในประเทศในสาขาอุตสาหกรรม และบริการ | F30: กระทรวงอุตสาหกรรมและกระทรวงพาณิชย์ | G30: 0401 | H30: อุตสาหกรรมชีวภาพ | I30: 040101 | J30: อุตสาหกรรมชีวภาพมีการขยายตัวเพิ่มขึ้น | K30: กระทรวงอุตสาหกรรม
D31: 040002 | E31: ผลิตภาพการผลิตของภาคอุตสาหกรรมและภาคบริการเพิ่มขึ้น | F31: กระทรวงอุตสาหกรรมและกระทรวงพาณิชย์ | G31: 0402 | H31: อุตสาหกรรมและบริการทางการแพทย์ครบวงจร | I31: 040201 | J31: อุตสาหกรรมและบริการทางการแพทย์มีการขยายตัวเพิ่มขึ้น | K31: กระทรวงอุตสาหกรรม
G32: 0403 | H32: อุตสาหกรรมและบริการดิจิทัล ข้อมูล และปัญญาประดิษฐ์ | I32: 040301 | J32: อุตสาหกรรมและบริการเทคโนโลยีดิจิทัล ข้อมูล และปัญญาประดิษฐ์มีการขยายตัวเพิ่มขึ้น | K32: กระทรวงอุตสาหกรรม
I33: 040302 | J33: ความสามารถในการพัฒนาด้านเศรษฐกิจดิจิทัลของไทยดีขึ้น | K33: กระทรวงดิจิทัลเพื่อเศรษฐกิจและสังคม
G34: 0404 | H34: อุตสาหกรรมต่อเนื่องจากการพัฒนาระบบคมนาคม | I34: 040401 | J34: ประเทศไทยเป็นศูนย์กลางการซ่อมบำรุงอากาศยานในภูมิภาคโดยเฉพาะอากาศยานรุ่นใหม่ | K34: กระทรวงอุตสาหกรรม
I35: 040402 | J35: ประเทศไทยมีศักยภาพในการผลิตชิ้นส่วนอากาศยานสูงขึ้น (Tier) | K35: กระทรวงอุตสาหกรรม
G36: 0405 | H36: อุตสาหกรรมความมั่นคงของประเทศ | I36: 040501 | J36: อุตสาหกรรมความมั่นคงของประเทศมีการขยายตัวเพิ่มขึ้น | K36: กระทรวงกลาโหม
I37: 040502 | J37: การส่งออกของอุตสาหกรรมความมั่นคงของประเทศเพิ่มขึ้น | K37: กระทรวงกลาโหม | M37: =SUM(M3:M36) -> 118
G38: 0406 | H38: การพัฒนาระบบนิเวศอุตสาหกรรมและบริการแห่งอนาคต | I38: 040601 | J38: แรงงานไทยมีประสิทธิภาพเพิ่มขึ้น | K38: กระทรวงแรงงาน
I39: 040602 | J39: ประเทศไทยมีความสามารถในการแข่งขันด้านดิจิทัล ในด้านความพร้อมในอนาคตดีขึ้น | K39: กระทรวงดิจิทัลเพื่อเศรษฐกิจและสังคม
A40: 05 | B40: ท่องเที่ยว | C40: กระทรวงการท่องเที่ยวและกีฬา | D40: 050001 | E40: ผลิตภัณฑ์มวลรวมในประเทศด้านการท่องเที่ยวต่อผลิตภัณฑ์มวลรวมในประเทศเพิ่มขึ้น | F40: กระทรวงการท่องเที่ยวและกีฬา | G40: 0501 | H40: การท่องเที่ยวเชิงสร้างสรรค์และวัฒนธรรม | I40: 050101 | J40: รายได้จากการท่องเที่ยวเชิงสร้างสรรค์และวัฒนธรรมเพิ่มขึ้น | K40: กระทรวงการท่องเที่ยวและกีฬา
D41: 050002 | E41: รายได้จากการท่องเที่ยวของเมืองรองเพิ่มขึ้น | F41: กระทรวงการท่องเที่ยวและกีฬา | I41: 050102 | J41: เมืองและชุมชนที่มีศักยภาพด้านการท่องเที่ยวเชิงสร้างสรรค์และวัฒนธรรมเพิ่มขึ้น | K41: กระทรวงการท่องเที่ยวและกีฬา
...

Sheet รวม
A1: Worksheet 1 : ความเกี่ยวข้องของหน่วยงานที่มีต่อการบรรลุเป้าหมายแผนแม่บทย่อย
A2: ส่วนที่ 1 : ข้อมูลหน่วยงาน
C3: ชื่อหน่วยงาน กรมพัฒนาฝีมือแรงงาน
C4: ชื่อกระทรวง แรงงาน
C5: ผู้ประสานงาน นายณัฐพงศ์ ทิพย์สกุลปัญญา เบอร์ติดต่อ : 0 2245 4042 email : strategy.dsd@gmail.com
A7: ส่วนที่ 2 : ระดับความเกี่ยวข้องในการขับเคลื่อนเป้าหมายแผนแม่บทย่อย
A8: ให้เลือกเป้าหมายแผนแม่บทย่อยเฉพาะที่หน่วยงานของท่านมีส่วนเกี่ยวข้องในการขับเคลื่อนการดำเนินงานเพื่อบรรลุเป้าหมายตามที่กำหนด (เลือกได้มากกว่า 1 เป้าหมาย)
A9: โดยทำเครื่องหมาย √ ตามระดับความเกี่ยวข้องของหน่วยงาน พร้อมอธิบายที่มาของระดับความเกี่ยวข้องนั้น
A10: คำอธิบายระดับความเกี่ยวข้อง
B11: หลัก | C11: มีความรับผิดชอบและภารกิจหลักในการทำให้เป้าหมายบรรลุโดยตรง อาทิ ดำเนินการตามกฎ ระเบียบ มติครม. คกก.ระดับชาติ ข้อสั่งการที่เกี่ยวข้อง
B12: สนับสนุน | C12: ไม่มีหน้าที่ความรับผิดชอบหลักโดยตรง อาทิ เป็นหน่วยงานนโยบาย
A13: กรุณากรอกข้อมูลรายละเอียดของหน่วยงานข้างต้นให้ครบถ้วนในหน้านี้เพียงหน้าเดียว ข้อมูลจะปรากฎขึ้นอัตโนมัติในทุกหน้าถัดไป
A14: รหัส แผน | B14: รหัส เป้าย่อย | C14: <เลือกคลิกจากประเด็นแผนแม่บทที่เป็นตัวอักษรสีฟ้าพร้อมขีดเส้นใต้กำกับ เพื่อไปหน้าย่อย> | D14: ความเกี่ยวข้องของหน่วยงานในการขับเคลื่อนเป้าหมายแผนแม่บทย่อย
D15: ระดับความเกี่ยวข้อง | F15: คำอธิบายความเกี่ยวข้อง
C16: 23 แผนแม่บท /140 เป้าหมายแผนแม่บทย่อย | D16: หลัก | E16: สนับสนุน
A17: 01 | C17: ความมั่นคง
B18: 010101 | C18: ประชาชนมีความมั่นคง ปลอดภัยในชีวิต และทรัพย์สินเพิ่มขึ้น
B19: 010102 | C19: คนไทยมีความจงรักภักดี ซื่อสัตย์ พร้อมธำรงรักษาไว้ซึ่งสถาบันหลักของชาติ สถาบันศาสนาเป็นที่เคารพ ยึดเหนี่ยวจิตใจของคนไทยสูงขึ้น
B20: 010103 | C20: การเมืองมีเสถียรภาพ และธรรมาภิบาลสูงขึ้น
B21: 010201 | C21: ปัญหาความมั่นคงที่มีอยู่ในปัจจุบัน (เช่น ปัญหายาเสพติด ความมั่นคงทางไซเบอร์ การค้ามนุษย์ ฯลฯ) ได้รับการแก้ไขดีขึ้นจนไม่ส่งผลกระทบต่อการบริหารและพัฒนาประเทศ
B22: 010202 | C22: ภาคใต้มีความสงบสุข ร่มเย็นมากขึ้น
B23: 010301 | C23: หน่วยงานด้านการข่าวและประชาคมข่าวกรองทำงานอย่างมีประสิทธิภาพเพิ่มขึ้นและแผนเตรียมพร้อมแห่งชาติมีความทันสมัยและปฏิบัติได้จริง
B24: 010302 | C24: กองทัพและหน่วยงานด้านความมั่นคง มีความพร้อมสูงขึ้นที่จะเผชิญภัยคุกคามทุกรูปแบบทุกมิติและทุกระดับความรุนแรง
B25: 010401 | C25: ประเทศไทยมีความมั่นคงและสามารถรับมือกับความท้าทายจากภายนอกได้ทุกรูปแบบสูงขึ้น
B26: 010402 | C26: ประเทศไทยมีบทบาทเพิ่มขึ้นในการกำหนดทิศทางและส่งเสริมเสถียรภาพของภูมิภาคเอเชีย รวมทั้งเป็นประเทศแนวหน้าในภูมิภาคอาเซียน
B27: 010501 | C27: กลไกการบริหารจัดการความมั่นคงมีประสิทธิภาพสูงขึ้น
A28: 02 | C28: การต่างประเทศ
B29: 020201 | C29: ประเทศไทยเป็นหนึ่งในศูนย์กลางการค้า การลงทุน การบริการ และความเชื่อมโยงที่สำคัญในภูมิภาคเอเชีย โดยมีระบบเศรษฐกิจที่เน้นนวัตกรรมดีขึ้น
B30: 020202 | C30: ประเทศไทยเป็นหุ้นส่วนการพัฒนาที่ยั่งยืนกับต่างประเทศ เพื่อร่วมกันบรรลุเป้าหมายการพัฒนาที่ยั่งยืนของโลก
B31: 020301 | C31: ประเทศไทยมีการพัฒนาที่สอดคล้องกับมาตรฐานสากลในทุกมิติและสามารถมีบทบาทเชิงรุกในการร่วมกำหนดมาตรฐานสากลเพิ่มขึ้น
B32: 020501 | C32: ประเทศไทยมีเกียรติภูมิ อำนาจต่อรอง และได้รับการยอมรับในสากลมากขึ้น
B33: 020501 | C33: ทุกภาคส่วนมีส่วนร่วมขับเคลื่อนการต่างประเทศอย่างมีเอกภาพ และไทยเป็นหุ้นส่วนความร่วมมือกับต่างประเทศในทุกมิติมากขึ้น
A34: 03 | C34: การเกษตร
B35: 030101 | C35: สินค้าเกษตรอัตลักษณ์พื้นถิ่นมีมูลค่าเพิ่มขึ้น
B36: 030201 | C36: สินค้าเกษตรปลอดภัยมีมูลค่าเพิ่มขึ้น
B37: 030202 | C37: ผลิตภัณฑ์เกษตรปลอดภัยของไทยได้รับการยอมรับด้านคุณภาพความปลอดภัยและคุณค่าทางโภชนาการสูงขึ้น
B38: 030301 | C38: สินค้าเกษตรชีวภาพมีมูลค่าเพิ่มขึ้น
B39: 030302 | C39: วิสาหกิจการเกษตรจากฐานชีวภาพและภูมิปัญญาท้องถิ่นมีการจัดตั้งในทุกตำบลเพิ่มขึ้น
B40: 030401 | C40: สินค้าเกษตรแปรรูปและผลิตภัณฑ์มีมูลค่าเพิ่มขึ้น
B41: 030501 | C41: สินค้าที่ได้จากเทคโนโลยีสมัยใหม่/อัจฉริยะมีมูลค่าเพิ่มขึ้น
...

Sheet 1.มั่นคง
A1: Worksheet 1 : ความเกี่ยวข้องของหน่วยงานที่มีต่อการบรรลุเป้าหมายแผนแม่บทย่อย
A2: ส่วนที่ 1 : ข้อมูลหน่วยงาน
C3: ชื่อหน่วยงาน กรมพัฒนาฝีมือแรงงาน
C4: ชื่อกระทรวง แรงงาน
C5: ผู้ประสานงาน นายณัฐพงศ์ ทิพย์สกุลปัญญา เบอร์ติดต่อ : 0 2245 4042 email : strategy.dsd@gmail.com
A7: ส่วนที่ 2 : ระดับความเกี่ยวข้องในการขับเคลื่อนเป้าหมายแผนแม่บทย่อย
A8: ให้เลือกเป้าหมายแผนแม่บทย่อยเฉพาะที่หน่วยงานของท่านมีส่วนเกี่ยวข้องในการขับเคลื่อนการดำเนินงานเพื่อบรรลุเป้าหมายตามที่กำหนด (เลือกได้มากกว่า 1 เป้าหมาย)
A9: โดยทำเครื่องหมาย √ ตามระดับความเกี่ยวข้องของหน่วยงาน พร้อมอธิบายที่มาของระดับความเกี่ยวข้องนั้น
A10: คำอธิบายระดับความเกี่ยวข้อง
B11: หลัก | C11: =+รวม!C11 -> มีความรับผิดชอบและภารกิจหลักในการทำให้เป้าหมายบรรลุโดยตรง อาทิ ดำเนินการตามกฎ ระเบียบ มติครม. คกก.ระดับชาติ ข้อสั่งการที่เกี่ยวข้อง
B12: สนับสนุน | C12: =+รวม!C12 -> ไม่มีหน้าที่ความรับผิดชอบหลักโดยตรง อาทิ เป็นหน่วยงานนโยบาย
F13: <คลิกเพื่อกลับไปหน้าหลัก>
A15: รหัส แผน | B15: รหัส เป้าย่อย | C15: แผนแม่บท /เป้าหมายแผนแม่บทย่อย | D15: ความเกี่ยวข้องของหน่วยงานในการขับเคลื่อนเป้าหมายแผนแม่บทย่อย
D16: ระดับความเกี่ยวข้อง | F16: คำอธิบายความเกี่ยวข้อง
D17: หลัก | E17: สนับสนุน
A18: 01 | C18: ความมั่นคง
B19: 010101 | C19: ประชาชนมีความมั่นคง ปลอดภัยในชีวิต และทรัพย์สินเพิ่มขึ้น
B20: 010102 | C20: คนไทยมีความจงรักภักดี ซื่อสัตย์ พร้อมธำรงรักษาไว้ ซึ่งสถาบันหลักของชาติ สถาบันศาสนาเป็นที่เคารพ ยึดเหนี่ยว จิตใจของคนไทยสูงขึ้น
B21: 010103 | C21: การเมืองมีเสถียรภาพ และธรรมาภิบาลสูงขึ้น
B22: 010201 | C22: ปัญหาความมั่นคงที่มีอยู่ในปัจจุบัน (เช่น ปัญหายาเสพติด ความมั่นคงทางไซเบอร์ การค้ามนุษย์ ฯลฯ) ได้รับการแก้ไข ดีขึ้นจนไม่ส่งผลกระทบต่อการบริหารและพัฒนาประเทศ
B23: 010202 | C23: ภาคใต้มีความสงบสุข ร่มเย็นมากขึ้น | E23: √ | F23: กฎกระทรวงแบ่งส่วนราชการกรมพัฒนาฝีมือ แรงงาน กระทรวงแรงงาน พ.ศ. 2559 กำหนด ให้กรมมีภารกิจเกี่ยวกับการส่งเสริมและพัฒนา ฝีมือแรงงาน ซึ่งครอบคลุมแรงงานในพื้นที่ ภาคใต้ที่มีแนวโน้มก่อความรุนแรง ให้มีความรู้ ความสามารถในการประกอบอาชีพ สอดคล้องกับความต้องการลงทุนในพื้นที่ ทำให้สามารถป้องกันการก่อความรุนแรงในที่สุด
B24: 010301 | C24: หน่วยงานด้านการข่าวและประชาคมข่าวกรองทำงาน อย่างมีประสิทธิภาพเพิ่มขึ้นและแผนเตรียมพร้อมแห่งชาติ มีความทันสมัยและปฏิบัติได้จริง
B25: 010302 | C25: กองทัพและหน่วยงานด้านความมั่นคงมีความพร้อมสูงขึ้น ที่จะเผชิญภัยคุกคามทุกรูปแบบทุกมิติและทุกระดับ ความรุนแรง
B26: 010401 | C26: ประเทศไทยมีความมั่นคงและสามารถรับมือกับความท้าทาย จากภายนอกได้ทุกรูปแบบสูงขึ้น
B27: 010402 | C27: ประเทศไทยมีบทบาทเพิ่มขึ้นในการกำหนดทิศทางและส่งเสริมเสถียรภาพ ของภูมิภาคเอเชีย รวมทั้งเป็นประเทศแนวหน้าในภูมิภาคอาเซียน
B28: 010501 | C28: กลไกการบริหารจัดการความมั่นคงมีประสิทธิภาพสูงขึ้น

Sheet 2.ต่างประเทศ
A1: Worksheet 1 : ความเกี่ยวข้องของหน่วยงานที่มีต่อการบรรลุเป้าหมายแผนแม่บทย่อย
A2: ส่วนที่ 1 : ข้อมูลหน่วยงาน
C3: ชื่อหน่วยงาน กรมพัฒนาฝีมือแรงงาน
C4: ชื่อกระทรวง แรงงาน
C5: ผู้ประสานงาน นายณัฐพงศ์ ทิพย์สกุลปัญญา เบอร์ติดต่อ : 0 2245 4042 email : strategy.dsd@gmail.com
A7: ส่วนที่ 2 : ระดับความเกี่ยวข้องในการขับเคลื่อนเป้าหมายแผนแม่บทย่อย
A8: ให้เลือกเป้าหมายแผนแม่บทย่อยเฉพาะที่หน่วยงานของท่านมีส่วนเกี่ยวข้องในการขับเคลื่อนการดำเนินงานเพื่อบรรลุเป้าหมายตามที่กำหนด (เลือกได้มากกว่า 1 เป้าหมาย)
A9: โดยทำเครื่องหมาย √ ตามระดับความเกี่ยวข้องของหน่วยงาน พร้อมอธิบายที่มาของระดับความเกี่ยวข้องนั้น
A10: คำอธิบายระดับความเกี่ยวข้อง
B11: หลัก | C11: =+รวม!C11 -> มีความรับผิดชอบและภารกิจหลักในการทำให้เป้าหมายบรรลุโดยตรง อาทิ ดำเนินการตามกฎ ระเบียบ มติครม. คกก.ระดับชาติ ข้อสั่งการที่เกี่ยวข้อง
B12: สนับสนุน | C12: =+รวม!C12 -> ไม่มีหน้าที่ความรับผิดชอบหลักโดยตรง อาทิ เป็นหน่วยงานนโยบาย
F13: <คลิกเพื่อกลับไปหน้าหลัก>
A14: รหัส แผน | B14: รหัส เป้าย่อย | C14: แผนแม่บท /เป้าหมายแผนแม่บทย่อย | D14: ความเกี่ยวข้องของหน่วยงานในการขับเคลื่อนเป้าหมายแผนแม่บทย่อย
D15: ระดับความเกี่ยวข้อง | F15: คำอธิบายความเกี่ยวข้อง
D16: หลัก | E16: สนับสนุน
A17: 02 | C17: การต่างประเทศ
B18: 020201 | C18: ประเทศไทยเป็นหนึ่งในศูนย์กลางการค้า การลงทุน การบริการ และความเชื่อมโยงที่สำคัญในภูมิภาคเอเชีย โดยมีระบบเศรษฐกิจที่เน้นนวัตกรรมดีขึ้น
B19: 020202 | C19: ประเทศไทยเป็นหุ้นส่วนการพัฒนาที่ยั่งยืนกับต่างประเทศ เพื่อร่วมกันบรรลุเป้าหมายการพัฒนาที่ยั่งยืนของโลก
B20: 020301 | C20: ประเทศไทยมีการพัฒนาที่สอดคล้องกับมาตรฐานสากลในทุกมิติและสามารถ มีบทบาทเชิงรุกในการร่วมกำหนดมาตรฐานสากลเพิ่มขึ้น | E20: √ | F20: กฎกระทรวงแบ่งส่วนราชการกรมพัฒนาฝีมือ แรงงาน กระทรวงแรงงาน พ.ศ. 2559 กำหนด ให้กรมมีอำนาจหน้าที่เกี่ยวกับการจัดทำ และพัฒนามาตรฐานฝีมือแรงงานให้สอดคล้อง กับมาตรฐานสากล
B21: 020501 | C21: ประเทศไทยมีเกียรติภูมิ อำนาจต่อรอง และได้รับการยอมรับ ในสากลมากขึ้น | E21: √ | F21: กฎกระทรวงแบ่งส่วนราชการกรมพัฒนาฝีมือ แรงงาน กระทรวงแรงงาน พ.ศ. 2559 กำหนด ให้กรมมีอำนาจหน้าที่เกี่ยวกับการส่งเสริม การทดสอบมาตรฐานฝีมือแรงงานและการออก หนังสือรับรองมาตรฐานฝีมือแรงงาน ในต่างประเทศ อันเป็นการพัฒนาศักยภาพ คนไทยในต่างประเทศให้ได้รับการยอมรับ รวมถึงการส่งเสริมการพัฒนาฝีมือแรงงาน ในประเทศเพื่อนบ้าน อันเป็นการเพิ่มอำนาจ แบบนุ่มนวลของไทย ตลอดจนการจัดงาน แข่งขันฝีมือแรงงานในต่างประเทศ
B22: 020501 | C22: ทุกภาคส่วนมีส่วนร่วมขับเคลื่อนการต่างประเทศอย่างมีเอกภาพ และไทยเป็นหุ้นส่วนความร่วมมือกับต่างประเทศในทุกมิติมากขึ้น

Sheet 3.เกษตร
A1: Worksheet 1 : ความเกี่ยวข้องของหน่วยงานที่มีต่อการบรรลุเป้าหมายแผนแม่บทย่อย
A2: ส่วนที่ 1 : ข้อมูลหน่วยงาน
C3: =+รวม!C3 -> ชื่อหน่วยงาน กรมพัฒนาฝีมือแรงงาน
C4: =+รวม!C4 -> ชื่อกระทรวง แรงงาน
C5: =+รวม!C5 -> ผู้ประสานงาน นายณัฐพงศ์ ทิพย์สกุลปัญญา เบอร์ติดต่อ : 0 2245 4042 email : strategy.dsd@gmail.com
A7: ส่วนที่ 2 : ระดับความเกี่ยวข้องในการขับเคลื่อนเป้าหมายแผนแม่บทย่อย
A8: ให้เลือกเป้าหมายแผนแม่บทย่อยเฉพาะที่หน่วยงานของท่านมีส่วนเกี่ยวข้องในการขับเคลื่อนการดำเนินงานเพื่อบรรลุเป้าหมายตามที่กำหนด (เลือกได้มากกว่า 1 เป้าหมาย)
A9: โดยทำเครื่องหมาย √ ตามระดับความเกี่ยวข้องของหน่วยงาน พร้อมอธิบายที่มาของระดับความเกี่ยวข้องนั้น
A10: คำอธิบายระดับความเกี่ยวข้อง
B11: หลัก | C11: =+รวม!C11 -> มีความรับผิดชอบและภารกิจหลักในการทำให้เป้าหมายบรรลุโดยตรง อาทิ ดำเนินการตามกฎ ระเบียบ มติครม. คกก.ระดับชาติ ข้อสั่งการที่เกี่ยวข้อง
B12: สนับสนุน | C12: =+รวม!C12 -> ไม่มีหน้าที่ความรับผิดชอบหลักโดยตรง อาทิ เป็นหน่วยงานนโยบาย
F13: <คลิกเพื่อกลับไปหน้าหลัก>
A14: รหัส แผน | B14: รหัส เป้าย่อย | C14: แผนแม่บท /เป้าหมายแผนแม่บทย่อย | D14: ความเกี่ยวข้องของหน่วยงานในการขับเคลื่อนเป้าหมายแผนแม่บทย่อย
D15: ระดับความเกี่ยวข้อง | F15: คำอธิบายความเกี่ยวข้อง
D16: หลัก | E16: สนับสนุน
A17: 03 | C17: การเกษตร
B18: 030101 | C18: สินค้าเกษตรอัตลักษณ์พื้นถิ่นมีมูลค่าเพิ่มขึ้น
B19: 030201 | C19: สินค้าเกษตรปลอดภัยมีมูลค่าเพิ่มขึ้น
B20: 030202 | C20: ผลิตภัณฑ์เกษตรปลอดภัยของไทยได้รับการยอมรับด้านคุณภาพความปลอดภัยและคุณค่าทางโภชนาการสูงขึ้น
B21: 030301 | C21: สินค้าเกษตรชีวภาพมีมูลค่าเพิ่มขึ้น
B22: 030302 | C22: วิสาหกิจการเกษตรจากฐานชีวภาพและภูมิปัญญาท้องถิ่น มีการจัดตั้งในทุกตำบลเพิ่มขึ้น
B23: 030401 | C23: สินค้าเกษตรแปรรูปและผลิตภัณฑ์มีมูลค่าเพิ่มขึ้น | E23: √ | F23: กฎกระทรวงแบ่งส่วนราชการกรมพัฒนาฝีมือ แรงงาน กระทรวงแรงงาน พ.ศ. 2559 กำหนด ให้กรมมีภารกิจพัฒนากำลังแรงงานให้มีฝีมือ และความรู้ความสามารถสอดคล้องกับ ความต้องการของตลาดแรงงาน ซึ่งครอบคลุม การแปรรูปผลผลิตทางการเกษตรด้วย
B24: 030501 | C24: สินค้าที่ได้จากเทคโนโลยีสมัยใหม่/อัจฉริยะมีมูลค่าเพิ่มขึ้น | E24: √ | F24: กฎกระทรวงแบ่งส่วนราชการกรมพัฒนาฝีมือ แรงงาน กระทรวงแรงงาน พ.ศ. 2559 กำหนด ให้กรมมีภารกิจพัฒนากำลังแรงงานให้มีฝีมือ และความรู้ความสามารถสอดคล้องกับ ความต้องการของตลาดแรงงาน ซึ่งครอบคลุม การพัฒนาศักยภาพแรงงานให้สามารถใช้เทคโนโลยีทางการเกษตรได้
B25: 030502 | C25: ผลผลิตต่อหน่วยของฟาร์มหรือแปลงที่มีการใช้เทคโนโลยีสมัยใหม่/อัจฉริยะเพิ่มขึ้น
B26: 030601 | C26: ประสิทธิภาพการผลิตสินค้าเกษตรต่อหน่วยมีการปรับตัวเพิ่มขึ้น
B27: 030602 | C27: สถาบันเกษตรกร (สหกรณ์ วิสาหกิจชุมชน และกลุ่มเป้าหมาย) ที่ขึ้นทะเบียนกับกระทรวงเกษตรและสหกรณ์ มีความเข้มแข็งในระดับมาตรฐานเพิ่มขึ้น

Sheet 4.อุตสาหกรรม
A1: Worksheet 1 : ความเกี่ยวข้องของหน่วยงานที่มีต่อการบรรลุเป้าหมายแผนแม่บทย่อย
A2: ส่วนที่ 1 : ข้อมูลหน่วยงาน
C3: =+รวม!C3 -> ชื่อหน่วยงาน กรมพัฒนาฝีมือแรงงาน
C4: =+รวม!C4 -> ชื่อกระทรวง แรงงาน
C5: =+รวม!C5 -> ผู้ประสานงาน นายณัฐพงศ์ ทิพย์สกุลปัญญา เบอร์ติดต่อ : 0 2245 4042 email : strategy.dsd@gmail.com
A7: ส่วนที่ 2 : ระดับความเกี่ยวข้องในการขับเคลื่อนเป้าหมายแผนแม่บทย่อย
A8: ให้เลือกเป้าหมายแผนแม่บทย่อยเฉพาะที่หน่วยงานของท่านมีส่วนเกี่ยวข้องในการขับเคลื่อนการดำเนินงานเพื่อบรรลุเป้าหมายตามที่กำหนด (เลือกได้มากกว่า 1 เป้าหมาย)
A9: โดยทำเครื่องหมาย √ ตามระดับความเกี่ยวข้องของหน่วยงาน พร้อมอธิบายที่มาของระดับความเกี่ยวข้องนั้น
A10: คำอธิบายระดับความเกี่ยวข้อง
B11: หลัก | C11: =+รวม!C11 -> มีความรับผิดชอบและภารกิจหลักในการทำให้เป้าหมายบรรลุโดยตรง อาทิ ดำเนินการตามกฎ ระเบียบ มติครม. คกก.ระดับชาติ ข้อสั่งการที่เกี่ยวข้อง
B12: สนับสนุน | C12: =+รวม!C12 -> ไม่มีหน้าที่ความรับผิดชอบหลักโดยตรง อาทิ เป็นหน่วยงานนโยบาย
F13: <คลิกเพื่อกลับไปหน้าหลัก>
A14: รหัส แผน | B14: รหัส เป้าย่อย | C14: แผนแม่บท /เป้าหมายแผนแม่บทย่อย | D14: ความเกี่ยวข้องของหน่วยงานในการขับเคลื่อนเป้าหมายแผนแม่บทย่อย
D15: ระดับความเกี่ยวข้อง | F15: คำอธิบายความเกี่ยวข้อง
D16: หลัก | E16: สนับสนุน
A17: 04 | C17: อุตสาหกรรมและบริการแห่งอนาคต
B18: 040101 | C18: อุตสาหกรรมชีวภาพมีการขยายตัวเพิ่มขึ้น
B19: 040201 | C19: อุตสาหกรรมและบริการทางการแพทย์มีการขยายตัวเพิ่มขึ้น
B20: 040301 | C20: อุตสาหกรรมและบริการเทคโนโลยีดิจิทัล ข้อมูล และปัญญาประดิษฐ์มีการขยายตัวเพิ่มขึ้น | E20: √ | F20: กรมพัฒนาฝีมือแรงงานทำหน้าที่ เลขานุการของคณะกรรมการพัฒนาแรงงาน และประสานงานการฝึกอาชีพแห่งชาติ ซึ่งกำหนดให้มีคณะอนุกรรมการ รายอุตสาหกรรมเพื่อกำหนดนโยบาย และประสานการพัฒนาแรงงานรองรับอุตสาหกรรมสำคัญของประเทศ
B21: 040302 | C21: ความสามารถในการพัฒนาด้านเศรษฐกิจดิจิทัลของไทยดีขึ้น | E21: √ | F21: กรมพัฒนาฝีมือแรงงานทำหน้าที่ เลขานุการของคณะกรรมการพัฒนาแรงงาน และประสานงานการฝึกอาชีพแห่งชาติ ซึ่งกำหนดให้มีคณะอนุกรรมการ รายอุตสาหกรรมเพื่อกำหนดนโยบาย และประสานการพัฒนาแรงงานรองรับอุตสาหกรรมสำคัญของประเทศ
B22: 040401 | C22: ประเทศไทยเป็นศูนย์กลางการซ่อมบำรุงอากาศยานในภูมิภาคโดยเฉพาะอากาศยานรุ่นใหม่ | E22: √ | F22: กรมพัฒนาฝีมือแรงงานทำหน้าที่ เลขานุการของคณะกรรมการพัฒนาแรงงาน และประสานงานการฝึกอาชีพแห่งชาติ ซึ่งกำหนดให้มีคณะอนุกรรมการ รายอุตสาหกรรมเพื่อกำหนดนโยบาย และประสานการพัฒนาแรงงานรองรับอุตสาหกรรมสำคัญของประเทศ
B23: 040402 | C23: ประเทศไทยมีศักยภาพในการผลิตชิ้นส่วนอากาศยานสูงขึ้น (Tier) | E23: √ | F23: กรมพัฒนาฝีมือแรงงานทำหน้าที่ เลขานุการของคณะกรรมการพัฒนาแรงงาน และประสานงานการฝึกอาชีพแห่งชาติ ซึ่งกำหนดให้มีคณะอนุกรรมการ รายอุตสาหกรรมเพื่อกำหนดนโยบาย และประสานการพัฒนาแรงงานรองรับอุตสาหกรรมสำคัญของประเทศ
B24: 040501 | C24: อุตสาหกรรมความมั่นคงของประเทศมีการขยายตัวเพิ่มขึ้น
B25: 040502 | C25: การส่งออกของอุตสาหกรรมความมั่นคงของประเทศเพิ่มขึ้น
B26: 040601 | C26: แรงงานไทยมีประสิทธิภาพเพิ่มขึ้น | D26: √ | F26: กฎกระทรวงแบ่งส่วนราชการกรมพัฒนาฝีมือ แรงงาน กระทรวงแรงงาน พ.ศ. 2559 กำหนด ให้กรมมีภารกิจเกี่ยวกับการส่งเสริม และพัฒนาฝีมือแรงงานให้กำลังแรงงานมีฝีมือ ได้มาตรฐานในระดับสากล มีความรู้ ความสามารถในการประกอบอาชีพ สอดคล้องกับความต้องการของตลาดแรงงาน ทั้งในเชิงปริมาณและคุณภาพ รวมถึงกำหนด นโยบาย ยุทธศาสตร์ แผนงาน และแนวทาง ในการพัฒนากำลังแรงงานของประเทศ ตลอดจนประสานแผนการฝึกอาชีพ ของทุกหน่วยงานทั้งภาครัฐและภาคเอกชน
B27: 040602 | C27: ประเทศไทยมีความสามารถในการแข่งขันด้านดิจิทัล ในด้านความพร้อมในอนาคตดีขึ้น | E27: √ | F27: กรมพัฒนาฝีมือแรงงานทำหน้าที่ เลขานุการของคณะกรรมการพัฒนาแรงงาน และประสานงานการฝึกอาชีพแห่งชาติ ซึ่งกำหนดให้มีคณะอนุกรรมการ รายอุตสาหกรรมเพื่อกำหนดนโยบาย และประสานการพัฒนาแรงงานรองรับอุตสาหกรรมสำคัญของประเทศ

Sheet 5.ท่องเที่ยว
A1: Worksheet 1 : ความเกี่ยวข้องของหน่วยงานที่มีต่อการบรรลุเป้าหมายแผนแม่บทย่อย
A2: ส่วนที่ 1 : ข้อมูลหน่วยงาน
C3: =+รวม!C3 -> ชื่อหน่วยงาน กรมพัฒนาฝีมือแรงงาน
C4: =+รวม!C4 -> ชื่อกระทรวง แรงงาน
C5: =+รวม!C5 -> ผู้ประสานงาน นายณัฐพงศ์ ทิพย์สกุลปัญญา เบอร์ติดต่อ : 0 2245 4042 email : strategy.dsd@gmail.com
A7: ส่วนที่ 2 : ระดับความเกี่ยวข้องในการขับเคลื่อนเป้าหมายแผนแม่บทย่อย
A8: ให้เลือกเป้าหมายแผนแม่บทย่อยเฉพาะที่หน่วยงานของท่านมีส่วนเกี่ยวข้องในการขับเคลื่อนการดำเนินงานเพื่อบรรลุเป้าหมายตามที่กำหนด (เลือกได้มากกว่า 1 เป้าหมาย)
A9: โดยทำเครื่องหมาย √ ตามระดับความเกี่ยวข้องของหน่วยงาน พร้อมอธิบายที่มาของระดับความเกี่ยวข้องนั้น
A10: คำอธิบายระดับความเกี่ยวข้อง
B11: หลัก | C11: =+รวม!C11 -> มีความรับผิดชอบและภารกิจหลักในการทำให้เป้าหมายบรรลุโดยตรง อาทิ ดำเนินการตามกฎ ระเบียบ มติครม. คกก.ระดับชาติ ข้อสั่งการที่เกี่ยวข้อง
B12: สนับสนุน | C12: =+รวม!C12 -> ไม่มีหน้าที่ความรับผิดชอบหลักโดยตรง อาทิ เป็นหน่วยงานนโยบาย
F13: <คลิกเพื่อกลับไปหน้าหลัก>
A14: รหัส แผน | B14: รหัส เป้าย่อย | C14: แผนแม่บท /เป้าหมายแผนแม่บทย่อย | D14: ความเกี่ยวข้องของหน่วยงานในการขับเคลื่อนเป้าหมายแผนแม่บทย่อย
D15: ระดับความเกี่ยวข้อง | F15: คำอธิบายความเกี่ยวข้อง
D16: หลัก | E16: สนับสนุน
A17: 05 | C17: ท่องเที่ยว
B18: 050101 | C18: รายได้จากการท่องเที่ยวเชิงสร้างสรรค์และวัฒนธรรมเพิ่มขึ้น
B19: 050102 | C19: เมืองและชุมชนที่มีศักยภาพด้านการท่องเที่ยวเชิงสร้างสรรค์ และวัฒนธรรมเพิ่มขึ้น
B20: 050103 | C20: สินค้าท่องเที่ยวเชิงสร้างสรรค์และวัฒนธรรมได้รับ การขึ้นทะเบียนทรัพย์สินทางปัญญาเพิ่มขึ้น
B21: 050201 | C21: รายได้จากการท่องเที่ยวเชิงธุรกิจ เพิ่มขึ้น
B22: 050202 | C22: การเป็นจุดหมายปลายทางในการจัดการประชุมนานาชาติของไทย | E22: √ | F22: กฎกระทรวงแบ่งส่วนราชการกรมพัฒนาฝีมือ แรงงาน กระทรวงแรงงาน พ.ศ. 2559 กำหนด ให้กรมมีอำนาจหน้าที่เกี่ยวกับการจัดทำ และพัฒนามาตรฐานฝีมือแรงงาน การฝึก อบรมฝีมือแรงงาน และการทดสอบมาตรฐาน ฝีมือแรงงาน ซึ่งการจัดการประชุมนานาชาติ เป็นสาขาหนึ่งที่ได้กำหนดมาตรฐานฝีมือ แรงงานแห่งชาติไว้แล้ว
B23: 050301 | C23: รายได้จากการท่องเที่ยวเชิงสุขภาพ ความงาม และแพทย์แผนไทย เพิ่มขึ้น
B24: 050302 | C24: อันดับด้านรายได้การท่องเที่ยวเชิงสุขภาพของประเทศไทย
B25: 050303 | C25: สถานประกอบการด้านการท่องเที่ยวเชิงสุขภาพและบริการ ทางการแพทย์ได้รับมาตรฐานเพิ่มขึ้น | E25: √ | F25: กฎกระทรวงแบ่งส่วนราชการกรมพัฒนาฝีมือ แรงงาน กระทรวงแรงงาน พ.ศ. 2559 กำหนด ให้กรมมีอำนาจหน้าที่เกี่ยวกับการจัดทำ และพัฒนามาตรฐานฝีมือแรงงาน การฝึก อบรมฝีมือแรงงาน และการทดสอบมาตรฐาน ฝีมือแรงงาน ซึ่งการท่องเที่ยวเชิงสุขภาพ เป็นสาขาหนึ่งที่กรมดำเนินการ อีกทั้ง มีหน่วยงานภายในที่รับผิดชอบโดยเฉพาะ
B26: 050401 | C26: รายได้การท่องเที่ยวสำราญทางน้ำเพิ่มขึ้น
B27: 050402 | C27: การขยายตัวของท่าเรือท่องเที่ยวในประเทศไทยเพิ่มขึ้น
B28: 050501 | C28: ประเทศไทยเป็นจุดเชื่อมต่อการเดินทางของนักท่องเที่ยว ในภูมิภาคอาเซียน
B29: 050601 | C29: นักท่องเที่ยวมีความปลอดภัยในชีวิตและทรัพย์สินมากขึ้น
B30: 050602 | C30: โครงสร้างพื้นฐานเพื่อสนับสนุนการท่องเที่ยวมีคุณภาพ และมาตรฐานดีขึ้น
B31: 050603 | C31: การท่องเที่ยวอย่างมีความรับผิดชอบต่อสังคมและสิ่งแวดล้อม ดีขึ้น

Sheet 6.พื้นที่เมืองน่าอยู่
A1: Worksheet 1 : ความเกี่ยวข้องของหน่วยงานที่มีต่อการบรรลุเป้าหมายแผนแม่บทย่อย
A2: ส่วนที่ 1 : ข้อมูลหน่วยงาน
C3: =+รวม!C3 -> ชื่อหน่วยงาน กรมพัฒนาฝีมือแรงงาน
C4: =+รวม!C4 -> ชื่อกระทรวง แรงงาน
C5: =+รวม!C5 -> ผู้ประสานงาน นายณัฐพงศ์ ทิพย์สกุลปัญญา เบอร์ติดต่อ : 0 2245 4042 email : strategy.dsd@gmail.com
A7: ส่วนที่ 2 : ระดับความเกี่ยวข้องในการขับเคลื่อนเป้าหมายแผนแม่บทย่อย
A8: ให้เลือกเป้าหมายแผนแม่บทย่อยเฉพาะที่หน่วยงานของท่านมีส่วนเกี่ยวข้องในการขับเคลื่อนการดำเนินงานเพื่อบรรลุเป้าหมายตามที่กำหนด (เลือกได้มากกว่า 1 เป้าหมาย)
A9: โดยทำเครื่องหมาย √ ตามระดับความเกี่ยวข้องของหน่วยงาน พร้อมอธิบายที่มาของระดับความเกี่ยวข้องนั้น
A10: คำอธิบายระดับความเกี่ยวข้อง
B11: หลัก | C11: =+รวม!C11 -> มีความรับผิดชอบและภารกิจหลักในการทำให้เป้าหมายบรรลุโดยตรง อาทิ ดำเนินการตามกฎ ระเบียบ มติครม. คกก.ระดับชาติ ข้อสั่งการที่เกี่ยวข้อง
B12: สนับสนุน | C12: =+รวม!C12 -> ไม่มีหน้าที่ความรับผิดชอบหลักโดยตรง อาทิ เป็นหน่วยงานนโยบาย
F13: <คลิกเพื่อกลับไปหน้าหลัก>
A14: รหัส แผน | B14: รหัส เป้าย่อย | C14: แผนแม่บท /เป้าหมายแผนแม่บทย่อย | D14: ความเกี่ยวข้องของหน่วยงานในการขับเคลื่อนเป้าหมายแผนแม่บทย่อย
D15: ระดับความเกี่ยวข้อง | F15: คำอธิบายความเกี่ยวข้อง
D16: หลัก | E16: สนับสนุน
A17: 06 | C17: พื้นที่และเมืองน่าอยู่อัจฉริยะ
B18: 060101 | C18: เมืองในพื้นที่เป้าหมายที่ได้รับการพัฒนา เพื่อกระจาย ความเจริญและลดความเหลื่อมล้ำในทุกมิติ
B19: 060102 | C19: เมืองมีระบบจัดการสิ่งแวดล้อมและมลพิษที่มีประสิทธิภาพ ครอบคลุมและได้มาตรฐาน
B20: 060103 | C20: ความยั่งยืนทางภูมินิเวศ ภูมิสังคม และภูมิวัฒนธรรม

Sheet 7.โลจิสติกส์
A1: Worksheet 1 : ความเกี่ยวข้องของหน่วยงานที่มีต่อการบรรลุเป้าหมายแผนแม่บทย่อย
A2: ส่วนที่ 1 : ข้อมูลหน่วยงาน
C3: =+รวม!C3 -> ชื่อหน่วยงาน กรมพัฒนาฝีมือแรงงาน
C4: =+รวม!C4 -> ชื่อกระทรวง แรงงาน
C5: =+รวม!C5 -> ผู้ประสานงาน นายณัฐพงศ์ ทิพย์สกุลปัญญา เบอร์ติดต่อ : 0 2245 4042 email : strategy.dsd@gmail.com
A7: ส่วนที่ 2 : ระดับความเกี่ยวข้องในการขับเคลื่อนเป้าหมายแผนแม่บทย่อย
A8: ให้เลือกเป้าหมายแผนแม่บทย่อยเฉพาะที่หน่วยงานของท่านมีส่วนเกี่ยวข้องในการขับเคลื่อนการดำเนินงานเพื่อบรรลุเป้าหมายตามที่กำหนด (เลือกได้มากกว่า 1 เป้าหมาย)
A9: โดยทำเครื่องหมาย √ ตามระดับความเกี่ยวข้องของหน่วยงาน พร้อมอธิบายที่มาของระดับความเกี่ยวข้องนั้น
A10: คำอธิบายระดับความเกี่ยวข้อง
B11: หลัก | C11: =+รวม!C11 -> มีความรับผิดชอบและภารกิจหลักในการทำให้เป้าหมายบรรลุโดยตรง อาทิ ดำเนินการตามกฎ ระเบียบ มติครม. คกก.ระดับชาติ ข้อสั่งการที่เกี่ยวข้อง
B12: สนับสนุน | C12: =+รวม!C12 -> ไม่มีหน้าที่ความรับผิดชอบหลักโดยตรง อาทิ เป็นหน่วยงานนโยบาย
F13: <คลิกเพื่อกลับไปหน้าหลัก>
A14: รหัส แผน | B14: รหัส เป้าย่อย | C14: แผนแม่บท /เป้าหมายแผนแม่บทย่อย | D14: ความเกี่ยวข้องของหน่วยงานในการขับเคลื่อนเป้าหมายแผนแม่บทย่อย
D15: ระดับความเกี่ยวข้อง | F15: คำอธิบายความเกี่ยวข้อง
D16: หลัก | E16: สนับสนุน
A17: 07 | C17: โครงสร้างพื้นฐาน ระบบโลจิสติกส์ และดิจิทัล
B18: 070101 | C18: ต้นทุนโลจิสติกส์ของประเทศไทยต่อผลิตภัณฑ์มวลรวม ในประเทศลดลง
B19: 070102 | C19: ประสิทธิภาพด้านโลจิสติกส์ระหว่างประเทศของประเทศไทยดีขึ้น | E19: √ | F19: กฎกระทรวงแบ่งส่วนราชการกรมพัฒนาฝีมือ แรงงาน กระทรวงแรงงาน พ.ศ. 2559 กำหนด ให้กรมมีอำนาจหน้าที่เกี่ยวกับการจัดทำ และพัฒนามาตรฐานฝีมือแรงงาน การฝึก อบรมฝีมือแรงงาน และการทดสอบมาตรฐาน ฝีมือแรงงาน โลจิสติกส์เป็นสาขาหนึ่งที่กรม ดำเนินการ
B20: 070103 | C20: การขนส่งสินค้าทางรางเพิ่มขึ้น
B21: 070104 | C21: การเดินทางด้วยระบบขนส่งสาธารณะในเขตเมืองเพิ่มขึ้น
B22: 070105 | C22: ผู้เสียชีวิตจากอุบัติเหตุทางถนนลดลง
B23: 070201 | C23: การใช้ก๊าซธรรมชาติในการผลิตไฟฟ้าลดลง
B24: 070202 | C24: การใช้พลังงานทดแทนที่ผลิตภายในประเทศเพิ่มมากขึ้น
B25: 070203 | C25: ประสิทธิภาพการใช้พลังงานของประเทศเพิ่มขึ้น
B26: 070204 | C26: การปรับปรุงและพัฒนาระบบไฟฟ้าของประเทศให้มีประสิทธิภาพ ด้วยเทคโนโลยีระบบโครงข่ายสมาร์ทกริด
B27: 070301 | C27: ประชาชนมีความสามารถในการเข้าถึงอินเทอร์เน็ตมากขึ้น

Sheet 8.ผู้ประกอบการและวิสาหกิจ
A1: Worksheet 1 : ความเกี่ยวข้องของหน่วยงานที่มีต่อการบรรลุเป้าหมายแผนแม่บทย่อย
A2: ส่วนที่ 1 : ข้อมูลหน่วยงาน
C3: =+รวม!C3 -> ชื่อหน่วยงาน กรมพัฒนาฝีมือแรงงาน
C4: =+รวม!C4 -> ชื่อกระทรวง แรงงาน
C5: =+รวม!C5 -> ผู้ประสานงาน นายณัฐพงศ์ ทิพย์สกุลปัญญา เบอร์ติดต่อ : 0 2245 4042 email : strategy.dsd@gmail.com
A7: ส่วนที่ 2 : ระดับความเกี่ยวข้องในการขับเคลื่อนเป้าหมายแผนแม่บทย่อย
A8: ให้เลือกเป้าหมายแผนแม่บทย่อยเฉพาะที่หน่วยงานของท่านมีส่วนเกี่ยวข้องในการขับเคลื่อนการดำเนินงานเพื่อบรรลุเป้าหมายตามที่กำหนด (เลือกได้มากกว่า 1 เป้าหมาย)
A9: โดยทำเครื่องหมาย √ ตามระดับความเกี่ยวข้องของหน่วยงาน พร้อมอธิบายที่มาของระดับความเกี่ยวข้องนั้น
A10: คำอธิบายระดับความเกี่ยวข้อง
B11: หลัก | C11: =+รวม!C11 -> มีความรับผิดชอบและภารกิจหลักในการทำให้เป้าหมายบรรลุโดยตรง อาทิ ดำเนินการตามกฎ ระเบียบ มติครม. คกก.ระดับชาติ ข้อสั่งการที่เกี่ยวข้อง
B12: สนับสนุน | C12: =+รวม!C12 -> ไม่มีหน้าที่ความรับผิดชอบหลักโดยตรง อาทิ เป็นหน่วยงานนโยบาย
F13: <คลิกเพื่อกลับไปหน้าหลัก>
A14: รหัส แผน | B14: รหัส เป้าย่อย | C14: แผนแม่บท /เป้าหมายแผนแม่บทย่อย | D14: ความเกี่ยวข้องของหน่วยงานในการขับเคลื่อนเป้าหมายแผนแม่บทย่อย
D15: ระดับความเกี่ยวข้อง | F15: คำอธิบายความเกี่ยวข้อง
D16: หลัก | E16: สนับสนุน
A17: 08 | C17: ผู้ประกอบการและวิสาหกิจขนาดกลางและขนาดย่อมยุคใหม่
B18: 080101 | C18: การขยายตัวของวิสาหกิจเริ่มต้นในประเทศไทยเพิ่มขึ้น
B19: 080102 | C19: ความสามารถในการแข่งขันด้านการใช้เครื่องมือและเทคโนโลยีดิจิทัลดีขึ้น | E19: √ | F19: กฎกระทรวงแบ่งส่วนราชการกรมพัฒนาฝีมือ แรงงาน กระทรวงแรงงาน พ.ศ. 2559 กำหนด ให้กรมมีภารกิจเกี่ยวกับการส่งเสริม และพัฒนาศักยภาพผู้ประกอบกิจการ ให้สามารถแข่งขันได้ในตลาดโลก ด้วยการพัฒนาประสิทธิภาพการผลิต ของผู้ประกอบกิจการ
B20: 080201 | C20: สินเชื่อธุรกิจรายใหม่ที่ไม่ใช่รายใหญ่เฉลี่ยต่อปีเพิ่มขึ้น
B21: 080202 | C21: มูลค่าการระดมทุนผ่านตลาดทุนของกิจการที่เริ่มตั้งต้นและวิสาหกิจ ขนาดกลางและขนาดย่อมเพิ่มขึ้น
B22: 080301 | C22: มูลค่าพาณิชย์อิเล็กทรอนิกส์ของประเทศเพิ่มขึ้น
B23: 080302 | C23: ความสามารถในการแข่งขันด้านการค้าระหว่างประเทศของประเทศไทยดีขึ้น
B24: 080303 | C24: การขยายตัวการส่งออกของวิสาหกิจขนาดกลางและขนาดย่อมเพิ่มขึ้น
B25: 080401 | C25: อันดับนโยบายของภาครัฐที่มีต่อวิสาหกิจและผู้ประกอบการด้านการสนับสนุนและความสอดคล้องของนโยบายดีขึ้น

Sheet 9.เศรษฐกิจพิเศษ
A1: Worksheet 1 : ความเกี่ยวข้องของหน่วยงานที่มีต่อการบรรลุเป้าหมายแผนแม่บทย่อย
A2: ส่วนที่ 1 : ข้อมูลหน่วยงาน
C3: =+รวม!C3 -> ชื่อหน่วยงาน กรมพัฒนาฝีมือแรงงาน
C4: =+รวม!C4 -> ชื่อกระทรวง แรงงาน
C5: =+รวม!C5 -> ผู้ประสานงาน นายณัฐพงศ์ ทิพย์สกุลปัญญา เบอร์ติดต่อ : 0 2245 4042 email : strategy.dsd@gmail.com
A7: ส่วนที่ 2 : ระดับความเกี่ยวข้องในการขับเคลื่อนเป้าหมายแผนแม่บทย่อย
A8: ให้เลือกเป้าหมายแผนแม่บทย่อยเฉพาะที่หน่วยงานของท่านมีส่วนเกี่ยวข้องในการขับเคลื่อนการดำเนินงานเพื่อบรรลุเป้าหมายตามที่กำหนด (เลือกได้มากกว่า 1 เป้าหมาย)
A9: โดยทำเครื่องหมาย √ ตามระดับความเกี่ยวข้องของหน่วยงาน พร้อมอธิบายที่มาของระดับความเกี่ยวข้องนั้น
A10: คำอธิบายระดับความเกี่ยวข้อง
B11: หลัก | C11: =+รวม!C11 -> มีความรับผิดชอบและภารกิจหลักในการทำให้เป้าหมายบรรลุโดยตรง อาทิ ดำเนินการตามกฎ ระเบียบ มติครม. คกก.ระดับชาติ ข้อสั่งการที่เกี่ยวข้อง
B12: สนับสนุน | C12: =+รวม!C12 -> ไม่มีหน้าที่ความรับผิดชอบหลักโดยตรง อาทิ เป็นหน่วยงานนโยบาย
F13: <คลิกเพื่อกลับไปหน้าหลัก>
A14: รหัส แผน | B14: รหัส เป้าย่อย | C14: แผนแม่บท /เป้าหมายแผนแม่บทย่อย | D14: ความเกี่ยวข้องของหน่วยงานในการขับเคลื่อนเป้าหมายแผนแม่บทย่อย
D15: ระดับความเกี่ยวข้อง | F15: คำอธิบายความเกี่ยวข้อง
D16: หลัก | E16: สนับสนุน
A17: 09 | C17: เขตเศรษฐกิจพิเศษ
B18: 090101 | C18: การขยายตัวของผลิตภัณฑ์มวลรวมของพื้นที่เขตพัฒนาพิเศษภาคตะวันออกเพิ่มขึ้น | E18: √ | F18: กฎกระทรวงแบ่งส่วนราชการกรมพัฒนาฝีมือ แรงงาน กระทรวงแรงงาน พ.ศ. 2559 กำหนด ให้กรมมีภารกิจเกี่ยวกับการส่งเสริมและพัฒนาศักยภาพแรงงานในสอดคล้องกับความต้องการ ของตลาดแรงงาน ซึ่งครอบคลุมพื้นที่เขตพัฒนาพิเศษภาคตะวันออกด้วย
B19: 090102 | C19: การลงทุนในเขตพัฒนาพิเศษภาคตะวันออก
B20: 090201 | C20: การขยายตัวของผลิตภัณฑ์มวลรวมของพื้นที่ระเบียงเศรษฐกิจภาคใต้เพิ่มขึ้น | E20: √ | F20: กฎกระทรวงแบ่งส่วนราชการกรมพัฒนาฝีมือ แรงงาน กระทรวงแรงงาน พ.ศ. 2559 กำหนด ให้กรมมีภารกิจเกี่ยวกับการส่งเสริมและพัฒนาศักยภาพแรงงานในสอดคล้องกับความต้องการ ของตลาดแรงงาน ซึ่งครอบคลุมพื้นที่ระเบียงเศรษฐกิจภาคใต้ด้วย
B21: 090202 | C21: การลงทุนในพื้นที่ระเบียงเศรษฐกิจภาคใต้เพิ่มขึ้น
B22: 090203 | C22: เมืองในพื้นที่ระเบียงเศรษฐกิจภาคใต้ที่ได้รับการพัฒนา ให้เป็นเมืองน่าอยู่มากขึ้น
B23: 090301 | C23: การขยายตัวของผลิตภัณฑ์มวลรวมของพื้นที่เขตพัฒนาเศรษฐกิจพิเศษชายแดนเพิ่มขึ้น | E23: √ | F23: กฎกระทรวงแบ่งส่วนราชการกรมพัฒนาฝีมือ แรงงาน กระทรวงแรงงาน พ.ศ. 2559 กำหนด ให้กรมมีภารกิจเกี่ยวกับการส่งเสริมและพัฒนาศักยภาพแรงงานในสอดคล้องกับความต้องการ ของตลาดแรงงาน ซึ่งครอบคลุมพื้นที่เขตพัฒนาเศรษฐกิจพิเศษชายแดนด้วย
B24: 090302 | C24: การลงทุนในเขตพัฒนาเศรษฐกิจพิเศษชายแดนเพิ่มขึ้น
B25: 090303 | C25: เมืองในพื้นที่เขตพัฒนาเศรษฐกิจพิเศษชายแดนที่ได้รับ การพัฒนาให้เป็นเมืองน่าอยู่มากขึ้น

Sheet 10.ปรับเปลี่ยนค่านิยม
A1: Worksheet 1 : ความเกี่ยวข้องของหน่วยงานที่มีต่อการบรรลุเป้าหมายแผนแม่บทย่อย
A2: ส่วนที่ 1 : ข้อมูลหน่วยงาน
C3: =+รวม!C3 -> ชื่อหน่วยงาน กรมพัฒนาฝีมือแรงงาน
C4: =+รวม!C4 -> ชื่อกระทรวง แรงงาน
C5: =+รวม!C5 -> ผู้ประสานงาน นายณัฐพงศ์ ทิพย์สกุลปัญญา เบอร์ติดต่อ : 0 2245 4042 email : strategy.dsd@gmail.com
A7: ส่วนที่ 2 : ระดับความเกี่ยวข้องในการขับเคลื่อนเป้าหมายแผนแม่บทย่อย
A8: ให้เลือกเป้าหมายแผนแม่บทย่อยเฉพาะที่หน่วยงานของท่านมีส่วนเกี่ยวข้องในการขับเคลื่อนการดำเนินงานเพื่อบรรลุเป้าหมายตามที่กำหนด (เลือกได้มากกว่า 1 เป้าหมาย)
A9: โดยทำเครื่องหมาย √ ตามระดับความเกี่ยวข้องของหน่วยงาน พร้อมอธิบายที่มาของระดับความเกี่ยวข้องนั้น
A10: คำอธิบายระดับความเกี่ยวข้อง
B11: หลัก | C11: =+รวม!C11 -> มีความรับผิดชอบและภารกิจหลักในการทำให้เป้าหมายบรรลุโดยตรง อาทิ ดำเนินการตามกฎ ระเบียบ มติครม. คกก.ระดับชาติ ข้อสั่งการที่เกี่ยวข้อง
B12: สนับสนุน | C12: =+รวม!C12 -> ไม่มีหน้าที่ความรับผิดชอบหลักโดยตรง อาทิ เป็นหน่วยงานนโยบาย
F13: <คลิกเพื่อกลับไปหน้าหลัก>
A14: รหัส แผน | B14: รหัส เป้าย่อย | C14: แผนแม่บท /เป้าหมายแผนแม่บทย่อย | D14: ความเกี่ยวข้องของหน่วยงานในการขับเคลื่อนเป้าหมายแผนแม่บทย่อย
D15: ระดับความเกี่ยวข้อง | F15: คำอธิบายความเกี่ยวข้อง
D16: หลัก | E16: สนับสนุน
A17: 10 | C17: การปรับเปลี่ยนค่านิยมและวัฒนธรรม
B18: 100101 | C18: คนไทยเป็นมนุษย์ที่สมบูรณ์ มีความพร้อมในทุกมิติ ตามมาตรฐานและสมดุลทั้งด้านสติปัญญาคุณธรรมจริยธรรม มีจิตวิญญาณที่ดี เข้าใจในการปฏิบัติตนปรับตัวเข้ากับ สภาพแวดล้อมดีขึ้น
B19: 100201 | C19: ภาคธุรกิจมีบทบาทสำคัญในการลงทุนเพื่อสังคมเพิ่มขึ้น
B20: 103001 | C20: สื่อในสังคมไทยมีความเข้มแข็ง สามารถสร้างภูมิคุ้มกันให้แก่ประชาชนในสังคม ทำให้เกิดสังคมแห่งการเรียนรู้ปลอดภัย และสร้างสรรค์เพิ่มขึ้น

Sheet 11.ศักยภาพคน
A1: Worksheet 1 : ความเกี่ยวข้องของหน่วยงานที่มีต่อการบรรลุเป้าหมายแผนแม่บทย่อย
A2: ส่วนที่ 1 : ข้อมูลหน่วยงาน
C3: =+รวม!C3 -> ชื่อหน่วยงาน กรมพัฒนาฝีมือแรงงาน
C4: =+รวม!C4 -> ชื่อกระทรวง แรงงาน
C5: =+รวม!C5 -> ผู้ประสานงาน นายณัฐพงศ์ ทิพย์สกุลปัญญา เบอร์ติดต่อ : 0 2245 4042 email : strategy.dsd@gmail.com
A7: ส่วนที่ 2 : ระดับความเกี่ยวข้องในการขับเคลื่อนเป้าหมายแผนแม่บทย่อย
A8: ให้เลือกเป้าหมายแผนแม่บทย่อยเฉพาะที่หน่วยงานของท่านมีส่วนเกี่ยวข้องในการขับเคลื่อนการดำเนินงานเพื่อบรรลุเป้าหมายตามที่กำหนด (เลือกได้มากกว่า 1 เป้าหมาย)
A9: โดยทำเครื่องหมาย √ ตามระดับความเกี่ยวข้องของหน่วยงาน พร้อมอธิบายที่มาของระดับความเกี่ยวข้องนั้น
A10: คำอธิบายระดับความเกี่ยวข้อง
B11: หลัก | C11: =+รวม!C11 -> มีความรับผิดชอบและภารกิจหลักในการทำให้เป้าหมายบรรลุโดยตรง อาทิ ดำเนินการตามกฎ ระเบียบ มติครม. คกก.ระดับชาติ ข้อสั่งการที่เกี่ยวข้อง
B12: สนับสนุน | C12: =+รวม!C12 -> ไม่มีหน้าที่ความรับผิดชอบหลักโดยตรง อาทิ เป็นหน่วยงานนโยบาย
F13: <คลิกเพื่อกลับไปหน้าหลัก>
A14: รหัส แผน | B14: รหัส เป้าย่อย | C14: แผนแม่บท /เป้าหมายแผนแม่บทย่อย | D14: ความเกี่ยวข้องของหน่วยงานในการขับเคลื่อนเป้าหมายแผนแม่บทย่อย
D15: ระดับความเกี่ยวข้อง | F15: คำอธิบายความเกี่ยวข้อง
D16: หลัก | E16: สนับสนุน
A17: 11 | C17: ศักยภาพคนตลอดช่วงชีวิต
B18: 110101 | C18: ครอบครัวไทยมีความเข้มแข็ง และมีจิตสำนึกความเป็นไทย ดำรงชีวิต แบบพอเพียงมากขึ้น
B19: 110201 | C19: เด็กเกิดอย่างมีคุณภาพ มีพัฒนาการสมวัย สามารถเข้าถึงบริการที่มีคุณภาพมากขึ้น
B20: 110301 | C20: วัยเรียน / วัยรุ่น มีความรู้และทักษะในศตวรรษที่ 21 ครบถ้วน รู้จักคิด วิเคราะห์ รักการเรียนรู้ มีสำนึกพลเมือง มีความกล้าหาญทางจริยธรรม มีความสามารถในการแก้ปัญหา ปรับตัว สื่อสาร และทำงานร่วมกับผู้อื่นได้อย่างมีประสิทธิผลตลอดชีวิตดีขึ้น | E20: √ | F20: กฎกระทรวงแบ่งส่วนราชการกรมพัฒนาฝีมือ แรงงาน กระทรวงแรงงาน พ.ศ. 2559 กำหนด ให้กรมมีภารกิจเกี่ยวกับการส่งเสริมและพัฒนากำลังแรงงาน ซึ่งรวมถึงแรงงานตอนต้น ให้มีฝีมือ มีความรู้ความสามารถ สอดคล้องกับ ความต้องการของตลาดแรงงาน รวมถึง จัดงานแข่งขันฝีมือแรงงานทั้งในประเทศ และต่างประเทศ เพื่อสร้างเสริมทักษะฝีมือ การประกอบอาชีพให้แก่เยาวชน
B21: 110401 | C21: แรงงานมีศักยภาพในการเพิ่มผลผลิต มีทักษะอาชีพสูง ตระหนัก ในความสำคัญที่จะพัฒนาตนเองให้เต็มศักยภาพ สามารถปรับตัวและเรียนรู้ สิ่งใหม่ตามพลวัตของโครงสร้างอาชีพและความต้องการของตลาดแรงงานเพิ่มขึ้น | D21: √ | F21: กฎกระทรวงแบ่งส่วนราชการกรมพัฒนาฝีมือ แรงงาน กระทรวงแรงงาน พ.ศ. 2559 กำหนด ให้กรมมีภารกิจเกี่ยวกับการส่งเสริม และพัฒนากำลังแรงงานให้มีฝีมือได้มาตรฐาน มีความรู้ความสามารถในการประกอบอาชีพ สอดคล้องกับความต้องการของตลาดแรงงาน รวมถึงควบคุมการประกอบอาชีพที่อาจเป็นอันตรายต่อสาธารณะหรือต้องใช้ผู้มีความรู้ ความสามารถ
B22: 110402 | C22: มีคนไทยที่มีความสามารถและผู้เชี่ยวชาญต่างประเทศ เข้ามาทำวิทยาศาสตร์ เทคโนโลยี และนวัตกรรม ในอุตสาหกรรมเป้าหมายเพิ่มขึ้น | E22: √ | F22: กฎกระทรวงแบ่งส่วนราชการกรมพัฒนาฝีมือ แรงงาน กระทรวงแรงงาน พ.ศ. 2559 กำหนด ให้กรมมีภารกิจเกี่ยวกับการส่งเสริม และพัฒนากำลังแรงงานให้มีฝีมือได้มาตรฐาน มีความรู้ความสามารถในการประกอบอาชีพ สอดคล้องกับความต้องการของตลาดแรงงาน ซึ่งครอบคลุมทักษะด้านเทคโนโลยีด้วย
B23: 110501 | C23: ผู้สูงอายุมีคุณภาพชีวิตที่ดี มีความมั่นคงในชีวิต มีทักษะการดำรงชีวิต เรียนรู้พัฒนาตลอดชีวิต มีส่วนร่วมในกิจกรรมสังคม สร้างมูลค่าเพิ่มให้แก่สังคมเพิ่มขึ้น | E23: √ | F23: กฎกระทรวงแบ่งส่วนราชการกรมพัฒนาฝีมือ แรงงาน กระทรวงแรงงาน พ.ศ. 2559 กำหนด ให้กรมมีภารกิจเกี่ยวกับการส่งเสริม และพัฒนากำลังแรงงาน ซึ่งครอบคลุม ผู้สูงอายุที่สามารถทำงานได้ เพื่อสร้างเสริม การมีงานทำ การมีรายได้ และการพึ่งพาตนเอง

Sheet 12.พัฒนาการเรียนรู้
A1: Worksheet 1 : ความเกี่ยวข้องของหน่วยงานที่มีต่อการบรรลุเป้าหมายแผนแม่บทย่อย
A2: ส่วนที่ 1 : ข้อมูลหน่วยงาน
C3: =+รวม!C3 -> ชื่อหน่วยงาน กรมพัฒนาฝีมือแรงงาน
C4: =+รวม!C4 -> ชื่อกระทรวง แรงงาน
C5: =+รวม!C5 -> ผู้ประสานงาน นายณัฐพงศ์ ทิพย์สกุลปัญญา เบอร์ติดต่อ : 0 2245 4042 email : strategy.dsd@gmail.com
A7: ส่วนที่ 2 : ระดับความเกี่ยวข้องในการขับเคลื่อนเป้าหมายแผนแม่บทย่อย
A8: ให้เลือกเป้าหมายแผนแม่บทย่อยเฉพาะที่หน่วยงานของท่านมีส่วนเกี่ยวข้องในการขับเคลื่อนการดำเนินงานเพื่อบรรลุเป้าหมายตามที่กำหนด (เลือกได้มากกว่า 1 เป้าหมาย)
A9: โดยทำเครื่องหมาย √ ตามระดับความเกี่ยวข้องของหน่วยงาน พร้อมอธิบายที่มาของระดับความเกี่ยวข้องนั้น
A10: คำอธิบายระดับความเกี่ยวข้อง
B11: หลัก | C11: =+รวม!C11 -> มีความรับผิดชอบและภารกิจหลักในการทำให้เป้าหมายบรรลุโดยตรง อาทิ ดำเนินการตามกฎ ระเบียบ มติครม. คกก.ระดับชาติ ข้อสั่งการที่เกี่ยวข้อง
B12: สนับสนุน | C12: =+รวม!C12 -> ไม่มีหน้าที่ความรับผิดชอบหลักโดยตรง อาทิ เป็นหน่วยงานนโยบาย
F13: <คลิกเพื่อกลับไปหน้าหลัก>
A14: รหัส แผน | B14: รหัส เป้าย่อย | C14: แผนแม่บท /เป้าหมายแผนแม่บทย่อย | D14: ความเกี่ยวข้องของหน่วยงานในการขับเคลื่อนเป้าหมายแผนแม่บทย่อย
D15: ระดับความเกี่ยวข้อง | F15: คำอธิบายความเกี่ยวข้อง
D16: หลัก | E16: สนับสนุน
A17: 12 | C17: การพัฒนาการเรียนรู้
B18: 120101 | C18: คนไทยได้รับการศึกษาที่มีคุณภาพตามมาตรฐาน มีทักษะ การเรียนรู้ และทักษะที่จำเป็นของโลกศตวรรษที่ 21 สามารถเข้าถึงการเรียนรู้อย่างต่อเนื่องตลอดชีวิตดีขึ้น
B19: 120201 | C19: ประเทศไทยมีระบบข้อมูลเพื่อการส่งเสริมการพัฒนา ศักยภาพตามพหุปัญญา เพื่อประโยชน์ในการพัฒนา และการส่งต่อการพัฒนาให้เต็มตามศักยภาพเพิ่มขึ้น

Sheet 13.มีสุขภาวะที่ดี
A1: Worksheet 1 : ความเกี่ยวข้องของหน่วยงานที่มีต่อการบรรลุเป้าหมายแผนแม่บทย่อย
A2: ส่วนที่ 1 : ข้อมูลหน่วยงาน
C3: =+รวม!C3 -> ชื่อหน่วยงาน กรมพัฒนาฝีมือแรงงาน
C4: =+รวม!C4 -> ชื่อกระทรวง แรงงาน
C5: =+รวม!C5 -> ผู้ประสานงาน นายณัฐพงศ์ ทิพย์สกุลปัญญา เบอร์ติดต่อ : 0 2245 4042 email : strategy.dsd@gmail.com
A7: ส่วนที่ 2 : ระดับความเกี่ยวข้องในการขับเคลื่อนเป้าหมายแผนแม่บทย่อย
A8: ให้เลือกเป้าหมายแผนแม่บทย่อยเฉพาะที่หน่วยงานของท่านมีส่วนเกี่ยวข้องในการขับเคลื่อนการดำเนินงานเพื่อบรรลุเป้าหมายตามที่กำหนด (เลือกได้มากกว่า 1 เป้าหมาย)
A9: โดยทำเครื่องหมาย √ ตามระดับความเกี่ยวข้องของหน่วยงาน พร้อมอธิบายที่มาของระดับความเกี่ยวข้องนั้น
A10: คำอธิบายระดับความเกี่ยวข้อง
B11: หลัก | C11: =+รวม!C11 -> มีความรับผิดชอบและภารกิจหลักในการทำให้เป้าหมายบรรลุโดยตรง อาทิ ดำเนินการตามกฎ ระเบียบ มติครม. คกก.ระดับชาติ ข้อสั่งการที่เกี่ยวข้อง
B12: สนับสนุน | C12: =+รวม!C12 -> ไม่มีหน้าที่ความรับผิดชอบหลักโดยตรง อาทิ เป็นหน่วยงานนโยบาย
F13: <คลิกเพื่อกลับไปหน้าหลัก>
A14: รหัส แผน | B14: รหัส เป้าย่อย | C14: แผนแม่บท /เป้าหมายแผนแม่บทย่อย | D14: ความเกี่ยวข้องของหน่วยงานในการขับเคลื่อนเป้าหมายแผนแม่บทย่อย
D15: ระดับความเกี่ยวข้อง | F15: คำอธิบายความเกี่ยวข้อง
D16: หลัก | E16: สนับสนุน
A17: 13 | C17: การเสริมสร้างให้คนไทยมีสุขภาวะที่ดี
B18: 130101 | C18: ประชาชนมีความรอบรู้ด้านสุขภาวะสามารถดูแลสุขภาพ มีพฤติกรรมสุขภาพที่พึงประสงค์ และสามารถป้องกันและลดโรคที่สามารถป้องกันได้ เกิดเป็นสังคมบ่มเพาะจิตสำนึกการมีสุขภาพดีสูงขึ้น
B19: 130201 | C19: จำนวนชุมชนสุขภาพดีเพิ่มขึ้น
B20: 130301 | C20: มีระบบสาธารณสุขที่ได้มาตรฐานที่ประชากรทุกระดับเข้าถึงได้ดีขึ้น
B21: 130401 | C21: การเข้าถึงบริการสาธารณสุขมีความเหลื่อมล้ำลดลง
B22: 130501 | C22: ประชาชนมีความรู้สุขภาพ เรื่องโรคอุบัติใหม่และโรคอุบัติซ้ำที่เกิดจาก การเปลี่ยนแปลงภูมิอากาศมากขึ้น

Sheet 14.ศักยภาพกีฬา
A1: Worksheet 1 : ความเกี่ยวข้องของหน่วยงานที่มีต่อการบรรลุเป้าหมายแผนแม่บทย่อย
A2: ส่วนที่ 1 : ข้อมูลหน่วยงาน
C3: =+รวม!C3 -> ชื่อหน่วยงาน กรมพัฒนาฝีมือแรงงาน
C4: =+รวม!C4 -> ชื่อกระทรวง แรงงาน
C5: =+รวม!C5 -> ผู้ประสานงาน นายณัฐพงศ์ ทิพย์สกุลปัญญา เบอร์ติดต่อ : 0 2245 4042 email : strategy.dsd@gmail.com
A7: ส่วนที่ 2 : ระดับความเกี่ยวข้องในการขับเคลื่อนเป้าหมายแผนแม่บทย่อย
A8: ให้เลือกเป้าหมายแผนแม่บทย่อยเฉพาะที่หน่วยงานของท่านมีส่วนเกี่ยวข้องในการขับเคลื่อนการดำเนินงานเพื่อบรรลุเป้าหมายตามที่กำหนด (เลือกได้มากกว่า 1 เป้าหมาย)
A9: โดยทำเครื่องหมาย √ ตามระดับความเกี่ยวข้องของหน่วยงาน พร้อมอธิบายที่มาของระดับความเกี่ยวข้องนั้น
A10: คำอธิบายระดับความเกี่ยวข้อง
B11: หลัก | C11: =+รวม!C11 -> มีความรับผิดชอบและภารกิจหลักในการทำให้เป้าหมายบรรลุโดยตรง อาทิ ดำเนินการตามกฎ ระเบียบ มติครม. คกก.ระดับชาติ ข้อสั่งการที่เกี่ยวข้อง
B12: สนับสนุน | C12: =+รวม!C12 -> ไม่มีหน้าที่ความรับผิดชอบหลักโดยตรง อาทิ เป็นหน่วยงานนโยบาย
F13: <คลิกเพื่อกลับไปหน้าหลัก>
A14: รหัส แผน | B14: รหัส เป้าย่อย | C14: แผนแม่บท /เป้าหมายแผนแม่บทย่อย | D14: ความเกี่ยวข้องของหน่วยงานในการขับเคลื่อนเป้าหมายแผนแม่บทย่อย
D15: ระดับความเกี่ยวข้อง | F15: คำอธิบายความเกี่ยวข้อง
D16: หลัก | E16: สนับสนุน
A17: 14 | C17: ศักยภาพการกีฬา
B18: 140101 | C18: คนไทยออกกำลังกาย เล่นกีฬา และนันทนาการอย่างสม่ำเสมอเพิ่มขึ้น
B19: 140201 | C19: นักกีฬาไทยประสบความสำเร็จในการแข่งขันระดับนานาชาติ
B20: 140301 | C20: บุคลากรด้านการกีฬาและนันทนาการมีคุณภาพและมาตรฐานเพิ่มขึ้น

Sheet 15.พลังทางสังคม
A1: Worksheet 1 : ความเกี่ยวข้องของหน่วยงานที่มีต่อการบรรลุเป้าหมายแผนแม่บทย่อย
A2: ส่วนที่ 1 : ข้อมูลหน่วยงาน
C3: =+รวม!C3 -> ชื่อหน่วยงาน กรมพัฒนาฝีมือแรงงาน
C4: =+รวม!C4 -> ชื่อกระทรวง แรงงาน
C5: =+รวม!C5 -> ผู้ประสานงาน นายณัฐพงศ์ ทิพย์สกุลปัญญา เบอร์ติดต่อ : 0 2245 4042 email : strategy.dsd@gmail.com
A7: ส่วนที่ 2 : ระดับความเกี่ยวข้องในการขับเคลื่อนเป้าหมายแผนแม่บทย่อย
A8: ให้เลือกเป้าหมายแผนแม่บทย่อยเฉพาะที่หน่วยงานของท่านมีส่วนเกี่ยวข้องในการขับเคลื่อนการดำเนินงานเพื่อบรรลุเป้าหมายตามที่กำหนด (เลือกได้มากกว่า 1 เป้าหมาย)
A9: โดยทำเครื่องหมาย √ ตามระดับความเกี่ยวข้องของหน่วยงาน พร้อมอธิบายที่มาของระดับความเกี่ยวข้องนั้น
A10: คำอธิบายระดับความเกี่ยวข้อง
B11: หลัก | C11: =+รวม!C11 -> มีความรับผิดชอบและภารกิจหลักในการทำให้เป้าหมายบรรลุโดยตรง อาทิ ดำเนินการตามกฎ ระเบียบ มติครม. คกก.ระดับชาติ ข้อสั่งการที่เกี่ยวข้อง
B12: สนับสนุน | C12: =+รวม!C12 -> ไม่มีหน้าที่ความรับผิดชอบหลักโดยตรง อาทิ เป็นหน่วยงานนโยบาย
F13: <คลิกเพื่อกลับไปหน้าหลัก>
A14: รหัส แผน | B14: รหัส เป้าย่อย | C14: แผนแม่บท /เป้าหมายแผนแม่บทย่อย | D14: ความเกี่ยวข้องของหน่วยงานในการขับเคลื่อนเป้าหมายแผนแม่บทย่อย
D15: ระดับความเกี่ยวข้อง | F15: คำอธิบายความเกี่ยวข้อง
D16: หลัก | E16: สนับสนุน
A17: 15 | C17: พลังทางสังคม
B18: 150101 | C18: ภาคีการพัฒนามีบทบาทในการพัฒนาสังคมมากขึ้น อย่างต่อเนื่อง
B19: 150201 | C19: ประชากรไทยมีการเตรียมการก่อนยามสูงอายุเพื่อให้สูงวัย อย่างมีคุณภาพเพิ่มขึ้น
B20: 150202 | C20: ผู้สูงอายุมีความเป็นอยู่ที่ดีขึ้นอย่างต่อเนื่อง

Sheet 16.เศรษฐกิจฐานราก
A1: Worksheet 1 : ความเกี่ยวข้องของหน่วยงานที่มีต่อการบรรลุเป้าหมายแผนแม่บทย่อย
A2: ส่วนที่ 1 : ข้อมูลหน่วยงาน
C3: =+รวม!C3 -> ชื่อหน่วยงาน กรมพัฒนาฝีมือแรงงาน
C4: =+รวม!C4 -> ชื่อกระทรวง แรงงาน
C5: =+รวม!C5 -> ผู้ประสานงาน นายณัฐพงศ์ ทิพย์สกุลปัญญา เบอร์ติดต่อ : 0 2245 4042 email : strategy.dsd@gmail.com
A7: ส่วนที่ 2 : ระดับความเกี่ยวข้องในการขับเคลื่อนเป้าหมายแผนแม่บทย่อย
A8: ให้เลือกเป้าหมายแผนแม่บทย่อยเฉพาะที่หน่วยงานของท่านมีส่วนเกี่ยวข้องในการขับเคลื่อนการดำเนินงานเพื่อบรรลุเป้าหมายตามที่กำหนด (เลือกได้มากกว่า 1 เป้าหมาย)
A9: โดยทำเครื่องหมาย √ ตามระดับความเกี่ยวข้องของหน่วยงาน พร้อมอธิบายที่มาของระดับความเกี่ยวข้องนั้น
A10: คำอธิบายระดับความเกี่ยวข้อง
B11: หลัก | C11: =+รวม!C11 -> มีความรับผิดชอบและภารกิจหลักในการทำให้เป้าหมายบรรลุโดยตรง อาทิ ดำเนินการตามกฎ ระเบียบ มติครม. คกก.ระดับชาติ ข้อสั่งการที่เกี่ยวข้อง
B12: สนับสนุน | C12: =+รวม!C12 -> ไม่มีหน้าที่ความรับผิดชอบหลักโดยตรง อาทิ เป็นหน่วยงานนโยบาย
F13: <คลิกเพื่อกลับไปหน้าหลัก>
A14: รหัส แผน | B14: รหัส เป้าย่อย | C14: แผนแม่บท /เป้าหมายแผนแม่บทย่อย | D14: ความเกี่ยวข้องของหน่วยงานในการขับเคลื่อนเป้าหมายแผนแม่บทย่อย
D15: ระดับความเกี่ยวข้อง | F15: คำอธิบายความเกี่ยวข้อง
D16: หลัก | E16: สนับสนุน
A17: 16 | C17: เศรษฐกิจฐานราก
B18: 160101 | C18: ศักยภาพและขีดความสามารถของเศรษฐกิจฐานรากเพิ่มขึ้น
B19: 160201 | C19: ผู้ประกอบการเศรษฐกิจฐานรากมีรายได้เพิ่มขึ้นอย่างต่อเนื่อง | E19: √ | F19: กฎกระทรวงแบ่งส่วนราชการกรมพัฒนาฝีมือ แรงงาน กระทรวงแรงงาน พ.ศ. 2559 กำหนด ให้กรมพัฒนาประสิทธิภาพ ของผู้ประกอบกิจการ ซึ่งครอบคลุมวิสาหกิจ ชุมชน สหกรณ์ และวิสาหกิจเพื่อสังคม ให้สามารถแข่งขันได้
B20: 160202 | C20: กลุ่มประชากรรายได้ต่ำสุดร้อยละ 40 มีความสามารถ ในการบริหารจัดการหนี้สินได้มีประสิทธิภาพเพิ่มขึ้น อย่างต่อเนื่อง

Sheet 17.เสมอภาคทางสังคม
A1: Worksheet 1 : ความเกี่ยวข้องของหน่วยงานที่มีต่อการบรรลุเป้าหมายแผนแม่บทย่อย
A2: ส่วนที่ 1 : ข้อมูลหน่วยงาน
C3: =+รวม!C3 -> ชื่อหน่วยงาน กรมพัฒนาฝีมือแรงงาน
C4: =+รวม!C4 -> ชื่อกระทรวง แรงงาน
C5: =+รวม!C5 -> ผู้ประสานงาน นายณัฐพงศ์ ทิพย์สกุลปัญญา เบอร์ติดต่อ : 0 2245 4042 email : strategy.dsd@gmail.com
A7: ส่วนที่ 2 : ระดับความเกี่ยวข้องในการขับเคลื่อนเป้าหมายแผนแม่บทย่อย
A8: ให้เลือกเป้าหมายแผนแม่บทย่อยเฉพาะที่หน่วยงานของท่านมีส่วนเกี่ยวข้องในการขับเคลื่อนการดำเนินงานเพื่อบรรลุเป้าหมายตามที่กำหนด (เลือกได้มากกว่า 1 เป้าหมาย)
A9: โดยทำเครื่องหมาย √ ตามระดับความเกี่ยวข้องของหน่วยงาน พร้อมอธิบายที่มาของระดับความเกี่ยวข้องนั้น
A10: คำอธิบายระดับความเกี่ยวข้อง
B11: หลัก | C11: =+รวม!C11 -> มีความรับผิดชอบและภารกิจหลักในการทำให้เป้าหมายบรรลุโดยตรง อาทิ ดำเนินการตามกฎ ระเบียบ มติครม. คกก.ระดับชาติ ข้อสั่งการที่เกี่ยวข้อง
B12: สนับสนุน | C12: =+รวม!C12 -> ไม่มีหน้าที่ความรับผิดชอบหลักโดยตรง อาทิ เป็นหน่วยงานนโยบาย
F13: <คลิกเพื่อกลับไปหน้าหลัก>
A14: รหัส แผน | B14: รหัส เป้าย่อย | C14: แผนแม่บท /เป้าหมายแผนแม่บทย่อย | D14: ความเกี่ยวข้องของหน่วยงานในการขับเคลื่อนเป้าหมายแผนแม่บทย่อย
D15: ระดับความเกี่ยวข้อง | F15: คำอธิบายความเกี่ยวข้อง
D16: หลัก | E16: สนับสนุน
A17: 17 | C17: ความเสมอภาคและหลักประกันทางสังคม
B18: 170101 | C18: คนไทยทุกคน โดยเฉพาะกลุ่มด้อยโอกาสและกลุ่มเปราะบางได้รับการคุ้มครองและมีหลักประกันทางสังคมเพิ่มขึ้น
B19: 170201 | C19: มีระบบและกลไกในการให้ความช่วยเหลือกลุ่มเป้าหมาย ที่ต้องการความช่วยเหลือเป็นพิเศษได้ครอบคลุมมากยิ่งขึ้น | E19: √ | F19: กฎกระทรวงแบ่งส่วนราชการกรมพัฒนาฝีมือ แรงงาน กระทรวงแรงงาน พ.ศ. 2559 กำหนด ให้กรมส่งเสริมและพัฒนาบุคคล ซึ่งครอบคลุม คนพิการและประชาชนกลุ่มเปราะบาง อาทิ ผู้ต้องขัง ผู้ผ่านการบำบัดยาเสพติด และเยาวชนในสถานพินิจ ให้มีทักษะฝีมือ มีความรู้ ความสามารถ เพื่อเพิ่มโอกาสในการประกอบอาชีพ รวมถึงจัดการแข่งขันฝีมือคนพิการ ทั้งในประเทศและต่างประเทศ

Sheet 18.เติบโตอย่างยั่งยืน
A1: Worksheet 1 : ความเกี่ยวข้องของหน่วยงานที่มีต่อการบรรลุเป้าหมายแผนแม่บทย่อย
A2: ส่วนที่ 1 : ข้อมูลหน่วยงาน
C3: =+รวม!C3 -> ชื่อหน่วยงาน กรมพัฒนาฝีมือแรงงาน
C4: =+รวม!C4 -> ชื่อกระทรวง แรงงาน
C5: =+รวม!C5 -> ผู้ประสานงาน นายณัฐพงศ์ ทิพย์สกุลปัญญา เบอร์ติดต่อ : 0 2245 4042 email : strategy.dsd@gmail.com
A7: ส่วนที่ 2 : ระดับความเกี่ยวข้องในการขับเคลื่อนเป้าหมายแผนแม่บทย่อย
A8: ให้เลือกเป้าหมายแผนแม่บทย่อยเฉพาะที่หน่วยงานของท่านมีส่วนเกี่ยวข้องในการขับเคลื่อนการดำเนินงานเพื่อบรรลุเป้าหมายตามที่กำหนด (เลือกได้มากกว่า 1 เป้าหมาย)
A9: โดยทำเครื่องหมาย √ ตามระดับความเกี่ยวข้องของหน่วยงาน พร้อมอธิบายที่มาของระดับความเกี่ยวข้องนั้น
A10: คำอธิบายระดับความเกี่ยวข้อง
B11: หลัก | C11: =+รวม!C11 -> มีความรับผิดชอบและภารกิจหลักในการทำให้เป้าหมายบรรลุโดยตรง อาทิ ดำเนินการตามกฎ ระเบียบ มติครม. คกก.ระดับชาติ ข้อสั่งการที่เกี่ยวข้อง
B12: สนับสนุน | C12: =+รวม!C12 -> ไม่มีหน้าที่ความรับผิดชอบหลักโดยตรง อาทิ เป็นหน่วยงานนโยบาย
F13: <คลิกเพื่อกลับไปหน้าหลัก>
A14: รหัส แผน | B14: รหัส เป้าย่อย | C14: แผนแม่บท /เป้าหมายแผนแม่บทย่อย | D14: ความเกี่ยวข้องของหน่วยงานในการขับเคลื่อนเป้าหมายแผนแม่บทย่อย
D15: ระดับความเกี่ยวข้อง | F15: คำอธิบายความเกี่ยวข้อง
D16: หลัก | E16: สนับสนุน
A17: 18 | C17: การเติบโตอย่างยั่งยืน
B18: 180101 | C18: การบริโภคและการผลิตของประเทศมีความยั่งยืนสูงขึ้น
B19: 180102 | C19: พื้นที่สีเขียวทุกประเภทเพิ่มขึ้น
B20: 180201 | C20: ความสมบูรณ์ของระบบนิเวศทางทะเลเพิ่มขึ้น
B21: 180301 | C21: การปล่อยก๊าซเรือนกระจกของประเทศไทยลดลง
B22: 180401 | C22: คุณภาพน้ำในแหล่งน้ำผิวดิน แหล่งน้ำใต้ดินและแหล่งน้ำทะเล มีคุณภาพเหมาะสมกับประเภทการใช้ประโยชน์
B23: 180402 | C23: คุณภาพอากาศ เสียง และความสั่นสะเทือนอยู่ระดับมาตรฐาน ของประเทศไทย
B24: 180403 | C24: การจัดการขยะมูลฝอย มูลฝอยติดเชื้อ ของเสียอันตราย สารเคมีในภาคการเกษตรและการอุตสาหกรรมมีประสิทธิภาพ มากขึ้น
B25: 180501 | C25: คนไทยมีคุณลักษณะและพฤติกรรมที่พึงประสงค์ ด้านสิ่งแวดล้อมและคุณภาพชีวิตที่ดี

Sheet 19.บริหารจัดการน้ำ
A1: Worksheet 1 : ความเกี่ยวข้องของหน่วยงานที่มีต่อการบรรลุเป้าหมายแผนแม่บทย่อย
A2: ส่วนที่ 1 : ข้อมูลหน่วยงาน
C3: =+รวม!C3 -> ชื่อหน่วยงาน กรมพัฒนาฝีมือแรงงาน
C4: =+รวม!C4 -> ชื่อกระทรวง แรงงาน
C5: =+รวม!C5 -> ผู้ประสานงาน นายณัฐพงศ์ ทิพย์สกุลปัญญา เบอร์ติดต่อ : 0 2245 4042 email : strategy.dsd@gmail.com
A7: ส่วนที่ 2 : ระดับความเกี่ยวข้องในการขับเคลื่อนเป้าหมายแผนแม่บทย่อย
A8: ให้เลือกเป้าหมายแผนแม่บทย่อยเฉพาะที่หน่วยงานของท่านมีส่วนเกี่ยวข้องในการขับเคลื่อนการดำเนินงานเพื่อบรรลุเป้าหมายตามที่กำหนด (เลือกได้มากกว่า 1 เป้าหมาย)
A9: โดยทำเครื่องหมาย √ ตามระดับความเกี่ยวข้องของหน่วยงาน พร้อมอธิบายที่มาของระดับความเกี่ยวข้องนั้น
A10: คำอธิบายระดับความเกี่ยวข้อง
B11: หลัก | C11: =+รวม!C11 -> มีความรับผิดชอบและภารกิจหลักในการทำให้เป้าหมายบรรลุโดยตรง อาทิ ดำเนินการตามกฎ ระเบียบ มติครม. คกก.ระดับชาติ ข้อสั่งการที่เกี่ยวข้อง
B12: สนับสนุน | C12: =+รวม!C12 -> ไม่มีหน้าที่ความรับผิดชอบหลักโดยตรง อาทิ เป็นหน่วยงานนโยบาย
F13: <คลิกเพื่อกลับไปหน้าหลัก>
A14: รหัส แผน | B14: รหัส เป้าย่อย | C14: แผนแม่บท /เป้าหมายแผนแม่บทย่อย | D14: ความเกี่ยวข้องของหน่วยงานในการขับเคลื่อนเป้าหมายแผนแม่บทย่อย
D15: ระดับความเกี่ยวข้อง | F15: คำอธิบายความเกี่ยวข้อง
D16: หลัก | E16: สนับสนุน
A17: 19 | C17: การบริหารจัดการน้ำทั้งระบบ
B18: 190101 | C18: ระดับความมั่นคงด้านน้ำอุปโภคบริโภคเพิ่มขึ้น จากระดับ 3 ให้เป็นระดับ 4 (สูงสุดที่ระดับ5)
B19: 190102 | C19: ระดับการรับมือกับพิบัติภัยด้านน้ำเพิ่มขึ้น
B20: 190103 | C20: ยกระดับธรรมาภิบาลในการบริหารจัดการน้ำเพิ่มขึ้น จากปัจจุบัน 64 คะแนน ให้เป็น 80 คะแนน
B21: 190201 | C21: ระดับความมั่นคงด้านน้ำในเขตเมืองเพิ่มขึ้น
B22: 190202 | C22: ระดับความมั่นคงด้านน้ำเพื่อการพัฒนาเศรษฐกิจเพิ่มขึ้น
B23: 190203 | C23: ผลิตภาพจากการใช้น้ำเพิ่มขึ้น
B24: 190301 | C24: แม่น้ำลำคลองและแหล่งน้ำธรรมชาติทั่วประเทศมีระบบนิเวศ และทัศนียภาพที่ดี มีคุณภาพได้มาตรฐานเพิ่มขึ้น

Sheet 20.ประสิทธิภาพภาครัฐ
A1: Worksheet 1 : ความเกี่ยวข้องของหน่วยงานที่มีต่อการบรรลุเป้าหมายแผนแม่บทย่อย
A2: ส่วนที่ 1 : ข้อมูลหน่วยงาน
C3: =+รวม!C3 -> ชื่อหน่วยงาน กรมพัฒนาฝีมือแรงงาน
C4: =+รวม!C4 -> ชื่อกระทรวง แรงงาน
C5: =+รวม!C5 -> ผู้ประสานงาน นายณัฐพงศ์ ทิพย์สกุลปัญญา เบอร์ติดต่อ : 0 2245 4042 email : strategy.dsd@gmail.com
A7: ส่วนที่ 2 : ระดับความเกี่ยวข้องในการขับเคลื่อนเป้าหมายแผนแม่บทย่อย
A8: ให้เลือกเป้าหมายแผนแม่บทย่อยเฉพาะที่หน่วยงานของท่านมีส่วนเกี่ยวข้องในการขับเคลื่อนการดำเนินงานเพื่อบรรลุเป้าหมายตามที่กำหนด (เลือกได้มากกว่า 1 เป้าหมาย)
A9: โดยทำเครื่องหมาย √ ตามระดับความเกี่ยวข้องของหน่วยงาน พร้อมอธิบายที่มาของระดับความเกี่ยวข้องนั้น
A10: คำอธิบายระดับความเกี่ยวข้อง
B11: หลัก | C11: =+รวม!C11 -> มีความรับผิดชอบและภารกิจหลักในการทำให้เป้าหมายบรรลุโดยตรง อาทิ ดำเนินการตามกฎ ระเบียบ มติครม. คกก.ระดับชาติ ข้อสั่งการที่เกี่ยวข้อง
B12: สนับสนุน | C12: =+รวม!C12 -> ไม่มีหน้าที่ความรับผิดชอบหลักโดยตรง อาทิ เป็นหน่วยงานนโยบาย
F13: <คลิกเพื่อกลับไปหน้าหลัก>
A14: รหัส แผน | B14: รหัส เป้าย่อย | C14: แผนแม่บท /เป้าหมายแผนแม่บทย่อย | D14: ความเกี่ยวข้องของหน่วยงานในการขับเคลื่อนเป้าหมายแผนแม่บทย่อย
D15: ระดับความเกี่ยวข้อง | F15: คำอธิบายความเกี่ยวข้อง
D16: หลัก | E16: สนับสนุน
A17: 20 | C17: การบริการประชาชน และประสิทธิภาพภาครัฐ
B18: 200101 | C18: งานบริการภาครัฐที่ปรับเปลี่ยนเป็นดิจิทัลเพิ่มขึ้น | E18: √ | F18: รัฐธรรมนูญแห่งราชอาณาจักรไทย มาตรา 76 กำหนดให้หน่วยงานภาครัฐร่วมมือกันปฏิบัติ หน้าที่ เพื่อให้การบริการสาธารณะ มีประสิทธิภาพสูงสุด กรมจึงมุ่งปรับเปลี่ยน งานบริการให้เป็นดิจิทัลมากขึ้น
B19: 200201 | C19: หน่วยงานภาครัฐบรรลุผลสัมฤทธิ์ตามเป้าหมายยุทธศาสตร์ชาติ | E19: √ | F19: รัฐธรรมนูญแห่งราชอาณาจักรไทย มาตรา 65 กำหนดให้หน่วยงานภาครัฐใช้ยุทธศาสตร์ชาติ เป็นกรอบการจัดทำแผนการพัฒนาประเทศ กรมจึงวางแผน ดำเนินงาน และติดตาม การดำเนินงาน ทุกภารกิจ โดยยึดเป้าหมาย ของยุทธศาสตร์ชาติเป็นสำคัญ
B20: 200301 | C20: เปิดโอกาสให้ภาคส่วนต่าง ๆ มีส่วนร่วมในการจัดบริการ สาธารณะและกิจกรรมสาธารณะอย่างเหมาะสม | E20: √ | F20: รัฐธรรมนูญแห่งราชอาณาจักรไทย มาตรา 258 กำหนดให้หน่วยงานภาครัฐปรับปรุงและพัฒนาโครงสร้างและระบบบริหารงานของรัฐ ให้ทันสมัย ซึ่งรวมถึงการเปิดโอกาสให้ภาคส่วนต่าง ๆ มีส่วนร่วมในการดำเนินงาน
B21: 200302 | C21: องค์กรปกครองส่วนท้องถิ่นต้องมีสมรรถนะและสร้าง ความทันสมัยในการจัดบริการสาธารณะและกิจกรรมสาธารณะ ให้กับประชาชน
B22: 200401 | C22: ภาครัฐมีขีดสมรรถนะสูงเทียบเท่ามาตรฐานสากล และมีความคล่องตัว | E22: √ | F22: มติคณะรัฐมนตรีในการประชุมเมื่อวันที่ 28 มิถุนายน 2548 เห็นชอบให้หน่วยงาน ภาครัฐนำการพัฒนาคุณภาพการบริหารจัดการภาครัฐมาใช้เป็นเครื่องมือผลักดันให้การพัฒนาระบบราชการมีประสิทธิภาพและยั่งยืน
B23: 200501 | C23: บุคลากรภาครัฐยึดค่านิยมในการทำงานเพื่อประชาชน ยึดหลัก คุณธรรม จริยธรรม มีจิตสำนึก มีความสามารถสูง มุ่งมั่น และเป็นมืออาชีพ | E23: √ | F23: รัฐธรรมนูญแห่งราชอาณาจักรไทย มาตรา 76 กำหนดให้หน่วยงานภาครัฐพัฒนาเจ้าหน้าที่ ให้มีความซื่อสัตย์สุจริต และปฏิบัติหน้าที่ อย่างมีประสิทธิภาพ

Sheet 21.ต่อต้านการทุจริต
A1: Worksheet 1 : ความเกี่ยวข้องของหน่วยงานที่มีต่อการบรรลุเป้าหมายแผนแม่บทย่อย
A2: ส่วนที่ 1 : ข้อมูลหน่วยงาน
C3: =+รวม!C3 -> ชื่อหน่วยงาน กรมพัฒนาฝีมือแรงงาน
C4: =+รวม!C4 -> ชื่อกระทรวง แรงงาน
C5: =+รวม!C5 -> ผู้ประสานงาน นายณัฐพงศ์ ทิพย์สกุลปัญญา เบอร์ติดต่อ : 0 2245 4042 email : strategy.dsd@gmail.com
A7: ส่วนที่ 2 : ระดับความเกี่ยวข้องในการขับเคลื่อนเป้าหมายแผนแม่บทย่อย
A8: ให้เลือกเป้าหมายแผนแม่บทย่อยเฉพาะที่หน่วยงานของท่านมีส่วนเกี่ยวข้องในการขับเคลื่อนการดำเนินงานเพื่อบรรลุเป้าหมายตามที่กำหนด (เลือกได้มากกว่า 1 เป้าหมาย)
A9: โดยทำเครื่องหมาย √ ตามระดับความเกี่ยวข้องของหน่วยงาน พร้อมอธิบายที่มาของระดับความเกี่ยวข้องนั้น
A10: คำอธิบายระดับความเกี่ยวข้อง
B11: หลัก | C11: =+รวม!C11 -> มีความรับผิดชอบและภารกิจหลักในการทำให้เป้าหมายบรรลุโดยตรง อาทิ ดำเนินการตามกฎ ระเบียบ มติครม. คกก.ระดับชาติ ข้อสั่งการที่เกี่ยวข้อง
B12: สนับสนุน | C12: =+รวม!C12 -> ไม่มีหน้าที่ความรับผิดชอบหลักโดยตรง อาทิ เป็นหน่วยงานนโยบาย
F13: <คลิกเพื่อกลับไปหน้าหลัก>
A14: รหัส แผน | B14: รหัส เป้าย่อย | C14: แผนแม่บท /เป้าหมายแผนแม่บทย่อย | D14: ความเกี่ยวข้องของหน่วยงานในการขับเคลื่อนเป้าหมายแผนแม่บทย่อย
D15: ระดับความเกี่ยวข้อง | F15: คำอธิบายความเกี่ยวข้อง
D16: หลัก | E16: สนับสนุน
A17: 21 | C17: การต่อต้านการทุจริตและประพฤติมิชอบ
B18: 210101 | C18: ประชาชนมีวัฒนธรรมและพฤติกรรมซื่อสัตย์สุจริต | E18: √ | F18: คณะรัฐมนตรีได้มีมติเมื่อวันที่ 23 มกราคม 2561 เห็นชอบให้หน่วยงานภาครัฐ ทุกหน่วยงานให้ความร่วมมือและเข้าร่วม การประเมินคุณธรรมและความโปร่งใส ในการดำเนินงานของหน่วยงานภาครัฐ ในปีงบประมาณ พ.ศ. 2561 – 2564 โดยใช้แนวทางและเครื่องมือการประเมิน ตามที่สำนักงาน ป.ป.ช. กำหนด
B19: 210102 | C19: คดีทุจริตและประพฤติมิชอบลดลง | E19: √ | F19: รัฐธรรมนูญแห่งราชอาณาจักรไทย มาตรา 258 กำหนดให้หน่วยงานภาครัฐปรับปรุง และพัฒนาการบริหารงานบุคคลให้เจ้าหน้าที่ มีความซื่อสัตย์สุจริต กระทำในสิ่งที่ถูกต้อง และคิดถึงประโยชน์ส่วนรวมมากกว่าประโยชน์ ส่วนตัว
B20: 210201 | C20: การดำเนินคดีทุจริตมีความรวดเร็ว เป็นธรรม โปร่งใส ไม่เลือกปฏิบัติ

Sheet 22.กฎหมายกระบวนการยุติธรรม
A1: Worksheet 1 : ความเกี่ยวข้องของหน่วยงานที่มีต่อการบรรลุเป้าหมายแผนแม่บทย่อย
A2: ส่วนที่ 1 : ข้อมูลหน่วยงาน
C3: =+รวม!C3 -> ชื่อหน่วยงาน กรมพัฒนาฝีมือแรงงาน
C4: =+รวม!C4 -> ชื่อกระทรวง แรงงาน
C5: =+รวม!C5 -> ผู้ประสานงาน นายณัฐพงศ์ ทิพย์สกุลปัญญา เบอร์ติดต่อ : 0 2245 4042 email : strategy.dsd@gmail.com
A7: ส่วนที่ 2 : ระดับความเกี่ยวข้องในการขับเคลื่อนเป้าหมายแผนแม่บทย่อย
A8: ให้เลือกเป้าหมายแผนแม่บทย่อยเฉพาะที่หน่วยงานของท่านมีส่วนเกี่ยวข้องในการขับเคลื่อนการดำเนินงานเพื่อบรรลุเป้าหมายตามที่กำหนด (เลือกได้มากกว่า 1 เป้าหมาย)
A9: โดยทำเครื่องหมาย √ ตามระดับความเกี่ยวข้องของหน่วยงาน พร้อมอธิบายที่มาของระดับความเกี่ยวข้องนั้น
A10: คำอธิบายระดับความเกี่ยวข้อง
