Workbook

Sheet ตารางที่ 1 ส่ง
A1: กรมพัฒนาฝีมือแรงงาน
A2: รายงานการคำนวณต้นทุนผลผลิต
A3: ประจำปีงบประมาณ พ.ศ. 2558
A4: ตารางที่ 1 รายงานต้นทุนรวม โดยแยกประเภทตามแหล่งเงิน
E5: (หน่วย : บาท)
A6: ประเภทค่าใช้จ่าย | B6: เงินในงบประมาณ | C6: เงินนอกงบประมาณ | D6: งบกลาง | E6: รวม | J6: =SUM(J7:J14) -> 0
A7: 1. ค่าใช้จ่ายบุคลากร | B7: 8.4803688e+08 | C7: 26320 | D7: 99367352 | E7: =SUM(B7:D7) -> 9.4743055e+08
A8: 2. ค่าใช้จ่ายด้านการฝึกอบรม | B8: 3.9529856e+08 | C8: 5573005.1 | E8: =SUM(B8:D8) -> 4.0087156e+08
A9: 3. ค่าใช้จ่ายเดินทาง | B9: 57409172 | C9: 50957 | E9: =SUM(B9:D9) -> 57460129
A10: 4. ค่าตอบแทน ใช้สอยวัสดุ และสาธารณูปโภค | B10: 6.5877163e+08 | C10: 6447782.5 | D10: 4060 | E10: =SUM(B10:D10) -> 6.6522348e+08
A11: 5. ค่าเสื่อมราคา | B11: 1.1294643e+08 | C11: 129659619 | E11: =SUM(B11:D11) -> 2.4260605e+08
A12: 6. ค่าใช้จ่ายเงินอุดหนุน | B12: 31644748 | C12: 62595 | E12: =SUM(B12:D12) -> 31707343
A13: 7. ค่าจำหน่ายครุภัณฑ์ | B13: 17008.6 | C13: 2622577.3 | E13: =SUM(B13:D13) -> 2639585.9
A14: 8. ค่าใช้จ่ายอื่นๆ | B14: 61880134 | C14: 116935.36 | E14: =SUM(B14:D14) -> 61997069
A15: รวมต้นทุนผลผลิต | B15: =SUM(B7:B14) -> 2.1660046e+09 | C15: =SUM(C7:C14) -> 1.4455979e+08 | D15: =SUM(D7:D14) -> 99371412 | E15: =SUM(E7:E14) -> 2.4099358e+09
A16: หมายเหตุ :
A17: ค่าใช้จ่ายในระบบ GFMIS | E17: 2.7751065e+09
A19: หัก ต้นทุนที่ไม่เกี่ยวข้องในการผลิตผลผลิต | E19: =SUM(D20:D41) -> 3.6517069e+08
A20: - บำนาญปกติ | D20: 79157381
A21: - บำนาญพิเศษ | D21: 54240
A22: - เงินช่วยเหลือรายเดือนผู้รับเบี้ยหวัดบำนาญ | D22: 516034.4
A23: - เงินช่วยค่าครองชีพผู้รับเบี้ยหวัดบำนาญ | D23: 7491699.1
A24: - เงินบำเหน็จ | D24: 3836671.4
A25: - เงินบำเหน็จตกทอด | D25: 1584394.4
A26: - เงินบำเหน็จดำรงชีพ | D26: 8792128.2
A27: - เงินช่วยพิเศษกรณีผู้รับบำนาญตาย | D27: 404313.99
A28: - บำเหน็จรายเดือนสำหรับการเบิกเงินบำเหน็จลูกจ้าง | D28: 15110993
A32: - เงินช่วยการศึกษาบุตร | D32: 489907.75
A33: - ค่ารักษาพยาบาลผู้ป่วยนอก-รพ.รัฐ-เบี้ยหวัด/บำนาญ | D33: 9109440.3
A34: - ค่ารักษาพยาบาลผู้ป่วยใน-รพ.รัฐ-เบี้ยหวัด/บำนาญ | D34: 3167102.8
... A41: - TE-ภายในกรมเดียวกัน | D41: 1.3551446e+08
A43: รวมต้นทุนผลผลิต | E43: =SUM(E17-E19-E28) -> 2.4099358e+09

Sheet ตารางที่ 2 ส่ง
A1: กรมพัฒนาฝีมือแรงงาน
A2: รายงานการคำนวณต้นทุนผลผลิต
A3: ประจำปีงบประมาณ พ.ศ. 2558
A4: ตารางที่ 2 รายงานต้นทุนตามศูนย์ต้นทุนแยกตามประเภทค่าใช้จ่าย
M5: หน่วย : บาท
B6: ค่าใช้จ่ายทางตรง | H6: ค่าใช้จ่ายทางอ้อม
A7: ศูนย์ต้นทุน | B7: ค่าตอบแทน ใช้สอย | C7: ค่าเสื่อมราคา | D7: ค่าใช้จ่ายบุคลากร | E7: ค่าใช้จ่ายอุดหนุน | F7: ค่าใช้จ่ายอื่น | G7: รวม | H7: ค่าใช้จ่ายบุคลากร | I7: ค่าตอบแทน ใช้สอย | J7: ค่าเสื่อมราคา | K7: ค่าใช้จ่ายอุดหนุน | L7: ค่าใช้จ่ายอื่น | M7: รวม | N7: รวม
B8: วัสดุและ | C8: และตัดจำหน่าย | I8: วัสดุและ | J8: และตัดจำหน่าย
B9: ค่าสาธารณูปโภค | I9: ค่าสาธารณูปโภค
A10: ศูนย์ต้นทุนหลัก | B10: =+B11+B13+B15+B17+B19+B20 -> 8.6657064e+08 | C10: =+C11+C13+C15+C17+C19+C20 -> 2.2539464e+08 | D10: =+D11+D13+D15+D17+D19+D20 -> 20710919 | E10: =+E11+E13+E15+E17+E19+E20 -> 30689326 | F10: =+F11+F13+F15+F17+F19+F20 -> 61997069 | G10: =+G11+G13+G15+G17+G19+G20 -> 1.2053626e+09 | H10: =+H11+H13+H15+H17+H19+H20 -> 7.5798142e+08 | I10: =+I11+I13+I15+I17+I19+I20 -> 3590278.6 | ... N10: =+N11+N13+N15+N17+N19+N20 -> 1.9683415e+09
A11: 1. สถาบันพัฒนาฝีมือ | B11: 2.7204137e+08 | C11: 54080777 | D11: 7970034.2 | E11: 12182971 | F11: 23810995 | G11: =SUM(B11:F11) -> 3.7008615e+08 | H11: 2.8476747e+08 | I11: 232217.09 | J11: 0 | K11: 0 | L11: 0 | M11: =SUM(H11:L11) -> 2.8499969e+08 | N11: =SUM(G11+M11) -> 6.5508584e+08
A12: แรงงานภาค 12 แห่ง
A13: 2. ศูนย์พัฒนาฝีมือแรงงาน | B13: 5.5356135e+08 | C13: 1.6416763e+08 | D13: 12061784 | E13: 18506355 | F13: 38186074 | G13: =SUM(B13:F13) -> 7.8648319e+08 | H13: 4.5694575e+08 | I13: 418053.54 | J13: 0 | K13: 0 | L13: 0 | M13: =SUM(H13:L13) -> 4.573638e+08 | N13: =SUM(G13+M13) -> 1.243847e+09
A14: จังหวัด 65 แห่ง
A15: 3. สถาบันพัฒนาฝีมือ | B15: 30977298 | C15: 6684112.1 | D15: 204004 | E15: 0 | F15: 0 | G15: =SUM(B15:F15) -> 37865415 | H15: 4623849.5 | I15: 6581.05 | J15: 0 | K15: 0 | L15: 0 | M15: =SUM(H15:L15) -> 4630430.5 | N15: =SUM(G15+M15) -> 42495845
A16: แรงงานนานาชาติเชียงแสน
A17: 4. สถาบันพัฒนาบุคลากรในอุตสาหกรรม | B17: 225928.14 | C17: 1068.18 | D17: 82100 | E17: 0 | F17: 0 | G17: =SUM(B17:F17) -> 309096.32 | H17: 2663100.9 | I17: 1566.92 | J17: 0 | K17: 0 | L17: 0 | M17: =SUM(H17:L17) -> 2664667.8 | N17: =SUM(G17+M17) -> 2973764.1
A18: ยานยนต์และชิ้นส่วนอะไหล่ยานยนต์ | M18: =SUM(H18:L18) -> 0 | N18: =SUM(G18+M18) -> 0
A19: 5. กลุ่มงานอุตสาหกรรมบริการ (สพท.) | B19: 4720441.6 | C19: 182017.16 | D19: 321234.25 | E19: 0 | F19: 0 | G19: =SUM(B19:F19) -> 5223693 | H19: 4597712 | I19: 1142329.8 | J19: 634052.09 | K19: 0 | L19: 0 | M19: =SUM(H19:L19) -> 6374094 | N19: =SUM(G19+M19) -> 11597787
A20: 6. กองส่งเสริมการพัฒนาฯ | B20: 5044260 | C20: 279038.62 | D20: 71762 | E20: 0 | F20: 0 | G20: =SUM(B20:F20) -> 5395060.6 | H20: 4383538 | I20: 1789530.2 | J20: 773170.25 | K20: 0 | L20: 0 | M20: =SUM(H20:L20) -> 6946238.5 | N20: =SUM(G20+M20) -> 12341299
A22: ศูนย์ต้นทุนสนับสนุน | B22: =SUM(B23:B38) -> 2.3378809e+08 | C22: =SUM(C23:C38) -> 10288101 | D22: =SUM(D23:D38) -> 6044652.8 | E22: =SUM(E23:E38) -> 1018016.8 | F22: =SUM(F23:F38) -> 0 | G22: =SUM(G23:G38) -> 2.5113887e+08 | H22: =SUM(H23:H38) -> 1.6269356e+08 | I22: =SUM(I23:I38) -> 19606152 | ... N22: =SUM(N23:N38) -> 4.4159425e+08
A23: 1. สำนักอธิบดี | B23: 2697184.6 | C23: 366917.96 | D23: 531685 | E23: 0 | F23: 0 | G23: =SUM(B23:F23) -> 3595787.5 | H23: 5300089.4 | I23: 188371.61 | J23: 81386.34 | K23: 0 | L23: 0 | M23: =SUM(H23:L23) -> 5569847.4 | N23: =SUM(G23+M23) -> 9165634.9
A24: 2. สำนักงานผู้ตรวจราชการกรม | B24: 3086822.9 | C24: 105533.43 | D24: 181593.5 | E24: 0 | F24: 0 | G24: =SUM(B24:F24) -> 3373949.8 | H24: 5179740.2 | I24: 423836.12 | J24: 183119.27 | K24: 0 | L24: 0 | M24: =SUM(H24:L24) -> 5786695.6 | N24: =SUM(G24+M24) -> 9160645.5
A25: 3. สำนักงานเลขานุการกรม | B25: 15817135 | C25: 556236.78 | D25: 661245.5 | E25: 0 | F25: 0 | G25: =SUM(B25:F25) -> 17034618 | H25: 17294576 | I25: 2828489.8 | J25: 1058022.4 | K25: 0 | L25: 0 | M25: =SUM(H25:L25) -> 21181088 | N25: =SUM(G25+M25) -> 38215706
A26: 4. กองแผนงานฯ | B26: 4222627.1 | C26: 6047480.9 | D26: 409583.75 | E26: 0 | F26: 0 | G26: =SUM(B26:F26) -> 10679692 | H26: 15560800 | I26: 894765.12 | J26: 386585.13 | K26: 0 | L26: 0 | M26: =SUM(H26:L26) -> 16842150 | N26: =SUM(G26+M26) -> 27521842
A27: 5. กองพัฒนาศักยภาพฯ | B27: 18207362 | C27: 192634.82 | D27: 237252.75 | E27: 0 | F27: 0 | G27: =SUM(B27:F27) -> 18637249 | H27: 11842717 | I27: 1554065.7 | J27: 671437.31 | K27: 0 | L27: 0 | M27: =SUM(H27:L27) -> 14068220 | N27: =SUM(G27+M27) -> 32705469
A28: 6. สำนักพัฒนามาตรฐานฯ | B28: 1.2542537e+08 | C28: 1463138.8 | D28: 1824896 | E28: 1018016.8 | F28: 0 | G28: =SUM(B28:F28) -> 1.2973142e+08 | H28: 29545417 | I28: 2684295.3 | J28: 1159755.4 | K28: 0 | L28: 0 | M28: =SUM(H28:L28) -> 33389468 | N28: =SUM(G28+M28) -> 1.6312089e+08
A29: 7. สำนักพัฒนาผู้ฝึกฯ | B29: 27571876 | C29: 557806.9 | D29: 519237 | E29: 0 | F29: 0 | G29: =SUM(B29:F29) -> 28648920 | H29: 29219341 | I29: 3284402.8 | J29: 1278526.9 | K29: 0 | L29: 0 | M29: =SUM(H29:L29) -> 33782271 | N29: =SUM(G29+M29) -> 62431191
A30: 8. กองคลัง | B30: 2242695.7 | C30: 376862.5 | D30: 642502.5 | E30: 0 | F30: 0 | G30: =SUM(B30:F30) -> 3262060.7 | H30: 12965957 | I30: 2119780.5 | J30: 915596.35 | K30: 0 | L30: 0 | M30: =SUM(H30:L30) -> 16001334 | N30: =SUM(G30+M30) -> 19263395
A31: 9. กองการเจ้าหน้าที่ | B31: 13131024 | C31: 184843 | D31: 352430 | E31: 0 | F31: 0 | G31: =SUM(B31:F31) -> 13668297 | H31: 14489927 | I31: 2213366.3 | J31: 956289.52 | K31: 0 | L31: 0 | M31: =SUM(H31:L31) -> 17659583 | N31: =SUM(G31+M31) -> 31327879
A32: 10. กลุ่มกฏหมาย | B32: 1100394.4 | C32: 103976.36 | D32: 91080 | E32: 0 | F32: 0 | G32: =SUM(B32:F32) -> 1295450.7 | H32: 5204289.2 | I32: 753486.4 | J32: 325545.36 | K32: 0 | L32: 0 | M32: =SUM(H32:L32) -> 6283321 | N32: =SUM(G32+M32) -> 7578771.7
A33: 11. กองยุทธศาสตร์และเครือข่ายฯ | B33: 5453454.6 | C33: 95579.63 | D33: 265899.75 | E33: 0 | F33: 0 | G33: =SUM(B33:F33) -> 5814934 | H33: 3230326.4 | I33: 753486.38 | J33: 325545.36 | K33: 0 | L33: 0 | M33: =SUM(H33:L33) -> 4309358.2 | N33: =SUM(G33+M33) -> 10124292
A34: 12. กลุ่มพัฒนาระบบบริหาร | B34: 6913310 | C34: 82600.53 | D34: 125091 | E34: 0 | F34: 0 | G34: =SUM(B34:F34) -> 7121001.6 | H34: 4448481.8 | I34: 530640.48 | J34: 223812.43 | K34: 0 | L34: 0 | M34: =SUM(H34:L34) -> 5202934.7 | N34: =SUM(G34+M34) -> 12323936
... A37: 15. สำนักงานรับรองฯ | B37: 2575117.3 | C37: 1056 | D37: 55860 | E37: 0 | F37: 0 | G37: =SUM(B37:F37) -> 2632033.3 | H37: 1301832.1 | I37: 376743.15 | J37: 162772.69 | K37: 0 | L37: 0 | M37: =SUM(H37:L37) -> 1841347.9 | N37: =SUM(G37+M37) -> 4473381.3
A39: รวมต้นทุนผลผลิต | B39: =SUM(B10+B22) -> 1.1003587e+09 | C39: =SUM(C10+C22) -> 2.3568274e+08 | D39: =SUM(D10+D22) -> 26755572 | E39: =SUM(E10+E22) -> 31707343 | F39: =SUM(F10+F22) -> 61997069 | G39: =SUM(B39:F39) -> 1.4565015e+09 | H39: =SUM(H10+H22) -> 9.2067498e+08 | I39: =SUM(I10+I22) -> 23196431 | J39: =SUM(J10+J22) -> 9562895.1 | K39: =SUM(K10+K22) -> 0 | L39: =SUM(L10+L22) -> 0 | M39: =SUM(M10+M22) -> 9.534343e+08 | N39: =SUM(N10+N22) -> 2.4099358e+09
B70: สพท. | D70: สพภ. | G70: สพท. | H70: สพภ.
A71: 5101 | B71: 0 | D71: 74920 | G71: 0 | H71: 0
A72: 5102 | B72: 11666779 | D72: 18919265 | G72: 0 | H72: 0
A73: 5103 | B73: 0 | D73: 8843100 | G73: 0 | H73: 0
A74: 5104 | B74: 23694.5 | D74: 9989251 | G74: 0 | H74: 0
...

Sheet ตารางที่ 3 ส่ง
A1: กรมพัฒนาฝีมือแรงงาน
A2: รายงานการคำนวณต้นทุนผลผลิต
A3: ประจำปีงบประมาณ พ.ศ. 2558
A5: ตารางที่ 3 รายงานต้นทุนกิจกรรมย่อยแยกตามแหล่งเงิน
I6: หน่วย : บาท
A7: กิจกรรมย่อย | B7: เงินใน | C7: เงินนอก | D7: งบกลาง | E7: ค่าเสื่อมราคา | F7: ต้นทุนรวม | G7: ปริมาณ | H7: หน่วยนับ | I7: ต้นทุนต่อหน่วย
B8: งบประมาณ | C8: งบประมาณ
A9: กิจกรรมย่อยของหน่วยงานหลัก | B9: =+B10+B11+B12+B13+B14+B15+B16+B17+B18+B21+B22+B23+B25+B26+B28 -> 1.649908e+09 | C9: =+C10+C11+C12+C13+C14+C15+C16+C17+C18+C21+C22+C23+C25+C26+C28 -> 9078621.6 | D9: =+D10+D11+D12+D13+D14+D15+D16+D17+D18+D21+D22+D23+D25+D26+D28 -> 83496412 | E9: =+E10+E11+E12+E13+E14+E15+E16+E17+E18+E21+E22+E23+E25+E26+E28 -> 2.2585849e+08 | F9: =SUM(B9:E9) -> 1.9683415e+09 | G9: =+G10+G22+G23+G25+G11+G13+G14+G15+G18+G21 -> 4693526
A10: 1. เพิ่มขีดความสามารถของแรงงานรองรับประชาคมอาเซียน | B10: =1649908001.93*22.49/100 -> 3.7106431e+08 | C10: =9078621.55*22.49/100 -> 2041782 | D10: =83496412.3*22.49/100 -> 18778343 | E10: =225858485.63*22.49/100 -> 50795573 | F10: =+B10+C10+D10+E10 -> 4.4268001e+08 | G10: 149401 | H10: คน | I10: =+F10/G10 -> 2963.0324
A11: 2. พัฒนาฝีมือและศักยภาพกลุ่มเครือข่ายแรงงานนานาชาติ | B11: =1649908001.93*4.13/100 -> 68141200 | C11: =9078621.55*4.13/100 -> 374947.07 | D11: =83496412.3*4.13/100 -> 3448401.8 | E11: =225858485.63*4.13/100 -> 9327955.5 | F11: =+B11+C11+D11+E11 -> 81292505 | G11: 2210 | H11: คน | I11: =+F11/G11 -> 36783.939
A12: 3. ยกระดับทักษะฝีมือแรงงานให้มีศักยภาพและผลิตภาพเพื่อการแข่งขัน | B12: =1649908001.93*3.42/100 -> 56426854 | C12: =9078621.55*3.42/100 -> 310488.86 | D12: =83496412.3*3.42/100 -> 2855577.3 | E12: =225858485.63*3.42/100 -> 7724360.2 | F12: =+B12+C12+D12+E12 -> 67317280 | G12: 260 | H12: แห่ง | I12: =+F12/G12 -> 258912.62
A13: 4. พัฒนาฝีมือเพื่อเพิ่มโอกาสในการประกอบอาชีพ | B13: =1649908001.93*6.8/100 -> 1.1219374e+08 | C13: =9078621.55*6.8/100 -> 617346.27 | D13: =83496412.3*6.8/100 -> 5677756 | E13: =225858485.63*6.8/100 -> 15358377 | F13: =+B13+C13+D13+E13 -> 1.3384722e+08 | G13: 10324 | H13: คน | I13: =+F13/G13 -> 12964.667
A14: 5. พัฒนา/ส่งเสริมการประกอบอาชีพอิสระ | B14: =1649908001.93*3.88/100 -> 64016430 | C14: =9078621.55*3.88/100 -> 352250.52 | D14: =83496412.3*3.88/100 -> 3239660.8 | E14: =225858485.63*3.88/100 -> 8763309.2 | F14: =+B14+C14+D14+E14 -> 76371651 | G14: 2273 | H14: คน | I14: =SUM(F14/G14) -> 33599.495
A15: 6. ทดสอบมาตรฐานฝีมือแรงงาน | B15: =1649908001.93*7.99/100 -> 1.3182765e+08 | C15: =9078621.55*7.99/100 -> 725381.86 | D15: =83496412.3*7.99/100 -> 6671363.3 | E15: =225858485.63*7.99/100 -> 18046093 | F15: =+B15+C15+D15+E15 -> 1.5727049e+08 | G15: 44001 | H15: คน | I15: =SUM(F15/G15) -> 3574.248
A16: 7. จัดทำหลักเกณฑ์ พัฒนา/ส่งเสริมมาตรฐานฝีมือแรงงาน | B16: =1649908001.93*6.05/100 -> 99819434 | C16: =9078621.55*6.05/100 -> 549256.6 | D16: =83496412.3*6.05/100 -> 5051532.9 | E16: =225858485.63*6.05/100 -> 13664438 | F16: =+B16+C16+D16+E16 -> 1.1908466e+08 | G16: 28 | H16: สาขา | I16: =SUM(F16/G16) -> 4253023.6
A17: 8. พัฒนาระบบฝึกอบรมฝีมือแรงงาน | B17: =1649908001.93*3.1/100 -> 51147148 | C17: =9078621.55*3.1/100 -> 281437.27 | D17: =83496412.3*3.1/100 -> 2588388.8 | E17: =225858485.63*3.1/100 -> 7001613.1 | F17: =+B17+C17+D17+E17 -> 61018587 | G17: 111 | H17: หลักสูตร | I17: =SUM(F17/G17) -> 549717
A18: 9. ส่งเสริมและสนับสนุนให้สถานประกอบกิจการดำเนินการฝึกอบรม | B18: =1649908001.93*37.68/100 -> 6.2168534e+08 | C18: =9078621.55*37.68/100 -> 3420824.6 | D18: =83496412.3*37.68/100 -> 31461448 | E18: =225858485.63*37.68/100 -> 85103477 | F18: =+B18+C18+D18+E18 -> 7.4167109e+08 | G18: 4456177 | H18: คน | I18: =SUM(F18/G18) -> 166.43663
A19: ฝีมือแรงงานตามพระราชบัญญัติส่งเสริมการพัฒนาฝีมือแรงงาน
A20: พ.ศ. 2545
A21: 10. พัฒนาศักยภาพแรงงานเพื่อรองรับการจ่ายค่าจ้างตามมาตรฐานฝีมือแรงงาน | B21: =1649908001.93*2.32/100 -> 38277866 | C21: =9078621.55*2.32/100 -> 210624.02 | D21: =83496412.3*2.32/100 -> 1937116.8 | E21: =225858485.63*2.32/100 -> 5239916.9 | F21: =+B21+C21+D21+E21 -> 45665523 | G21: 15885 | H21: คน | I21: =SUM(F21/G21) -> 2874.7575
A22: 11. ฝึกอบรมฝีมือแรงงานตามโครงการอันเนื่องมาจากพระราชดำริ | B22: =1649908001.93*0.6/100 -> 9899448 | C22: =9078621.55*0.6/100 -> 54471.729 | D22: =83496412.3*0.6/100 -> 500978.47 | E22: =225858485.63*0.6/100 -> 1355150.9 | F22: =+B22+C22+D22+E22 -> 11810049 | G22: 3604 | H22: คน | I22: =SUM(F22/G22) -> 3276.9282
A23: 12. ฝึกอบรมคนพิการร่วมกับมูลนิธิขาเทียมในสมเด็จพระศรีนครินทรา | B23: =1649908001.93*0.13/100 -> 2144880.4 | C23: =9078621.55*0.13/100 -> 11802.208 | D23: =83496412.3*0.13/100 -> 108545.34 | E23: =225858485.63*0.13/100 -> 293616.03 | F23: =+B23+C23+D23+E23 -> 2558844 | G23: 59 | H23: คน | I23: =SUM(F23/G23) -> 43370.237
A24: บรมราชชนนี
A25: 13. ฝึกอาชีพแรงงานกลุ่มเฉพาะ | B25: =1649908001.93*0.57/100 -> 9404475.6 | C25: =9078621.55*0.57/100 -> 51748.143 | D25: =83496412.3*0.57/100 -> 475929.55 | E25: =225858485.63*0.57/100 -> 1287393.4 | F25: =+B25+C25+D25+E25 -> 11219547 | G25: 9592 | H25: คน | I25: =SUM(F25/G25) -> 1169.6775
A26: 14. จัดตั้งศูนย์ฯในสถานประกอบการเทิดไท้พระบิดาแห่งมาตรฐาน | B26: =1649908001.93*0.18/100 -> 2969834.4 | C26: =9078621.55*0.18/100 -> 16341.519 | D26: =83496412.3*0.18/100 -> 150293.54 | E26: =225858485.63*0.18/100 -> 406545.27 | F26: =+B26+C26+D26+E26 -> 3543014.7 | G26: 87 | H26: แห่ง | I26: =SUM(F26/G26) -> 40724.307
A27: การช่างไทย
A28: 15. พัฒนาเทคโนโลยีสารสนเทศและการสื่อสาร | B28: =1649908001.93*0.66/100 -> 10889393 | C28: =9078621.55*0.66/100 -> 59918.902 | D28: =83496412.3*0.66/100 -> 551076.32 | E28: =225858485.63*0.66/100 -> 1490666 | F28: =+B28+C28+D28+E28 -> 12991054 | G28: 79 | H28: แห่ง | I28: =SUM(F28/G28) -> 164443.72
A30: กิจกรรมย่อยของหน่วยงานสนับสนุน | B30: =SUM(B31:B67) -> 4.0315013e+08 | C30: =SUM(C31:C67) -> 5821550.7 | D30: =SUM(D31:D67) -> 15874999 | E30: =SUM(E31:E67) -> 16747565 | F30: =SUM(B30:E30) -> 4.4159425e+08
A31: 1. บริหารให้หน่วยงานปฏิบัติตามนโยบายที่ได้กำหนดไว้ | B31: 8545388.5 | C31: 15560.48 | D31: 171942.1 | E31: 432743.82 | F31: =SUM(B31:E31) -> 9165634.9 | G31: 12384 | H31: เรื่อง | I31: =SUM(F31/G31) -> 740.1191
A32: 2. ตรวจติดตามและให้คำแนะนำการปฏิบัติราชการ | B32: 8462728.5 | C32: 17730.09 | D32: 426545.29 | E32: 253641.61 | F32: =SUM(B32:E32) -> 9160645.5 | G32: 545 | H32: ครั้ง | I32: =SUM(F32/G32) -> 16808.524
A33: 3. ด้านงานสารบรรณ | B33: 5212282.6 | C33: 48900.12 | D33: 313237.37 | E33: 141196.7 | F33: =SUM(B33:E33) -> 5715616.8 | G33: 66077 | H33: จำนวนหนังสือเข้า-ออก | I33: =SUM(F33/G33) -> 86.499339
A34: 4. ด้านยานพาหนะ | B34: 5212282.6 | C34: 48900.12 | D34: 469856.06 | E34: 423590.1 | F34: =SUM(B34:E34) -> 6154628.9 | G34: 308923 | H34: จำนวนกิโลเมตร | I34: =SUM(F34/G34) -> 19.922857
A35: 5. ด้านประชาสัมพันธ์ | B35: 10424565 | C35: 146700.36 | D35: 313237.37 | E35: 282393.4 | F35: =SUM(B35:E35) -> 11166896 | G35: 710 | H35: ครั้ง | I35: =SUM(F35/G35) -> 15728.023
A36: 6. ด้านอำนวยการ พิธีการและประสานราชการ | B36: 8687137.7 | C36: 146700.36 | D36: 234928.03 | E36: 282393.4 | F36: =SUM(B36:E36) -> 9351159.5 | G36: 5465 | H36: เรื่อง | I36: =SUM(F36/G36) -> 1711.0996
A37: 7. ด้านบำรุงรักษา อาคาร สถานที่ | B37: 5212282.6 | C37: 97800.24 | D37: 234928.03 | E37: 282393.42 | F37: =SUM(B37:E37) -> 5827404.3 | G37: 812 | H37: ครั้ง | I37: =SUM(F37/G37) -> 7176.6063
A38: 8. ด้านแผนงาน | B38: 10078984 | C38: 0 | D38: 501863.39 | E38: 3180073.4 | F38: =SUM(B38:E38) -> 13760921 | G38: 1 | H38: ด้าน | I38: =SUM(F38/G38) -> 13760921
A39: 9. ศึกษารูปแบบการพัฒนาศักยภาพแรงงาน | B39: 30629536 | C39: 441778.72 | D39: 1211864.4 | E39: 422290.41 | F39: =SUM(B39:E39) -> 32705469 | G39: 23 | H39: โครงการ | I39: =SUM(F39/G39) -> 1421976.9
A40: 10. ส่งเสริมศักยภาพมาตรฐานฝีมือแรงงานไทยในต่างประเทศ | B40: 8469152.7 | C40: 0 | D40: 170187.59 | E40: 131522.75 | F40: =SUM(B40:E40) -> 8770863.1 | G40: 200 | H40: คน | I40: =SUM(F40/G40) -> 43854.315
A41: 11. พัฒนามาตรฐานฝีมือแรงงานแห่งชาติ | B41: 10008999 | C41: 0 | D41: 201130.79 | E41: 155435.97 | F41: =SUM(B41:E41) -> 10365565 | G41: 20 | H41: สาขา | I41: =SUM(F41/G41) -> 518278.27
A42: 12. การแข่งขันฝีมือแรงงาน | B42: =48505147.48+84607.71+1371070.65 -> 49960826 | C42: =3650654.91-101920.12 -> 3548734.8 | D42: =974710.76+75820.52 -> 1050531.3 | E42: =753266.63+17312.4+44235.91 -> 814814.94 | F42: =SUM(B42:E42) -> 55374907 | G42: 60 | H42: สาขา | I42: =SUM(F42/G42) -> 922915.11
...

Sheet ตารางที่ 4 ส่ง
A1: กรมพัฒนาฝีมือแรงงาน
A2: รายงานการคำนวณต้นทุนผลผลิต
A3: ประจำปีงบประมาณ พ.ศ. 2558
A4: ตารางที่ 4 รายงานต้นทุนกิจกรรมหลักแยกตามแหล่งเงิน
I5: หน่วย : บาท
A6: กิจกรรมหลัก | B6: เงินในงบประมาณ | C6: เงินนอกงบประมาณ | D6: งบกลาง | E6: ค่าเสื่อมราคา | F6: ต้นทุนรวม | G6: ปริมาณ | H6: หน่วยนับ | I6: ต้นทุนต่อหน่วย
A8: 1. เสริมสร้างธรรมาภิบาลป้องกันและลดความเสี่ยงในการเกิดการทุจริต | B8: =2053058134.99*0.1/100 -> 2053058.1 | C8: =14900172.28*0.1/100 -> 14900.172 | D8: =99371411.75*0.1/100 -> 99371.412 | E8: =242606051.05*0.1/100 -> 242606.05 | F8: =SUM(B8:E8) -> 2409935.8 | G8: 589 | H8: คน | I8: =SUM(F8/G8) -> 4091.5718
A9: และประพฤติมิชอบ
A10: 2. เพิ่มขีดความสามารถของแรงงานรองรับประชาคมอาเซียน | B10: =2053058134.99*22.49/100 -> 4.6173277e+08 | C10: =14900172.28*22.49/100 -> 3351048.7 | D10: =99371411.75*22.49/100 -> 22348631 | E10: =242606051.05*22.49/100 -> 54562101 | F10: =SUM(B10:E10) -> 5.4199455e+08 | G10: 149401 | H10: คน | I10: =+F10/G10 -> 3627.784
A11: 3. พัฒนาฝีมือและศักยภาพกลุ่มเครือข่ายแรงงานนานาชาติ | B11: =2053058134.99*4.13/100 -> 84791301 | C11: =14900172.28*4.13/100 -> 615377.12 | D11: =99371411.75*4.13/100 -> 4104039.3 | E11: =242606051.05*4.13/100 -> 10019630 | F11: =SUM(B11:E11) -> 99530347 | G11: 2210 | H11: คน | I11: =+F11/G11 -> 45036.356
A12: 4. ฝึกอบรมฝีมือแรงงานตามโครงการอันเนื่องมาจากพระราชดำริ | B12: =2053058134.99*0.6/100 -> 12318349 | C12: =14900172.28*0.6/100 -> 89401.034 | D12: =99371411.75*0.6/100 -> 596228.47 | E12: =242606051.05*0.6/100 -> 1455636.3 | F12: =SUM(B12:E12) -> 14459615 | G12: 3604 | H12: คน | I12: =SUM(F12/G12) -> 4012.1017
A13: 5. ฝึกอบรมคนพิการร่วมกับมูลนิธิขาเทียมในสมเด็จพระศรีนครินทรา | B13: =2053058134.99*0.13/100 -> 2668975.6 | C13: =14900172.28*0.13/100 -> 19370.224 | D13: =99371411.75*0.13/100 -> 129182.84 | E13: =242606051.05*0.13/100 -> 315387.87 | F13: =SUM(B13:E13) -> 3132916.5 | G13: 59 | H13: คน | I13: =SUM(F13/G13) -> 53100.28
A14: บรมราชชนนี | F14: =SUM(B14:E14) -> 0
A15: 6. ฝึกอาชีพแรงงานกลุ่มเฉพาะ | B15: =2053058134.99*0.57/100 -> 11702431 | C15: =14900172.28*0.57/100 -> 84930.982 | D15: =99371411.75*0.57/100 -> 566417.05 | E15: =242606051.05*0.57/100 -> 1382854.5 | F15: =SUM(B15:E15) -> 13736634 | G15: 9592 | H15: คน | I15: =SUM(F15/G15) -> 1432.0928
A16: 7. จัดตั้งศูนย์ฯในสถานประกอบการเทิดไท้พระบิดาแห่งมาตรฐาน | B16: =2053058134.99*0.18/100 -> 3695504.6 | C16: =14900172.28*0.18/100 -> 26820.31 | D16: =99371411.75*0.18/100 -> 178868.54 | E16: =242606051.05*0.18/100 -> 436690.89 | F16: =SUM(B16:E16) -> 4337884.4 | G16: 87 | H16: แห่ง | I16: =SUM(F16/G16) -> 49860.74
A17: การช่างไทย | F17: =SUM(B17:E17) -> 0
A18: 8. ยกระดับทักษะฝีมือแรงงานให้มีศักยภาพและผลิตภาพเพื่อการแข่งขัน | B18: =2053058134.99*3.42/100 -> 70214588 | C18: =14900172.28*3.42/100 -> 509585.89 | D18: =99371411.75*3.42/100 -> 3398502.3 | E18: =242606051.05*3.42/100 -> 8297126.9 | F18: =SUM(B18:E18) -> 82419803 | G18: 260 | H18: แห่ง | I18: =+F18/G18 -> 316999.24
A19: 9. พัฒนาฝีมือเพื่อเพิ่มโอกาสในการประกอบอาชีพ | B19: =2053058134.99*6.8/100 -> 1.3960795e+08 | C19: =14900172.28*6.8/100 -> 1013211.7 | D19: =99371411.75*6.8/100 -> 6757256 | E19: =242606051.05*6.8/100 -> 16497211 | F19: =SUM(B19:E19) -> 1.6387563e+08 | G19: 10324 | H19: คน | I19: =+F19/G19 -> 15873.269
A20: 10. พัฒนา/ส่งเสริมการประกอบอาชีพอิสระ | B20: =2053058134.99*3.88/100 -> 79658656 | C20: =14900172.28*3.88/100 -> 578126.68 | D20: =99371411.75*3.88/100 -> 3855610.8 | E20: =242606051.05*3.88/100 -> 9413114.8 | F20: =SUM(B20:E20) -> 93505508 | G20: 2273 | H20: คน | I20: =+F20/G20 -> 41137.487
A21: 11. ทดสอบมาตรฐานฝีมือแรงงาน | B21: =2053058134.99*7.99/100 -> 1.6403934e+08 | C21: =14900172.28*7.99/100 -> 1190523.8 | D21: =99371411.75*7.99/100 -> 7939775.8 | E21: =242606051.05*7.99/100 -> 19384223 | F21: =SUM(B21:E21) -> 1.9255387e+08 | G21: 44001 | H21: คน | I21: =+F21/G21 -> 4376.1248
A22: 12. จัดทำหลักเกณฑ์ พัฒนา/ส่งเสริมมาตรฐานฝีมือแรงงาน | B22: =2053058134.99*6.05/100 -> 1.2421002e+08 | C22: =14900172.28*6.05/100 -> 901460.42 | D22: =99371411.75*6.05/100 -> 6011970.4 | E22: =242606051.05*6.05/100 -> 14677666 | F22: =SUM(B22:E22) -> 1.4580111e+08 | G22: 28 | H22: สาขา | I22: =SUM(F22/G22) -> 5207182.6
A23: 13. พัฒนาระบบฝึกอบรมฝีมือแรงงาน | B23: =2053058134.99*3/100 -> 61591744 | C23: =14900172.28*3/100 -> 447005.17 | D23: =99371411.75*3/100 -> 2981142.4 | E23: =242606051.05*3/100 -> 7278181.5 | F23: =SUM(B23:E23) -> 72298073 | G23: 111 | H23: หลักสูตร | I23: =SUM(F23/G23) -> 651333.99
A24: 14. ส่งเสริมและสนับสนุนให้สถานประกอบกิจการดำเนินการฝึกอบรม | B24: =2053058134.99*37.68/100 -> 7.7359231e+08 | C24: =14900172.28*37.68/100 -> 5614384.9 | D24: =99371411.75*37.68/100 -> 37443148 | E24: =242606051.05*37.68/100 -> 91413960 | F24: =SUM(B24:E24) -> 9.080638e+08 | G24: 4456177 | H24: คน | I24: =SUM(F24/G24) -> 203.77642
A25: ฝีมือแรงงานตามพระราชบัญญัติส่งเสริมการพัฒนาฝีมือแรงงานพ.ศ. 2545
A26: 15. พัฒนาศักยภาพแรงงานเพื่อรองรับการจ่ายค่าจ้างตามมาตรฐานฝีมือแรงงาน | B26: =2053058134.99*2.32/100 -> 47630949 | C26: =14900172.28*2.32/100 -> 345684 | D26: =99371411.75*2.32/100 -> 2305416.8 | E26: =242606051.05*2.32/100 -> 5628460.4 | F26: =SUM(B26:E26) -> 55910510 | G26: 15885 | H26: คน | I26: =SUM(F26/G26) -> 3519.7047
A27: 16. พัฒนาเทคโนโลยีสารสนเทศและการสื่อสาร | B27: =2053058134.99*0.66/100 -> 13550184 | C27: =14900172.28*0.66/100 -> 98341.137 | D27: =99371411.75*0.66/100 -> 655851.32 | E27: =242606051.05*0.66/100 -> 1601199.9 | F27: =SUM(B27:E27) -> 15905576 | G27: 79 | H27: แห่ง | I27: =SUM(F27/G27) -> 201336.41
A28: รวมต้นทุนผลผลิต | B28: =+B10+B11+B19+B20+B27+B21+B22+B23+B24+B26+B8+B12+B13+B15+B16+B18 -> 2.0530581e+09 | C28: =+C10+C11+C19+C20+C27+C21+C22+C23+C24+C26+C8+C12+C13+C15+C16+C18 -> 14900172 | D28: =+D10+D11+D19+D20+D27+D21+D22+D23+D24+D26+D8+D12+D13+D15+D16+D18 -> 99371412 | E28: =+E10+E11+E19+E20+E27+E21+E22+E23+E24+E26+E8+E12+E13+E15+E16+E18 -> 2.4260605e+08 | F28: =+F10+F11+F19+F20+F27+F21+F22+F23+F24+F26+F8+F12+F13+F15+F16+F18 -> 2.4099358e+09 | G28: =+G10+G11+G19+G20+G21+G24+G26+G8+G12+G13+G15 -> 4694115 | I28: =+F28/G28 -> 513.39513

Sheet ตารางที่ 5 ส่ง
A1: กรมพัฒนาฝีมือแรงงาน
A2: รายงานการคำนวณต้นทุนผลผลิต
A3: ประจำปีงบประมาณ พ.ศ. 2558
A5: ตารางที่ 5 รายงานต้นทุนผลผลิตย่อยแยกตามแหล่งเงิน
I6: หน่วย : บาท
A7: กิจกรรมหลัก | B7: เงินในงบประมาณ | C7: เงินนอกงบประมาณ | D7: งบกลาง | E7: ค่าเสื่อมราคา | F7: ต้นทุนรวม | G7: ปริมาณ | H7: หน่วยนับ | I7: ต้นทุนต่อหน่วย
A9: 1. เสริมสร้างธรรมาภิบาลป้องกันและลดความเสี่ยงในการเกิดการทุจริต | B9: =2053058134.99*0.1/100 -> 2053058.1 | C9: =14900172.28*0.1/100 -> 14900.172 | D9: =99371411.75*0.1/100 -> 99371.412 | E9: =242606051.05*0.1/100 -> 242606.05 | F9: =SUM(B9:E9) -> 2409935.8 | G9: 589 | H9: คน | I9: =SUM(F9/G9) -> 4091.5718
A10: และประพฤติมิชอบ
A11: 2. เพิ่มขีดความสามารถของแรงงานรองรับประชาคมอาเซียน | B11: =2053058134.99*22.49/100 -> 4.6173277e+08 | C11: =14900172.28*22.49/100 -> 3351048.7 | D11: =99371411.75*22.49/100 -> 22348631 | E11: =242606051.05*22.49/100 -> 54562101 | F11: =SUM(B11:E11) -> 5.4199455e+08 | G11: 149401 | H11: คน | I11: =+F11/G11 -> 3627.784
A12: 3. พัฒนาฝีมือและศักยภาพกลุ่มเครือข่ายแรงงานนานาชาติ | B12: =2053058134.99*4.13/100 -> 84791301 | C12: =14900172.28*4.13/100 -> 615377.12 | D12: =99371411.75*4.13/100 -> 4104039.3 | E12: =242606051.05*4.13/100 -> 10019630 | F12: =SUM(B12:E12) -> 99530347 | G12: 2210 | H12: คน | I12: =+F12/G12 -> 45036.356
A13: 4. ฝึกอบรมฝีมือแรงงานตามโครงการอันเนื่องมาจากพระราชดำริ | B13: =2053058134.99*0.6/100 -> 12318349 | C13: =14900172.28*0.6/100 -> 89401.034 | D13: =99371411.75*0.6/100 -> 596228.47 | E13: =242606051.05*0.6/100 -> 1455636.3 | F13: =SUM(B13:E13) -> 14459615 | G13: 3604 | H13: คน | I13: =SUM(F13/G13) -> 4012.1017
A14: 5. ฝึกอบรมคนพิการร่วมกับมูลนิธิขาเทียมในสมเด็จพระศรีนครินทรา | B14: =2053058134.99*0.13/100 -> 2668975.6 | C14: =14900172.28*0.13/100 -> 19370.224 | D14: =99371411.75*0.13/100 -> 129182.84 | E14: =242606051.05*0.13/100 -> 315387.87 | F14: =SUM(B14:E14) -> 3132916.5 | G14: 59 | H14: คน | I14: =SUM(F14/G14) -> 53100.28
A15: บรมราชชนนี | F15: =SUM(B15:E15) -> 0
A16: 6. ฝึกอาชีพแรงงานกลุ่มเฉพาะ | B16: =2053058134.99*0.57/100 -> 11702431 | C16: =14900172.28*0.57/100 -> 84930.982 | D16: =99371411.75*0.57/100 -> 566417.05 | E16: =242606051.05*0.57/100 -> 1382854.5 | F16: =SUM(B16:E16) -> 13736634 | G16: 9592 | H16: คน | I16: =SUM(F16/G16) -> 1432.0928
A17: 7. จัดตั้งศูนย์ฯในสถานประกอบการเทิดไท้พระบิดาแห่งมาตรฐาน | B17: =2053058134.99*0.18/100 -> 3695504.6 | C17: =14900172.28*0.18/100 -> 26820.31 | D17: =99371411.75*0.18/100 -> 178868.54 | E17: =242606051.05*0.18/100 -> 436690.89 | F17: =SUM(B17:E17) -> 4337884.4 | G17: 87 | H17: แห่ง | I17: =SUM(F17/G17) -> 49860.74
A18: การช่างไทย | F18: =SUM(B18:E18) -> 0
A19: 8. ยกระดับทักษะฝีมือแรงงานให้มีศักยภาพและผลิตภาพเพื่อการแข่งขัน | B19: =2053058134.99*3.42/100 -> 70214588 | C19: =14900172.28*3.42/100 -> 509585.89 | D19: =99371411.75*3.42/100 -> 3398502.3 | E19: =242606051.05*3.42/100 -> 8297126.9 | F19: =SUM(B19:E19) -> 82419803 | G19: 260 | H19: แห่ง | I19: =+F19/G19 -> 316999.24
A20: 9. พัฒนาฝีมือเพื่อเพิ่มโอกาสในการประกอบอาชีพ | B20: =2053058134.99*6.8/100 -> 1.3960795e+08 | C20: =14900172.28*6.8/100 -> 1013211.7 | D20: =99371411.75*6.8/100 -> 6757256 | E20: =242606051.05*6.8/100 -> 16497211 | F20: =SUM(B20:E20) -> 1.6387563e+08 | G20: 10324 | H20: คน | I20: =+F20/G20 -> 15873.269
A21: 10. พัฒนา/ส่งเสริมการประกอบอาชีพอิสระ | B21: =2053058134.99*3.88/100 -> 79658656 | C21: =14900172.28*3.88/100 -> 578126.68 | D21: =99371411.75*3.88/100 -> 3855610.8 | E21: =242606051.05*3.88/100 -> 9413114.8 | F21: =SUM(B21:E21) -> 93505508 | G21: 2273 | H21: คน | I21: =+F21/G21 -> 41137.487
A22: 11. ทดสอบมาตรฐานฝีมือแรงงาน | B22: =2053058134.99*7.99/100 -> 1.6403934e+08 | C22: =14900172.28*7.99/100 -> 1190523.8 | D22: =99371411.75*7.99/100 -> 7939775.8 | E22: =242606051.05*7.99/100 -> 19384223 | F22: =SUM(B22:E22) -> 1.9255387e+08 | G22: 44001 | H22: คน | I22: =+F22/G22 -> 4376.1248
A23: 12. จัดทำหลักเกณฑ์ พัฒนา/ส่งเสริมมาตรฐานฝีมือแรงงาน | B23: =2053058134.99*6.05/100 -> 1.2421002e+08 | C23: =14900172.28*6.05/100 -> 901460.42 | D23: =99371411.75*6.05/100 -> 6011970.4 | E23: =242606051.05*6.05/100 -> 14677666 | F23: =SUM(B23:E23) -> 1.4580111e+08 | G23: 28 | H23: สาขา | I23: =SUM(F23/G23) -> 5207182.6
A24: 13. พัฒนาระบบฝึกอบรมฝีมือแรงงาน | B24: =2053058134.99*3/100 -> 61591744 | C24: =14900172.28*3/100 -> 447005.17 | D24: =99371411.75*3/100 -> 2981142.4 | E24: =242606051.05*3/100 -> 7278181.5 | F24: =SUM(B24:E24) -> 72298073 | G24: 111 | H24: หลักสูตร | I24: =SUM(F24/G24) -> 651333.99
A25: 14. ส่งเสริมและสนับสนุนให้สถานประกอบกิจการดำเนินการฝึกอบรม | B25: =2053058134.99*37.68/100 -> 7.7359231e+08 | C25: =14900172.28*37.68/100 -> 5614384.9 | D25: =99371411.75*37.68/100 -> 37443148 | E25: =242606051.05*37.68/100 -> 91413960 | F25: =SUM(B25:E25) -> 9.080638e+08 | G25: 4456177 | H25: คน | I25: =SUM(F25/G25) -> 203.77642
A26: ฝีมือแรงงานตามพระราชบัญญัติส่งเสริมการพัฒนาฝีมือแรงงานพ.ศ. 2545
A27: 15. พัฒนาศักยภาพแรงงานเพื่อรองรับการจ่ายค่าจ้างตามมาตรฐานฝีมือแรงงาน | B27: =2053058134.99*2.32/100 -> 47630949 | C27: =14900172.28*2.32/100 -> 345684 | D27: =99371411.75*2.32/100 -> 2305416.8 | E27: =242606051.05*2.32/100 -> 5628460.4 | F27: =SUM(B27:E27) -> 55910510 | G27: 15885 | H27: คน | I27: =SUM(F27/G27) -> 3519.7047
A28: 16. พัฒนาเทคโนโลยีสารสนเทศและการสื่อสาร | B28: =2053058134.99*0.66/100 -> 13550184 | C28: =14900172.28*0.66/100 -> 98341.137 | D28: =99371411.75*0.66/100 -> 655851.32 | E28: =242606051.05*0.66/100 -> 1601199.9 | F28: =SUM(B28:E28) -> 15905576 | G28: 79 | H28: แห่ง | I28: =SUM(F28/G28) -> 201336.41
A29: รวมต้นทุนผลผลิต | B29: =+B11+B12+B20+B21+B28+B22+B23+B24+B25+B27+B9+B13+B14+B16+B17+B19 -> 2.0530581e+09 | C29: =+C11+C12+C20+C21+C28+C22+C23+C24+C25+C27+C9+C13+C14+C16+C17+C19 -> 14900172 | D29: =+D11+D12+D20+D21+D28+D22+D23+D24+D25+D27+D9+D13+D14+D16+D17+D19 -> 99371412 | E29: =+E11+E12+E20+E21+E28+E22+E23+E24+E25+E27+E9+E13+E14+E16+E17+E19 -> 2.4260605e+08 | F29: =+F11+F12+F20+F21+F28+F22+F23+F24+F25+F27+F9+F13+F14+F16+F17+F19 -> 2.4099358e+09 | G29: =+G11+G12+G20+G21+G22+G25+G27+G9+G13+G14+G16 -> 4694115 | I29: =+F29/G29 -> 513.39513

Sheet ตารางที่ 6 ส่ง
A1: กรมพัฒนาฝีมือแรงงาน
A2: รายงานการคำนวณต้นทุนผลผลิต
A3: ประจำปีงบประมาณ พ.ศ. 2558
A4: ตารางที่ 6 รายงานต้นทุนผลผลิตหลักแยกตามแหล่งเงิน
I5: หน่วย : บาท
A6: ผลผลิตหลัก/โครงการ | B6: เงินในงบประมาณ | C6: เงินนอกงบประมาณ | D6: งบกลาง | E6: ค่าเสื่อมราคา | F6: ต้นทุนรวม | G6: ปริมาณ | H6: หน่วยนับ | I6: ต้นทุนต่อหน่วย
A8: 1. โครงการเสริมสร้างธรรมาภิบาลป้องกันและลดความเสี่ยงในการเกิดการทุจริตและ | B8: =+'[1]ตารางที่ 5 ส่ง'!B27 -> 2053058.1 | C8: =+'[1]ตารางที่ 5 ส่ง'!C27 -> 14900.172 | D8: =+'[1]ตารางที่ 5 ส่ง'!D27 -> 99371.412 | E8: =+'[1]ตารางที่ 5 ส่ง'!E27 -> 242606.05 | F8: =SUM(B8:E8) -> 2409935.8 | G8: 589 | H8: คน | I8: =SUM(F8/G8) -> 4091.5718
A9: ประพฤติมิชอบ
A10: 2. เพิ่มประสิทธิภาพของแรงงานรองรับประชาคมเศรษฐกิจอาเซียน | B10: 5.4652408e+08 | C10: 3966425.9 | D10: 26452670 | E10: 64581731 | F10: =SUM(B10:E10) -> 6.415249e+08 | G10: 151611 | H10: คน | I10: =SUM(F10/G10) -> 4231.3876
A11: 3. โครงการ ฝึกอบรมฝีมือแรงงานตามโครงการอันเนื่องมาจากพระราชดำริ | B11: 30385260 | C11: 220522.55 | D11: 1470696.9 | E11: 3590569.6 | F11: =SUM(B11:E11) -> 35667049 | G11: 13255 | H11: คน | I11: =SUM(F11/G11) -> 2690.8374
A12: 4. พัฒนาศักยภาพแรงงานทั้งระบบให้สอดคล้องกับความต้องการของตลาดแรงงาน | B12: 1.4740957e+09 | C12: 10698324 | D12: 71348674 | E12: 1.7419114e+08 | F12: =SUM(B12:E12) -> 1.7303339e+09 | G12: 4528660 | H12: คน | I12: =SUM(F12/G12) -> 382.08518
A13: และการประกอบอาชีพ
A14: รวมต้นทุนผลผลิต | B14: =++B10+B11+B12++B8 -> 2.0530581e+09 | C14: =++C10+C11+C12++C8 -> 14900172 | D14: =++D10+D11+D12++D8 -> 99371412 | E14: =++E10+E11+E12++E8 -> 2.4260605e+08 | F14: =++F10+F11+F12++F8 -> 2.4099358e+09 | G14: =++G10+G11+G12++G8 -> 4694115 | H14: คน | I14: =SUM(F14/G14) -> 513.39513

Sheet ตารางที่ 7
A1: กรมพัฒนาฝีมือแรงงาน
A2: รายงานการคำนวณต้นทุนผลผลิต
A3: ประจำปีงบประมาณ พ.ศ. 2558
A4: ตารางเปรียบเทียบผลการคำนวณต้นทุนผลผลิตระหว่างปีงบประมาณ พ.ศ. 2557 และปีงบประมาณ พ.ศ. 2558
A6: ตารางที่ 7 เปรียบเทียบผลการคำนวณต้นทุนกิจกรรมย่อยแยกตามแหล่งเงิน
A8: ต้นทุนผลผลิตประจำปีงบประมาณ พ.ศ. 2557 (ต.ค. 56-ก.ย. 57) | J8: ต้นทุนผลผลิตประจำปีงบประมาณ พ.ศ. 2558 (ต.ค. 57-ก.ย. 58) | R8: ผลการเปรียบเทียบ
A9: กิจกรรมย่อย | B9: เงินใน | C9: เงินนอก | D9: งบกลาง | E9: ค่าเสื่อม | F9: ต้นทุน | G9: ปริมาณ | H9: หน่วย | I9: ต้นทุน | J9: เงินใน | K9: เงินนอก | L9: งบกลาง | M9: ค่าเสื่อม | N9: ต้นทุน | O9: ปริมาณ | P9: หน่วย | Q9: ต้นทุน | R9: ต้นทุน | S9: หน่วย | T9: ต้นทุน
B10: งปม. | C10: งปม. | E10: ราคา | F10: รวม | H10: นับ | I10: ต่อหน่วย | J10: งปม. | K10: งปม. | M10: ราคา | N10: รวม | P10: นับ | Q10: ต่อหน่วย | R10: รวม | S10: นับ | T10: ต่อหน่วย
R11: เพิ่ม (ลด) % | S11: เพิ่ม (ลด) % | T11: เพิ่ม (ลด) %
A12: (1) | B12: (2) | C12: (3) | D12: (4) | E12: (5) | F12: (6) =(2) ถึง (5) | G12: (7) | H12: (8) | I12: (9) = (6)/(7) | J12: (10) | K12: (11) | L12: (12) | M12: (13) | N12: (14) | O12: (15) | P12: (16) | Q12: (17) = (14)/(15) | R12: (18) = (14)-(6) | S12: (19) = (15)-(7) | T12: (20) = (17)-(9)
R13: *100/(6) | S13: *100/(7) | T13: *100/(9)
A14: กิจกรรมย่อยของหน่วยงานหลัก | B14: =SUM(B15:B29) -> 1.3155573e+09 | C14: =SUM(C15:C29) -> 16723461 | D14: =SUM(D15:D29) -> 80927945 | E14: =SUM(E15:E29) -> 1.9162907e+08 | F14: =SUM(F15:F29) -> 1.6048378e+09 | G14: =+G15+G16+G17+G18+G19+G20+G21+G22+G25+G28 -> 4475204 | J14: =SUM(J15:J33) -> 1.649908e+09 | K14: =SUM(K15:K33) -> 9078621.6 | L14: =SUM(L15:L33) -> 83496412 | M14: =SUM(M15:M33) -> 2.2585849e+08 | N14: =SUM(N15:N33) -> 1.9683415e+09 | O14: =+O15+O16+O18+O19+O20+O21+O22+O25+O28+O29+O30+O31 -> 4693526
A15: 1. เพิ่มขีดความสามารถของแรงงานรองรับประชาคมอาเซียน | B15: 1.2260994e+08 | C15: 1558626.6 | D15: 7542484.5 | E15: 17859829 | F15: =SUM(B15:E15) -> 1.4957088e+08 | G15: 35454 | H15: คน | I15: =SUM(F15/G15) -> 4218.7308 | J15: 3.7106431e+08 | K15: 2041782 | L15: 18778343 | M15: 50795573 | N15: 4.4268001e+08 | O15: 149401 | P15: คน | Q15: 2963.0324 | R15: =SUM((N15-F15)*100/F15) -> 195.9667 | S15: =SUM((O15-G15)*100/G15) -> 321.39392 | T15: =SUM((Q15-I15)*100/I15) -> -29.764838
A16: 2. พัฒนาฝีมือและศักยภาพกลุ่มเครือข่ายแรงงานนานาชาติ | B16: 23416920 | C16: 297677.61 | D16: 1440517.4 | E16: 3410997.4 | F16: =SUM(B16:E16) -> 28566113 | G16: 1586 | H16: คน | I16: =SUM(F16/G16) -> 18011.42 | J16: 68141200 | K16: 374947.07 | L16: 3448401.8 | M16: 9327955.5 | N16: 81292505 | O16: 2210 | P16: คน | Q16: 36783.939 | R16: =SUM((N16-F16)*100/F16) -> 184.57671 | S16: =SUM((O16-G16)*100/G16) -> 39.344262 | T16: =SUM((Q16-I16)*100/I16) -> 104.22564
A17: 3. ยกระดับทักษะฝีมือแรงงานให้มีศักยภาพและผลิตภาพเพื่อการแข่งขัน | B17: 1.65234e+08 | C17: 2100466.7 | D17: 10164550 | E17: 24068611 | F17: =SUM(B17:E17) -> 2.0156763e+08 | G17: 128332 | H17: คน | I17: =SUM(F17/G17) -> 1570.6732 | J17: 56426854 | K17: 310488.86 | L17: 2855577.3 | M17: 7724360.2 | N17: 67317280 | O17: 260 | P17: แห่ง | Q17: 258912.62 | R17: =SUM((N17-F17)*100/F17) -> -66.603129 | S17: =SUM((O17-G17)*100/G17) -> -99.7974 | T17: =SUM((Q17-I17)*100/I17) -> 16384.182
A18: 4. พัฒนาฝีมือเพื่อเพิ่มโอกาสในการประกอบอาชีพ | B18: 1.0629703e+08 | C18: 1351255.7 | D18: 6538978 | E18: 15483629 | F18: =SUM(B18:E18) -> 1.2967089e+08 | G18: 12553 | H18: คน | I18: =SUM(F18/G18) -> 10329.873 | J18: 1.1219374e+08 | K18: 617346.27 | L18: 5677756 | M18: 15358377 | N18: 1.3384722e+08 | O18: 10324 | P18: คน | Q18: 12964.667 | R18: =SUM((N18-F18)*100/F18) -> 3.2207149 | S18: =SUM((O18-G18)*100/G18) -> -17.756712 | T18: =SUM((Q18-I18)*100/I18) -> 25.506551
A19: 5. พัฒนา/ส่งเสริมการประกอบอาชีพอิสระ | B19: 55516519 | C19: 705730.07 | D19: 3415159.3 | E19: 8086746.6 | F19: =SUM(B19:E19) -> 67724155 | G19: 2288 | H19: คน | I19: =SUM(F19/G19) -> 29599.718 | J19: 64016430 | K19: 352250.52 | L19: 3239660.8 | M19: 8763309.2 | N19: 76371651 | O19: 2273 | P19: คน | Q19: 33599.495 | R19: =SUM((N19-F19)*100/F19) -> 12.768703 | S19: =SUM((O19-G19)*100/G19) -> -0.65559441 | T19: =SUM((Q19-I19)*100/I19) -> 13.512887
A20: 6. พัฒนาฝีมือและศักยภาพแรงงานก่อนเข้าสู่ตลาดแรงงาน | B20: 2.4153632e+08 | C20: 3070427.5 | D20: 14858371 | E20: 35183096 | F20: =SUM(B20:E20) -> 2.9464822e+08 | G20: 3035 | H20: คน | I20: =SUM(F20/G20) -> 97083.433 | J20: 0 | K20: 0 | L20: 0 | M20: 0 | N20: =SUM(J20:M20) -> 0 | O20: 0 | P20: - | Q20: 0 | R20: =SUM((N20-F20)*100/F20) -> -100 | S20: =SUM((O20-G20)*100/G20) -> -100 | T20: =SUM((Q20-I20)*100/I20) -> -100
A21: 7. ทดสอบมาตรฐานฝีมือแรงงาน | B21: 1.1550593e+08 | C21: 1468319.9 | D21: 7105473.6 | E21: 16825032 | F21: =SUM(B21:E21) -> 1.4090476e+08 | G21: 42990 | H21: คน | I21: =SUM(F21/G21) -> 3277.6171 | J21: 1.3182765e+08 | K21: 725381.86 | L21: 6671363.3 | M21: 18046093 | N21: 1.5727049e+08 | O21: 44001 | P21: คน | Q21: 3574.248 | R21: =SUM((N21-F21)*100/F21) -> 11.614746 | S21: =SUM((O21-G21)*100/G21) -> 2.3517097 | T21: =SUM((Q21-I21)*100/I21) -> 9.0502015
A22: 8. ยกระดับฝีมือและศักยภาพแรงงาน | B22: 3.007364e+08 | C22: 3822983.2 | D22: 18500128 | E22: 43806404 | F22: =SUM(B22:E22) -> 3.6686592e+08 | G22: 12698 | H22: คน | I22: =SUM(F22/G22) -> 28891.63 | J22: 0 | K22: 0 | L22: 0 | M22: 0 | N22: =SUM(J22:M22) -> 0 | O22: 0 | P22: - | Q22: 0 | R22: =SUM((N22-F22)*100/F22) -> -100 | S22: =SUM((O22-G22)*100/G22) -> -100 | T22: =SUM((Q22-I22)*100/I22) -> -100
A23: 9. จัดทำหลักเกณฑ์ พัฒนา/ส่งเสริมมาตรฐานฝีมือแรงงาน | B23: 87484562 | C23: 1112110.2 | D23: 5381708.3 | E23: 12743333 | F23: =SUM(B23:E23) -> 1.0672171e+08 | G23: 13 | H23: สาขา | I23: =SUM(F23/G23) -> 8209362.6 | J23: 99819434 | K23: 549256.6 | L23: 5051532.9 | M23: 13664438 | N23: 1.1908466e+08 | O23: 28 | P23: สาขา | Q23: 4253023.6 | R23: =SUM((N23-F23)*100/F23) -> 11.584286 | S23: =SUM((O23-G23)*100/G23) -> 115.38462 | T23: =SUM((Q23-I23)*100/I23) -> -48.19301
A24: 10. พัฒนาระบบฝึกอบรมฝีมือแรงงาน | B24: 44071170 | C24: 560235.95 | D24: 2711086.2 | E24: 6419573.7 | F24: =SUM(B24:E24) -> 53762066 | G24: 128 | H24: หลักสูตร | I24: =SUM(F24/G24) -> 420016.14 | J24: 51147148 | K24: 281437.27 | L24: 2588388.8 | M24: 7001613 | N24: 61018587 | O24: 111 | P24: หลักสูตร | Q24: 549717 | R24: =SUM((N24-F24)*100/F24) -> 13.497474 | S24: =SUM((O24-G24)*100/G24) -> -13.28125 | T24: =SUM((Q24-I24)*100/I24) -> 30.87997
A25: 11. ส่งเสริมและสนับสนุนให้สถานประกอบกิจการดำเนินการ | B25: 20522694 | C25: 260886 | D25: 1262475.9 | E25: 2989413.4 | F25: =SUM(B25:E25) -> 25035470 | G25: 4220799 | H25: คน | I25: =SUM(F25/G25) -> 5.9314527 | J25: 6.2168534e+08 | K25: 3420824.6 | L25: 31461448 | M25: 85103477 | N25: 7.4167109e+08 | O25: 4456177 | P25: คน | Q25: 166.43663 | R25: =SUM((N25-F25)*100/F25) -> 2862.4812 | S25: =SUM((O25-G25)*100/G25) -> 5.5766219 | T25: =SUM((Q25-I25)*100/I25) -> 2706.0011
A26: ฝึกอบรมฝีมือแรงงานตามพระราชบัญญัติส่งเสริมการพัฒนา
A27: ฝีมือแรงงาน พ.ศ. 2545
A28: 12. พัฒนาศักยภาพแรงงานเพื่อรองรับการจ่ายค่าจ้างตามมาตรฐานฝีมือแรงงาน | B28: 32625822 | C28: 414741.84 | D28: 2007013 | E28: 4752400.8 | F28: =SUM(B28:E28) -> 39799977 | G28: 15469 | H28: คน | I28: =SUM(F28/G28) -> 2572.8862 | J28: 38277866 | K28: 210624.02 | L28: 1937116.8 | M28: 5239916.9 | N28: 45665523 | O28: 15885 | P28: คน | Q28: 2874.7575 | R28: =SUM((N28-F28)*100/F28) -> 14.737561 | S28: =SUM((O28-G28)*100/G28) -> 2.6892495 | T28: =SUM((Q28-I28)*100/I28) -> 11.732788
A29: 13. ฝึกอบรมฝีมือแรงงานตามโครงการอันเนื่องมาจากพระราชดำริ | B29: 0 | C29: 0 | D29: 0 | E29: 0 | F29: =SUM(B29:E29) -> 0 | G29: 0 | H29: 0 | I29: 0 | J29: 9899448 | K29: 54471.729 | L29: 500978.47 | M29: 1355150.9 | N29: 11810049 | O29: 3604 | P29: คน | Q29: 3276.9282 | R29: 100 | S29: 100 | T29: 100
A30: 14. ฝึกอบรมคนพิการร่วมกับมูลนิธิขาเทียมในสมเด็จพระศรีนครินทราบรมราชชนนี | B30: 0 | C30: 0 | D30: 0 | E30: 0 | F30: =SUM(B30:E30) -> 0 | G30: 0 | H30: 0 | I30: 0 | J30: 2144880.4 | K30: 11802.208 | L30: 108545.34 | M30: 293616.03 | N30: 2558844 | O30: 59 | P30: คน | Q30: 43370.237 | R30: 100 | S30: 100 | T30: 100
A31: 15. ฝึกอาชีพแรงงานกลุ่มเฉพาะ | B31: 0 | C31: 0 | D31: 0 | E31: 0 | F31: =SUM(B31:E31) -> 0 | G31: 0 | H31: 0 | I31: 0 | J31: 9404475.6 | K31: 51748.143 | L31: 475929.55 | M31: 1287393.4 | N31: 11219547 | O31: 9592 | P31: คน | Q31: 1169.6775 | R31: 100 | S31: 100 | T31: 100
A32: 16. จัดตั้งศูนย์ฯในสถานประกอบการเทิดไท้พระบิดาแห่งมาตรฐานการช่างไทย | B32: 0 | C32: 0 | D32: 0 | E32: 0 | F32: =SUM(B32:E32) -> 0 | G32: 0 | H32: 0 | I32: 0 | J32: 2969834.4 | K32: 16341.519 | L32: 150293.54 | M32: 406545.27 | N32: 3543014.7 | O32: 87 | P32: แห่ง | Q32: 40724.307 | R32: 100 | S32: 100 | T32: 100
A33: 17. พัฒนาเทคโนโลยีสารสนเทศและการสื่อสาร | B33: 0 | C33: 0 | D33: 0 | E33: 0 | F33: =SUM(B33:E33) -> 0 | G33: 0 | H33: 0 | I33: 0 | J33: 10889393 | K33: 59918.902 | L33: 551076.32 | M33: 1490666 | N33: 12991054 | O33: 79 | P33: แห่ง | Q33: 164443.72 | R33: 100 | S33: 100 | T33: 100
A35: กิจกรรมย่อยของหน่วยงานสนับสนุน | B35: =SUM(B36:B72) -> 3.6372707e+08 | C35: =SUM(C36:C72) -> 1073257.7 | D35: =SUM(D36:D72) -> 27221961 | E35: =SUM(E36:E72) -> 13265579 | F35: =SUM(F36:F72) -> 4.0528786e+08 | J35: =SUM(J36:J72) -> 4.0315013e+08 | K35: =SUM(K36:K72) -> 5821550.7 | L35: =SUM(L36:L72) -> 15874999 | M35: =SUM(M36:M72) -> 16747565 | N35: =SUM(N36:N72) -> 4.4159425e+08
A36: 1. บริหารให้หน่วยงานปฏิบัติตามนโยบายที่ได้กำหนดไว้ | B36: 7491966.8 | C36: 35474.99 | D36: 159596.78 | E36: 438659.47 | F36: =SUM(B36:E36) -> 8125698.1 | G36: 11212 | H36: เรื่อง | I36: =SUM(F36/G36) -> 724.73226 | J36: 8545388.5 | K36: 15560.48 | L36: 171942.1 | M36: 432743.82 | N36: =SUM(J36:M36) -> 9165634.9 | O36: 12384 | P36: เรื่อง | Q36: =SUM(N36/O36) -> 740.1191 | R36: =SUM((N36-F36)*100/F36) -> 12.798123 | S36: =SUM((O36-G36)*100/G36) -> 10.453086 | T36: =SUM((Q36-I36)*100/I36) -> 2.1231066
A37: 2. ตรวจติดตามและให้คำแนะนำการปฏิบัติราชการ | B37: 5996573 | C37: 24807.48 | D37: 245510.23 | E37: 177569.41 | F37: =SUM(B37:E37) -> 6444460.2 | G37: 545 | H37: ครั้ง | I37: =SUM(F37/G37) -> 11824.698 | J37: 8462728.5 | K37: 17730.09 | L37: 426545.29 | M37: 253641.61 | N37: =SUM(J37:M37) -> 9160645.5 | O37: 545 | P37: ครั้ง | Q37: =SUM(N37/O37) -> 16808.524 | R37: =SUM((N37-F37)*100/F37) -> 42.1476 | S37: =SUM((O37-G37)*100/G37) -> 0 | T37: =SUM((Q37-I37)*100/I37) -> 42.1476
A38: 3. ด้านงานสารบรรณ | B38: 6665952.1 | C38: 0 | D38: 363574.11 | E38: 164548.38 | F38: =SUM(B38:E38) -> 7194074.6 | G38: 49231 | H38: จำนวนหนังสือเข้า-ออก | I38: =SUM(F38/G38) -> 146.12895 | J38: 5212282.6 | K38: 48900.12 | L38: 313237.37 | M38: 141196.7 | N38: =SUM(J38:M38) -> 5715616.8 | O38: 66077 | P38: จำนวนหนังสือเข้า-ออก | Q38: =SUM(N38/O38) -> 86.499339 | R38: =SUM((N38-F38)*100/F38) -> -20.551049 | S38: =SUM((O38-G38)*100/G38) -> 34.218277 | T38: =SUM((Q38-I38)*100/I38) -> -40.806161
A39: 4. ด้านยานพาหนะ | B39: 6665952.1 | C39: 0 | D39: 545361.17 | E39: 493645.12 | F39: =SUM(B39:E39) -> 7704958.4 | G39: 278308 | H39: กิโลเมตร | I39: =SUM(F39/G39) -> 27.685005 | J39: 5212282.6 | K39: 48900.12 | L39: 469856.06 | M39: 423590.1 | N39: =SUM(J39:M39) -> 6154628.9 | O39: 308923 | P39: จำนวนกิโลเมตร | Q39: =SUM(N39/O39) -> 19.922857 | R39: =SUM((N39-F39)*100/F39) -> -20.121192 | S39: =SUM((O39-G39)*100/G39) -> 11.000402 | T39: =SUM((Q39-I39)*100/I39) -> -28.037371
A40: 5. ด้านประชาสัมพันธ์ | B40: 13318547 | C40: 13357.29 | D40: 363574.12 | E40: 329096.74 | F40: =SUM(B40:E40) -> 14024575 | G40: 712 | H40: ครั้ง | I40: =SUM(F40/G40) -> 19697.437 | J40: 10424565 | K40: 146700.36 | L40: 313237.37 | M40: 282393.4 | N40: =SUM(J40:M40) -> 11166896 | O40: 710 | P40: ครั้ง | Q40: =SUM(N40/O40) -> 15728.023 | R40: =SUM((N40-F40)*100/F40) -> -20.376223 | S40: =SUM((O40-G40)*100/G40) -> -0.28089888 | T40: =SUM((Q40-I40)*100/I40) -> -20.151931
A41: 6. ด้านอำนวยการ พิธีการและประสานราชการ | B41: 11109920 | C41: 0 | D41: 272680.59 | E41: 329096.74 | F41: =SUM(B41:E41) -> 11711697 | G41: 2608 | H41: เรื่อง | I41: =SUM(F41/G41) -> 4490.6815 | J41: 8687137.7 | K41: 146700.36 | L41: 234928.03 | M41: 282393.4 | N41: =SUM(J41:M41) -> 9351159.5 | O41: 5465 | P41: เรื่อง | Q41: =SUM(N41/O41) -> 1711.0996 | R41: =SUM((N41-F41)*100/F41) -> -20.155387 | S41: =SUM((O41-G41)*100/G41) -> 109.54755 | T41: =SUM((Q41-I41)*100/I41) -> -61.896661
A42: 7. ด้านบำรุงรักษา อาคาร สถานที่ | B42: 6665952.1 | C42: 0 | D42: 272680.59 | E42: 329096.74 | F42: =SUM(B42:E42) -> 7267729.4 | G42: 943 | H42: ครั้ง | I42: =SUM(F42/G42) -> 7707.0301 | J42: 5212282.6 | K42: 97800.24 | L42: 234928.03 | M42: 282393.42 | N42: =SUM(J42:M42) -> 5827404.3 | O42: 812 | P42: ครั้ง | Q42: =SUM(N42/O42) -> 7176.6063 | R42: =SUM((N42-F42)*100/F42) -> -19.818089 | S42: =SUM((O42-G42)*100/G42) -> -13.891835 | T42: =SUM((Q42-I42)*100/I42) -> -6.8823379
A43: 8. ด้านแผนงาน | B43: 19740466 | C43: 25150.69 | D43: 684821.8 | E43: 1554863.6 | F43: =SUM(B43:E43) -> 22005302 | G43: 1 | H43: ด้าน | I43: =SUM(F43/G43) -> 22005302 | J43: 10078984 | K43: 0 | L43: 501863.39 | M43: 3180073.4 | N43: =SUM(J43:M43) -> 13760921 | O43: 1 | P43: ด้าน | Q43: =SUM(N43/O43) -> 13760921 | R43: =SUM((N43-F43)*100/F43) -> -37.46543 | S43: =SUM((O43-G43)*100/G43) -> 0 | T43: =SUM((Q43-I43)*100/I43) -> -37.46543
...

Sheet ตารางที่ 7 ต่อ 
A1: ตารางที่ 7 เปรียบเทียบผลการคำนวณต้นทุนกิจกรรมย่อยแยกตามแหล่งเงิน
A2: วิเคราะห์สาเหตุของการเปลี่ยนแปลงของต้นทุนต่อหน่วยกิจกรรมย่อย
A4: 1. เพิ่มขีดความสามารถของแรงงานรองรับ | B4: - มีต้นทุนต่อหน่วยลดลง ร้อยละ 29.76
A5: ประชาคมอาเซียน | B5: เนื่องจาก กรมมีผลการดำเนินงานเพิ่มขึ้น ซึ่งมีภารกิจที่ต้องดำเนินการฝึกอบรม เพื่อรองรับปะชาคมเศรษฐกิจ
B6: อาเซียน (AEC)
A7: 2. พัฒนาฝีมือและศักยภาพกลุ่มเครือข่ายแรงงาน | B7: - มีต้นทุนต่อหน่วยเพิ่มขึ้น ร้อยละ 104.23
A8: นานาชาติ | B8: เนื่องจาก กรมมีเป้าหมายในการดำเนินงานเพิ่มขึ้น และมีผู้สนใจเข้ารับการฝึกอบรมจำนวนมาก
B9: ทั้งนี้ เป้าหมายการฝึกอบรมเพื่อให้สอดคล้องกับความต้องการของสถานประกอบกิจการ
A10: 3. ยกระดับทักษะฝีมือแรงงานให้มีศักยภาพและ | B10: - มีต้นทุนต่อหน่วยเพิ่มขึ้น ร้อยละ 16,384.18
A11: ผลิตภาพเพื่อการแข่งขัน | B11: เนื่องจากมีการเปลี่ยนแปลงหน่วยนับ ทำให้ไม่สามารถเปรียบเทียบได้
A12: 4. พัฒนาฝีมือเพื่อเพิ่มโอกาสในการประกอบอาชีพ | B12: - มีต้นทุนต่อหน่วยเพิ่มขึ้น ร้อยละ 25.51
B13: เนื่องจาก กรมมีเป้าหมายในการดำเนินงานเพิ่มขึ้น ซึ่งมีภารกิจที่ต้องดำเนินการฝึกอบรมเพื่อรองรับประชาคมเศรษฐกิจ
B14: อาเซียน (AEC)
A15: 5. พัฒนาฝีมือและศักยภาพแรงงานก่อนเข้าสู่ | B15: - มีต้นทุนต่อหน่วยลดลง ร้อยละ 100
A16: ตลาดแรงงาน | B16: เนื่องจาก ดำเนินการในปีงบประมาณ 2557 (ในปีงบประมาณ 2558 ไม่ได้ดำเนินการ)
A17: 6. ยกระดับฝีมือและศักยภาพแรงงาน | B17: - มีต้นทุนต่อหน่วยลดลง ร้อยละ 100
B18: เนื่องจาก ดำเนินการในปีงบประมาณ 2557 (ในปีงบประมาณ 2558 ไม่ได้ดำเนินการ)
A19: 7. จัดทำหลักเกณฑ์ พัฒนา/ส่งเสริมมาตรฐาน | B19: - มีต้นทุนต่อหน่วยลดลง ร้อยละ 48.19
A20: ฝีมือแรงงาน | B20: เนื่องจาก กรมมีเป้าหมายในการดำเนินงานเพิ่มขึ้น และมีผลการดำเนินงานที่เพิ่มขึ้น
A21: 8. พัฒนาระบบฝึกอบรมฝีมือแรงงาน | B21: - มีต้นทุนต่อหน่วยลดลง ร้อยละ 30.88
B22: เนื่องจาก กรมมีเป้าหมายในการดำเนินงานเพิ่มขึ้น
A23: 9. ส่งเสริมให้สถานประกอบการดำเนินการตาม | B23: - มีต้นทุนต่อหน่วยเพิ่มขึ้น ร้อยละ 2,706
A24: พ.ร.บ. 2545 | B24: เนื่องจาก กรมมีเป้าหมายในการดำเนินงานลดลง ประกอบกับมีจำนวนผู้เข้ารับการฝึกจำนวนมากขึ้น
A25: 10. ฝึกอบรมฝีมือแรงงานตามโครงการ | B25: - มีต้นทุนต่อหน่วยเพิ่มขึ้น ร้อยละ 100
A26: อันเนื่องมาจากพระราชดำริ | B26: เนื่องจาก ดำเนินการในปีงบประมาณ 2558 (ในปีงบประมาณ 2557 ไม่ได้ดำเนินการ)
A27: 11. ฝึกอบรมคนพิการร่วมกับมูลนิธิขาเทียมใน | B27: - มีต้นทุนต่อหน่วยเพิ่มขึ้น ร้อยละ 100
A28: สมเด็จพระศรีนครินทราบรมราชชนนี | B28: เนื่องจาก ดำเนินการในปีงบประมาณ 2558 (ในปีงบประมาณ 2557 ไม่ได้ดำเนินการ)
A29: 12. ฝึกอาชีพแรงงานกลุ่มเฉพาะ | B29: - มีต้นทุนต่อหน่วยเพิ่มขึ้น ร้อยละ 100
B30: เนื่องจาก ดำเนินการในปีงบประมาณ 2558 (ในปีงบประมาณ 2557 ไม่ได้ดำเนินการ)
A31: 13. จัดตั้งศูนย์ฯในสถานประกอบการเทิดไท้ | B31: - มีต้นทุนต่อหน่วยเพิ่มขึ้น ร้อยละ 100
A32: พระบิดาแห่งมาตรฐานการช่างไทย | B32: เนื่องจาก ดำเนินการในปีงบประมาณ 2558 (ในปีงบประมาณ 2557 ไม่ได้ดำเนินการ)
A33: 14. พัฒนาเทคโนโลยีสารสนเทศและการสื่อสาร | B33: - มีต้นทุนต่อหน่วยเพิ่มขึ้น ร้อยละ 100
B34: เนื่องจาก ดำเนินการในปีงบประมาณ 2558 (ในปีงบประมาณ 2557 ไม่ได้ดำเนินการ)
A35: 15. ตรวจติดตามและให้คำแนะนำการปฏิบัติ | B35: - มีต้นทุนต่อหน่วยเพิ่มขึ้น ร้อยละ 42.15
A36: ราชการ | B36: เนื่องจาก มีค่าใช้จ่ายในภารกิจเพิ่มขึ้น
A37: 16. ด้านงานสารบรรณ | B37: - มีต้นทุนต่อหน่วยลดลง ร้อยละ 40.81
B38: เนื่องจาก มีภารกิจเพิ่มขึ้น และได้ดำเนินการใช้จ่ายงบประมาณเป็นไปอย่างมีประสิทธิภาพตามนโยบายของรัฐบาล
A39: 17. ด้านยานพาหนะ | B39: - มีต้นทุนต่อหน่วยลดลง ร้อยละ 28.04
B40: เนื่องจาก มีภารกิจเพิ่มขึ้น และได้ดำเนินการใช้จ่ายงบประมาณเป็นไปอย่างมีประสิทธิภาพตามนโยบายของรัฐบาล
A41: 18. ด้านประชาสัมพันธ์ | B41: - มีต้นทุนต่อหน่วยลดลง ร้อยละ 20.15
...

Sheet ตารางที่ 8 ส่ง
A1: กรมพัฒนาฝีมือแรงงาน
A2: รายงานการคำนวณต้นทุนผลผลิต
A3: ประจำปีงบประมาณ พ.ศ. 2558
A4: ตารางเปรียบเทียบผลการคำนวณต้นทุนผลผลิตระหว่างปีงบประมาณ พ.ศ. 2557 และปีงบประมาณ พ.ศ. 2558
A6: ตารางที่ 8 เปรียบเทียบผลการคำนวณต้นทุนกิจกรรมหลักแยกตามแหล่งเงิน
A8: ต้นทุนผลผลิตประจำปีงบประมาณ พ.ศ. 2557 (ต.ค. 56-ก.ย. 57) | J8: ต้นทุนผลผลิตประจำปีงบประมาณ พ.ศ. 2558 (ต.ค. 57-ก.ย. 58) | R8: ผลการเปรียบเทียบ
A9: กิจกรรมหลัก | B9: เงินใน | C9: เงินนอก | D9: งบกลาง | E9: ค่าเสื่อม | F9: ต้นทุน | G9: ปริมาณ | H9: หน่วย | I9: ต้นทุน | J9: เงินใน | K9: เงินนอก | L9: งบกลาง | M9: ค่าเสื่อม | N9: ต้นทุน | O9: ปริมาณ | P9: หน่วย | Q9: ต้นทุน | R9: ต้นทุน | S9: หน่วย | T9: ต้นทุน
B10: งปม. | C10: งปม. | E10: ราคา | F10: รวม | H10: นับ | I10: ต่อหน่วย | J10: งปม. | K10: งปม. | M10: ราคา | N10: รวม | P10: นับ | Q10: ต่อหน่วย | R10: รวม | S10: นับ | T10: ต่อหน่วย
R11: เพิ่ม (ลด) | S11: เพิ่ม (ลด) | T11: เพิ่ม (ลด)
R12: % | S12: % | T12: %
A14: (1) | B14: (2) | C14: (3) | D14: (4) | E14: (5) | F14: (6) =(2) ถึง (5) | G14: (7) | H14: (8) | I14: (9) = (6)/(7) | J14: (10) | K14: (11) | L14: (12) | M14: (13) | N14: (14) =(10) ถึง (13) | O14: (15) | P14: (16) | Q14: (17) = (14)/(15) | R14: (18) = (14)-(6) | S14: (19) = (15)-(7) | T14: (20) = (17)-(9)
R15: *100/(6) | S15: *100/(7) | T15: *100/(9)
A16: 1. เสริมสร้างธรรมาภิบาลป้องกันและลดความเสี่ยงในการเกิดการทุจริต | B16: 0 | C16: 0 | D16: 0 | E16: 0 | F16: 0 | G16: 0 | H16: 0 | I16: 0 | J16: =+'ตารางที่ 4 ส่ง'!B8 -> 2053058.1 | K16: =+'ตารางที่ 4 ส่ง'!C8 -> 14900.172 | L16: =+'ตารางที่ 4 ส่ง'!D8 -> 99371.412 | M16: =+'ตารางที่ 4 ส่ง'!E8 -> 242606.05 | N16: =SUM(J16:M16) -> 2409935.8 | O16: 589 | P16: คน | Q16: =+N16/O16 -> 4091.5718 | R16: 100 | S16: 100 | T16: 100
A17: และประพฤติมิชอบ
A18: 2. เพิ่มขีดความสามารถของแรงงานรองรับประชาคมอาเซียน | B18: 1.565093e+08 | C18: 1658654.2 | D18: 10079571 | E18: 19096181 | F18: =SUM(B18:E18) -> 1.8734371e+08 | G18: 35454 | H18: คน | I18: =SUM(F18/G18) -> 5284.1347 | J18: =+'ตารางที่ 4 ส่ง'!B10 -> 4.6173277e+08 | K18: =+'ตารางที่ 4 ส่ง'!C10 -> 3351048.7 | L18: =+'ตารางที่ 4 ส่ง'!D10 -> 22348631 | M18: =+'ตารางที่ 4 ส่ง'!E10 -> 54562101 | N18: =SUM(J18:M18) -> 5.4199455e+08 | O18: 149401 | P18: คน | Q18: =+N18/O18 -> 3627.784 | R18: =SUM((N18-F18)*100/F18) -> 189.30491 | S18: =SUM((O18-G18)*100/G18) -> 321.39392 | T18: =SUM((Q18-I18)*100/I18) -> -31.345732
A19: 3. พัฒนาฝีมือและศักยภาพกลุ่มเครือข่ายแรงงานนานาชาติ | B19: 29891262 | C19: 316781.6 | D19: 1925068.3 | E19: 3647124.7 | F19: =SUM(B19:E19) -> 35780237 | G19: 1586 | H19: คน | I19: =SUM(F19/G19) -> 22560.048 | J19: =+'ตารางที่ 4 ส่ง'!B11 -> 84791301 | K19: =+'ตารางที่ 4 ส่ง'!C11 -> 615377.12 | L19: =+'ตารางที่ 4 ส่ง'!D11 -> 4104039.3 | M19: =+'ตารางที่ 4 ส่ง'!E11 -> 10019630 | N19: =SUM(J19:M19) -> 99530347 | O19: 2210 | P19: คน | Q19: =+N19/O19 -> 45036.356 | R19: =SUM((N19-F19)*100/F19) -> 178.17129 | S19: =SUM((O19-G19)*100/G19) -> 39.344262 | T19: =SUM((Q19-I19)*100/I19) -> 99.628811
A20: 4. ฝึกอบรมฝีมือแรงงานตามโครงการอันเนื่องมาจากพระราชดำริ | B20: 0 | C20: 0 | D20: 0 | E20: 0 | F20: 0 | G20: 0 | H20: 0 | I20: 0 | J20: =+'ตารางที่ 4 ส่ง'!B12 -> 12318349 | K20: =+'ตารางที่ 4 ส่ง'!C12 -> 89401.034 | L20: =+'ตารางที่ 4 ส่ง'!D12 -> 596228.47 | M20: =+'ตารางที่ 4 ส่ง'!E12 -> 1455636.3 | N20: =SUM(J20:M20) -> 14459615 | O20: 3604 | P20: คน | Q20: =+N20/O20 -> 4012.1017 | R20: 100 | S20: 100 | T20: 100
A21: 5. ฝึกอบรมคนพิการร่วมกับมูลนิธิขาเทียมในสมเด็จพระศรีนครินทราบรมราชชนนี | B21: 0 | C21: 0 | D21: 0 | E21: 0 | F21: 0 | G21: 0 | H21: 0 | I21: 0 | J21: =+'ตารางที่ 4 ส่ง'!B13 -> 2668975.6 | K21: =+'ตารางที่ 4 ส่ง'!C13 -> 19370.224 | L21: =+'ตารางที่ 4 ส่ง'!D13 -> 129182.84 | M21: =+'ตารางที่ 4 ส่ง'!E13 -> 315387.87 | N21: =SUM(J21:M21) -> 3132916.5 | O21: 59 | P21: คน | Q21: =+N21/O21 -> 53100.28 | R21: 100 | S21: 100 | T21: 100
A22: 6. ฝึกอาชีพแรงงานกลุ่มเฉพาะ | B22: 0 | C22: 0 | D22: 0 | E22: 0 | F22: 0 | G22: 0 | H22: 0 | I22: 0 | J22: =+'ตารางที่ 4 ส่ง'!B15 -> 11702431 | K22: =+'ตารางที่ 4 ส่ง'!C15 -> 84930.982 | L22: =+'ตารางที่ 4 ส่ง'!D15 -> 566417.05 | M22: =+'ตารางที่ 4 ส่ง'!E15 -> 1382854.5 | N22: =SUM(J22:M22) -> 13736634 | O22: 9592 | P22: คน | Q22: =+N22/O22 -> 1432.0928 | R22: 100 | S22: 100 | T22: 100
A23: 7. จัดตั้งศูนย์ฯในสถานประกอบการเทิดไท้พระบิดาแห่งมาตรฐานการช่างไทย | B23: 0 | C23: 0 | D23: 0 | E23: 0 | F23: 0 | G23: 0 | H23: 0 | I23: 0 | J23: =+'ตารางที่ 4 ส่ง'!B16 -> 3695504.6 | K23: =+'ตารางที่ 4 ส่ง'!C16 -> 26820.31 | L23: =+'ตารางที่ 4 ส่ง'!D16 -> 178868.54 | M23: =+'ตารางที่ 4 ส่ง'!E16 -> 436690.89 | N23: =SUM(J23:M23) -> 4337884.4 | O23: 87 | P23: แห่ง | Q23: =+N23/O23 -> 49860.74 | R23: 100 | S23: 100 | T23: 100
A24: 8. ยกระดับทักษะฝีมือแรงงานให้มีศักยภาพและผลิตภาพเพื่อการแข่งขัน | B24: 2.1091812e+08 | C24: 2235267.9 | D24: 13583628 | E24: 25734767 | F24: =SUM(B24:E24) -> 2.5247178e+08 | G24: 128332 | H24: คน | I24: =SUM(F24/G24) -> 1967.333 | J24: =+'ตารางที่ 4 ส่ง'!B18 -> 70214588 | K24: =+'ตารางที่ 4 ส่ง'!C18 -> 509585.89 | L24: =+'ตารางที่ 4 ส่ง'!D18 -> 3398502.3 | M24: =+'ตารางที่ 4 ส่ง'!E18 -> 8297126.9 | N24: =SUM(J24:M24) -> 82419803 | O24: 260 | P24: แห่ง | Q24: =+N24/O24 -> 316999.24 | R24: =SUM((N24-F24)*100/F24) -> -67.354846 | S24: =SUM((O24-G24)*100/G24) -> -99.7974 | T24: =SUM((Q24-I24)*100/I24) -> 16013.146
A25: 9. พัฒนาฝีมือเพื่อเพิ่มโอกาสในการประกอบอาชีพ | B25: 1.3568618e+08 | C25: 1437974.9 | D25: 8738512.4 | E25: 16555487 | F25: =SUM(B25:E25) -> 1.6241815e+08 | G25: 12553 | H25: คน | I25: =SUM(F25/G25) -> 12938.593 | J25: =+'ตารางที่ 4 ส่ง'!B19 -> 1.3960795e+08 | K25: =+'ตารางที่ 4 ส่ง'!C19 -> 1013211.7 | L25: =+'ตารางที่ 4 ส่ง'!D19 -> 6757256 | M25: =+'ตารางที่ 4 ส่ง'!E19 -> 16497211 | N25: =SUM(J25:M25) -> 1.6387563e+08 | O25: 10324 | P25: คน | Q25: =+N25/O25 -> 15873.269 | R25: =SUM((N25-F25)*100/F25) -> 0.89736234 | S25: =SUM((O25-G25)*100/G25) -> -17.756712 | T25: =SUM((Q25-I25)*100/I25) -> 22.681576
A26: 10. พัฒนา/ส่งเสริมการประกอบอาชีพอิสระ | B26: 70865801 | C26: 751021.54 | D26: 4563926 | E26: 8646554 | F26: =SUM(B26:E26) -> 84827303 | G26: 2288 | H26: คน | I26: =SUM(F26/G26) -> 37074.87 | J26: =+'ตารางที่ 4 ส่ง'!B20 -> 79658656 | K26: =+'ตารางที่ 4 ส่ง'!C20 -> 578126.68 | L26: =+'ตารางที่ 4 ส่ง'!D20 -> 3855610.8 | M26: =+'ตารางที่ 4 ส่ง'!E20 -> 9413114.8 | N26: =SUM(J26:M26) -> 93505508 | O26: 2273 | P26: คน | Q26: =+N26/O26 -> 41137.487 | R26: =SUM((N26-F26)*100/F26) -> 10.230439 | S26: =SUM((O26-G26)*100/G26) -> -0.65559441 | T26: =SUM((Q26-I26)*100/I26) -> 10.957872
A27: 11. พัฒนาฝีมือและศักยภาพแรงงานก่อนเข้าสู่ตลาดแรงงาน | B27: 3.0831661e+08 | C27: 3267477.6 | D27: 19856323 | E27: 37618657 | F27: =SUM(B27:E27) -> 3.6905907e+08 | G27: 3035 | H27: คน | I27: =SUM(F27/G27) -> 121601.01 | J27: 0 | K27: 0 | L27: 0 | M27: 0 | N27: =SUM(J27:M27) -> 0 | O27: 0 | P27: - | Q27: 0 | R27: =SUM((N27-F27)*100/F27) -> -100 | S27: =SUM((O27-G27)*100/G27) -> -100 | T27: =SUM((Q27-I27)*100/I27) -> -100
A28: 12. ทดสอบมาตรฐานฝีมือแรงงาน | B28: 1.4744117e+08 | C28: 1562551.9 | D28: 9495561.7 | E28: 17989750 | F28: =SUM(B28:E28) -> 1.7648903e+08 | G28: 42990 | H28: คน | I28: =SUM(F28/G28) -> 4105.3508 | J28: =+'ตารางที่ 4 ส่ง'!B21 -> 1.6403934e+08 | K28: =+'ตารางที่ 4 ส่ง'!C21 -> 1190523.8 | L28: =+'ตารางที่ 4 ส่ง'!D21 -> 7939775.8 | M28: =+'ตารางที่ 4 ส่ง'!E21 -> 19384223 | N28: =SUM(J28:M28) -> 1.9255387e+08 | O28: 44001 | P28: คน | Q28: =+N28/O28 -> 4376.1248 | R28: =SUM((N28-F28)*100/F28) -> 9.1024554 | S28: =SUM((O28-G28)*100/G28) -> 2.3517097 | T28: =SUM((Q28-I28)*100/I28) -> 6.5956355
A29: 13. ยกระดับฝีมือและศักยภาพแรงงาน | B29: 3.8388441e+08 | C29: 4068330 | D29: 24723068 | E29: 46838916 | F29: =SUM(B29:E29) -> 4.5951473e+08 | G29: 12698 | H29: คน | I29: =SUM(F29/G29) -> 36187.961 | J29: 0 | K29: 0 | L29: 0 | M29: 0 | N29: =SUM(J29:M29) -> 0 | O29: 0 | P29: - | Q29: 0 | R29: =SUM((N29-F29)*100/F29) -> -100 | S29: =SUM((O29-G29)*100/G29) -> -100 | T29: =SUM((Q29-I29)*100/I29) -> -100
A30: 14. จัดทำหลักเกณฑ์ พัฒนา/ส่งเสริมมาตรฐานฝีมือแรงงาน | B30: 1.1167241e+08 | C30: 1183481.8 | D30: 7191968.7 | E30: 13625494 | F30: =SUM(B30:E30) -> 1.3367336e+08 | G30: 13 | H30: สาขา | I30: =SUM(F30/G30) -> 10282566 | J30: =+'ตารางที่ 4 ส่ง'!B22 -> 1.2421002e+08 | K30: =+'ตารางที่ 4 ส่ง'!C22 -> 901460.42 | L30: =+'ตารางที่ 4 ส่ง'!D22 -> 6011970.4 | M30: =+'ตารางที่ 4 ส่ง'!E22 -> 14677666 | N30: =SUM(J30:M30) -> 1.4580111e+08 | O30: 28 | P30: สาขา | Q30: =+N30/O30 -> 5207182.6 | R30: =SUM((N30-F30)*100/F30) -> 9.0726816 | S30: =SUM((O30-G30)*100/G30) -> 115.38462 | T30: =SUM((Q30-I30)*100/I30) -> -49.359112
A31: 15. พัฒนาระบบการฝึกอบรมฝีมือแรงงาน | B31: 56256027 | C31: 596190.09 | D31: 3623021.8 | E31: 6863970.6 | F31: =SUM(B31:E31) -> 67339209 | G31: 128 | H31: หลักสูตร | I31: =SUM(F31/G31) -> 526087.57 | J31: =+'ตารางที่ 4 ส่ง'!B23 -> 61591744 | K31: =+'ตารางที่ 4 ส่ง'!C23 -> 447005.17 | L31: =+'ตารางที่ 4 ส่ง'!D23 -> 2981142.4 | M31: =+'ตารางที่ 4 ส่ง'!E23 -> 7278181.5 | N31: =SUM(J31:M31) -> 72298073 | O31: 111 | P31: หลักสูตร | Q31: =+N31/O31 -> 651333.99 | R31: =SUM((N31-F31)*100/F31) -> 7.3640063 | S31: =SUM((O31-G31)*100/G31) -> -13.28125 | T31: =SUM((Q31-I31)*100/I31) -> 23.807142
A32: 16. ส่งเสริมและสนับสนุนให้สถานประกอบกิจการดำเนินการฝึกอบรม | B32: 26196836 | C32: 277628.82 | D32: 1687138.5 | E32: 3196356.5 | F32: =SUM(B32:E32) -> 31357960 | G32: 4220799 | H32: คน | I32: =SUM(F32/G32) -> 7.4293896 | J32: =+'ตารางที่ 4 ส่ง'!B24 -> 7.7359231e+08 | K32: =+'ตารางที่ 4 ส่ง'!C24 -> 5614384.9 | L32: =+'ตารางที่ 4 ส่ง'!D24 -> 37443148 | M32: =+'ตารางที่ 4 ส่ง'!E24 -> 91413960 | N32: =SUM(J32:M32) -> 9.080638e+08 | O32: 4456177 | P32: คน | Q32: =+N32/O32 -> 203.77642 | R32: =SUM((N32-F32)*100/F32) -> 2795.8 | S32: =SUM((O32-G32)*100/G32) -> 5.5766219 | T32: =SUM((Q32-I32)*100/I32) -> 2642.842
A33: ฝีมือแรงงานตามพระราชบัญญัติส่งเสริมการพัฒนาฝีมือแรงงานพ.ศ. 2545
A34: 17. พัฒนาศักยภาพแรงงานเพื่อรองรับการจ่ายค่าจ้างตามมาตรฐานฝีมือแรงงาน | B34: 41646253 | C34: 441358.63 | D34: 2682117.7 | E34: 5081387.2 | F34: =SUM(B34:E34) -> 49851116 | G34: 15469 | H34: คน | I34: =SUM(F34/G34) -> 3222.6463 | J34: =+'ตารางที่ 4 ส่ง'!B26 -> 47630949 | K34: =+'ตารางที่ 4 ส่ง'!C26 -> 345684 | L34: =+'ตารางที่ 4 ส่ง'!D26 -> 2305416.8 | M34: =+'ตารางที่ 4 ส่ง'!E26 -> 5628460.4 | N34: =SUM(J34:M34) -> 55910510 | O34: 15885 | P34: คน | Q34: =+N34/O34 -> 3519.7047 | R34: =SUM((N34-F34)*100/F34) -> 12.154981 | S34: =SUM((O34-G34)*100/G34) -> 2.6892495 | T34: =SUM((Q34-I34)*100/I34) -> 9.2178406
A35: 18. พัฒนาเทคโนโลยีสารสนเทศและการสื่อสาร | B35: 0 | C35: 0 | D35: 0 | E35: 0 | F35: 0 | G35: 0 | H35: 0 | I35: 0 | J35: =+'ตารางที่ 4 ส่ง'!B27 -> 13550184 | K35: =+'ตารางที่ 4 ส่ง'!C27 -> 98341.137 | L35: =+'ตารางที่ 4 ส่ง'!D27 -> 655851.32 | M35: =+'ตารางที่ 4 ส่ง'!E27 -> 1601199.9 | N35: =SUM(J35:M35) -> 15905576 | O35: 79 | P35: แห่ง | Q35: =+N35/O35 -> 201336.41 | R35: 100 | S35: 100 | T35: 100
