Workbook

Sheet ตารางที่ 1 ส่ง
A1: กรมพัฒนาฝีมือแรงงาน
A2: รายงานการคำนวณต้นทุนผลผลิต
A3: ประจำปีงบประมาณ พ.ศ. 2558
A4: ตารางที่ 1 รายงานต้นทุนรวม โดยแยกประเภทตามแหล่งเงิน
E5: (หน่วย : บาท)
A6: ประเภทค่าใช้จ่าย | B6: เงินในงบประมาณ | C6: เงินนอกงบประมาณ | D6: งบกลาง | E6: รวม | J6: =SUM(J7:J14) -> 0
A7: 1. ค่าใช้จ่ายบุคลากร | B7: 8.4803688e+08 | C7: 26320 | D7: 99367352 | E7: =SUM(B7:D7) -> 9.4743055e+08
A8: 2. ค่าใช้จ่ายด้านการฝึกอบรม | B8: 3.9529856e+08 | C8: 5573005.1 | E8: =SUM(B8:D8) -> 4.0087156e+08
A9: 3. ค่าใช้จ่ายเดินทาง | B9: 57409172 | C9: 50957 | E9: =SUM(B9:D9) -> 57460129
A10: 4. ค่าตอบแทน ใช้สอยวัสดุ และสาธารณูปโภค | B10: 6.5877163e+08 | C10: 6447782.5 | D10: 4060 | E10: =SUM(B10:D10) -> 6.6522348e+08
A11: 5. ค่าเสื่อมราคา | B11: 1.1294643e+08 | C11: 129659619 | E11: =SUM(B11:D11) -> 2.4260605e+08
A12: 6. ค่าใช้จ่ายเงินอุดหนุน | B12: 31644748 | C12: 62595 | E12: =SUM(B12:D12) -> 31707343
A13: 7. ค่าจำหน่ายครุภัณฑ์ | B13: 17008.6 | C13: 2622577.3 | E13: =SUM(B13:D13) -> 2639585.9
A14: 8. ค่าใช้จ่ายอื่นๆ | B14: 61880134 | C14: 116935.36 | E14: =SUM(B14:D14) -> 61997069
A15: รวมต้นทุนผลผลิต | B15: =SUM(B7:B14) -> 2.1660046e+09 | C15: =SUM(C7:C14) -> 1.4455979e+08 | D15: =SUM(D7:D14) -> 99371412 | E15: =SUM(E7:E14) -> 2.4099358e+09
A16: หมายเหตุ :
A17: ค่าใช้จ่ายในระบบ GFMIS | E17: 2.7751065e+09
A19: หัก ต้นทุนที่ไม่เกี่ยวข้องในการผลิตผลผลิต | E19: =SUM(D20:D41) -> 3.6517069e+08
A20: - บำนาญปกติ | D20: 79157381
A21: - บำนาญพิเศษ | D21: 54240
A22: - เงินช่วยเหลือรายเดือนผู้รับเบี้ยหวัดบำนาญ | D22: 516034.4
A23: - เงินช่วยค่าครองชีพผู้รับเบี้ยหวัดบำนาญ | D23: 7491699.1
A24: - เงินบำเหน็จ | D24: 3836671.4
A25: - เงินบำเหน็จตกทอด | D25: 1584394.4
A26: - เงินบำเหน็จดำรงชีพ | D26: 8792128.2
A27: - เงินช่วยพิเศษกรณีผู้รับบำนาญตาย | D27: 404313.99
A28: - บำเหน็จรายเดือนสำหรับการเบิกเงินบำเหน็จลูกจ้าง | D28: 15110993
A32: - เงินช่วยการศึกษาบุตร | D32: 489907.75
A33: - ค่ารักษาพยาบาลผู้ป่วยนอก-รพ.รัฐ-เบี้ยหวัด/บำนาญ | D33: 9109440.3
A34: - ค่ารักษาพยาบาลผู้ป่วยใน-รพ.รัฐ-เบี้ยหวัด/บำนาญ | D34: 3167102.8
... A41: - TE-ภายในกรมเดียวกัน | D41: 1.3551446e+08
A43: รวมต้นทุนผลผลิต | E43: =SUM(E17-E19-E28) -> 2.4099358e+09

Sheet ตารางที่ 2 ส่ง
A1: กรมพัฒนาฝีมือแรงงาน
A2: รายงานการคำนวณต้นทุนผลผลิต
A3: ประจำปีงบประมาณ พ.ศ. 2558
A4: ตารางที่ 2 รายงานต้นทุนตามศูนย์ต้นทุนแยกตามประเภทค่าใช้จ่าย
M5: หน่วย : บาท
B6: ค่าใช้จ่ายทางตรง | H6: ค่าใช้จ่ายทางอ้อม
A7: ศูนย์ต้นทุน | B7: ค่าตอบแทน ใช้สอย | C7: ค่าเสื่อมราคา | D7: ค่าใช้จ่ายบุคลากร | E7: ค่าใช้จ่ายอุดหนุน | F7: ค่าใช้จ่ายอื่น | G7: รวม | H7: ค่าใช้จ่ายบุคลากร | I7: ค่าตอบแทน ใช้สอย | J7: ค่าเสื่อมราคา | K7: ค่าใช้จ่ายอุดหนุน | L7: ค่าใช้จ่ายอื่น | M7: รวม | N7: รวม
B8: วัสดุและ | C8: และตัดจำหน่าย | I8: วัสดุและ | J8: และตัดจำหน่าย
B9: ค่าสาธารณูปโภค | I9: ค่าสาธารณูปโภค
A10: ศูนย์ต้นทุนหลัก | B10: =+B11+B13+B15+B17+B19+B20 -> 8.6657064e+08 | C10: =+C11+C13+C15+C17+C19+C20 -> 2.2539464e+08 | D10: =+D11+D13+D15+D17+D19+D20 -> 20710919 | E10: =+E11+E13+E15+E17+E19+E20 -> 30689326 | F10: =+F11+F13+F15+F17+F19+F20 -> 61997069 | G10: =+G11+G13+G15+G17+G19+G20 -> 1.2053626e+09 | H10: =+H11+H13+H15+H17+H19+H20 -> 7.5798142e+08 | I10: =+I11+I13+I15+I17+I19+I20 -> 3590278.6 | ... N10: =+N11+N13+N15+N17+N19+N20 -> 1.9683415e+09
A11: 1. สถาบันพัฒนาฝีมือ | B11: 2.7204137e+08 | C11: 54080777 | D11: 7970034.2 | E11: 12182971 | F11: 23810995 | G11: =SUM(B11:F11) -> 3.7008615e+08 | H11: 2.8476747e+08 | I11: 232217.09 | J11: 0 | K11: 0 | L11: 0 | M11: =SUM(H11:L11) -> 2.8499969e+08 | N11: =SUM(G11+M11) -> 6.5508584e+08
A12: แรงงานภาค 12 แห่ง
A13: 2. ศูนย์พัฒนาฝีมือแรงงาน | B13: 5.5356135e+08 | C13: 1.6416763e+08 | D13: 12061784 | E13: 18506355 | F13: 38186074 | G13: =SUM(B13:F13) -> 7.8648319e+08 | H13: 4.5694575e+08 | I13: 418053.54 | J13: 0 | K13: 0 | L13: 0 | M13: =SUM(H13:L13) -> 4.573638e+08 | N13: =SUM(G13+M13) -> 1.243847e+09
A14: จังหวัด 65 แห่ง
A15: 3. สถาบันพัฒนาฝีมือ | B15: 30977298 | C15: 6684112.1 | D15: 204004 | E15: 0 | F15: 0 | G15: =SUM(B15:F15) -> 37865415 | H15: 4623849.5 | I15: 6581.05 | J15: 0 | K15: 0 | L15: 0 | M15: =SUM(H15:L15) -> 4630430.5 | N15: =SUM(G15+M15) -> 42495845
A16: แรงงานนานาชาติเชียงแสน
A17: 4. สถาบันพัฒนาบุคลากรในอุตสาหกรรม | B17: 225928.14 | C17: 1068.18 | D17: 82100 | E17: 0 | F17: 0 | G17: =SUM(B17:F17) -> 309096.32 | H17: 2663100.9 | I17: 1566.92 | J17: 0 | K17: 0 | L17: 0 | M17: =SUM(H17:L17) -> 2664667.8 | N17: =SUM(G17+M17) -> 2973764.1
A18: ยานยนต์และชิ้นส่วนอะไหล่ยานยนต์ | M18: =SUM(H18:L18) -> 0 | N18: =SUM(G18+M18) -> 0
A19: 5. กลุ่มงานอุตสาหกรรมบริการ (สพท.) | B19: 4720441.6 | C19: 182017.16 | D19: 321234.25 | E19: 0 | F19: 0 | G19: =SUM(B19:F19) -> 5223693 | H19: 4597712 | I19: 1142329.8 | J19: 634052.09 | K19: 0 | L19: 0 | M19: =SUM(H19:L19) -> 6374094 | N19: =SUM(G19+M19) -> 11597787
A20: 6. กองส่งเสริมการพัฒนาฯ | B20: 5044260 | C20: 279038.62 | D20: 71762 | E20: 0 | F20: 0 | G20: =SUM(B20:F20) -> 5395060.6 | H20: 4383538 | I20: 1789530.2 | J20: 773170.25 | K20: 0 | L20: 0 | M20: =SUM(H20:L20) -> 6946238.5 | N20: =SUM(G20+M20) -> 12341299
A22: ศูนย์ต้นทุนสนับสนุน | B22: =SUM(B23:B38) -> 2.3378809e+08 | C22: =SUM(C23:C38) -> 10288101 | D22: =SUM(D23:D38) -> 6044652.8 | E22: =SUM(E23:E38) -> 1018016.8 | F22: =SUM(F23:F38) -> 0 | G22: =SUM(G23:G38) -> 2.5113887e+08 | H22: =SUM(H23:H38) -> 1.6269356e+08 | I22: =SUM(I23:I38) -> 19606152 | ... N22: =SUM(N23:N38) -> 4.4159425e+08
A23: 1. สำนักอธิบดี | B23: 2697184.6 | C23: 366917.96 | D23: 531685 | E23: 0 | F23: 0 | G23: =SUM(B23:F23) -> 3595787.5 | H23: 5300089.4 | I23: 188371.61 | J23: 81386.34 | K23: 0 | L23: 0 | M23: =SUM(H23:L23) -> 5569847.4 | N23: =SUM(G23+M23) -> 9165634.9
A24: 2. สำนักงานผู้ตรวจราชการกรม | B24: 3086822.9 | C24: 105533.43 | D24: 181593.5 | E24: 0 | F24: 0 | G24: =SUM(B24:F24) -> 3373949.8 | H24: 5179740.2 | I24: 423836.12 | J24: 183119.27 | K24: 0 | L24: 0 | M24: =SUM(H24:L24) -> 5786695.6 | N24: =SUM(G24+M24) -> 9160645.5
A25: 3. สำนักงานเลขานุการกรม | B25: 15817135 | C25: 556236.78 | D25: 661245.5 | E25: 0 | F25: 0 | G25: =SUM(B25:F25) -> 17034618 | H25: 17294576 | I25: 2828489.8 | J25: 1058022.4 | K25: 0 | L25: 0 | M25: =SUM(H25:L25) -> 21181088 | N25: =SUM(G25+M25) -> 38215706
A26: 4. กองแผนงานฯ | B26: 4222627.1 | C26: 6047480.9 | D26: 409583.75 | E26: 0 | F26: 0 | G26: =SUM(B26:F26) -> 10679692 | H26: 15560800 | I26: 894765.12 | J26: 386585.13 | K26: 0 | L26: 0 | M26: =SUM(H26:L26) -> 16842150 | N26: =SUM(G26+M26) -> 27521842
A27: 5. กองพัฒนาศักยภาพฯ | B27: 18207362 | C27: 192634.82 | D27: 237252.75 | E27: 0 | F27: 0 | G27: =SUM(B27:F27) -> 18637249 | H27: 11842717 | I27: 1554065.7 | J27: 671437.31 | K27: 0 | L27: 0 | M27: =SUM(H27:L27) -> 14068220 | N27: =SUM(G27+M27) -> 32705469
A28: 6. สำนักพัฒนามาตรฐานฯ | B28: 1.2542537e+08 | C28: 1463138.8 | D28: 1824896 | E28: 1018016.8 | F28: 0 | G28: =SUM(B28:F28) -> 1.2973142e+08 | H28: 29545417 | I28: 2684295.3 | J28: 1159755.4 | K28: 0 | L28: 0 | M28: =SUM(H28:L28) -> 33389468 | N28: =SUM(G28+M28) -> 1.6312089e+08
A29: 7. สำนักพัฒนาผู้ฝึกฯ | B29: 27571876 | C29: 557806.9 | D29: 519237 | E29: 0 | F29: 0 | G29: =SUM(B29:F29) -> 28648920 | H29: 29219341 | I29: 3284402.8 | J29: 1278526.9 | K29: 0 | L29: 0 | M29: =SUM(H29:L29) -> 33782271 | N29: =SUM(G29+M29) -> 62431191
A30: 8. กองคลัง | B30: 2242695.7 | C30: 376862.5 | D30: 642502.5 | E30: 0 | F30: 0 | G30: =SUM(B30:F30) -> 3262060.7 | H30: 12965957 | I30: 2119780.5 | J30: 915596.35 | K30: 0 | L30: 0 | M30: =SUM(H30:L30) -> 16001334 | N30: =SUM(G30+M30) -> 19263395
A31: 9. กองการเจ้าหน้าที่ | B31: 13131024 | C31: 184843 | D31: 352430 | E31: 0 | F31: 0 | G31: =SUM(B31:F31) -> 13668297 | H31: 14489927 | I31: 2213366.3 | J31: 956289.52 | K31: 0 | L31: 0 | M31: =SUM(H31:L31) -> 17659583 | N31: =SUM(G31+M31) -> 31327879
A32: 10. กลุ่มกฏหมาย | B32: 1100394.4 | C32: 103976.36 | D32: 91080 | E32: 0 | F32: 0 | G32: =SUM(B32:F32) -> 1295450.7 | H32: 5204289.2 | I32: 753486.4 | J32: 325545.36 | K32: 0 | L32: 0 | M32: =SUM(H32:L32) -> 6283321 | N32: =SUM(G32+M32) -> 7578771.7
A33: 11. กองยุทธศาสตร์และเครือข่ายฯ | B33: 5453454.6 | C33: 95579.63 | D33: 265899.75 | E33: 0 | F33: 0 | G33: =SUM(B33:F33) -> 5814934 | H33: 3230326.4 | I33: 753486.38 | J33: 325545.36 | K33: 0 | L33: 0 | M33: =SUM(H33:L33) -> 4309358.2 | N33: =SUM(G33+M33) -> 10124292
A34: 12. กลุ่มพัฒนาระบบบริหาร | B34: 6913310 | C34: 82600.53 | D34: 125091 | E34: 0 | F34: 0 | G34: =SUM(B34:F34) -> 7121001.6 | H34: 4448481.8 | I34: 530640.48 | J34: 223812.43 | K34: 0 | L34: 0 | M34: =SUM(H34:L34) -> 5202934.7 | N34: =SUM(G34+M34) -> 12323936
... A37: 15. สำนักงานรับรองฯ | B37: 2575117.3 | C37: 1056 | D37: 55860 | E37: 0 | F37: 0 | G37: =SUM(B37:F37) -> 2632033.3 | H37: 1301832.1 | I37: 376743.15 | J37: 162772.69 | K37: 0 | L37: 0 | M37: =SUM(H37:L37) -> 1841347.9 | N37: =SUM(G37+M37) -> 4473381.3
A39: รวมต้นทุนผลผลิต | B39: =SUM(B10+B22) -> 1.1003587e+09 | C39: =SUM(C10+C22) -> 2.3568274e+08 | D39: =SUM(D10+D22) -> 26755572 | E39: =SUM(E10+E22) -> 31707343 | F39: =SUM(F10+F22) -> 61997069 | G39: =SUM(B39:F39) -> 1.4565015e+09 | H39: =SUM(H10+H22) -> 9.2067498e+08 | I39: =SUM(I10+I22) -> 23196431 | J39: =SUM(J10+J22) -> 9562895.1 | K39: =SUM(K10+K22) -> 0 | L39: =SUM(L10+L22) -> 0 | M39: =SUM(M10+M22) -> 9.534343e+08 | N39: =SUM(N10+N22) -> 2.4099358e+09
B70: สพท. | D70: สพภ. | G70: สพท. | H70: สพภ.
A71: 5101 | B71: 0 | D71: 74920 | G71: 0 | H71: 0
A72: 5102 | B72: 11666779 | D72: 18919265 | G72: 0 | H72: 0
A73: 5103 | B73: 0 | D73: 8843100 | G73: 0 | H73: 0
A74: 5104 | B74: 23694.5 | D74: 9989251 | G74: 0 | H74: 0
A75: 5107 | B75: 0 | D75: 14803630 | G75: 0 | H75: 0
A77: 2.3125276e+08 | B77: 11690474 | D77: 52630166 | G77: 0 | H77: 0

Sheet ตารางที่ 3 ส่ง
A1: กรมพัฒนาฝีมือแรงงาน
A2: รายงานการคำนวณต้นทุนผลผลิต
A3: ประจำปีงบประมาณ พ.ศ. 2558
A5: ตารางที่ 3 รายงานต้นทุนกิจกรรมย่อยแยกตามแหล่งเงิน
I6: หน่วย : บาท
A7: กิจกรรมย่อย | B7: เงินใน | C7: เงินนอก | D7: งบกลาง | E7: ค่าเสื่อมราคา | F7: ต้นทุนรวม | G7: ปริมาณ | H7: หน่วยนับ | I7: ต้นทุนต่อหน่วย
B8: งบประมาณ | C8: งบประมาณ
A9: กิจกรรมย่อยของหน่วยงานหลัก | B9: =+B10+B11+B12+B13+B14+B15+B16+B17+B18+B21+B22+B23+B25+B26+B28 -> 1.649908e+09 | C9: =+C10+C11+C12+C13+C14+C15+C16+C17+C18+C21+C22+C23+C25+C26+C28 -> 9078621.6 | D9: =+D10+D11+D12+D13+D14+D15+D16+D17+D18+D21+D22+D23+D25+D26+D28 -> 83496412 | E9: =+E10+E11+E12+E13+E14+E15+E16+E17+E18+E21+E22+E23+E25+E26+E28 -> 2.2585849e+08 | F9: =SUM(B9:E9) -> 1.9683415e+09 | G9: =+G10+G22+G23+G25+G11+G13+G14+G15+G18+G21 -> 4693526
A10: 1. เพิ่มขีดความสามารถของแรงงานรองรับประชาคมอาเซียน | B10: =1649908001.93*22.49/100 -> 3.7106431e+08 | C10: =9078621.55*22.49/100 -> 2041782 | D10: =83496412.3*22.49/100 -> 18778343 | E10: =225858485.63*22.49/100 -> 50795573 | F10: =+B10+C10+D10+E10 -> 4.4268001e+08 | G10: 149401 | H10: คน | I10: =+F10/G10 -> 2963.0324
A11: 2. พัฒนาฝีมือและศักยภาพกลุ่มเครือข่ายแรงงานนานาชาติ | B11: =1649908001.93*4.13/100 -> 68141200 | C11: =9078621.55*4.13/100 -> 374947.07 | D11: =83496412.3*4.13/100 -> 3448401.8 | E11: =225858485.63*4.13/100 -> 9327955.5 | F11: =+B11+C11+D11+E11 -> 81292505 | G11: 2210 | H11: คน | I11: =+F11/G11 -> 36783.939
A12: 3. ยกระดับทักษะฝีมือแรงงานให้มีศักยภาพและผลิตภาพเพื่อการแข่งขัน | B12: =1649908001.93*3.42/100 -> 56426854 | C12: =9078621.55*3.42/100 -> 310488.86 | D12: =83496412.3*3.42/100 -> 2855577.3 | E12: =225858485.63*3.42/100 -> 7724360.2 | F12: =+B12+C12+D12+E12 -> 67317280 | G12: 260 | H12: แห่ง | I12: =+F12/G12 -> 258912.62
A13: 4. พัฒนาฝีมือเพื่อเพิ่มโอกาสในการประกอบอาชีพ | B13: =1649908001.93*6.8/100 -> 1.1219374e+08 | C13: =9078621.55*6.8/100 -> 617346.27 | D13: =83496412.3*6.8/100 -> 5677756 | E13: =225858485.63*6.8/100 -> 15358377 | F13: =+B13+C13+D13+E13 -> 1.3384722e+08 | G13: 10324 | H13: คน | I13: =+F13/G13 -> 12964.667
A14: 5. พัฒนา/ส่งเสริมการประกอบอาชีพอิสระ | B14: =1649908001.93*3.88/100 -> 64016430 | C14: =9078621.55*3.88/100 -> 352250.52 | D14: =83496412.3*3.88/100 -> 3239660.8 | E14: =225858485.63*3.88/100 -> 8763309.2 | F14: =+B14+C14+D14+E14 -> 76371651 | G14: 2273 | H14: คน | I14: =SUM(F14/G14) -> 33599.495
A15: 6. ทดสอบมาตรฐานฝีมือแรงงาน | B15: =1649908001.93*7.99/100 -> 1.3182765e+08 | C15: =9078621.55*7.99/100 -> 725381.86 | D15: =83496412.3*7.99/100 -> 6671363.3 | E15: =225858485.63*7.99/100 -> 18046093 | F15: =+B15+C15+D15+E15 -> 1.5727049e+08 | G15: 44001 | H15: คน | I15: =SUM(F15/G15) -> 3574.248
A16: 7. จัดทำหลักเกณฑ์ พัฒนา/ส่งเสริมมาตรฐานฝีมือแรงงาน | B16: =1649908001.93*6.05/100 -> 99819434 | C16: =9078621.55*6.05/100 -> 549256.6 | D16: =83496412.3*6.05/100 -> 5051532.9 | E16: =225858485.63*6.05/100 -> 13664438 | F16: =+B16+C16+D16+E16 -> 1.1908466e+08 | G16: 28 | H16: สาขา | I16: =SUM(F16/G16) -> 4253023.6
A17: 8. พัฒนาระบบฝึกอบรมฝีมือแรงงาน | B17: =1649908001.93*3.1/100 -> 51147148 | C17: =9078621.55*3.1/100 -> 281437.27 | D17: =83496412.3*3.1/100 -> 2588388.8 | E17: =225858485.63*3.1/100 -> 7001613.1 | F17: =+B17+C17+D17+E17 -> 61018587 | G17: 111 | H17: หลักสูตร | I17: =SUM(F17/G17) -> 549717
A18: 9. ส่งเสริมและสนับสนุนให้สถานประกอบกิจการดำเนินการฝึกอบรม | B18: =1649908001.93*37.68/100 -> 6.2168534e+08 | C18: =9078621.55*37.68/100 -> 3420824.6 | D18: =83496412.3*37.68/100 -> 31461448 | E18: =225858485.63*37.68/100 -> 85103477 | F18: =+B18+C18+D18+E18 -> 7.4167109e+08 | G18: 4456177 | H18: คน | I18: =SUM(F18/G18) -> 166.43663
A19: ฝีมือแรงงานตามพระราชบัญญัติส่งเสริมการพัฒนาฝีมือแรงงาน
A20: พ.ศ. 2545
A21: 10. พัฒนาศักยภาพแรงงานเพื่อรองรับการจ่ายค่าจ้างตามมาตรฐานฝีมือแรงงาน | B21: =1649908001.93*2.32/100 -> 38277866 | C21: =9078621.55*2.32/100 -> 210624.02 | D21: =83496412.3*2.32/100 -> 1937116.8 | E21: =225858485.63*2.32/100 -> 5239916.9 | F21: =+B21+C21+D21+E21 -> 45665523 | G21: 15885 | H21: คน | I21: =SUM(F21/G21) -> 2874.7575
A22: 11. ฝึกอบรมฝีมือแรงงานตามโครงการอันเนื่องมาจากพระราชดำริ | B22: =1649908001.93*0.6/100 -> 9899448 | C22: =9078621.55*0.6/100 -> 54471.729 | D22: =83496412.3*0.6/100 -> 500978.47 | E22: =225858485.63*0.6/100 -> 1355150.9 | F22: =+B22+C22+D22+E22 -> 11810049 | G22: 3604 | H22: คน | I22: =SUM(F22/G22) -> 3276.9282
A23: 12. ฝึกอบรมคนพิการร่วมกับมูลนิธิขาเทียมในสมเด็จพระศรีนครินทรา | B23: =1649908001.93*0.13/100 -> 2144880.4 | C23: =9078621.55*0.13/100 -> 11802.208 | D23: =83496412.3*0.13/100 -> 108545.34 | E23: =225858485.63*0.13/100 -> 293616.03 | F23: =+B23+C23+D23+E23 -> 2558844 | G23: 59 | H23: คน | I23: =SUM(F23/G23) -> 43370.237
A24: บรมราชชนนี
A25: 13. ฝึกอาชีพแรงงานกลุ่มเฉพาะ | B25: =1649908001.93*0.57/100 -> 9404475.6 | C25: =9078621.55*0.57/100 -> 51748.143 | D25: =83496412.3*0.57/100 -> 475929.55 | E25: =225858485.63*0.57/100 -> 1287393.4 | F25: =+B25+C25+D25+E25 -> 11219547 | G25: 9592 | H25: คน | I25: =SUM(F25/G25) -> 1169.6775
A26: 14. จัดตั้งศูนย์ฯในสถานประกอบการเทิดไท้พระบิดาแห่งมาตรฐาน | B26: =1649908001.93*0.18/100 -> 2969834.4 | C26: =9078621.55*0.18/100 -> 16341.519 | D26: =83496412.3*0.18/100 -> 150293.54 | E26: =225858485.63*0.18/100 -> 406545.27 | F26: =+B26+C26+D26+E26 -> 3543014.7 | G26: 87 | H26: แห่ง | I26: =SUM(F26/G26) -> 40724.307
A27: การช่างไทย
A28: 15. พัฒนาเทคโนโลยีสารสนเทศและการสื่อสาร | B28: =1649908001.93*0.66/100 -> 10889393 | C28: =9078621.55*0.66/100 -> 59918.902 | D28: =83496412.3*0.66/100 -> 551076.32 | E28: =225858485.63*0.66/100 -> 1490666 | F28: =+B28+C28+D28+E28 -> 12991054 | G28: 79 | H28: แห่ง | I28: =SUM(F28/G28) -> 164443.72
A30: กิจกรรมย่อยของหน่วยงานสนับสนุน | B30: =SUM(B31:B67) -> 4.0315013e+08 | C30: =SUM(C31:C67) -> 5821550.7 | D30: =SUM(D31:D67) -> 15874999 | E30: =SUM(E31:E67) -> 16747565 | F30: =SUM(B30:E30) -> 4.4159425e+08
A31: 1. บริหารให้หน่วยงานปฏิบัติตามนโยบายที่ได้กำหนดไว้ | B31: 8545388.5 | C31: 15560.48 | D31: 171942.1 | E31: 432743.82 | F31: =SUM(B31:E31) -> 9165634.9 | G31: 12384 | H31: เรื่อง | I31: =SUM(F31/G31) -> 740.1191
A32: 2. ตรวจติดตามและให้คำแนะนำการปฏิบัติราชการ | B32: 8462728.5 | C32: 17730.09 | D32: 426545.29 | E32: 253641.61 | F32: =SUM(B32:E32) -> 9160645.5 | G32: 545 | H32: ครั้ง | I32: =SUM(F32/G32) -> 16808.524
A33: 3. ด้านงานสารบรรณ | B33: 5212282.6 | C33: 48900.12 | D33: 313237.37 | E33: 141196.7 | F33: =SUM(B33:E33) -> 5715616.8 | G33: 66077 | H33: จำนวนหนังสือเข้า-ออก | I33: =SUM(F33/G33) -> 86.499339
A34: 4. ด้านยานพาหนะ | B34: 5212282.6 | C34: 48900.12 | D34: 469856.06 | E34: 423590.1 | F34: =SUM(B34:E34) -> 6154628.9 | G34: 308923 | H34: จำนวนกิโลเมตร | I34: =SUM(F34/G34) -> 19.922857
A35: 5. ด้านประชาสัมพันธ์ | B35: 10424565 | C35: 146700.36 | D35: 313237.37 | E35: 282393.4 | F35: =SUM(B35:E35) -> 11166896 | G35: 710 | H35: ครั้ง | I35: =SUM(F35/G35) -> 15728.023
A36: 6. ด้านอำนวยการ พิธีการและประสานราชการ | B36: 8687137.7 | C36: 146700.36 | D36: 234928.03 | E36: 282393.4 | F36: =SUM(B36:E36) -> 9351159.5 | G36: 5465 | H36: เรื่อง | I36: =SUM(F36/G36) -> 1711.0996
A37: 7. ด้านบำรุงรักษา อาคาร สถานที่ | B37: 5212282.6 | C37: 97800.24 | D37: 234928.03 | E37: 282393.42 | F37: =SUM(B37:E37) -> 5827404.3 | G37: 812 | H37: ครั้ง | I37: =SUM(F37/G37) -> 7176.6063
A38: 8. ด้านแผนงาน | B38: 10078984 | C38: 0 | D38: 501863.39 | E38: 3180073.4 | F38: =SUM(B38:E38) -> 13760921 | G38: 1 | H38: ด้าน | I38: =SUM(F38/G38) -> 13760921
A39: 9. ศึกษารูปแบบการพัฒนาศักยภาพแรงงาน | B39: 30629536 | C39: 441778.72 | D39: 1211864.4 | E39: 422290.41 | F39: =SUM(B39:E39) -> 32705469 | G39: 23 | H39: โครงการ | I39: =SUM(F39/G39) -> 1421976.9
A40: 10. ส่งเสริมศักยภาพมาตรฐานฝีมือแรงงานไทยในต่างประเทศ | B40: 8469152.7 | C40: 0 | D40: 170187.59 | E40: 131522.75 | F40: =SUM(B40:E40) -> 8770863.1 | G40: 200 | H40: คน | I40: =SUM(F40/G40) -> 43854.315
A41: 11. พัฒนามาตรฐานฝีมือแรงงานแห่งชาติ | B41: 10008999 | C41: 0 | D41: 201130.79 | E41: 155435.97 | F41: =SUM(B41:E41) -> 10365565 | G41: 20 | H41: สาขา | I41: =SUM(F41/G41) -> 518278.27
A42: 12. การแข่งขันฝีมือแรงงาน | B42: =48505147.48+84607.71+1371070.65 -> 49960826 | C42: =3650654.91-101920.12 -> 3548734.8 | D42: =974710.76+75820.52 -> 1050531.3 | E42: =753266.63+17312.4+44235.91 -> 814814.94 | F42: =SUM(B42:E42) -> 55374907 | G42: 60 | H42: สาขา | I42: =SUM(F42/G42) -> 922915.11
A43: 13. พัฒนาระบบรับรองมาตรฐานฝีมือแรงงานแห่งชาติ | B43: =43885609.62+1371070.65 -> 45256680 | C43: 0 | D43: =881881.15+75820.52 -> 957701.67 | E43: =681526.95+44235.91 -> 725762.86 | F43: =SUM(B43:E43) -> 46940145 | G43: 56 | H43: สาขา | I43: =SUM(F43/G43) -> 838216.87
A44: 14. พัฒนาศักยภาพแรงงานเพื่อรองรับการจ่ายค่าจ้างตามมาตรฐานฝีมือแรงงาน | B44: 34646534 | C44: 0 | D44: 696221.96 | E44: 538047.59 | F44: =SUM(B44:E44) -> 35880803 | G44: 14250 | H44: คน | I44: =SUM(F44/G44) -> 2517.9511
A45: 15. ส่งเสริมมาตรฐานฝีมือแรงงานแห่งชาติ | B45: =8469152.74+1371070.66 -> 9840223.4 | C45: 0 | D45: =170187.59+75820.53 -> 246008.12 | E45: =131522.75+44235.91 -> 175758.66 | F45: =SUM(B45:E45) -> 10261990 | G45: 540 | H45: สาขา | I45: =SUM(F45/G45) -> 19003.686
A46: 16. ด้านพัฒนาและจัดทำหลักสูตรการฝึกอบรมฝีมือแรงงาน | B46: 14398786 | C46: 61552.4 | D46: 743976.63 | E46: 403482.89 | F46: =SUM(B46:E46) -> 15607798 | G46: 111 | H46: หลักสูตร | I46: =SUM(F46/G46) -> 140610.79
A47: 17. ด้านพัฒนาและจัดทำชุดการฝึกอบรมฝีมือแรงงาน (ต้นแบบ) | B47: 0 | C47: 0 | D47: 0 | E47: 0 | F47: 0 | G47: 0 | H47: เรื่อง | I47: 0
A48: 18. ด้านพัฒนาและจัดทำสื่อการฝึกอบรมฝีมือแรงงาน | B48: 0 | C48: 0 | D48: 0 | E48: 0 | F48: 0 | G48: 0 | H48: เรื่อง | I48: 0
A49: 19. ด้านพัฒนาบุคลากรฝึก | B49: 8639271.5 | C49: 36931.44 | D49: 446385.98 | E49: 242089.73 | F49: =SUM(B49:E49) -> 9364678.7 | G49: 685 | H49: คน | I49: =SUM(F49/G49) -> 13671.064
A50: 20. ด้านคัดเลือกครูฝึกดีเด่น | B50: 5759514.3 | C50: 24620.96 | D50: 297590.65 | E50: 161393.15 | F50: =SUM(B50:E50) -> 6243119.1 | G50: 1 | H50: โครงการ | I50: =SUM(F50/G50) -> 6243119.1
A51: 21. ด้านการพัฒนาระบบและรูปแบบการฝึก | B51: 8639271.5 | C51: 36931.44 | D51: 446385.98 | E51: 242089.73 | F51: =SUM(B51:E51) -> 9364678.7 | G51: 21 | H51: ครั้ง | I51: =SUM(F51/G51) -> 445937.08
A52: 22. ด้านการประกันคุณภาพการพัฒนาฝีมือแรงงาน | B52: 8639271.5 | C52: 36931.44 | D52: 446385.98 | E52: 242089.73 | F52: =SUM(B52:E52) -> 9364678.7 | G52: 23 | H52: ครั้ง | I52: =SUM(F52/G52) -> 407159.94
A53: 23. ด้านนิเทศการดำเนินงานฝึกอบรมฝีมือแรงงาน | B53: 0 | C53: 0 | D53: 0 | E53: 0 | F53: =SUM(B53:E53) -> 0 | G53: 0 | H53: ครั้ง | I53: 0
A54: 24. พัฒนาสถานฝึก | B54: 5759514.3 | C54: 24620.96 | D54: 297590.64 | E54: 161393.15 | F54: =SUM(B54:E54) -> 6243119.1 | G54: 9 | H54: แห่ง | I54: =SUM(F54/G54) -> 693679.9
A55: 25. พัฒนาครุภัณฑ์การฝึก | B55: 5759514.3 | C55: 24620.96 | D55: 297590.64 | E55: 161393.15 | F55: =SUM(B55:E55) -> 6243119.1 | G55: 27 | H55: สาขา | I55: =SUM(F55/G55) -> 231226.63
A56: 26. ด้านการเงินและบัญชี | B56: =16527168.22*60/100 -> 9916300.9 | C56: =175055.38*60/100 -> 105033.23 | D56: =1443771.65*60/100 -> 866262.99 | E56: =1117399.47*60/100 -> 670439.68 | F56: =SUM(B56:E56) -> 11558037 | G56: 222981 | H56: จำนวนเอกสารรายการ | I56: =SUM(F56/G56) -> 51.834178
A57: 27. ด้านการพัสดุ (จัดซื้อจัดจ้าง) | B57: =16527168.22*40/100 -> 6610867.3 | C57: =175055.38*40/100 -> 70022.152 | D57: =1443771.65*40/100 -> 577508.66 | E57: =1117399.47*40/100 -> 446959.79 | F57: =SUM(B57:E57) -> 7705357.9 | G57: 875 | H57: จำนวนครั้งของการของการจัดซื้อจัดจ้าง | I57: =SUM(F57/G57) -> 8806.1233
A58: 28. ด้านบริหารบุคลากร | B58: 8527421.1 | C58: 112860.25 | D58: 470593.75 | E58: 287488.77 | F58: =SUM(B58:E58) -> 9398363.8 | G58: 2630 | H58: จำนวนบุคลากร | I58: =SUM(F58/G58) -> 3573.5224
A59: 29. ด้านพัฒนาทรัพยากรบุคคล | B59: 19897316 | C59: 263340.58 | D59: 1098052.1 | E59: 670807.13 | F59: =SUM(B59:E59) -> 21929516 | G59: 47612 | H59: จำนวนชั่วโมง/คนการฝึกอบรม | I59: =SUM(F59/G59) -> 460.58799
A60: 30. ด้านงานกฏหมายของกรมพัฒนาฝีมือแรงงาน | B60: 6445502.9 | C60: 202052.12 | D60: 501694.99 | E60: 429521.72 | F60: =SUM(B60:E60) -> 7578771.7 | G60: 4767 | H60: เรื่อง | I60: =SUM(F60/G60) -> 1589.8409
A61: 31. ส่งเสริมประสานความร่วมมือกับภาครัฐ/เอกชน | B61: 8964072.9 | C61: 256586.93 | D61: 545570.65 | E61: 358061.72 | F61: =SUM(B61:E61) -> 10124292 | G61: 906 | H61: ครั้ง | I61: =SUM(F61/G61) -> 11174.715
A62: 32. ด้านพัฒนาระบบบริหารราชการ | B62: 8088951.1 | C62: 25500.55 | D62: 297814.66 | E62: 214489.07 | F62: =SUM(B62:E62) -> 8626755.4 | G62: 1 | H62: ด้าน | I62: =SUM(F62/G62) -> 8626755.4
A63: 33. ดำเนินการเกี่ยวกับระบบควบคุมภายในของกรม | B63: 3466693.3 | C63: 10928.8 | D63: 127634.86 | E63: 91923.89 | F63: =SUM(B63:E63) -> 3697180.9 | G63: 92 | H63: หน่วยงาน | I63: =SUM(F63/G63) -> 40186.749
A64: 34. ด้านการตรวจสอบภายใน | B64: 5103044.6 | C64: 12077.64 | D64: 356038.52 | E64: 298079.57 | F64: =SUM(B64:E64) -> 5769240.3 | G64: 1720 | H64: จำนวนงานตรวจสอบ/คน วัน | I64: =SUM(F64/G64) -> 3354.2095
A65: 35. การประสานความร่วมมือด้านงานต่างประเทศ | B65: 7808233.5 | C65: 4133.6 | D65: 355874.92 | E65: 243730.18 | F65: =SUM(B65:E65) -> 8411972.2 | G65: 1605 | H65: ครั้ง | I65: =SUM(F65/G65) -> 5241.1042
A66: 36. ด้านเทคโนโลยีสารสนเทศภายในหน่วยงาน | B66: 6047390.4 | C66: 0 | D66: 301118.03 | E66: 1908044 | F66: =SUM(B66:E66) -> 8256552.5 | G66: 5594 | H66: จำนวนเครื่องคอมพิวเตอร์ | I66: =SUM(F66/G66) -> 1475.9658
A67: 37. ด้านเครื่อข่ายอินเตอร์เน็ตและเว็บไซต์ | B67: 4031593.6 | C67: 0 | D67: 200745.35 | E67: 1272029.4 | F67: =SUM(B67:E67) -> 5504368.3 | G67: 1 | H67: ระบบ | I67: =SUM(F67/G67) -> 5504368.3
A68: รวมต้นทุนผลผลิต | B68: =SUM(B9+B30) -> 2.0530581e+09 | C68: =SUM(C9+C30) -> 14900172 | D68: =SUM(D9+D30) -> 99371412 | E68: =SUM(E9+E30) -> 2.4260605e+08 | F68: =SUM(F9+F30) -> 2.4099358e+09

Sheet ตารางที่ 4 ส่ง
A1: กรมพัฒนาฝีมือแรงงาน
A2: รายงานการคำนวณต้นทุนผลผลิต
A3: ประจำปีงบประมาณ พ.ศ. 2558
A4: ตารางที่ 4 รายงานต้นทุนกิจกรรมหลักแยกตามแหล่งเงิน
I5: หน่วย : บาท
A6: กิจกรรมหลัก | B6: เงินในงบประมาณ | C6: เงินนอกงบประมาณ | D6: งบกลาง | E6: ค่าเสื่อมราคา | F6: ต้นทุนรวม | G6: ปริมาณ | H6: หน่วยนับ | I6: ต้นทุนต่อหน่วย
A8: 1. เสริมสร้างธรรมาภิบาลป้องกันและลดความเสี่ยงในการเกิดการทุจริต | B8: =2053058134.99*0.1/100 -> 2053058.1 | C8: =14900172.28*0.1/100 -> 14900.172 | D8: =99371411.75*0.1/100 -> 99371.412 | E8: =242606051.05*0.1/100 -> 242606.05 | F8: =SUM(B8:E8) -> 2409935.8 | G8: 589 | H8: คน | I8: =SUM(F8/G8) -> 4091.5718
A9: และประพฤติมิชอบ
A10: 2. เพิ่มขีดความสามารถของแรงงานรองรับประชาคมอาเซียน | B10: =2053058134.99*22.49/100 -> 4.6173277e+08 | C10: =14900172.28*22.49/100 -> 3351048.7 | D10: =99371411.75*22.49/100 -> 22348631 | E10: =242606051.05*22.49/100 -> 54562101 | F10: =SUM(B10:E10) -> 5.4199455e+08 | G10: 149401 | H10: คน | I10: =+F10/G10 -> 3627.784
A11: 3. พัฒนาฝีมือและศักยภาพกลุ่มเครือข่ายแรงงานนานาชาติ | B11: =2053058134.99*4.13/100 -> 84791301 | C11: =14900172.28*4.13/100 -> 615377.12 | D11: =99371411.75*4.13/100 -> 4104039.3 | E11: =242606051.05*4.13/100 -> 10019630 | F11: =SUM(B11:E11) -> 99530347 | G11: 2210 | H11: คน | I11: =+F11/G11 -> 45036.356
A12: 4. ฝึกอบรมฝีมือแรงงานตามโครงการอันเนื่องมาจากพระราชดำริ | B12: =2053058134.99*0.6/100 -> 12318349 | C12: =14900172.28*0.6/100 -> 89401.034 | D12: =99371411.75*0.6/100 -> 596228.47 | E12: =242606051.05*0.6/100 -> 1455636.3 | F12: =SUM(B12:E12) -> 14459615 | G12: 3604 | H12: คน | I12: =SUM(F12/G12) -> 4012.1017
A13: 5. ฝึกอบรมคนพิการร่วมกับมูลนิธิขาเทียมในสมเด็จพระศรีนครินทรา | B13: =2053058134.99*0.13/100 -> 2668975.6 | C13: =14900172.28*0.13/100 -> 19370.224 | D13: =99371411.75*0.13/100 -> 129182.84 | E13: =242606051.05*0.13/100 -> 315387.87 | F13: =SUM(B13:E13) -> 3132916.5 | G13: 59 | H13: คน | I13: =SUM(F13/G13) -> 53100.28
A14: บรมราชชนนี | F14: =SUM(B14:E14) -> 0
A15: 6. ฝึกอาชีพแรงงานกลุ่มเฉพาะ | B15: =2053058134.99*0.57/100 -> 11702431 | C15: =14900172.28*0.57/100 -> 84930.982 | D15: =99371411.75*0.57/100 -> 566417.05 | E15: =242606051.05*0.57/100 -> 1382854.5 | F15: =SUM(B15:E15) -> 13736634 | G15: 9592 | H15: คน | I15: =SUM(F15/G15) -> 1432.0928
A16: 7. จัดตั้งศูนย์ฯในสถานประกอบการเทิดไท้พระบิดาแห่งมาตรฐาน | B16: =2053058134.99*0.18/100 -> 3695504.6 | C16: =14900172.28*0.18/100 -> 26820.31 | D16: =99371411.75*0.18/100 -> 178868.54 | E16: =242606051.05*0.18/100 -> 436690.89 | F16: =SUM(B16:E16) -> 4337884.4 | G16: 87 | H16: แห่ง | I16: =SUM(F16/G16) -> 49860.74
A17: การช่างไทย | F17: =SUM(B17:E17) -> 0
A18: 8. ยกระดับทักษะฝีมือแรงงานให้มีศักยภาพและผลิตภาพเพื่อการแข่งขัน | B18: =2053058134.99*3.42/100 -> 70214588 | C18: =14900172.28*3.42/100 -> 509585.89 | D18: =99371411.75*3.42/100 -> 3398502.3 | E18: =242606051.05*3.42/100 -> 8297126.9 | F18: =SUM(B18:E18) -> 82419803 | G18: 260 | H18: แห่ง | I18: =+F18/G18 -> 316999.24
A19: 9. พัฒนาฝีมือเพื่อเพิ่มโอกาสในการประกอบอาชีพ | B19: =2053058134.99*6.8/100 -> 1.3960795e+08 | C19: =14900172.28*6.8/100 -> 1013211.7 | D19: =99371411.75*6.8/100 -> 6757256 | E19: =242606051.05*6.8/100 -> 16497211 | F19: =SUM(B19:E19) -> 1.6387563e+08 | G19: 10324 | H19: คน | I19: =+F19/G19 -> 15873.269
A20: 10. พัฒนา/ส่งเสริมการประกอบอาชีพอิสระ | B20: =2053058134.99*3.88/100 -> 79658656 | C20: =14900172.28*3.88/100 -> 578126.68 | D20: =99371411.75*3.88/100 -> 3855610.8 | E20: =242606051.05*3.88/100 -> 9413114.8 | F20: =SUM(B20:E20) -> 93505508 | G20: 2273 | H20: คน | I20: =+F20/G20 -> 41137.487
A21: 11. ทดสอบมาตรฐานฝีมือแรงงาน | B21: =2053058134.99*7.99/100 -> 1.6403934e+08 | C21: =14900172.28*7.99/100 -> 1190523.8 | D21: =99371411.75*7.99/100 -> 7939775.8 | E21: =242606051.05*7.99/100 -> 19384223 | F21: =SUM(B21:E21) -> 1.9255387e+08 | G21: 44001 | H21: คน | I21: =+F21/G21 -> 4376.1248
A22: 12. จัดทำหลักเกณฑ์ พัฒนา/ส่งเสริมมาตรฐานฝีมือแรงงาน | B22: =2053058134.99*6.05/100 -> 1.2421002e+08 | C22: =14900172.28*6.05/100 -> 901460.42 | D22: =99371411.75*6.05/100 -> 6011970.4 | E22: =242606051.05*6.05/100 -> 14677666 | F22: =SUM(B22:E22) -> 1.4580111e+08 | G22: 28 | H22: สาขา | I22: =SUM(F22/G22) -> 5207182.6
A23: 13. พัฒนาระบบฝึกอบรมฝีมือแรงงาน | B23: =2053058134.99*3/100 -> 61591744 | C23: =14900172.28*3/100 -> 447005.17 | D23: =99371411.75*3/100 -> 2981142.4 | E23: =242606051.05*3/100 -> 7278181.5 | F23: =SUM(B23:E23) -> 72298073 | G23: 111 | H23: หลักสูตร | I23: =SUM(F23/G23) -> 651333.99
A24: 14. ส่งเสริมและสนับสนุนให้สถานประกอบกิจการดำเนินการฝึกอบรม | B24: =2053058134.99*37.68/100 -> 7.7359231e+08 | C24: =14900172.28*37.68/100 -> 5614384.9 | D24: =99371411.75*37.68/100 -> 37443148 | E24: =242606051.05*37.68/100 -> 91413960 | F24: =SUM(B24:E24) -> 9.080638e+08 | G24: 4456177 | H24: คน | I24: =SUM(F24/G24) -> 203.77642
A25: ฝีมือแรงงานตามพระราชบัญญัติส่งเสริมการพัฒนาฝีมือแรงงานพ.ศ. 2545
A26: 15. พัฒนาศักยภาพแรงงานเพื่อรองรับการจ่ายค่าจ้างตามมาตรฐานฝีมือแรงงาน | B26: =2053058134.99*2.32/100 -> 47630949 | C26: =14900172.28*2.32/100 -> 345684 | D26: =99371411.75*2.32/100 -> 2305416.8 | E26: =242606051.05*2.32/100 -> 5628460.4 | F26: =SUM(B26:E26) -> 55910510 | G26: 15885 | H26: คน | I26: =SUM(F26/G26) -> 3519.7047
A27: 16. พัฒนาเทคโนโลยีสารสนเทศและการสื่อสาร | B27: =2053058134.99*0.66/100 -> 13550184 | C27: =14900172.28*0.66/100 -> 98341.137 | D27: =99371411.75*0.66/100 -> 655851.32 | E27: =242606051.05*0.66/100 -> 1601199.9 | F27: =SUM(B27:E27) -> 15905576 | G27: 79 | H27: แห่ง | I27: =SUM(F27/G27) -> 201336.41
A28: รวมต้นทุนผลผลิต | B28: =+B10+B11+B19+B20+B27+B21+B22+B23+B24+B26+B8+B12+B13+B15+B16+B18 -> 2.0530581e+09 | C28: =+C10+C11+C19+C20+C27+C21+C22+C23+C24+C26+C8+C12+C13+C15+C16+C18 -> 14900172 | D28: =+D10+D11+D19+D20+D27+D21+D22+D23+D24+D26+D8+D12+D13+D15+D16+D18 -> 99371412 | E28: =+E10+E11+E19+E20+E27+E21+E22+E23+E24+E26+E8+E12+E13+E15+E16+E18 -> 2.4260605e+08 | F28: =+F10+F11+F19+F20+F27+F21+F22+F23+F24+F26+F8+F12+F13+F15+F16+F18 -> 2.4099358e+09 | G28: =+G10+G11+G19+G20+G21+G24+G26+G8+G12+G13+G15 -> 4694115 | I28: =+F28/G28 -> 513.39513

Sheet ตารางที่ 5 ส่ง
A1: กรมพัฒนาฝีมือแรงงาน
A2: รายงานการคำนวณต้นทุนผลผลิต
A3: ประจำปีงบประมาณ พ.ศ. 2558
A5: ตารางที่ 5 รายงานต้นทุนผลผลิตย่อยแยกตามแหล่งเงิน
I6: หน่วย : บาท
A7: กิจกรรมหลัก | B7: เงินในงบประมาณ | C7: เงินนอกงบประมาณ | D7: งบกลาง | E7: ค่าเสื่อมราคา | F7: ต้นทุนรวม | G7: ปริมาณ | H7: หน่วยนับ | I7: ต้นทุนต่อหน่วย
A9: 1. เสริมสร้างธรรมาภิบาลป้องกันและลดความเสี่ยงในการเกิดการทุจริต | B9: =2053058134.99*0.1/100 -> 2053058.1 | C9: =14900172.28*0.1/100 -> 14900.172 | D9: =99371411.75*0.1/100 -> 99371.412 | E9: =242606051.05*0.1/100 -> 242606.05 | F9: =SUM(B9:E9) -> 2409935.8 | G9: 589 | H9: คน | I9: =SUM(F9/G9) -> 4091.5718
A10: และประพฤติมิชอบ
A11: 2. เพิ่มขีดความสามารถของแรงงานรองรับประชาคมอาเซียน | B11: =2053058134.99*22.49/100 -> 4.6173277e+08 | C11: =14900172.28*22.49/100 -> 3351048.7 | D11: =99371411.75*22.49/100 -> 22348631 | E11: =242606051.05*22.49/100 -> 54562101 | F11: =SUM(B11:E11) -> 5.4199455e+08 | G11: 149401 | H11: คน | I11: =+F11/G11 -> 3627.784
A12: 3. พัฒนาฝีมือและศักยภาพกลุ่มเครือข่ายแรงงานนานาชาติ | B12: =2053058134.99*4.13/100 -> 84791301 | C12: =14900172.28*4.13/100 -> 615377.12 | D12: =99371411.75*4.13/100 -> 4104039.3 | E12: =242606051.05*4.13/100 -> 10019630 | F12: =SUM(B12:E12) -> 99530347 | G12: 2210 | H12: คน | I12: =+F12/G12 -> 45036.356
A13: 4. ฝึกอบรมฝีมือแรงงานตามโครงการอันเนื่องมาจากพระราชดำริ | B13: =2053058134.99*0.6/100 -> 12318349 | C13: =14900172.28*0.6/100 -> 89401.034 | D13: =99371411.75*0.6/100 -> 596228.47 | E13: =242606051.05*0.6/100 -> 1455636.3 | F13: =SUM(B13:E13) -> 14459615 | G13: 3604 | H13: คน | I13: =SUM(F13/G13) -> 4012.1017
A14: 5. ฝึกอบรมคนพิการร่วมกับมูลนิธิขาเทียมในสมเด็จพระศรีนครินทรา | B14: =2053058134.99*0.13/100 -> 2668975.6 | C14: =14900172.28*0.13/100 -> 19370.224 | D14: =99371411.75*0.13/100 -> 129182.84 | E14: =242606051.05*0.13/100 -> 315387.87 | F14: =SUM(B14:E14) -> 3132916.5 | G14: 59 | H14: คน | I14: =SUM(F14/G14) -> 53100.28
A15: บรมราชชนนี | F15: =SUM(B15:E15) -> 0
A16: 6. ฝึกอาชีพแรงงานกลุ่มเฉพาะ | B16: =2053058134.99*0.57/100 -> 11702431 | C16: =14900172.28*0.57/100 -> 84930.982 | D16: =99371411.75*0.57/100 -> 566417.05 | E16: =242606051.05*0.57/100 -> 1382854.5 | F16: =SUM(B16:E16) -> 13736634 | G16: 9592 | H16: คน | I16: =SUM(F16/G16) -> 1432.0928
A17: 7. จัดตั้งศูนย์ฯในสถานประกอบการเทิดไท้พระบิดาแห่งมาตรฐาน | B17: =2053058134.99*0.18/100 -> 3695504.6 | C17: =14900172.28*0.18/100 -> 26820.31 | D17: =99371411.75*0.18/100 -> 178868.54 | E17: =242606051.05*0.18/100 -> 436690.89 | F17: =SUM(B17:E17) -> 4337884.4 | G17: 87 | H17: แห่ง | I17: =SUM(F17/G17) -> 49860.74
A18: การช่างไทย | F18: =SUM(B18:E18) -> 0
A19: 8. ยกระดับทักษะฝีมือแรงงานให้มีศักยภาพและผลิตภาพเพื่อการแข่งขัน | B19: =2053058134.99*3.42/100 -> 70214588 | C19: =14900172.28*3.42/100 -> 509585.89 | D19: =99371411.75*3.42/100 -> 3398502.3 | E19: =242606051.05*3.42/100 -> 8297126.9 | F19: =SUM(B19:E19) -> 82419803 | G19: 260 | H19: แห่ง | I19: =+F19/G19 -> 316999.24
A20: 9. พัฒนาฝีมือเพื่อเพิ่มโอกาสในการประกอบอาชีพ | B20: =2053058134.99*6.8/100 -> 1.3960795e+08 | C20: =14900172.28*6.8/100 -> 1013211.7 | D20: =99371411.75*6.8/100 -> 6757256 | E20: =242606051.05*6.8/100 -> 16497211 | F20: =SUM(B20:E20) -> 1.6387563e+08 | G20: 10324 | H20: คน | I20: =+F20/G20 -> 15873.269
A21: 10. พัฒนา/ส่งเสริมการประกอบอาชีพอิสระ | B21: =2053058134.99*3.88/100 -> 79658656 | C21: =14900172.28*3.88/100 -> 578126.68 | D21: =99371411.75*3.88/100 -> 3855610.8 | E21: =242606051.05*3.88/100 -> 9413114.8 | F21: =SUM(B21:E21) -> 93505508 | G21: 2273 | H21: คน | I21: =+F21/G21 -> 41137.487
A22: 11. ทดสอบมาตรฐานฝีมือแรงงาน | B22: =2053058134.99*7.99/100 -> 1.6403934e+08 | C22: =14900172.28*7.99/100 -> 1190523.8 | D22: =99371411.75*7.99/100 -> 7939775.8 | E22: =242606051.05*7.99/100 -> 19384223 | F22: =SUM(B22:E22) -> 1.9255387e+08 | G22: 44001 | H22: คน | I22: =+F22/G22 -> 4376.1248
A23: 12. จัดทำหลักเกณฑ์ พัฒนา/ส่งเสริมมาตรฐานฝีมือแรงงาน | B23: =2053058134.99*6.05/100 -> 1.2421002e+08 | C23: =14900172.28*6.05/100 -> 901460.42 | D23: =99371411.75*6.05/100 -> 6011970.4 | E23: =242606051.05*6.05/100 -> 14677666 | F23: =SUM(B23:E23) -> 1.4580111e+08 | G23: 28 | H23: สาขา | I23: =SUM(F23/G23) -> 5207182.6
A24: 13. พัฒนาระบบฝึกอบรมฝีมือแรงงาน | B24: =2053058134.99*3/100 -> 61591744 | C24: =14900172.28*3/100 -> 447005.17 | D24: =99371411.75*3/100 -> 2981142.4 | E24: =242606051.05*3/100 -> 7278181.5 | F24: =SUM(B24:E24) -> 72298073 | G24: 111 | H24: หลักสูตร | I24: =SUM(F24/G24) -> 651333.99
A25: 14. ส่งเสริมและสนับสนุนให้สถานประกอบกิจการดำเนินการฝึกอบรม | B25: =2053058134.99*37.68/100 -> 7.7359231e+08 | C25: =14900172.28*37.68/100 -> 5614384.9 | D25: =99371411.75*37.68/100 -> 37443148 | E25: =242606051.05*37.68/100 -> 91413960 | F25: =SUM(B25:E25) -> 9.080638e+08 | G25: 4456177 | H25: คน | I25: =SUM(F25/G25) -> 203.77642
A26: ฝีมือแรงงานตามพระราชบัญญัติส่งเสริมการพัฒนาฝีมือแรงงานพ.ศ. 2545
A27: 15. พัฒนาศักยภาพแรงงานเพื่อรองรับการจ่ายค่าจ้างตามมาตรฐานฝีมือแรงงาน | B27: =2053058134.99*2.32/100 -> 47630949 | C27: =14900172.28*2.32/100 -> 345684 | D27: =99371411.75*2.32/100 -> 2305416.8 | E27: =242606051.05*2.32/100 -> 5628460.4 | F27: =SUM(B27:E27) -> 55910510 | G27: 15885 | H27: คน | I27: =SUM(F27/G27) -> 3519.7047
A28: 16. พัฒนาเทคโนโลยีสารสนเทศและการสื่อสาร | B28: =2053058134.99*0.66/100 -> 13550184 | C28: =14900172.28*0.66/100 -> 98341.137 | D28: =99371411.75*0.66/100 -> 655851.32 | E28: =242606051.05*0.66/100 -> 1601199.9 | F28: =SUM(B28:E28) -> 15905576 | G28: 79 | H28: แห่ง | I28: =SUM(F28/G28) -> 201336.41
A29: รวมต้นทุนผลผลิต | B29: =+B11+B12+B20+B21+B28+B22+B23+B24+B25+B27+B9+B13+B14+B16+B17+B19 -> 2.0530581e+09 | C29: =+C11+C12+C20+C21+C28+C22+C23+C24+C25+C27+C9+C13+C14+C16+C17+C19 -> 14900172 | D29: =+D11+D12+D20+D21+D28+D22+D23+D24+D25+D27+D9+D13+D14+D16+D17+D19 -> 99371412 | E29: =+E11+E12+E20+E21+E28+E22+E23+E24+E25+E27+E9+E13+E14+E16+E17+E19 -> 2.4260605e+08 | F29: =+F11+F12+F20+F21+F28+F22+F23+F24+F25+F27+F9+F13+F14+F16+F17+F19 -> 2.4099358e+09 | G29: =+G11+G12+G20+G21+G22+G25+G27+G9+G13+G14+G16 -> 4694115 | I29: =+F29/G29 -> 513.39513

Sheet ตารางที่ 6 ส่ง
A1: กรมพัฒนาฝีมือแรงงาน
A2: รายงานการคำนวณต้นทุนผลผลิต
A3: ประจำปีงบประมาณ พ.ศ. 2558
A4: ตารางที่ 6 รายงานต้นทุนผลผลิตหลักแยกตามแหล่งเงิน
I5: หน่วย : บาท
A6: ผลผลิตหลัก/โครงการ | B6: เงินในงบประมาณ | C6: เงินนอกงบประมาณ | D6: งบกลาง | E6: ค่าเสื่อมราคา | F6: ต้นทุนรวม | G6: ปริมาณ | H6: หน่วยนับ | I6: ต้นทุนต่อหน่วย
A8: 1. โครงการเสริมสร้างธรรมาภิบาลป้องกันและลดความเสี่ยงในการเกิดการทุจริตและ | B8: =+'[1]ตารางที่ 5 ส่ง'!B27 -> 2053058.1 | C8: =+'[1]ตารางที่ 5 ส่ง'!C27 -> 14900.172 | D8: =+'[1]ตารางที่ 5 ส่ง'!D27 -> 99371.412 | E8: =+'[1]ตารางที่ 5 ส่ง'!E27 -> 242606.05 | F8: =SUM(B8:E8) -> 2409935.8 | G8: 589 | H8: คน | I8: =SUM(F8/G8) -> 4091.5718
A9: ประพฤติมิชอบ
A10: 2. เพิ่มประสิทธิภาพของแรงงานรองรับประชาคมเศรษฐกิจอาเซียน | B10: 5.4652408e+08 | C10: 3966425.9 | D10: 26452670 | E10: 64581731 | F10: =SUM(B10:E10) -> 6.415249e+08 | G10: 151611 | H10: คน | I10: =SUM(F10/G10) -> 4231.3876
A11: 3. โครงการ ฝึกอบรมฝีมือแรงงานตามโครงการอันเนื่องมาจากพระราชดำริ | B11: 30385260 | C11: 220522.55 | D11: 1470696.9 | E11: 3590569.6 | F11: =SUM(B11:E11) -> 35667049 | G11: 13255 | H11: คน | I11: =SUM(F11/G11) -> 2690.8374
A12: 4. พัฒนาศักยภาพแรงงานทั้งระบบให้สอดคล้องกับความต้องการของตลาดแรงงาน | B12: 1.4740957e+09 | C12: 10698324 | D12: 71348674 | E12: 1.7419114e+08 | F12: =SUM(B12:E12) -> 1.7303339e+09 | G12: 4528660 | H12: คน | I12: =SUM(F12/G12) -> 382.08518
A13: และการประกอบอาชีพ
A14: รวมต้นทุนผลผลิต | B14: =++B10+B11+B12++B8 -> 2.0530581e+09 | C14: =++C10+C11+C12++C8 -> 14900172 | D14: =++D10+D11+D12++D8 -> 99371412 | E14: =++E10+E11+E12++E8 -> 2.4260605e+08 | F14: =++F10+F11+F12++F8 -> 2.4099358e+09 | G14: =++G10+G11+G12++G8 -> 4694115 | H14: คน | I14: =SUM(F14/G14) -> 513.39513

Sheet ตารางที่ 7
A1: กรมพัฒนาฝีมือแรงงาน
A2: รายงานการคำนวณต้นทุนผลผลิต
A3: ประจำปีงบประมาณ พ.ศ. 2558
A4: ตารางเปรียบเทียบผลการคำนวณต้นทุนผลผลิตระหว่างปีงบประมาณ พ.ศ. 2557 และปีงบประมาณ พ.ศ. 2558
A6: ตารางที่ 7 เปรียบเทียบผลการคำนวณต้นทุนกิจกรรมย่อยแยกตามแหล่งเงิน
A8: ต้นทุนผลผลิตประจำปีงบประมาณ พ.ศ. 2557 (ต.ค. 56-ก.ย. 57) | J8: ต้นทุนผลผลิตประจำปีงบประมาณ พ.ศ. 2558 (ต.ค. 57-ก.ย. 58) | R8: ผลการเปรียบเทียบ
A9: กิจกรรมย่อย | B9: เงินใน | C9: เงินนอก | D9: งบกลาง | E9: ค่าเสื่อม | F9: ต้นทุน | G9: ปริมาณ | H9: หน่วย | I9: ต้นทุน | J9: เงินใน | K9: เงินนอก | L9: งบกลาง | M9: ค่าเสื่อม | N9: ต้นทุน | O9: ปริมาณ | P9: หน่วย | Q9: ต้นทุน | R9: ต้นทุน | S9: หน่วย | T9: ต้นทุน
B10: งปม. | C10: งปม. | E10: ราคา | F10: รวม | H10: นับ | I10: ต่อหน่วย | J10: งปม. | K10: งปม. | M10: ราคา | N10: รวม | P10: นับ | Q10: ต่อหน่วย | R10: รวม | S10: นับ | T10: ต่อหน่วย
R11: เพิ่ม (ลด) % | S11: เพิ่ม (ลด) % | T11: เพิ่ม (ลด) %
A12: (1) | B12: (2) | C12: (3) | D12: (4) | E12: (5) | F12: (6) =(2) ถึง (5) | G12: (7) | H12: (8) | I12: (9) = (6)/(7) | J12: (10) | K12: (11) | L12: (12) | M12: (13) | N12: (14) | O12: (15) | P12: (16) | Q12: (17) = (14)/(15) | R12: (18) = (14)-(6) | S12: (19) = (15)-(7) | T12: (20) = (17)-(9)
R13: *100/(6) | S13: *100/(7) | T13: *100/(9)
A14: กิจกรรมย่อยของหน่วยงานหลัก | B14: =SUM(B15:B29) -> 1.3155573e+09 | C14: =SUM(C15:C29) -> 16723461 | D14: =SUM(D15:D29) -> 80927945 | E14: =SUM(E15:E29) -> 1.9162907e+08 | F14: =SUM(F15:F29) -> 1.6048378e+09 | G14: =+G15+G16+G17+G18+G19+G20+G21+G22+G25+G28 -> 4475204 | J14: =SUM(J15:J33) -> 1.649908e+09 | K14: =SUM(K15:K33) -> 9078621.6 | L14: =SUM(L15:L33) -> 83496412 | M14: =SUM(M15:M33) -> 2.2585849e+08 | N14: =SUM(N15:N33) -> 1.9683415e+09 | O14: =+O15+O16+O18+O19+O20+O21+O22+O25+O28+O29+O30+O31 -> 4693526
A15: 1. เพิ่มขีดความสามารถของแรงงานรองรับประชาคมอาเซียน | B15: 1.2260994e+08 | C15: 1558626.6 | D15: 7542484.5 | E15: 17859829 | F15: =SUM(B15:E15) -> 1.4957088e+08 | G15: 35454 | H15: คน | I15: =SUM(F15/G15) -> 4218.7308 | J15: 3.7106431e+08 | K15: 2041782 | L15: 18778343 | M15: 50795573 | N15: 4.4268001e+08 | O15: 149401 | P15: คน | Q15: 2963.0324 | R15: =SUM((N15-F15)*100/F15) -> 195.9667 | S15: =SUM((O15-G15)*100/G15) -> 321.39392 | T15: =SUM((Q15-I15)*100/I15) -> -29.764838
A16: 2. พัฒนาฝีมือและศักยภาพกลุ่มเครือข่ายแรงงานนานาชาติ | B16: 23416920 | C16: 297677.61 | D16: 1440517.4 | E16: 3410997.4 | F16: =SUM(B16:E16) -> 28566113 | G16: 1586 | H16: คน | I16: =SUM(F16/G16) -> 18011.42 | J16: 68141200 | K16: 374947.07 | L16: 3448401.8 | M16: 9327955.5 | N16: 81292505 | O16: 2210 | P16: คน | Q16: 36783.939 | R16: =SUM((N16-F16)*100/F16) -> 184.57671 | S16: =SUM((O16-G16)*100/G16) -> 39.344262 | T16: =SUM((Q16-I16)*100/I16) -> 104.22564
A17: 3. ยกระดับทักษะฝีมือแรงงานให้มีศักยภาพและผลิตภาพเพื่อการแข่งขัน | B17: 1.65234e+08 | C17: 2100466.7 | D17: 10164550 | E17: 24068611 | F17: =SUM(B17:E17) -> 2.0156763e+08 | G17: 128332 | H17: คน | I17: =SUM(F17/G17) -> 1570.6732 | J17: 56426854 | K17: 310488.86 | L17: 2855577.3 | M17: 7724360.2 | N17: 67317280 | O17: 260 | P17: แห่ง | Q17: 258912.62 | R17: =SUM((N17-F17)*100/F17) -> -66.603129 | S17: =SUM((O17-G17)*100/G17) -> -99.7974 | T17: =SUM((Q17-I17)*100/I17) -> 16384.182
A18: 4. พัฒนาฝีมือเพื่อเพิ่มโอกาสในการประกอบอาชีพ | B18: 1.0629703e+08 | C18: 1351255.7 | D18: 6538978 | E18: 15483629 | F18: =SUM(B18:E18) -> 1.2967089e+08 | G18: 12553 | H18: คน | I18: =SUM(F18/G18) -> 10329.873 | J18: 1.1219374e+08 | K18: 617346.27 | L18: 5677756 | M18: 15358377 | N18: 1.3384722e+08 | O18: 10324 | P18: คน | Q18: 12964.667 | R18: =SUM((N18-F18)*100/F18) -> 3.2207149 | S18: =SUM((O18-G18)*100/G18) -> -17.756712 | T18: =SUM((Q18-I18)*100/I18) -> 25.506551
A19: 5. พัฒนา/ส่งเสริมการประกอบอาชีพอิสระ | B19: 55516519 | C19: 705730.07 | D19: 3415159.3 | E19: 8086746.6 | F19: =SUM(B19:E19) -> 67724155 | G19: 2288 | H19: คน | I19: =SUM(F19/G19) -> 29599.718 | J19: 64016430 | K19: 352250.52 | L19: 3239660.8 | M19: 8763309.2 | N19: 76371651 | O19: 2273 | P19: คน | Q19: 33599.495 | R19: =SUM((N19-F19)*100/F19) -> 12.768703 | S19: =SUM((O19-G19)*100/G19) -> -0.65559441 | T19: =SUM((Q19-I19)*100/I19) -> 13.512887
A20: 6. พัฒนาฝีมือและศักยภาพแรงงานก่อนเข้าสู่ตลาดแรงงาน | B20: 2.4153632e+08 | C20: 3070427.5 | D20: 14858371 | E20: 35183096 | F20: =SUM(B20:E20) -> 2.9464822e+08 | G20: 3035 | H20: คน | I20: =SUM(F20/G20) -> 97083.433 | J20: 0 | K20: 0 | L20: 0 | M20: 0 | N20: =SUM(J20:M20) -> 0 | O20: 0 | P20: - | Q20: 0 | R20: =SUM((N20-F20)*100/F20) -> -100 | S20: =SUM((O20-G20)*100/G20) -> -100 | T20: =SUM((Q20-I20)*100/I20) -> -100
A21: 7. ทดสอบมาตรฐานฝีมือแรงงาน | B21: 1.1550593e+08 | C21: 1468319.9 | D21: 7105473.6 | E21: 16825032 | F21: =SUM(B21:E21) -> 1.4090476e+08 | G21: 42990 | H21: คน | I21: =SUM(F21/G21) -> 3277.6171 | J21: 1.3182765e+08 | K21: 725381.86 | L21: 6671363.3 | M21: 18046093 | N21: 1.5727049e+08 | O21: 44001 | P21: คน | Q21: 3574.248 | R21: =SUM((N21-F21)*100/F21) -> 11.614746 | S21: =SUM((O21-G21)*100/G21) -> 2.3517097 | T21: =SUM((Q21-I21)*100/I21) -> 9.0502015
A22: 8. ยกระดับฝีมือและศักยภาพแรงงาน | B22: 3.007364e+08 | C22: 3822983.2 | D22: 18500128 | E22: 43806404 | F22: =SUM(B22:E22) -> 3.6686592e+08 | G22: 12698 | H22: คน | I22: =SUM(F22/G22) -> 28891.63 | J22: 0 | K22: 0 | L22: 0 | M22: 0 | N22: =SUM(J22:M22) -> 0 | O22: 0 | P22: - | Q22: 0 | R22: =SUM((N22-F22)*100/F22) -> -100 | S22: =SUM((O22-G22)*100/G22) -> -100 | T22: =SUM((Q22-I22)*100/I22) -> -100
A23: 9. จัดทำหลักเกณฑ์ พัฒนา/ส่งเสริมมาตรฐานฝีมือแรงงาน | B23: 87484562 | C23: 1112110.2 | D23: 5381708.3 | E23: 12743333 | F23: =SUM(B23:E23) -> 1.0672171e+08 | G23: 13 | H23: สาขา | I23: =SUM(F23/G23) -> 8209362.6 | J23: 99819434 | K23: 549256.6 | L23: 5051532.9 | M23: 13664438 | N23: 1.1908466e+08 | O23: 28 | P23: สาขา | Q23: 4253023.6 | R23: =SUM((N23-F23)*100/F23) -> 11.584286 | S23: =SUM((O23-G23)*100/G23) -> 115.38462 | T23: =SUM((Q23-I23)*100/I23) -> -48.19301
A24: 10. พัฒนาระบบฝึกอบรมฝีมือแรงงาน | B24: 44071170 | C24: 560235.95 | D24: 2711086.2 | E24: 6419573.7 | F24: =SUM(B24:E24) -> 53762066 | G24: 128 | H24: หลักสูตร | I24: =SUM(F24/G24) -> 420016.14 | J24: 51147148 | K24: 281437.27 | L24: 2588388.8 | M24: 7001613 | N24: 61018587 | O24: 111 | P24: หลักสูตร | Q24: 549717 | R24: =SUM((N24-F24)*100/F24) -> 13.497474 | S24: =SUM((O24-G24)*100/G24) -> -13.28125 | T24: =SUM((Q24-I24)*100/I24) -> 30.87997
A25: 11. ส่งเสริมและสนับสนุนให้สถานประกอบกิจการดำเนินการ | B25: 20522694 | C25: 260886 | D25: 1262475.9 | E25: 2989413.4 | F25: =SUM(B25:E25) -> 25035470 | G25: 4220799 | H25: คน | I25: =SUM(F25/G25) -> 5.9314527 | J25: 6.2168534e+08 | K25: 3420824.6 | L25: 31461448 | M25: 85103477 | N25: 7.4167109e+08 | O25: 4456177 | P25: คน | Q25: 166.43663 | R25: =SUM((N25-F25)*100/F25) -> 2862.4812 | S25: =SUM((O25-G25)*100/G25) -> 5.5766219 | T25: =SUM((Q25-I25)*100/I25) -> 2706.0011
A26: ฝึกอบรมฝีมือแรงงานตามพระราชบัญญัติส่งเสริมการพัฒนา
A27: ฝีมือแรงงาน พ.ศ. 2545
A28: 12. พัฒนาศักยภาพแรงงานเพื่อรองรับการจ่ายค่าจ้างตามมาตรฐานฝีมือแรงงาน | B28: 32625822 | C28: 414741.84 | D28: 2007013 | E28: 4752400.8 | F28: =SUM(B28:E28) -> 39799977 | G28: 15469 | H28: คน | I28: =SUM(F28/G28) -> 2572.8862 | J28: 38277866 | K28: 210624.02 | L28: 1937116.8 | M28: 5239916.9 | N28: 45665523 | O28: 15885 | P28: คน | Q28: 2874.7575 | R28: =SUM((N28-F28)*100/F28) -> 14.737561 | S28: =SUM((O28-G28)*100/G28) -> 2.6892495 | T28: =SUM((Q28-I28)*100/I28) -> 11.732788
A29: 13. ฝึกอบรมฝีมือแรงงานตามโครงการอันเนื่องมาจากพระราชดำริ | B29: 0 | C29: 0 | D29: 0 | E29: 0 | F29: =SUM(B29:E29) -> 0 | G29: 0 | H29: 0 | I29: 0 | J29: 9899448 | K29: 54471.729 | L29: 500978.47 | M29: 1355150.9 | N29: 11810049 | O29: 3604 | P29: คน | Q29: 3276.9282 | R29: 100 | S29: 100 | T29: 100
A30: 14. ฝึกอบรมคนพิการร่วมกับมูลนิธิขาเทียมในสมเด็จพระศรีนครินทราบรมราชชนนี | B30: 0 | C30: 0 | D30: 0 | E30: 0 | F30: =SUM(B30:E30) -> 0 | G30: 0 | H30: 0 | I30: 0 | J30: 2144880.4 | K30: 11802.208 | L30: 108545.34 | M30: 293616.03 | N30: 2558844 | O30: 59 | P30: คน | Q30: 43370.237 | R30: 100 | S30: 100 | T30: 100
A31: 15. ฝึกอาชีพแรงงานกลุ่มเฉพาะ | B31: 0 | C31: 0 | D31: 0 | E31: 0 | F31: =SUM(B31:E31) -> 0 | G31: 0 | H31: 0 | I31: 0 | J31: 9404475.6 | K31: 51748.143 | L31: 475929.55 | M31: 1287393.4 | N31: 11219547 | O31: 9592 | P31: คน | Q31: 1169.6775 | R31: 100 | S31: 100 | T31: 100
A32: 16. จัดตั้งศูนย์ฯในสถานประกอบการเทิดไท้พระบิดาแห่งมาตรฐานการช่างไทย | B32: 0 | C32: 0 | D32: 0 | E32: 0 | F32: =SUM(B32:E32) -> 0 | G32: 0 | H32: 0 | I32: 0 | J32: 2969834.4 | K32: 16341.519 | L32: 150293.54 | M32: 406545.27 | N32: 3543014.7 | O32: 87 | P32: แห่ง | Q32: 40724.307 | R32: 100 | S32: 100 | T32: 100
A33: 17. พัฒนาเทคโนโลยีสารสนเทศและการสื่อสาร | B33: 0 | C33: 0 | D33: 0 | E33: 0 | F33: =SUM(B33:E33) -> 0 | G33: 0 | H33: 0 | I33: 0 | J33: 10889393 | K33: 59918.902 | L33: 551076.32 | M33: 1490666 | N33: 12991054 | O33: 79 | P33: แห่ง | Q33: 164443.72 | R33: 100 | S33: 100 | T33: 100
A35: กิจกรรมย่อยของหน่วยงานสนับสนุน | B35: =SUM(B36:B72) -> 3.6372707e+08 | C35: =SUM(C36:C72) -> 1073257.7 | D35: =SUM(D36:D72) -> 27221961 | E35: =SUM(E36:E72) -> 13265579 | F35: =SUM(F36:F72) -> 4.0528786e+08 | J35: =SUM(J36:J72) -> 4.0315013e+08 | K35: =SUM(K36:K72) -> 5821550.7 | L35: =SUM(L36:L72) -> 15874999 | M35: =SUM(M36:M72) -> 16747565 | N35: =SUM(N36:N72) -> 4.4159425e+08
A36: 1. บริหารให้หน่วยงานปฏิบัติตามนโยบายที่ได้กำหนดไว้ | B36: 7491966.8 | C36: 35474.99 | D36: 159596.78 | E36: 438659.47 | F36: =SUM(B36:E36) -> 8125698.1 | G36: 11212 | H36: เรื่อง | I36: =SUM(F36/G36) -> 724.73226 | J36: 8545388.5 | K36: 15560.48 | L36: 171942.1 | M36: 432743.82 | N36: =SUM(J36:M36) -> 9165634.9 | O36: 12384 | P36: เรื่อง | Q36: =SUM(N36/O36) -> 740.1191 | R36: =SUM((N36-F36)*100/F36) -> 12.798123 | S36: =SUM((O36-G36)*100/G36) -> 10.453086 | T36: =SUM((Q36-I36)*100/I36) -> 2.1231066
A37: 2. ตรวจติดตามและให้คำแนะนำการปฏิบัติราชการ | B37: 5996573 | C37: 24807.48 | D37: 245510.23 | E37: 177569.41 | F37: =SUM(B37:E37) -> 6444460.2 | G37: 545 | H37: ครั้ง | I37: =SUM(F37/G37) -> 11824.698 | J37: 8462728.5 | K37: 17730.09 | L37: 426545.29 | M37: 253641.61 | N37: =SUM(J37:M37) -> 9160645.5 | O37: 545 | P37: ครั้ง | Q37: =SUM(N37/O37) -> 16808.524 | R37: =SUM((N37-F37)*100/F37) -> 42.1476 | S37: =SUM((O37-G37)*100/G37) -> 0 | T37: =SUM((Q37-I37)*100/I37) -> 42.1476
A38: 3. ด้านงานสารบรรณ | B38: 6665952.1 | C38: 0 | D38: 363574.11 | E38: 164548.38 | F38: =SUM(B38:E38) -> 7194074.6 | G38: 49231 | H38: จำนวนหนังสือเข้า-ออก | I38: =SUM(F38/G38) -> 146.12895 | J38: 5212282.6 | K38: 48900.12 | L38: 313237.37 | M38: 141196.7 | N38: =SUM(J38:M38) -> 5715616.8 | O38: 66077 | P38: จำนวนหนังสือเข้า-ออก | Q38: =SUM(N38/O38) -> 86.499339 | R38: =SUM((N38-F38)*100/F38) -> -20.551049 | S38: =SUM((O38-G38)*100/G38) -> 34.218277 | T38: =SUM((Q38-I38)*100/I38) -> -40.806161
A39: 4. ด้านยานพาหนะ | B39: 6665952.1 | C39: 0 | D39: 545361.17 | E39: 493645.12 | F39: =SUM(B39:E39) -> 7704958.4 | G39: 278308 | H39: กิโลเมตร | I39: =SUM(F39/G39) -> 27.685005 | J39: 5212282.6 | K39: 48900.12 | L39: 469856.06 | M39: 423590.1 | N39: =SUM(J39:M39) -> 6154628.9 | O39: 308923 | P39: จำนวนกิโลเมตร | Q39: =SUM(N39/O39) -> 19.922857 | R39: =SUM((N39-F39)*100/F39) -> -20.121192 | S39: =SUM((O39-G39)*100/G39) -> 11.000402 | T39: =SUM((Q39-I39)*100/I39) -> -28.037371
A40: 5. ด้านประชาสัมพันธ์ | B40: 13318547 | C40: 13357.29 | D40: 363574.12 | E40: 329096.74 | F40: =SUM(B40:E40) -> 14024575 | G40: 712 | H40: ครั้ง | I40: =SUM(F40/G40) -> 19697.437 | J40: 10424565 | K40: 146700.36 | L40: 313237.37 | M40: 282393.4 | N40: =SUM(J40:M40) -> 11166896 | O40: 710 | P40: ครั้ง | Q40: =SUM(N40/O40) -> 15728.023 | R40: =SUM((N40-F40)*100/F40) -> -20.376223 | S40: =SUM((O40-G40)*100/G40) -> -0.28089888 | T40: =SUM((Q40-I40)*100/I40) -> -20.151931
A41: 6. ด้านอำนวยการ พิธีการและประสานราชการ | B41: 11109920 | C41: 0 | D41: 272680.59 | E41: 329096.74 | F41: =SUM(B41:E41) -> 11711697 | G41: 2608 | H41: เรื่อง | I41: =SUM(F41/G41) -> 4490.6815 | J41: 8687137.7 | K41: 146700.36 | L41: 234928.03 | M41: 282393.4 | N41: =SUM(J41:M41) -> 9351159.5 | O41: 5465 | P41: เรื่อง | Q41: =SUM(N41/O41) -> 1711.0996 | R41: =SUM((N41-F41)*100/F41) -> -20.155387 | S41: =SUM((O41-G41)*100/G41) -> 109.54755 | T41: =SUM((Q41-I41)*100/I41) -> -61.896661
A42: 7. ด้านบำรุงรักษา อาคาร สถานที่ | B42: 6665952.1 | C42: 0 | D42: 272680.59 | E42: 329096.74 | F42: =SUM(B42:E42) -> 7267729.4 | G42: 943 | H42: ครั้ง | I42: =SUM(F42/G42) -> 7707.0301 | J42: 5212282.6 | K42: 97800.24 | L42: 234928.03 | M42: 282393.42 | N42: =SUM(J42:M42) -> 5827404.3 | O42: 812 | P42: ครั้ง | Q42: =SUM(N42/O42) -> 7176.6063 | R42: =SUM((N42-F42)*100/F42) -> -19.818089 | S42: =SUM((O42-G42)*100/G42) -> -13.891835 | T42: =SUM((Q42-I42)*100/I42) -> -6.8823379
A43: 8. ด้านแผนงาน | B43: 19740466 | C43: 25150.69 | D43: 684821.8 | E43: 1554863.6 | F43: =SUM(B43:E43) -> 22005302 | G43: 1 | H43: ด้าน | I43: =SUM(F43/G43) -> 22005302 | J43: 10078984 | K43: 0 | L43: 501863.39 | M43: 3180073.4 | N43: =SUM(J43:M43) -> 13760921 | O43: 1 | P43: ด้าน | Q43: =SUM(N43/O43) -> 13760921 | R43: =SUM((N43-F43)*100/F43) -> -37.46543 | S43: =SUM((O43-G43)*100/G43) -> 0 | T43: =SUM((Q43-I43)*100/I43) -> -37.46543
A44: 9. ศึกษารูปแบบการพัฒนาศักยภาพแรงงาน | B44: 19668647 | C44: 6164.9 | D44: 14197798 | E44: 617961.71 | F44: =SUM(B44:E44) -> 34490572 | G44: 15 | H44: โครงการ | I44: =SUM(F44/G44) -> 2299371.5 | J44: 30629536 | K44: 441778.72 | L44: 1211864.4 | M44: 422290.41 | N44: =SUM(J44:M44) -> 32705469 | O44: 23 | P44: โครงการ | Q44: =SUM(N44/O44) -> 1421976.9 | R44: =SUM((N44-F44)*100/F44) -> -5.1756254 | S44: =SUM((O44-G44)*100/G44) -> 53.333333 | T44: =SUM((Q44-I44)*100/I44) -> -38.158017
A45: 10. ส่งเสริมศักยภาพมาตรฐานฝีมือแรงงานไทยในต่างประเทศ | B45: 7263306.3 | C45: 0 | D45: 138384.75 | E45: 149186.76 | F45: =SUM(B45:E45) -> 7550877.8 | G45: 200 | H45: คน | I45: =SUM(F45/G45) -> 37754.389 | J45: 8469152.7 | K45: 0 | L45: 170187.59 | M45: 131522.75 | N45: =SUM(J45:M45) -> 8770863.1 | O45: 200 | P45: คน | Q45: =SUM(N45/O45) -> 43854.315 | R45: =SUM((N45-F45)*100/F45) -> 16.156867 | S45: =SUM((O45-G45)*100/G45) -> 0 | T45: =SUM((Q45-I45)*100/I45) -> 16.156867
A46: 11. พัฒนามาตรฐานฝีมือแรงงานแห่งชาติ | B46: 5447479.7 | C46: 0 | D46: 103788.56 | E46: 111890.07 | F46: =SUM(B46:E46) -> 5663158.3 | G46: 20 | H46: สาขา | I46: =SUM(F46/G46) -> 283157.92 | J46: 10008999 | K46: 0 | L46: 201130.79 | M46: 155435.97 | N46: =SUM(J46:M46) -> 10365565 | O46: 20 | P46: สาขา | Q46: =SUM(N46/O46) -> 518278.27 | R46: =SUM((N46-F46)*100/F46) -> 83.035064 | S46: =SUM((O46-G46)*100/G46) -> 0 | T46: =SUM((Q46-I46)*100/I46) -> 83.035064
A47: 12. การแข่งขันฝีมือแรงงาน | B47: 48422042 | C47: 66790.46 | D47: 922564.99 | E47: 994578.36 | F47: =SUM(B47:E47) -> 50405976 | G47: 45 | H47: สาขา | I47: =SUM(F47/G47) -> 1120132.8 | J47: 49960826 | K47: 3548734.8 | L47: 1050531.3 | M47: 814814.94 | N47: =SUM(J47:M47) -> 55374907 | O47: 60 | P47: สาขา | Q47: =SUM(N47/O47) -> 922915.11 | R47: =SUM((N47-F47)*100/F47) -> 9.8578217 | S47: =SUM((O47-G47)*100/G47) -> 33.333333 | T47: =SUM((Q47-I47)*100/I47) -> -17.606634
A48: 13. พัฒนาระบบรับรองมาตรฐานฝีมือแรงงานแห่งชาติ | B48: 24816296 | C48: 0 | D48: 472814.56 | E48: 509721.42 | F48: =SUM(B48:E48) -> 25798832 | G48: 48 | H48: สาขา | I48: =+F48/G48 -> 537475.68 | J48: 45256680 | K48: 0 | L48: 957701.67 | M48: 725762.86 | N48: =SUM(J48:M48) -> 46940145 | O48: 56 | P48: สาขา | Q48: =SUM(N48/O48) -> 838216.87 | R48: =SUM((N48-F48)*100/F48) -> 81.94678 | S48: =SUM((O48-G48)*100/G48) -> 16.666667 | T48: =SUM((Q48-I48)*100/I48) -> 55.954383
A49: 14. พัฒนาศักยภาพแรงงานเพื่อรองรับการจ่ายค่าจ้างตามมาตรฐานฝีมือแรงงาน | B49: 26026847 | C49: 0 | D49: 495878.68 | E49: 534585.88 | F49: =SUM(B49:E49) -> 27057312 | G49: 14250 | H49: คน | I49: =+F49/G49 -> 1898.7587 | J49: 34646534 | K49: 0 | L49: 696221.96 | M49: 538047.59 | N49: =SUM(J49:M49) -> 35880803 | O49: 14250 | P49: คน | Q49: =SUM(N49/O49) -> 2517.9511 | R49: =SUM((N49-F49)*100/F49) -> 32.610377 | S49: =SUM((O49-G49)*100/G49) -> 0 | T49: =SUM((Q49-I49)*100/I49) -> 32.610377
A50: 15. ส่งเสริมมาตรฐานฝีมือแรงงานแห่งชาติ | B50: 9079132.8 | C50: 0 | D50: 172980.94 | E50: 186483.45 | F50: =SUM(B50:E50) -> 9438597.2 | G50: 600 | H50: คน | I50: =+F50/G50 -> 15730.995 | J50: 9840223.4 | K50: 0 | L50: 246008.12 | M50: 175758.66 | N50: =SUM(J50:M50) -> 10261990 | O50: 540 | P50: สาขา | Q50: =SUM(N50/O50) -> 19003.686 | R50: =SUM((N50-F50)*100/F50) -> 8.7236793 | S50: =SUM((O50-G50)*100/G50) -> -10 | T50: =SUM((Q50-I50)*100/I50) -> 20.804088
A51: 16. ด้านพัฒนาและจัดทำหลักสูตรการฝึกอบรมฝีมือแรงงาน | B51: 14033615 | C51: 75405.67 | D51: 608773.52 | E51: 435758.58 | F51: =SUM(B51:E51) -> 15153553 | G51: 104 | H51: หลักสูตร | I51: =SUM(F51/G51) -> 145707.24 | J51: 14398786 | K51: 61552.4 | L51: 743976.63 | M51: 403482.89 | N51: =SUM(J51:M51) -> 15607798 | O51: 111 | P51: หลักสูตร | Q51: =SUM(N51/O51) -> 140610.79 | R51: =SUM((N51-F51)*100/F51) -> 2.9976131 | S51: =SUM((O51-G51)*100/G51) -> 6.7307692 | T51: =SUM((Q51-I51)*100/I51) -> -3.4977318
A52: 17. ด้านพัฒนาและจัดทำชุดการฝึกอบรมฝีมือแรงงาน (ต้นแบบ) | B52: 0 | C52: 0 | D52: 0 | E52: 0 | F52: =SUM(B52:E52) -> 0 | G52: 0 | H52: - | I52: 0 | J52: 0 | K52: 0 | L52: 0 | M52: 0 | N52: 0 | O52: 0 | P52: - | Q52: 0 | R52: - | S52: - | T52: -
A53: 18. ด้านพัฒนาและจัดทำสื่อการฝึกอบรมฝีมือแรงงาน | B53: 5613446 | C53: 30162.27 | D53: 243509.41 | E53: 174303.43 | F53: =SUM(B53:E53) -> 6061421.2 | G53: 16 | H53: เรื่อง | I53: =SUM(F53/G53) -> 378838.82 | J53: 0 | K53: 0 | L53: 0 | M53: 0 | N53: 0 | O53: 0 | P53: - | Q53: 0 | R53: =SUM((N53-F53)*100/F53) -> -100 | S53: =SUM((O53-G53)*100/G53) -> -100 | T53: =SUM((Q53-I53)*100/I53) -> -100
A54: 19. ด้านพัฒนาบุคลากรฝึก | B54: 22453784 | C54: 120649.08 | D54: 974037.62 | E54: 697213.72 | F54: =SUM(B54:E54) -> 24245685 | G54: 652 | H54: คน | I54: =SUM(F54/G54) -> 37186.633 | J54: 8639271.5 | K54: 36931.44 | L54: 446385.98 | M54: 242089.73 | N54: =SUM(J54:M54) -> 9364678.7 | O54: 685 | P54: คน | Q54: =SUM(N54/O54) -> 13671.064 | R54: =SUM((N54-F54)*100/F54) -> -61.375895 | S54: =SUM((O54-G54)*100/G54) -> 5.0613497 | T54: =SUM((Q54-I54)*100/I54) -> -63.236618
A55: 20. ด้านคัดเลือกครูฝึกดีเด่น | B55: 4490756.8 | C55: 24129.82 | D55: 194807.52 | E55: 139442.74 | F55: =SUM(B55:E55) -> 4849136.9 | G55: 1 | H55: โครงการ | I55: =SUM(F55/G55) -> 4849136.9 | J55: 5759514.3 | K55: 24620.96 | L55: 297590.65 | M55: 161393.15 | N55: =SUM(J55:M55) -> 6243119.1 | O55: 1 | P55: โครงการ | Q55: =SUM(N55/O55) -> 6243119.1 | R55: =SUM((N55-F55)*100/F55) -> 28.747016 | S55: =SUM((O55-G55)*100/G55) -> 0 | T55: =SUM((Q55-I55)*100/I55) -> 28.747016
A56: 21. ด้านการพัฒนาระบบและรูปแบบการฝึก | B56: 2806723 | C56: 15081.13 | D56: 121754.7 | E56: 87151.72 | F56: =SUM(B56:E56) -> 3030710.6 | G56: 21 | H56: ครั้ง | I56: =SUM(F56/G56) -> 144319.55 | J56: 8639271.5 | K56: 36931.44 | L56: 446385.98 | M56: 242089.73 | N56: =SUM(J56:M56) -> 9364678.7 | O56: 21 | P56: ครั้ง | Q56: =SUM(N56/O56) -> 445937.08 | R56: =SUM((N56-F56)*100/F56) -> 208.99284 | S56: =SUM((O56-G56)*100/G56) -> 0 | T56: =SUM((Q56-I56)*100/I56) -> 208.99284
A57: 22. ด้านการประกันคุณภาพการพัฒนาฝีมือแรงงาน | B57: 5613446 | C57: 30162.27 | D57: 243509.41 | E57: 174303.43 | F57: =SUM(B57:E57) -> 6061421.2 | G57: 11 | H57: ครั้ง | I57: =SUM(F57/G57) -> 551038.29 | J57: 8639271.5 | K57: 36931.44 | L57: 446385.98 | M57: 242089.73 | N57: =SUM(J57:M57) -> 9364678.7 | O57: 23 | P57: ครั้ง | Q57: =SUM(N57/O57) -> 407159.94 | R57: =SUM((N57-F57)*100/F57) -> 54.49642 | S57: =SUM((O57-G57)*100/G57) -> 109.09091 | T57: =SUM((Q57-I57)*100/I57) -> -26.110408
A58: 23. พัฒนาสถานฝึก | B58: 0 | C58: 0 | D58: 0 | E58: 0 | F58: 0 | G58: 0 | H58: - | I58: 0 | J58: 5759514.3 | K58: 24620.96 | L58: 297590.64 | M58: 161393.15 | N58: =SUM(J58:M58) -> 6243119.1 | O58: 9 | P58: แห่ง | Q58: =SUM(N58/O58) -> 693679.9 | R58: 100 | S58: 100 | T58: 100
A59: 24. พัฒนาครุภัณฑ์การฝึก | B59: 0 | C59: 0 | D59: 0 | E59: 0 | F59: 0 | G59: 0 | H59: - | I59: 0 | J59: 5759514.3 | K59: 24620.96 | L59: 297590.64 | M59: 161393.15 | N59: =SUM(J59:M59) -> 6243119.1 | O59: 27 | P59: สาขา | Q59: =SUM(N59/O59) -> 231226.63 | R59: 100 | S59: 100 | T59: 100
A60: 25. ด้านการเงินและบัญชี | B60: 7656681 | C60: 33758.93 | D60: 654880.67 | E60: 501026.13 | F60: =SUM(B60:E60) -> 8846346.8 | G60: 195998 | H60: จำนวนเอกสารรายการ | I60: =SUM(F60/G60) -> 45.134883 | J60: =16527168.22*60/100 -> 9916300.9 | K60: =175055.38*60/100 -> 105033.23 | L60: =1443771.65*60/100 -> 866262.99 | M60: =1117399.47*60/100 -> 670439.68 | N60: =SUM(J60:M60) -> 11558037 | O60: 222981 | P60: จำนวนเอกสารรายการ | Q60: =SUM(N60/O60) -> 51.834178 | R60: =SUM((N60-F60)*100/F60) -> 30.653219 | S60: =SUM((O60-G60)*100/G60) -> 13.766977 | T60: =SUM((Q60-I60)*100/I60) -> 14.842832
A61: 26. ด้านการพัสดุ (จัดซื้อจัดจ้าง) | B61: 6264557.2 | C61: 27620.94 | D61: 535811.46 | E61: 409930.47 | F61: =SUM(B61:E61) -> 7237920.1 | G61: 722 | H61: จำนวนครั้งของการของการจัดซื้อจัดจ้าง | I61: =SUM(F61/G61) -> 10024.82 | J61: =16527168.22*40/100 -> 6610867.3 | K61: =175055.38*40/100 -> 70022.152 | L61: =1443771.65*40/100 -> 577508.66 | M61: =1117399.47*40/100 -> 446959.79 | N61: =SUM(J61:M61) -> 7705357.9 | O61: 875 | P61: จำนวนครั้งของการของการจัดซื้อจัดจ้าง | Q61: =SUM(N61/O61) -> 8806.1233 | R61: =SUM((N61-F61)*100/F61) -> 6.4581785 | S61: =SUM((O61-G61)*100/G61) -> 21.191136 | T61: =SUM((Q61-I61)*100/I61) -> -12.156794
A62: 27. ด้านบริหารบุคลากร | B62: 7796409.6 | C62: 149938.76 | D62: 427653.49 | E62: 228353.76 | F62: =SUM(B62:E62) -> 8602355.6 | G62: 2621 | H62: จำนวนบุคลากร | I62: =SUM(F62/G62) -> 3282.0891 | J62: 8527421.1 | K62: 112860.25 | L62: 470593.75 | M62: 287488.77 | N62: =SUM(J62:M62) -> 9398363.8 | O62: 2630 | P62: จำนวนบุคลากร | Q62: =SUM(N62/O62) -> 3573.5224 | R62: =SUM((N62-F62)*100/F62) -> 9.2533752 | S62: =SUM((O62-G62)*100/G62) -> 0.34338039 | T62: =SUM((Q62-I62)*100/I62) -> 8.8795043
A63: 28. ด้านพัฒนาทรัพยากรบุคคล | B63: 18191622 | C63: 349857.1 | D63: 997858.16 | E63: 532825.43 | F63: =SUM(B63:E63) -> 20072163 | G63: 35998 | H63: จำนวนชั่วโมงคนการฝึกอบรม | I63: =SUM(F63/G63) -> 557.59106 | J63: 19897316 | K63: 263340.58 | L63: 1098052.1 | M63: 670807.13 | N63: =SUM(J63:M63) -> 21929516 | O63: 47612 | P63: จำนวนชั่วโมง/คนการฝึกอบรม | Q63: =SUM(N63/O63) -> 460.58799 | R63: =SUM((N63-F63)*100/F63) -> 9.2533752 | S63: =SUM((O63-G63)*100/G63) -> 32.262903 | T63: =SUM((Q63-I63)*100/I63) -> -17.396812
A64: 29. ด้านงานกฏหมายของกรมพัฒนาฝีมือแรงงาน | B64: 6040323.6 | C64: 3698.94 | D64: 517407.08 | E64: 362775.87 | F64: =SUM(B64:E64) -> 6924205.5 | G64: 1427 | H64: เรื่อง | I64: =SUM(F64/G64) -> 4852.2813 | J64: 6445502.9 | K64: 202052.12 | L64: 501694.99 | M64: 429521.72 | N64: =SUM(J64:M64) -> 7578771.7 | O64: 4767 | P64: เรื่อง | Q64: =SUM(N64/O64) -> 1589.8409 | R64: =SUM((N64-F64)*100/F64) -> 9.4533042 | S64: =SUM((O64-G64)*100/G64) -> 234.05746 | T64: =SUM((Q64-I64)*100/I64) -> -67.235187
A65: 30. ส่งเสริมประสานความร่วมมือกับภาครัฐ/เอกชน | B65: 6103414.6 | C65: 3698.94 | D65: 589027.25 | E65: 336552.77 | F65: =SUM(B65:E65) -> 7032693.6 | G65: 1322 | H65: ครั้ง | I65: =SUM(F65/G65) -> 5319.738 | J65: 8964072.9 | K65: 256586.93 | L65: 545570.65 | M65: 358061.72 | N65: =SUM(J65:M65) -> 10124292 | O65: 906 | P65: ครั้ง | Q65: =SUM(N65/O65) -> 11174.715 | R65: =SUM((N65-F65)*100/F65) -> 43.960377 | S65: =SUM((O65-G65)*100/G65) -> -31.467474 | T65: =SUM((Q65-I65)*100/I65) -> 110.06139
A66: 31. ด้านพัฒนาระบบบริหารราชการ | B66: 4660961.5 | C66: 1870.03 | D66: 275039.59 | E66: 206446.73 | F66: =SUM(B66:E66) -> 5144317.9 | G66: 1 | H66: ด้าน | I66: =SUM(F66/G66) -> 5144317.9 | J66: 8088951.1 | K66: 25500.55 | L66: 297814.66 | M66: 214489.07 | N66: =SUM(J66:M66) -> 8626755.4 | O66: 1 | P66: ด้าน | Q66: =SUM(N66/O66) -> 8626755.4 | R66: =SUM((N66-F66)*100/F66) -> 67.694836 | S66: =SUM((O66-G66)*100/G66) -> 0 | T66: =SUM((Q66-I66)*100/I66) -> 67.694836
A67: 32. ดำเนินการเกี่ยวกับระบบควบคุมภายในของกรม | B67: 1997554.9 | C67: 801.44 | D67: 117874.11 | E67: 88477.17 | F67: =SUM(B67:E67) -> 2204707.6 | G67: 91 | H67: หน่วยงาน | I67: =SUM(F67/G67) -> 24227.557 | J67: 3466693.3 | K67: 10928.8 | L67: 127634.86 | M67: 91923.89 | N67: =SUM(J67:M67) -> 3697180.9 | O67: 92 | P67: หน่วยงาน | Q67: =SUM(N67/O67) -> 40186.749 | R67: =SUM((N67-F67)*100/F67) -> 67.694836 | S67: =SUM((O67-G67)*100/G67) -> 1.0989011 | T67: =SUM((Q67-I67)*100/I67) -> 65.872066
A68: 33. ด้านการตรวจสอบภายใน | B68: 5466151.4 | C68: 2260.47 | D68: 397216.33 | E68: 224746.71 | F68: =SUM(B68:E68) -> 6090374.9 | G68: 478 | H68: จำนวนงานตรวจสอบ/คน วัน | I68: =SUM(F68/G68) -> 12741.37 | J68: 5103044.6 | K68: 12077.64 | L68: 356038.52 | M68: 298079.57 | N68: =SUM(J68:M68) -> 5769240.3 | O68: 1720 | P68: จำนวนงานตรวจสอบ/คน วัน | Q68: =SUM(N68/O68) -> 3354.2095 | R68: =SUM((N68-F68)*100/F68) -> -5.2728215 | S68: =SUM((O68-G68)*100/G68) -> 259.83264 | T68: =SUM((Q68-I68)*100/I68) -> -73.674656
A69: 34. การประสานความร่วมมือด้านงานต่างประเทศ | B69: 5295382.4 | C69: 1232.99 | D69: 177266.64 | E69: 155562.61 | F69: =SUM(B69:E69) -> 5629444.7 | G69: 1309 | H69: ครั้ง | I69: =SUM(F69/G69) -> 4300.5689 | J69: 7808233.5 | K69: 4133.6 | L69: 355874.92 | M69: 243730.18 | N69: =SUM(J69:M69) -> 8411972.2 | O69: 1605 | P69: ครั้ง | Q69: =SUM(N69/O69) -> 5241.1042 | R69: =SUM((N69-F69)*100/F69) -> 49.428101 | S69: =SUM((O69-G69)*100/G69) -> 22.612681 | T69: =SUM((Q69-I69)*100/I69) -> 21.870021
A70: 35. ด้านเทคโนโลยีสารสนเทศภายในหน่วนงาน | B70: 11844279 | C70: 15090.41 | D70: 410893.08 | E70: 932918.16 | F70: =SUM(B70:E70) -> 13203181 | G70: 7400 | H70: จำนวนเครื่องคอมพิวเตอร์ | I70: =SUM(F70/G70) -> 1784.2137 | J70: 6047390.4 | K70: 0 | L70: 301118.03 | M70: 1908044 | N70: =SUM(J70:M70) -> 8256552.5 | O70: 5594 | P70: จำนวนเครื่องคอมพิวเตอร์ | Q70: =SUM(N70/O70) -> 1475.9658 | R70: =SUM((N70-F70)*100/F70) -> -37.46543 | S70: =SUM((O70-G70)*100/G70) -> -24.405405 | T70: =SUM((Q70-I70)*100/I70) -> -17.276401
A71: 36. ด้านเครื่อข่ายอินเตอร์เน็ตและเว็บไซต์ | B71: 7896186.3 | C71: 10060.27 | D71: 273928.72 | E71: 621945.44 | F71: =SUM(B71:E71) -> 8802120.7 | G71: 1 | H71: ระบบ | I71: =SUM(F71/G71) -> 8802120.7 | J71: 4031593.6 | K71: 0 | L71: 200745.35 | M71: 1272029.4 | N71: =SUM(J71:M71) -> 5504368.3 | O71: 1 | P71: ระบบ | Q71: =SUM(N71/O71) -> 5504368.3 | R71: =SUM((N71-F71)*100/F71) -> -37.46543 | S71: =SUM((O71-G71)*100/G71) -> 0 | T71: =SUM((Q71-I71)*100/I71) -> -37.46543
A72: 37. ด้านสำรวจและวางผังครุภัณฑ์และสิ่งก่อสร้าง | B72: 1122689.2 | C72: 6032.45 | D72: 48701.88 | E72: 34860.68 | F72: =SUM(B72:E72) -> 1212284.2 | G72: 31 | H72: สาขา | I72: =SUM(F72/G72) -> 39105.943 | J72: 0 | K72: 0 | L72: 0 | M72: 0 | N72: =SUM(J72:M72) -> 0 | O72: 0 | P72: - | Q72: 0 | R72: =SUM((N72-F72)*100/F72) -> -100 | S72: =SUM((O72-G72)*100/G72) -> -100 | T72: =SUM((Q72-I72)*100/I72) -> -100
A73: รวมต้นทุนผลผลิต | B73: =SUM(B14+B35) -> 1.6792844e+09 | C73: =SUM(C14+C35) -> 17796719 | D73: =SUM(D14+D35) -> 1.0814991e+08 | E73: =SUM(E14+E35) -> 2.0489465e+08 | F73: =SUM(F14+F35) -> 2.0101257e+09 | H73: =SUM(H36:H70) -> 0 | J73: =SUM(J14+J35) -> 2.0530581e+09 | K73: =SUM(K14+K35) -> 14900172 | L73: =SUM(L14+L35) -> 99371412 | M73: =SUM(M14+M35) -> 2.4260605e+08 | N73: =+N14+N35 -> 2.4099358e+09

Sheet ตารางที่ 7 ต่อ 
A1: ตารางที่ 7 เปรียบเทียบผลการคำนวณต้นทุนกิจกรรมย่อยแยกตามแหล่งเงิน
A2: วิเคราะห์สาเหตุของการเปลี่ยนแปลงของต้นทุนต่อหน่วยกิจกรรมย่อย
A4: 1. เพิ่มขีดความสามารถของแรงงานรองรับ | B4: - มีต้นทุนต่อหน่วยลดลง ร้อยละ 29.76
A5: ประชาคมอาเซียน | B5: เนื่องจาก กรมมีผลการดำเนินงานเพิ่มขึ้น ซึ่งมีภารกิจที่ต้องดำเนินการฝึกอบรม เพื่อรองรับปะชาคมเศรษฐกิจ
B6: อาเซียน (AEC)
A7: 2. พัฒนาฝีมือและศักยภาพกลุ่มเครือข่ายแรงงาน | B7: - มีต้นทุนต่อหน่วยเพิ่มขึ้น ร้อยละ 104.23
A8: นานาชาติ | B8: เนื่องจาก กรมมีเป้าหมายในการดำเนินงานเพิ่มขึ้น และมีผู้สนใจเข้ารับการฝึกอบรมจำนวนมาก
B9: ทั้งนี้ เป้าหมายการฝึกอบรมเพื่อให้สอดคล้องกับความต้องการของสถานประกอบกิจการ
A10: 3. ยกระดับทักษะฝีมือแรงงานให้มีศักยภาพและ | B10: - มีต้นทุนต่อหน่วยเพิ่มขึ้น ร้อยละ 16,384.18
A11: ผลิตภาพเพื่อการแข่งขัน | B11: เนื่องจากมีการเปลี่ยนแปลงหน่วยนับ ทำให้ไม่สามารถเปรียบเทียบได้
A12: 4. พัฒนาฝีมือเพื่อเพิ่มโอกาสในการประกอบอาชีพ | B12: - มีต้นทุนต่อหน่วยเพิ่มขึ้น ร้อยละ 25.51
B13: เนื่องจาก กรมมีเป้าหมายในการดำเนินงานเพิ่มขึ้น ซึ่งมีภารกิจที่ต้องดำเนินการฝึกอบรมเพื่อรองรับประชาคมเศรษฐกิจ
B14: อาเซียน (AEC)
A15: 5. พัฒนาฝีมือและศักยภาพแรงงานก่อนเข้าสู่ | B15: - มีต้นทุนต่อหน่วยลดลง ร้อยละ 100
A16: ตลาดแรงงาน | B16: เนื่องจาก ดำเนินการในปีงบประมาณ 2557 (ในปีงบประมาณ 2558 ไม่ได้ดำเนินการ)
A17: 6. ยกระดับฝีมือและศักยภาพแรงงาน | B17: - มีต้นทุนต่อหน่วยลดลง ร้อยละ 100
B18: เนื่องจาก ดำเนินการในปีงบประมาณ 2557 (ในปีงบประมาณ 2558 ไม่ได้ดำเนินการ)
A19: 7. จัดทำหลักเกณฑ์ พัฒนา/ส่งเสริมมาตรฐาน | B19: - มีต้นทุนต่อหน่วยลดลง ร้อยละ 48.19
A20: ฝีมือแรงงาน | B20: เนื่องจาก กรมมีเป้าหมายในการดำเนินงานเพิ่มขึ้น และมีผลการดำเนินงานที่เพิ่มขึ้น
A21: 8. พัฒนาระบบฝึกอบรมฝีมือแรงงาน | B21: - มีต้นทุนต่อหน่วยลดลง ร้อยละ 30.88
B22: เนื่องจาก กรมมีเป้าหมายในการดำเนินงานเพิ่มขึ้น
A23: 9. ส่งเสริมให้สถานประกอบการดำเนินการตาม | B23: - มีต้นทุนต่อหน่วยเพิ่มขึ้น ร้อยละ 2,706
A24: พ.ร.บ. 2545 | B24: เนื่องจาก กรมมีเป้าหมายในการดำเนินงานลดลง ประกอบกับมีจำนวนผู้เข้ารับการฝึกจำนวนมากขึ้น
A25: 10. ฝึกอบรมฝีมือแรงงานตามโครงการ | B25: - มีต้นทุนต่อหน่วยเพิ่มขึ้น ร้อยละ 100
A26: อันเนื่องมาจากพระราชดำริ | B26: เนื่องจาก ดำเนินการในปีงบประมาณ 2558 (ในปีงบประมาณ 2557 ไม่ได้ดำเนินการ)
A27: 11. ฝึกอบรมคนพิการร่วมกับมูลนิธิขาเทียมใน | B27: - มีต้นทุนต่อหน่วยเพิ่มขึ้น ร้อยละ 100
A28: สมเด็จพระศรีนครินทราบรมราชชนนี | B28: เนื่องจาก ดำเนินการในปีงบประมาณ 2558 (ในปีงบประมาณ 2557 ไม่ได้ดำเนินการ)
A29: 12. ฝึกอาชีพแรงงานกลุ่มเฉพาะ | B29: - มีต้นทุนต่อหน่วยเพิ่มขึ้น ร้อยละ 100
B30: เนื่องจาก ดำเนินการในปีงบประมาณ 2558 (ในปีงบประมาณ 2557 ไม่ได้ดำเนินการ)
A31: 13. จัดตั้งศูนย์ฯในสถานประกอบการเทิดไท้ | B31: - มีต้นทุนต่อหน่วยเพิ่มขึ้น ร้อยละ 100
A32: พระบิดาแห่งมาตรฐานการช่างไทย | B32: เนื่องจาก ดำเนินการในปีงบประมาณ 2558 (ในปีงบประมาณ 2557 ไม่ได้ดำเนินการ)
A33: 14. พัฒนาเทคโนโลยีสารสนเทศและการสื่อสาร | B33: - มีต้นทุนต่อหน่วยเพิ่มขึ้น ร้อยละ 100
B34: เนื่องจาก ดำเนินการในปีงบประมาณ 2558 (ในปีงบประมาณ 2557 ไม่ได้ดำเนินการ)
A35: 15. ตรวจติดตามและให้คำแนะนำการปฏิบัติ | B35: - มีต้นทุนต่อหน่วยเพิ่มขึ้น ร้อยละ 42.15
A36: ราชการ | B36: เนื่องจาก มีค่าใช้จ่ายในภารกิจเพิ่มขึ้น
A37: 16. ด้านงานสารบรรณ | B37: - มีต้นทุนต่อหน่วยลดลง ร้อยละ 40.81
B38: เนื่องจาก มีภารกิจเพิ่มขึ้น และได้ดำเนินการใช้จ่ายงบประมาณเป็นไปอย่างมีประสิทธิภาพตามนโยบายของรัฐบาล
A39: 17. ด้านยานพาหนะ | B39: - มีต้นทุนต่อหน่วยลดลง ร้อยละ 28.04
B40: เนื่องจาก มีภารกิจเพิ่มขึ้น และได้ดำเนินการใช้จ่ายงบประมาณเป็นไปอย่างมีประสิทธิภาพตามนโยบายของรัฐบาล
A41: 18. ด้านประชาสัมพันธ์ | B41: - มีต้นทุนต่อหน่วยลดลง ร้อยละ 20.15
B42: เนื่องจาก มีภารกิจลดลง และได้ดำเนินการใช้จ่ายงบประมาณเป็นไปอย่างมีประสิทธิภาพตามนโยบายของรัฐบาล
A43: 19. ด้านอำนวยการ พิธีการและประสานราชการ | B43: - มีต้นทุนต่อหน่วยลดลง ร้อยละ 61.90
B44: เนื่องจาก มีภารกิจเพิ่มขึ้น และได้ดำเนินการใช้จ่ายงบประมาณเป็นไปอย่างมีประสิทธิภาพตามนโยบายของรัฐบาล
A45: 20. ด้านแผนงาน | B45: - มีต้นทุนต่อหน่วยลดลง ร้อยละ 37.47
B46: เนื่องจาก ปีงบประมาณ 2558 ไม่ได้รับงบประมาณด้านค่าจ้างที่ปรึกษา
A47: 21. ศึกษารูปแบบการพัฒนาศักยภาพแรงงาน | B47: - มีต้นทุนต่อหน่วยลดลง ร้อยละ 38.16
B48: เนื่องจาก ได้ดำเนินการโครงการต่างๆเพิ่มขึ้น
A49: 22. พัฒนามาตรฐานฝีมือแรงงานแห่งชาติ | B49: - มีต้นทุนต่อหน่วยเพิ่มขึ้น ร้อยละ 83.04
B50: เนื่องจาก ราคาสินค้า วัสดุ อุปกรณ์ปรับตัวสูงขึ้น
A51: 23. พัฒนาระบบรับรองมาตรฐานฝีมือแรงงาน | B51: - มีต้นทุนต่อหน่วยเพิ่มขึ้น ร้อยละ 55.95
A52: แห่งชาติ | B52: เนื่องจาก มีจำนวนผู้เข้ารับการอบรมเพิ่มขึ้น ประกอบกับราคาสินค้า วัสดุ อุปกรณ์ปรับตัวสูงขึ้น
A53: 24. พัฒนาศักยภาพแรงงานเพื่อรองรับการจ่าย | B53: - มีต้นทุนต่อหน่วยเพิ่มขึ้น ร้อยละ 32.61
A54: ค่าจ้างตามมาตรฐานฝีมือแรงงาน | B54: เนื่องจาก ราคาสินค้า วัสดุ อุปกรณ์ปรับตัวสูงขึ้น
A55: 25. ส่งเสริมมาตรฐานฝีมือแรงงานแห่งชาติ | B55: - มีต้นทุนต่อหน่วยเพิ่มขึ้น ร้อยละ 20.80
B56: เนื่องจาก มีการเปลี่ยนแปลงหน่วยนับ ทำให้ไม่สามารถเปรียบเทียบได้
A57: 26. ด้านพัฒนาและจัดทำสื่อการฝึกอบรมฝีมือ | B57: - มีต้นทุนต่อหน่วยลดลง ร้อยละ 100
A58: แรงงาน | B58: เนื่องจาก ดำเนินการในปีงบประมาณ 2557 (ในปีงบประมาณ 2558 ไม่ได้ดำเนินการ)
A59: 27. ด้านพัฒนาบุคลากรฝึก | B59: - มีต้นทุนต่อหน่วยลดลง ร้อยละ 63.24
B60: เนื่องจาก มีผู้เข้ารับการอบรมเพิ่มขึ้น มีการพัฒนาบุคลากรที่เกี่ยวข้องกับการพัฒนาทรัพยากรแรงงาน รวมทั้งหน่วยงานอื่นๆ
B61: ทั้งภาครัฐและเอกชนเพื่อเพิ่มความรู้ร่วมกันและนำไปถ่ายทอด
A62: 28. ด้านคัดเลือกครูฝึกดีเด่น | B62: - มีต้นทุนต่อหน่วยเพิ่มขึ้น ร้อยละ 28.75
B63: เนื่องจาก มีการพัฒนากระบวนการพัฒนาครูฝึกเพื่อเพิ่มศักยภาพในการสอนให้มีมาตรฐานเพิ่มขึ้น
A64: 29. ด้านการพัฒนาระบบและรูปแบบการฝึก | B64: - มีต้นทุนต่อหน่วยเพิ่มขึ้น ร้อยละ 208.99
B65: เนื่องจาก มีการพัฒนาระบบและรูปแบบการฝึกเพื่อให้กระบวนการฝึกได้มาตรฐานเพิ่มขึ้น
A66: 30. ด้านการประกันคุณภาพการพัฒนา | B66: - มีต้นทุนต่อหน่วยลดลง ร้อยละ 26.11
A67: ฝีมือแรงงาน | B67: เนื่องจาก มีการจัดทำและพัฒนาระบบการประกันคุณภาพเพื่อให้กระบวนการฝึกได้ตามมาตรฐาน
B68: ในการแข่งขันในตลาดแรงงานสากลเพิ่มขึ้น
A69: 31. พัฒนาสถานฝึก | B69: - มีต้นทุนต่อหน่วยเพิ่มขึ้น ร้อยละ 100
B70: เนื่องจาก ดำเนินการในปีงบประมาณ 2558 (ในปีงบประมาณ 2557 ไม่ได้ดำเนินการ)
A71: 32. พัฒนาครุภัณฑ์การฝึก | B71: - มีต้นทุนต่อหน่วยเพิ่มขึ้น ร้อยละ 100
B72: เนื่องจาก ดำเนินการในปีงบประมาณ 2558 (ในปีงบประมาณ 2557 ไม่ได้ดำเนินการ)
A73: 33. ด้านงานกฎหมายของกรมพัฒนาฝีมือแรงงาน | B73: - มีต้นทุนต่อหน่วยลดลง ร้อยละ 67.24
B74: เนื่องจาก มีภารกิจที่เกี่ยวข้องในด้านงานกฎหมายเพิ่มขึ้น
A75: 34. ส่งเสริมประสานความร่วมมือกับภาครัฐ/เอกชน | B75: - มีต้นทุนต่อหน่วยเพิ่มขึ้น ร้อยละ 110.06
B76: เนื่องจาก มีการจัดจ้างที่ปรึกษา เพื่อจัดทำยุทธศาสตร์การพัฒนาบุคลากรด้านโลจิสติกส์และซัพพลายเชน
B77: มีการจัดจ้างที่ปรึกษาเพื่อจัดทำแผนแม่บทระบบสมรรถนะแรงงานตามความต้องการของประเทศ มีการจัดประชุม
B78: สัมมนาโครงการอื่นๆ เพิ่มขึ้น
A79: 35. ด้านพัฒนาระบบบริหารราชการ | B79: - มีต้นทุนต่อหน่วยเพิ่มขึ้น ร้อยละ 67.69
B80: เนื่องจาก ได้มีการจัดประชุม สัมมนา การจัดทำตัวชี้วัดของกรมฯเพิ่มขึ้น
A81: 36. ดำเนินการเกี่ยวกับระบบควบคุมภายในของกรม | B81: - มีต้นทุนต่อหน่วยเพิ่มขึ้น ร้อยละ 65.87
B82: เนื่องจาก ได้มีการจัดทำรายงานการควบคุมภายในมีหน่วยงานที่ต้องจัดส่งรายงานเพิ่มขึ้นอีก 1 หน่วยงาน
B83: คือ สถาบันยานยนต์และชิ้นส่วนอะไหล่ยานยนต์
A84: 37. ด้านการตรวจสอบภายใน | B84: - มีต้นทุนต่อหน่วยลดลง ร้อยละ 73.67
B85: เนื่องจาก มีภารกิจในการตรวจสอบภายในเพิ่มขึ้น
A86: 38. การประสานความร่วมมือด้านงานต่างประเทศ | B86: - มีต้นทุนต่อหน่วยเพิ่มขึ้น ร้อยละ 21.87
B87: เนื่องจาก ได้มีการติดต่อ ประสานความร่วมมือระหว่างประเทศกับชาวต่างชาติเพิ่มมากขึ้น
A88: 39. ด้านเครื่อข่ายอินเตอร์เน็ตและเว็บไซต์ | B88: - มีต้นทุนต่อหน่วยลดลง ร้อยละ 37.47
B89: เนื่องจาก ปีงบประมาณ 2558 ค่าเสื่อมราคา-อุปกรณ์คอมพิวเตอร์ลดลง
A90: 40. ด้านสำรวจและวางผังครุภัณฑ์และสิ่งก่อสร้าง | B90: - มีต้นทุนต่อหน่วยลดลง ร้อยละ 100
B91: เนื่องจาก ดำเนินการในปีงบประมาณ 2557 (ในปีงบประมาณ 2558 ไม่ได้ดำเนินการ)

Sheet ตารางที่ 8 ส่ง
A1: กรมพัฒนาฝีมือแรงงาน
A2: รายงานการคำนวณต้นทุนผลผลิต
A3: ประจำปีงบประมาณ พ.ศ. 2558
A4: ตารางเปรียบเทียบผลการคำนวณต้นทุนผลผลิตระหว่างปีงบประมาณ พ.ศ. 2557 และปีงบประมาณ พ.ศ. 2558
A6: ตารางที่ 8 เปรียบเทียบผลการคำนวณต้นทุนกิจกรรมหลักแยกตามแหล่งเงิน
A8: ต้นทุนผลผลิตประจำปีงบประมาณ พ.ศ. 2557 (ต.ค. 56-ก.ย. 57) | J8: ต้นทุนผลผลิตประจำปีงบประมาณ พ.ศ. 2558 (ต.ค. 57-ก.ย. 58) | R8: ผลการเปรียบเทียบ
A9: กิจกรรมหลัก | B9: เงินใน | C9: เงินนอก | D9: งบกลาง | E9: ค่าเสื่อม | F9: ต้นทุน | G9: ปริมาณ | H9: หน่วย | I9: ต้นทุน | J9: เงินใน | K9: เงินนอก | L9: งบกลาง | M9: ค่าเสื่อม | N9: ต้นทุน | O9: ปริมาณ | P9: หน่วย | Q9: ต้นทุน | R9: ต้นทุน | S9: หน่วย | T9: ต้นทุน
B10: งปม. | C10: งปม. | E10: ราคา | F10: รวม | H10: นับ | I10: ต่อหน่วย | J10: งปม. | K10: งปม. | M10: ราคา | N10: รวม | P10: นับ | Q10: ต่อหน่วย | R10: รวม | S10: นับ | T10: ต่อหน่วย
R11: เพิ่ม (ลด) | S11: เพิ่ม (ลด) | T11: เพิ่ม (ลด)
R12: % | S12: % | T12: %
A14: (1) | B14: (2) | C14: (3) | D14: (4) | E14: (5) | F14: (6) =(2) ถึง (5) | G14: (7) | H14: (8) | I14: (9) = (6)/(7) | J14: (10) | K14: (11) | L14: (12) | M14: (13) | N14: (14) =(10) ถึง (13) | O14: (15) | P14: (16) | Q14: (17) = (14)/(15) | R14: (18) = (14)-(6) | S14: (19) = (15)-(7) | T14: (20) = (17)-(9)
R15: *100/(6) | S15: *100/(7) | T15: *100/(9)
A16: 1. เสริมสร้างธรรมาภิบาลป้องกันและลดความเสี่ยงในการเกิดการทุจริต | B16: 0 | C16: 0 | D16: 0 | E16: 0 | F16: 0 | G16: 0 | H16: 0 | I16: 0 | J16: =+'ตารางที่ 4 ส่ง'!B8 -> 2053058.1 | K16: =+'ตารางที่ 4 ส่ง'!C8 -> 14900.172 | L16: =+'ตารางที่ 4 ส่ง'!D8 -> 99371.412 | M16: =+'ตารางที่ 4 ส่ง'!E8 -> 242606.05 | N16: =SUM(J16:M16) -> 2409935.8 | O16: 589 | P16: คน | Q16: =+N16/O16 -> 4091.5718 | R16: 100 | S16: 100 | T16: 100
A17: และประพฤติมิชอบ
A18: 2. เพิ่มขีดความสามารถของแรงงานรองรับประชาคมอาเซียน | B18: 1.565093e+08 | C18: 1658654.2 | D18: 10079571 | E18: 19096181 | F18: =SUM(B18:E18) -> 1.8734371e+08 | G18: 35454 | H18: คน | I18: =SUM(F18/G18) -> 5284.1347 | J18: =+'ตารางที่ 4 ส่ง'!B10 -> 4.6173277e+08 | K18: =+'ตารางที่ 4 ส่ง'!C10 -> 3351048.7 | L18: =+'ตารางที่ 4 ส่ง'!D10 -> 22348631 | M18: =+'ตารางที่ 4 ส่ง'!E10 -> 54562101 | N18: =SUM(J18:M18) -> 5.4199455e+08 | O18: 149401 | P18: คน | Q18: =+N18/O18 -> 3627.784 | R18: =SUM((N18-F18)*100/F18) -> 189.30491 | S18: =SUM((O18-G18)*100/G18) -> 321.39392 | T18: =SUM((Q18-I18)*100/I18) -> -31.345732
A19: 3. พัฒนาฝีมือและศักยภาพกลุ่มเครือข่ายแรงงานนานาชาติ | B19: 29891262 | C19: 316781.6 | D19: 1925068.3 | E19: 3647124.7 | F19: =SUM(B19:E19) -> 35780237 | G19: 1586 | H19: คน | I19: =SUM(F19/G19) -> 22560.048 | J19: =+'ตารางที่ 4 ส่ง'!B11 -> 84791301 | K19: =+'ตารางที่ 4 ส่ง'!C11 -> 615377.12 | L19: =+'ตารางที่ 4 ส่ง'!D11 -> 4104039.3 | M19: =+'ตารางที่ 4 ส่ง'!E11 -> 10019630 | N19: =SUM(J19:M19) -> 99530347 | O19: 2210 | P19: คน | Q19: =+N19/O19 -> 45036.356 | R19: =SUM((N19-F19)*100/F19) -> 178.17129 | S19: =SUM((O19-G19)*100/G19) -> 39.344262 | T19: =SUM((Q19-I19)*100/I19) -> 99.628811
A20: 4. ฝึกอบรมฝีมือแรงงานตามโครงการอันเนื่องมาจากพระราชดำริ | B20: 0 | C20: 0 | D20: 0 | E20: 0 | F20: 0 | G20: 0 | H20: 0 | I20: 0 | J20: =+'ตารางที่ 4 ส่ง'!B12 -> 12318349 | K20: =+'ตารางที่ 4 ส่ง'!C12 -> 89401.034 | L20: =+'ตารางที่ 4 ส่ง'!D12 -> 596228.47 | M20: =+'ตารางที่ 4 ส่ง'!E12 -> 1455636.3 | N20: =SUM(J20:M20) -> 14459615 | O20: 3604 | P20: คน | Q20: =+N20/O20 -> 4012.1017 | R20: 100 | S20: 100 | T20: 100
A21: 5. ฝึกอบรมคนพิการร่วมกับมูลนิธิขาเทียมในสมเด็จพระศรีนครินทราบรมราชชนนี | B21: 0 | C21: 0 | D21: 0 | E21: 0 | F21: 0 | G21: 0 | H21: 0 | I21: 0 | J21: =+'ตารางที่ 4 ส่ง'!B13 -> 2668975.6 | K21: =+'ตารางที่ 4 ส่ง'!C13 -> 19370.224 | L21: =+'ตารางที่ 4 ส่ง'!D13 -> 129182.84 | M21: =+'ตารางที่ 4 ส่ง'!E13 -> 315387.87 | N21: =SUM(J21:M21) -> 3132916.5 | O21: 59 | P21: คน | Q21: =+N21/O21 -> 53100.28 | R21: 100 | S21: 100 | T21: 100
A22: 6. ฝึกอาชีพแรงงานกลุ่มเฉพาะ | B22: 0 | C22: 0 | D22: 0 | E22: 0 | F22: 0 | G22: 0 | H22: 0 | I22: 0 | J22: =+'ตารางที่ 4 ส่ง'!B15 -> 11702431 | K22: =+'ตารางที่ 4 ส่ง'!C15 -> 84930.982 | L22: =+'ตารางที่ 4 ส่ง'!D15 -> 566417.05 | M22: =+'ตารางที่ 4 ส่ง'!E15 -> 1382854.5 | N22: =SUM(J22:M22) -> 13736634 | O22: 9592 | P22: คน | Q22: =+N22/O22 -> 1432.0928 | R22: 100 | S22: 100 | T22: 100
A23: 7. จัดตั้งศูนย์ฯในสถานประกอบการเทิดไท้พระบิดาแห่งมาตรฐานการช่างไทย | B23: 0 | C23: 0 | D23: 0 | E23: 0 | F23: 0 | G23: 0 | H23: 0 | I23: 0 | J23: =+'ตารางที่ 4 ส่ง'!B16 -> 3695504.6 | K23: =+'ตารางที่ 4 ส่ง'!C16 -> 26820.31 | L23: =+'ตารางที่ 4 ส่ง'!D16 -> 178868.54 | M23: =+'ตารางที่ 4 ส่ง'!E16 -> 436690.89 | N23: =SUM(J23:M23) -> 4337884.4 | O23: 87 | P23: แห่ง | Q23: =+N23/O23 -> 49860.74 | R23: 100 | S23: 100 | T23: 100
A24: 8. ยกระดับทักษะฝีมือแรงงานให้มีศักยภาพและผลิตภาพเพื่อการแข่งขัน | B24: 2.1091812e+08 | C24: 2235267.9 | D24: 13583628 | E24: 25734767 | F24: =SUM(B24:E24) -> 2.5247178e+08 | G24: 128332 | H24: คน | I24: =SUM(F24/G24) -> 1967.333 | J24: =+'ตารางที่ 4 ส่ง'!B18 -> 70214588 | K24: =+'ตารางที่ 4 ส่ง'!C18 -> 509585.89 | L24: =+'ตารางที่ 4 ส่ง'!D18 -> 3398502.3 | M24: =+'ตารางที่ 4 ส่ง'!E18 -> 8297126.9 | N24: =SUM(J24:M24) -> 82419803 | O24: 260 | P24: แห่ง | Q24: =+N24/O24 -> 316999.24 | R24: =SUM((N24-F24)*100/F24) -> -67.354846 | S24: =SUM((O24-G24)*100/G24) -> -99.7974 | T24: =SUM((Q24-I24)*100/I24) -> 16013.146
A25: 9. พัฒนาฝีมือเพื่อเพิ่มโอกาสในการประกอบอาชีพ | B25: 1.3568618e+08 | C25: 1437974.9 | D25: 8738512.4 | E25: 16555487 | F25: =SUM(B25:E25) -> 1.6241815e+08 | G25: 12553 | H25: คน | I25: =SUM(F25/G25) -> 12938.593 | J25: =+'ตารางที่ 4 ส่ง'!B19 -> 1.3960795e+08 | K25: =+'ตารางที่ 4 ส่ง'!C19 -> 1013211.7 | L25: =+'ตารางที่ 4 ส่ง'!D19 -> 6757256 | M25: =+'ตารางที่ 4 ส่ง'!E19 -> 16497211 | N25: =SUM(J25:M25) -> 1.6387563e+08 | O25: 10324 | P25: คน | Q25: =+N25/O25 -> 15873.269 | R25: =SUM((N25-F25)*100/F25) -> 0.89736234 | S25: =SUM((O25-G25)*100/G25) -> -17.756712 | T25: =SUM((Q25-I25)*100/I25) -> 22.681576
A26: 10. พัฒนา/ส่งเสริมการประกอบอาชีพอิสระ | B26: 70865801 | C26: 751021.54 | D26: 4563926 | E26: 8646554 | F26: =SUM(B26:E26) -> 84827303 | G26: 2288 | H26: คน | I26: =SUM(F26/G26) -> 37074.87 | J26: =+'ตารางที่ 4 ส่ง'!B20 -> 79658656 | K26: =+'ตารางที่ 4 ส่ง'!C20 -> 578126.68 | L26: =+'ตารางที่ 4 ส่ง'!D20 -> 3855610.8 | M26: =+'ตารางที่ 4 ส่ง'!E20 -> 9413114.8 | N26: =SUM(J26:M26) -> 93505508 | O26: 2273 | P26: คน | Q26: =+N26/O26 -> 41137.487 | R26: =SUM((N26-F26)*100/F26) -> 10.230439 | S26: =SUM((O26-G26)*100/G26) -> -0.65559441 | T26: =SUM((Q26-I26)*100/I26) -> 10.957872
A27: 11. พัฒนาฝีมือและศักยภาพแรงงานก่อนเข้าสู่ตลาดแรงงาน | B27: 3.0831661e+08 | C27: 3267477.6 | D27: 19856323 | E27: 37618657 | F27: =SUM(B27:E27) -> 3.6905907e+08 | G27: 3035 | H27: คน | I27: =SUM(F27/G27) -> 121601.01 | J27: 0 | K27: 0 | L27: 0 | M27: 0 | N27: =SUM(J27:M27) -> 0 | O27: 0 | P27: - | Q27: 0 | R27: =SUM((N27-F27)*100/F27) -> -100 | S27: =SUM((O27-G27)*100/G27) -> -100 | T27: =SUM((Q27-I27)*100/I27) -> -100
A28: 12. ทดสอบมาตรฐานฝีมือแรงงาน | B28: 1.4744117e+08 | C28: 1562551.9 | D28: 9495561.7 | E28: 17989750 | F28: =SUM(B28:E28) -> 1.7648903e+08 | G28: 42990 | H28: คน | I28: =SUM(F28/G28) -> 4105.3508 | J28: =+'ตารางที่ 4 ส่ง'!B21 -> 1.6403934e+08 | K28: =+'ตารางที่ 4 ส่ง'!C21 -> 1190523.8 | L28: =+'ตารางที่ 4 ส่ง'!D21 -> 7939775.8 | M28: =+'ตารางที่ 4 ส่ง'!E21 -> 19384223 | N28: =SUM(J28:M28) -> 1.9255387e+08 | O28: 44001 | P28: คน | Q28: =+N28/O28 -> 4376.1248 | R28: =SUM((N28-F28)*100/F28) -> 9.1024554 | S28: =SUM((O28-G28)*100/G28) -> 2.3517097 | T28: =SUM((Q28-I28)*100/I28) -> 6.5956355
A29: 13. ยกระดับฝีมือและศักยภาพแรงงาน | B29: 3.8388441e+08 | C29: 4068330 | D29: 24723068 | E29: 46838916 | F29: =SUM(B29:E29) -> 4.5951473e+08 | G29: 12698 | H29: คน | I29: =SUM(F29/G29) -> 36187.961 | J29: 0 | K29: 0 | L29: 0 | M29: 0 | N29: =SUM(J29:M29) -> 0 | O29: 0 | P29: - | Q29: 0 | R29: =SUM((N29-F29)*100/F29) -> -100 | S29: =SUM((O29-G29)*100/G29) -> -100 | T29: =SUM((Q29-I29)*100/I29) -> -100
A30: 14. จัดทำหลักเกณฑ์ พัฒนา/ส่งเสริมมาตรฐานฝีมือแรงงาน | B30: 1.1167241e+08 | C30: 1183481.8 | D30: 7191968.7 | E30: 13625494 | F30: =SUM(B30:E30) -> 1.3367336e+08 | G30: 13 | H30: สาขา | I30: =SUM(F30/G30) -> 10282566 | J30: =+'ตารางที่ 4 ส่ง'!B22 -> 1.2421002e+08 | K30: =+'ตารางที่ 4 ส่ง'!C22 -> 901460.42 | L30: =+'ตารางที่ 4 ส่ง'!D22 -> 6011970.4 | M30: =+'ตารางที่ 4 ส่ง'!E22 -> 14677666 | N30: =SUM(J30:M30) -> 1.4580111e+08 | O30: 28 | P30: สาขา | Q30: =+N30/O30 -> 5207182.6 | R30: =SUM((N30-F30)*100/F30) -> 9.0726816 | S30: =SUM((O30-G30)*100/G30) -> 115.38462 | T30: =SUM((Q30-I30)*100/I30) -> -49.359112
A31: 15. พัฒนาระบบการฝึกอบรมฝีมือแรงงาน | B31: 56256027 | C31: 596190.09 | D31: 3623021.8 | E31: 6863970.6 | F31: =SUM(B31:E31) -> 67339209 | G31: 128 | H31: หลักสูตร | I31: =SUM(F31/G31) -> 526087.57 | J31: =+'ตารางที่ 4 ส่ง'!B23 -> 61591744 | K31: =+'ตารางที่ 4 ส่ง'!C23 -> 447005.17 | L31: =+'ตารางที่ 4 ส่ง'!D23 -> 2981142.4 | M31: =+'ตารางที่ 4 ส่ง'!E23 -> 7278181.5 | N31: =SUM(J31:M31) -> 72298073 | O31: 111 | P31: หลักสูตร | Q31: =+N31/O31 -> 651333.99 | R31: =SUM((N31-F31)*100/F31) -> 7.3640063 | S31: =SUM((O31-G31)*100/G31) -> -13.28125 | T31: =SUM((Q31-I31)*100/I31) -> 23.807142
A32: 16. ส่งเสริมและสนับสนุนให้สถานประกอบกิจการดำเนินการฝึกอบรม | B32: 26196836 | C32: 277628.82 | D32: 1687138.5 | E32: 3196356.5 | F32: =SUM(B32:E32) -> 31357960 | G32: 4220799 | H32: คน | I32: =SUM(F32/G32) -> 7.4293896 | J32: =+'ตารางที่ 4 ส่ง'!B24 -> 7.7359231e+08 | K32: =+'ตารางที่ 4 ส่ง'!C24 -> 5614384.9 | L32: =+'ตารางที่ 4 ส่ง'!D24 -> 37443148 | M32: =+'ตารางที่ 4 ส่ง'!E24 -> 91413960 | N32: =SUM(J32:M32) -> 9.080638e+08 | O32: 4456177 | P32: คน | Q32: =+N32/O32 -> 203.77642 | R32: =SUM((N32-F32)*100/F32) -> 2795.8 | S32: =SUM((O32-G32)*100/G32) -> 5.5766219 | T32: =SUM((Q32-I32)*100/I32) -> 2642.842
A33: ฝีมือแรงงานตามพระราชบัญญัติส่งเสริมการพัฒนาฝีมือแรงงานพ.ศ. 2545
A34: 17. พัฒนาศักยภาพแรงงานเพื่อรองรับการจ่ายค่าจ้างตามมาตรฐานฝีมือแรงงาน | B34: 41646253 | C34: 441358.63 | D34: 2682117.7 | E34: 5081387.2 | F34: =SUM(B34:E34) -> 49851116 | G34: 15469 | H34: คน | I34: =SUM(F34/G34) -> 3222.6463 | J34: =+'ตารางที่ 4 ส่ง'!B26 -> 47630949 | K34: =+'ตารางที่ 4 ส่ง'!C26 -> 345684 | L34: =+'ตารางที่ 4 ส่ง'!D26 -> 2305416.8 | M34: =+'ตารางที่ 4 ส่ง'!E26 -> 5628460.4 | N34: =SUM(J34:M34) -> 55910510 | O34: 15885 | P34: คน | Q34: =+N34/O34 -> 3519.7047 | R34: =SUM((N34-F34)*100/F34) -> 12.154981 | S34: =SUM((O34-G34)*100/G34) -> 2.6892495 | T34: =SUM((Q34-I34)*100/I34) -> 9.2178406
A35: 18. พัฒนาเทคโนโลยีสารสนเทศและการสื่อสาร | B35: 0 | C35: 0 | D35: 0 | E35: 0 | F35: 0 | G35: 0 | H35: 0 | I35: 0 | J35: =+'ตารางที่ 4 ส่ง'!B27 -> 13550184 | K35: =+'ตารางที่ 4 ส่ง'!C27 -> 98341.137 | L35: =+'ตารางที่ 4 ส่ง'!D27 -> 655851.32 | M35: =+'ตารางที่ 4 ส่ง'!E27 -> 1601199.9 | N35: =SUM(J35:M35) -> 15905576 | O35: 79 | P35: แห่ง | Q35: =+N35/O35 -> 201336.41 | R35: 100 | S35: 100 | T35: 100
A36: รวมต้นทุนทั้งสิ้น | B36: =+B18+B19+B24+B25+B26+B27+B28+B29+B30+B31+B32+B34 -> 1.6792844e+09 | C36: =+C18+C19+C24+C25+C26+C27+C28+C29+C30+C31+C32+C34 -> 17796719 | D36: =+D18+D19+D24+D25+D26+D27+D28+D29+D30+D31+D32+D34 -> 1.0814991e+08 | E36: =+E18+E19+E24+E25+E26+E27+E28+E29+E30+E31+E32+E34 -> 2.0489465e+08 | F36: =SUM(B36:E36) -> 2.0101257e+09 | G36: =+G18+G19+G24+G25+G26+G27+G28+G29+G32+G34 -> 4475204 | I36: =+F36/G36 -> 449.16961 | J36: =+J18+J19+J24+J25+J26+J27+J28+J29+J30+J31+J32+J34+J35+J20+J21+J22+J23+J16 -> 2.0530581e+09 | K36: =+K18+K19+K24+K25+K26+K27+K28+K29+K30+K31+K32+K34+K35+K20+K21+K22+K23+K16 -> 14900172 | L36: =+L18+L19+L24+L25+L26+L27+L28+L29+L30+L31+L32+L34+L35+L20+L21+L22+L23+L16 -> 99371412 | M36: =+M18+M19+M24+M25+M26+M27+M28+M29+M30+M31+M32+M34+M35+M20+M21+M22+M23+M16 -> 2.4260605e+08 | N36: =+N18+N19+N24+N25+N26+N27+N28+N29+N30+N31+N32+N34+N35+N20+N21+N22+N23+N16 -> 2.4099358e+09 | O36: =+O18+O19+O25+O26+O27+O28+O29+O32+O34+O20+O21+O22+O16 -> 4694115 | Q36: =+N36/O36 -> 513.39513

Sheet ตารางที่ 8 ต่อ
A1: ตารางที่ 8 เปรียบเทียบผลการคำนวณต้นทุนกิจกรรมหลักแยกตามแหล่งเงิน
A2: วิเคราะห์สาเหตุของการเปลี่ยนแปลงของต้นทุนต่อหน่วยกิจกรรมหลัก
A4: 1. เสริมสร้างธรรมาภิบาลป้องกันและลดความเสี่ยงฯ | L4: คน
A5: ต้นทุนต่อหน่วยเพิ่มขึ้น ร้อยละ 100
A6: เนื่องจาก เป็นกิจกรรมใหม่ มีเป้าหมายดำเนินการในปีงบประมาณ 2558 (ในปีงบประมาณ 2557 ไม่ได้ดำเนินการ)
A7: 2. เพิ่มขีดความสามารถของแรงงานรองรับประชาคมอาเซียน | L7: คน
A8: ต้นทุนต่อหน่วยลดลง ร้อยละ 31.35
A9: เนื่องจาก กรมฯ มีเป้าหมายและผลการดำเนินงานเพิ่มขึ้น โดยได้ดำเนินการกิจกรรม พัฒนาฝีมือแรงงานส่งเสริมศักยภาพ
A10: อุตสาหกรรมยานยนต์และชิ้นส่วน การพัฒนาศักยภาพแรงงานไทยเพื่อส่งเสริมความสามารถของภาคบริการและการท่องเที่ยว
A11: สู่รายได้และการข่งขัน การพัฒนาฝีมือแรงงานรองรับการพัฒนาโครงสร้างพื้นฐานคมนาคมและการขนส่ง การฝึกอบรมฝีมือ
A12: แรงงานรองรับการพัฒนาพื้นที่เศรษฐกิจชายแดน ในปี 2558 เพื่อรองรับประชาคมเศรษฐกิจอาเซียน (AEC)
A13: 3. พัฒนาฝีมือและศักยภาพกลุ่มเครือข่ายแรงงานนานาชาติ
A14: ต้นทุนต่อหน่วยเพิ่มขึ้น ร้อยละ 99.63
A15: เนื่องจาก กรมฯ มีเป้าหมายและผลการดำเนินงานเพิ่มขึ้น เพื่อรองรับประชาคมเศรษฐกิจอาเซียน (AEC) ประกอบกับ
A16: ราคาสินค้า วัสดุ อุปกรณ์ปรับตัวสูงขึ้น
A17: 4. ฝึกอบรมฝีมือแรงงานตามโครงการอันเนื่องมาจากพระราชดำริ
A18: ต้นทุนต่อหน่วยเพิ่มขึ้น ร้อยละ 100
A19: เนื่องจาก เป็นกิจกรรมใหม่ ดำเนินการในปีงบประมาณ 2558 (ในปีงบประมาณ 2557 ไม่ได้ดำเนินการ)
... A31: เนื่องจาก กรมฯ ได้ปรับเปลี่ยนหน่วยนับ ทำให้มีปริมาณหน่วยนับที่แตกต่างกัน ซึ่งไม่สามารถเปรียบเทียบได้
A32: 9. พัฒนาฝีมือเพื่อเพิ่มโอกาสในการประกอบอาชีพ | L32: คน
A33: ต้นทุนต่อหน่วยเพิ่มขึ้น ร้อยละ 22.68
A34: เนื่องจาก กรมฯ ได้ปรับลดเป้าหมายการดำเนินงานลง ซึ่งมีภารกิจที่ต้องดำเนินการฝึกอบรมเพื่อรองรับประชาคมเศรษฐกิจ
A35: อาเซียน (AEC)
A36: 10. พัฒนาฝีมือและศักยภาพแรงงานก่อนเข้าสู่ตลาดแรงงาน
A37: ต้นทุนต่อหน่วยลดลง ร้อยละ 100
A38: เนื่องจาก มีการปรับเปลี่ยนกิจกรรม ซึ่งได้ดำเนินการในปีงบประมาณ 2557
A39: 11. ยกระดับฝีมือและศักยภาพแรงงาน
A40: ต้นทุนต่อหน่วยลดลงร้อยละ 100
A41: เนื่องจาก มีการปรับเปลี่ยนกิจกรรม ซึ่งได้ดำเนินการในปีงบประมาณ 2557
A42: 12 จัดทำหลักเกณฑ์ พัฒนา/ส่งเสริมมาตรฐานฝีมือแรงงาน
A43: ต้นทุนต่อหน่วยเลดลง ร้อยละ 49.36
A44: เนื่องจาก มีจำนวนสาขาที่เข้าแข่งขันเพิ่มมากขึ้น เพื่อรองรับการเป็นประชาคมเศรษฐกิจอาเซียน ประกอบกับราคาสินค้า
... A56: เนื่องจาก เป็นกิจกรรมใหม่ ดำเนินการในปีงบประมาณ 2558 (ในปีงบประมาณ 2557 ไม่ได้ดำเนินการ)

Sheet ตารางที่ 9 ส่ง
A1: กรมพัฒนาฝีมือแรงงาน
A2: รายงานการคำนวณต้นทุนผลผลิต
A3: ประจำปีงบประมาณ พ.ศ. 2558
A4: ตารางเปรียบเทียบผลการคำนวณต้นทุนผลผลิตระหว่างปีงบประมาณ พ.ศ. 2557 และปีงบประมาณ พ.ศ. 2558
A6: ตารางที่ 9 เปรียบเทียบผลการคำนวณต้นทุนผลผลิตย่อยแยกตามแหล่งเงิน
A8: ต้นทุนผลผลิตประจำปีงบประมาณ พ.ศ. 2557 (ต.ค. 56-ก.ย. 57) | J8: ต้นทุนผลผลิตประจำปีงบประมาณ พ.ศ. 2558 (ต.ค. 57-ก.ย. 58) | R8: ผลการเปรียบเทียบ
A9: กิจกรรมหลัก | B9: เงินใน | C9: เงินนอก | D9: งบกลาง | E9: ค่าเสื่อม | F9: ต้นทุน | G9: ปริมาณ | H9: หน่วย | I9: ต้นทุน | J9: เงินใน | K9: เงินนอก | L9: งบกลาง | M9: ค่าเสื่อม | N9: ต้นทุน | O9: ปริมาณ | P9: หน่วย | Q9: ต้นทุน | R9: ต้นทุน | S9: หน่วย | T9: ต้นทุน
B10: งปม. | C10: งปม. | E10: ราคา | F10: รวม | H10: นับ | I10: ต่อหน่วย | J10: งปม. | K10: งปม. | M10: ราคา | N10: รวม | P10: นับ | Q10: ต่อหน่วย | R10: รวม | S10: นับ | T10: ต่อหน่วย
R11: เพิ่ม (ลด) | S11: เพิ่ม (ลด) | T11: เพิ่ม (ลด)
R12: % | S12: % | T12: %
A14: (1) | B14: (2) | C14: (3) | D14: (4) | E14: (5) | F14: (6) =(2) ถึง (5) | G14: (7) | H14: (8) | I14: (9) = (6)/(7) | J14: (10) | K14: (11) | L14: (12) | M14: (13) | N14: (14) =(10) ถึง (13) | O14: (15) | P14: (16) | Q14: (17) = (14)/(15) | R14: (18) = (14)-(6) | S14: (19) = (15)-(7) | T14: (20) = (17)-(9)
R15: *100/(6) | S15: *100/(7) | T15: *100/(9)
A16: 1. เสริมสร้างธรรมาภิบาลป้องกันและลดความเสี่ยงในการเกิดการทุจริต | B16: 0 | C16: 0 | D16: 0 | E16: 0 | F16: 0 | G16: 0 | H16: 0 | I16: 0 | J16: =+'ตารางที่ 4 ส่ง'!B8 -> 2053058.1 | K16: =+'ตารางที่ 4 ส่ง'!C8 -> 14900.172 | L16: =+'ตารางที่ 4 ส่ง'!D8 -> 99371.412 | M16: =+'ตารางที่ 4 ส่ง'!E8 -> 242606.05 | N16: =SUM(J16:M16) -> 2409935.8 | O16: 589 | P16: คน | Q16: =+N16/O16 -> 4091.5718 | R16: 100 | S16: 100 | T16: 100
A17: และประพฤติมิชอบ
A18: 2. เพิ่มขีดความสามารถของแรงงานรองรับประชาคมอาเซียน | B18: 1.565093e+08 | C18: 1658654.2 | D18: 10079571 | E18: 19096181 | F18: =SUM(B18:E18) -> 1.8734371e+08 | G18: 35454 | H18: คน | I18: =SUM(F18/G18) -> 5284.1347 | J18: =+'ตารางที่ 4 ส่ง'!B10 -> 4.6173277e+08 | K18: =+'ตารางที่ 4 ส่ง'!C10 -> 3351048.7 | L18: =+'ตารางที่ 4 ส่ง'!D10 -> 22348631 | M18: =+'ตารางที่ 4 ส่ง'!E10 -> 54562101 | N18: =SUM(J18:M18) -> 5.4199455e+08 | O18: 149401 | P18: คน | Q18: =+N18/O18 -> 3627.784 | R18: =SUM((N18-F18)*100/F18) -> 189.30491 | S18: =SUM((O18-G18)*100/G18) -> 321.39392 | T18: =SUM((Q18-I18)*100/I18) -> -31.345732
A19: 3. พัฒนาฝีมือและศักยภาพกลุ่มเครือข่ายแรงงานนานาชาติ | B19: 29891262 | C19: 316781.6 | D19: 1925068.3 | E19: 3647124.7 | F19: =SUM(B19:E19) -> 35780237 | G19: 1586 | H19: คน | I19: =SUM(F19/G19) -> 22560.048 | J19: =+'ตารางที่ 4 ส่ง'!B11 -> 84791301 | K19: =+'ตารางที่ 4 ส่ง'!C11 -> 615377.12 | L19: =+'ตารางที่ 4 ส่ง'!D11 -> 4104039.3 | M19: =+'ตารางที่ 4 ส่ง'!E11 -> 10019630 | N19: =SUM(J19:M19) -> 99530347 | O19: 2210 | P19: คน | Q19: =+N19/O19 -> 45036.356 | R19: =SUM((N19-F19)*100/F19) -> 178.17129 | S19: =SUM((O19-G19)*100/G19) -> 39.344262 | T19: =SUM((Q19-I19)*100/I19) -> 99.628811
A20: 4. ฝึกอบรมฝีมือแรงงานตามโครงการอันเนื่องมาจากพระราชดำริ | B20: 0 | C20: 0 | D20: 0 | E20: 0 | F20: 0 | G20: 0 | H20: 0 | I20: 0 | J20: =+'ตารางที่ 4 ส่ง'!B12 -> 12318349 | K20: =+'ตารางที่ 4 ส่ง'!C12 -> 89401.034 | L20: =+'ตารางที่ 4 ส่ง'!D12 -> 596228.47 | M20: =+'ตารางที่ 4 ส่ง'!E12 -> 1455636.3 | N20: =SUM(J20:M20) -> 14459615 | O20: 3604 | P20: คน | Q20: =+N20/O20 -> 4012.1017 | R20: 100 | S20: 100 | T20: 100
A21: 5. ฝึกอบรมคนพิการร่วมกับมูลนิธิขาเทียมในสมเด็จพระศรีนครินทราบรมราชชนนี | B21: 0 | C21: 0 | D21: 0 | E21: 0 | F21: 0 | G21: 0 | H21: 0 | I21: 0 | J21: =+'ตารางที่ 4 ส่ง'!B13 -> 2668975.6 | K21: =+'ตารางที่ 4 ส่ง'!C13 -> 19370.224 | L21: =+'ตารางที่ 4 ส่ง'!D13 -> 129182.84 | M21: =+'ตารางที่ 4 ส่ง'!E13 -> 315387.87 | N21: =SUM(J21:M21) -> 3132916.5 | O21: 59 | P21: คน | Q21: =+N21/O21 -> 53100.28 | R21: 100 | S21: 100 | T21: 100
A22: 6. ฝึกอาชีพแรงงานกลุ่มเฉพาะ | B22: 0 | C22: 0 | D22: 0 | E22: 0 | F22: 0 | G22: 0 | H22: 0 | I22: 0 | J22: =+'ตารางที่ 4 ส่ง'!B15 -> 11702431 | K22: =+'ตารางที่ 4 ส่ง'!C15 -> 84930.982 | L22: =+'ตารางที่ 4 ส่ง'!D15 -> 566417.05 | M22: =+'ตารางที่ 4 ส่ง'!E15 -> 1382854.5 | N22: =SUM(J22:M22) -> 13736634 | O22: 9592 | P22: คน | Q22: =+N22/O22 -> 1432.0928 | R22: 100 | S22: 100 | T22: 100
A23: 7. จัดตั้งศูนย์ฯในสถานประกอบการเทิดไท้พระบิดาแห่งมาตรฐานการช่างไทย | B23: 0 | C23: 0 | D23: 0 | E23: 0 | F23: 0 | G23: 0 | H23: 0 | I23: 0 | J23: =+'ตารางที่ 4 ส่ง'!B16 -> 3695504.6 | K23: =+'ตารางที่ 4 ส่ง'!C16 -> 26820.31 | L23: =+'ตารางที่ 4 ส่ง'!D16 -> 178868.54 | M23: =+'ตารางที่ 4 ส่ง'!E16 -> 436690.89 | N23: =SUM(J23:M23) -> 4337884.4 | O23: 87 | P23: แห่ง | Q23: =+N23/O23 -> 49860.74 | R23: 100 | S23: 100 | T23: 100
A24: 8. ยกระดับทักษะฝีมือแรงงานให้มีศักยภาพและผลิตภาพเพื่อการแข่งขัน | B24: 2.1091812e+08 | C24: 2235267.9 | D24: 13583628 | E24: 25734767 | F24: =SUM(B24:E24) -> 2.5247178e+08 | G24: 128332 | H24: คน | I24: =SUM(F24/G24) -> 1967.333 | J24: =+'ตารางที่ 4 ส่ง'!B18 -> 70214588 | K24: =+'ตารางที่ 4 ส่ง'!C18 -> 509585.89 | L24: =+'ตารางที่ 4 ส่ง'!D18 -> 3398502.3 | M24: =+'ตารางที่ 4 ส่ง'!E18 -> 8297126.9 | N24: =SUM(J24:M24) -> 82419803 | O24: 260 | P24: แห่ง | Q24: =+N24/O24 -> 316999.24 | R24: =SUM((N24-F24)*100/F24) -> -67.354846 | S24: =SUM((O24-G24)*100/G24) -> -99.7974 | T24: =SUM((Q24-I24)*100/I24) -> 16013.146
A25: 9. พัฒนาฝีมือเพื่อเพิ่มโอกาสในการประกอบอาชีพ | B25: 1.3568618e+08 | C25: 1437974.9 | D25: 8738512.4 | E25: 16555487 | F25: =SUM(B25:E25) -> 1.6241815e+08 | G25: 12553 | H25: คน | I25: =SUM(F25/G25) -> 12938.593 | J25: =+'ตารางที่ 4 ส่ง'!B19 -> 1.3960795e+08 | K25: =+'ตารางที่ 4 ส่ง'!C19 -> 1013211.7 | L25: =+'ตารางที่ 4 ส่ง'!D19 -> 6757256 | M25: =+'ตารางที่ 4 ส่ง'!E19 -> 16497211 | N25: =SUM(J25:M25) -> 1.6387563e+08 | O25: 10324 | P25: คน | Q25: =+N25/O25 -> 15873.269 | R25: =SUM((N25-F25)*100/F25) -> 0.89736234 | S25: =SUM((O25-G25)*100/G25) -> -17.756712 | T25: =SUM((Q25-I25)*100/I25) -> 22.681576
A26: 10. พัฒนา/ส่งเสริมการประกอบอาชีพอิสระ | B26: 70865801 | C26: 751021.54 | D26: 4563926 | E26: 8646554 | F26: =SUM(B26:E26) -> 84827303 | G26: 2288 | H26: คน | I26: =SUM(F26/G26) -> 37074.87 | J26: =+'ตารางที่ 4 ส่ง'!B20 -> 79658656 | K26: =+'ตารางที่ 4 ส่ง'!C20 -> 578126.68 | L26: =+'ตารางที่ 4 ส่ง'!D20 -> 3855610.8 | M26: =+'ตารางที่ 4 ส่ง'!E20 -> 9413114.8 | N26: =SUM(J26:M26) -> 93505508 | O26: 2273 | P26: คน | Q26: =+N26/O26 -> 41137.487 | R26: =SUM((N26-F26)*100/F26) -> 10.230439 | S26: =SUM((O26-G26)*100/G26) -> -0.65559441 | T26: =SUM((Q26-I26)*100/I26) -> 10.957872
A27: 11. พัฒนาฝีมือและศักยภาพแรงงานก่อนเข้าสู่ตลาดแรงงาน | B27: 3.0831661e+08 | C27: 3267477.6 | D27: 19856323 | E27: 37618657 | F27: =SUM(B27:E27) -> 3.6905907e+08 | G27: 3035 | H27: คน | I27: =SUM(F27/G27) -> 121601.01 | J27: 0 | K27: 0 | L27: 0 | M27: 0 | N27: =SUM(J27:M27) -> 0 | O27: 0 | P27: - | Q27: 0 | R27: =SUM((N27-F27)*100/F27) -> -100 | S27: =SUM((O27-G27)*100/G27) -> -100 | T27: =SUM((Q27-I27)*100/I27) -> -100
A28: 12. ทดสอบมาตรฐานฝีมือแรงงาน | B28: 1.4744117e+08 | C28: 1562551.9 | D28: 9495561.7 | E28: 17989750 | F28: =SUM(B28:E28) -> 1.7648903e+08 | G28: 42990 | H28: คน | I28: =SUM(F28/G28) -> 4105.3508 | J28: =+'ตารางที่ 4 ส่ง'!B21 -> 1.6403934e+08 | K28: =+'ตารางที่ 4 ส่ง'!C21 -> 1190523.8 | L28: =+'ตารางที่ 4 ส่ง'!D21 -> 7939775.8 | M28: =+'ตารางที่ 4 ส่ง'!E21 -> 19384223 | N28: =SUM(J28:M28) -> 1.9255387e+08 | O28: 44001 | P28: คน | Q28: =+N28/O28 -> 4376.1248 | R28: =SUM((N28-F28)*100/F28) -> 9.1024554 | S28: =SUM((O28-G28)*100/G28) -> 2.3517097 | T28: =SUM((Q28-I28)*100/I28) -> 6.5956355
A29: 13. ยกระดับฝีมือและศักยภาพแรงงาน | B29: 3.8388441e+08 | C29: 4068330 | D29: 24723068 | E29: 46838916 | F29: =SUM(B29:E29) -> 4.5951473e+08 | G29: 12698 | H29: คน | I29: =SUM(F29/G29) -> 36187.961 | J29: 0 | K29: 0 | L29: 0 | M29: 0 | N29: =SUM(J29:M29) -> 0 | O29: 0 | P29: - | Q29: 0 | R29: =SUM((N29-F29)*100/F29) -> -100 | S29: =SUM((O29-G29)*100/G29) -> -100 | T29: =SUM((Q29-I29)*100/I29) -> -100
A30: 14. จัดทำหลักเกณฑ์ พัฒนา/ส่งเสริมมาตรฐานฝีมือแรงงาน | B30: 1.1167241e+08 | C30: 1183481.8 | D30: 7191968.7 | E30: 13625494 | F30: =SUM(B30:E30) -> 1.3367336e+08 | G30: 13 | H30: สาขา | I30: =SUM(F30/G30) -> 10282566 | J30: =+'ตารางที่ 4 ส่ง'!B22 -> 1.2421002e+08 | K30: =+'ตารางที่ 4 ส่ง'!C22 -> 901460.42 | L30: =+'ตารางที่ 4 ส่ง'!D22 -> 6011970.4 | M30: =+'ตารางที่ 4 ส่ง'!E22 -> 14677666 | N30: =SUM(J30:M30) -> 1.4580111e+08 | O30: 28 | P30: สาขา | Q30: =+N30/O30 -> 5207182.6 | R30: =SUM((N30-F30)*100/F30) -> 9.0726816 | S30: =SUM((O30-G30)*100/G30) -> 115.38462 | T30: =SUM((Q30-I30)*100/I30) -> -49.359112
A31: 15. พัฒนาระบบการฝึกอบรมฝีมือแรงงาน | B31: 56256027 | C31: 596190.09 | D31: 3623021.8 | E31: 6863970.6 | F31: =SUM(B31:E31) -> 67339209 | G31: 128 | H31: หลักสูตร | I31: =SUM(F31/G31) -> 526087.57 | J31: =+'ตารางที่ 4 ส่ง'!B23 -> 61591744 | K31: =+'ตารางที่ 4 ส่ง'!C23 -> 447005.17 | L31: =+'ตารางที่ 4 ส่ง'!D23 -> 2981142.4 | M31: =+'ตารางที่ 4 ส่ง'!E23 -> 7278181.5 | N31: =SUM(J31:M31) -> 72298073 | O31: 111 | P31: หลักสูตร | Q31: =+N31/O31 -> 651333.99 | R31: =SUM((N31-F31)*100/F31) -> 7.3640063 | S31: =SUM((O31-G31)*100/G31) -> -13.28125 | T31: =SUM((Q31-I31)*100/I31) -> 23.807142
A32: 16. ส่งเสริมและสนับสนุนให้สถานประกอบกิจการดำเนินการฝึกอบรม | B32: 26196836 | C32: 277628.82 | D32: 1687138.5 | E32: 3196356.5 | F32: =SUM(B32:E32) -> 31357960 | G32: 4220799 | H32: คน | I32: =SUM(F32/G32) -> 7.4293896 | J32: =+'ตารางที่ 4 ส่ง'!B24 -> 7.7359231e+08 | K32: =+'ตารางที่ 4 ส่ง'!C24 -> 5614384.9 | L32: =+'ตารางที่ 4 ส่ง'!D24 -> 37443148 | M32: =+'ตารางที่ 4 ส่ง'!E24 -> 91413960 | N32: =SUM(J32:M32) -> 9.080638e+08 | O32: 4456177 | P32: คน | Q32: =+N32/O32 -> 203.77642 | R32: =SUM((N32-F32)*100/F32) -> 2795.8 | S32: =SUM((O32-G32)*100/G32) -> 5.5766219 | T32: =SUM((Q32-I32)*100/I32) -> 2642.842
A33: ฝีมือแรงงานตามพระราชบัญญัติส่งเสริมการพัฒนาฝีมือแรงงานพ.ศ. 2545
A34: 17. พัฒนาศักยภาพแรงงานเพื่อรองรับการจ่ายค่าจ้างตามมาตรฐานฝีมือแรงงาน | B34: 41646253 | C34: 441358.63 | D34: 2682117.7 | E34: 5081387.2 | F34: =SUM(B34:E34) -> 49851116 | G34: 15469 | H34: คน | I34: =SUM(F34/G34) -> 3222.6463 | J34: =+'ตารางที่ 4 ส่ง'!B26 -> 47630949 | K34: =+'ตารางที่ 4 ส่ง'!C26 -> 345684 | L34: =+'ตารางที่ 4 ส่ง'!D26 -> 2305416.8 | M34: =+'ตารางที่ 4 ส่ง'!E26 -> 5628460.4 | N34: =SUM(J34:M34) -> 55910510 | O34: 15885 | P34: คน | Q34: =+N34/O34 -> 3519.7047 | R34: =SUM((N34-F34)*100/F34) -> 12.154981 | S34: =SUM((O34-G34)*100/G34) -> 2.6892495 | T34: =SUM((Q34-I34)*100/I34) -> 9.2178406
A35: 18. พัฒนาเทคโนโลยีสารสนเทศและการสื่อสาร | B35: 0 | C35: 0 | D35: 0 | E35: 0 | F35: 0 | G35: 0 | H35: 0 | I35: 0 | J35: =+'ตารางที่ 4 ส่ง'!B27 -> 13550184 | K35: =+'ตารางที่ 4 ส่ง'!C27 -> 98341.137 | L35: =+'ตารางที่ 4 ส่ง'!D27 -> 655851.32 | M35: =+'ตารางที่ 4 ส่ง'!E27 -> 1601199.9 | N35: =SUM(J35:M35) -> 15905576 | O35: 79 | P35: แห่ง | Q35: =+N35/O35 -> 201336.41 | R35: 100 | S35: 100 | T35: 100
A36: รวมต้นทุนทั้งสิ้น | B36: =+B18+B19+B24+B25+B26+B27+B28+B29+B30+B31+B32+B34 -> 1.6792844e+09 | C36: =+C18+C19+C24+C25+C26+C27+C28+C29+C30+C31+C32+C34 -> 17796719 | D36: =+D18+D19+D24+D25+D26+D27+D28+D29+D30+D31+D32+D34 -> 1.0814991e+08 | E36: =+E18+E19+E24+E25+E26+E27+E28+E29+E30+E31+E32+E34 -> 2.0489465e+08 | F36: =SUM(B36:E36) -> 2.0101257e+09 | G36: =+G18+G19+G24+G25+G26+G27+G28+G29+G32+G34 -> 4475204 | I36: =+F36/G36 -> 449.16961 | J36: =+J18+J19+J24+J25+J26+J27+J28+J29+J30+J31+J32+J34+J35+J20+J21+J22+J23+J16 -> 2.0530581e+09 | K36: =+K18+K19+K24+K25+K26+K27+K28+K29+K30+K31+K32+K34+K35+K20+K21+K22+K23+K16 -> 14900172 | L36: =+L18+L19+L24+L25+L26+L27+L28+L29+L30+L31+L32+L34+L35+L20+L21+L22+L23+L16 -> 99371412 | M36: =+M18+M19+M24+M25+M26+M27+M28+M29+M30+M31+M32+M34+M35+M20+M21+M22+M23+M16 -> 2.4260605e+08 | N36: =+N18+N19+N24+N25+N26+N27+N28+N29+N30+N31+N32+N34+N35+N20+N21+N22+N23+N16 -> 2.4099358e+09 | O36: =+O18+O19+O25+O26+O27+O28+O29+O32+O34+O20+O21+O22+O16 -> 4694115 | Q36: =+N36/O36 -> 513.39513

Sheet ตารางที่ 9 ต่อ
A1: ตารางที่ 9 เปรียบเทียบผลการคำนวณต้นทุนผลผลิตย่อยแยกตามแหล่งเงิน
A2: วิเคราะห์สาเหตุของการเปลี่ยนแปลงของต้นทุนต่อหน่วยผลผลิตย่อย
A4: 1. เสริมสร้างธรรมาภิบาลป้องกันและลดความเสี่ยงฯ | N4: คน
A5: ต้นทุนต่อหน่วยเพิ่มขึ้น ร้อยละ 100
A6: เนื่องจาก เป็นกิจกรรมใหม่ มีเป้าหมายดำเนินการในปีงบประมาณ 2558 (ในปีงบประมาณ 2557 ไม่ได้ดำเนินการ)
A7: 2. เพิ่มขีดความสามารถของแรงงานรองรับประชาคมอาเซียน
A8: ต้นทุนต่อหน่วยลดลง ร้อยละ 31.35 | N8: คน
A9: เนื่องจาก กรมฯ มีเป้าหมายและผลการดำเนินงานเพิ่มขึ้น โดยได้ดำเนินการกิจกรรม พัฒนาฝีมือแรงงานส่งเสริมศักยภาพ
A10: อุตสาหกรรมยานยนต์และชิ้นส่วน การพัฒนาศักยภาพแรงงานไทยเพื่อส่งเสริมความสามารถของภาคบริการและการท่องเที่ยว
A11: สู่รายได้และการข่งขัน การพัฒนาฝีมือแรงงานรองรับการพัฒนาโครงสร้างพื้นฐานคมนาคมและการขนส่ง การฝึกอบรมฝีมือ
A12: แรงงานรองรับการพัฒนาพื้นที่เศรษฐกิจชายแดน ในปี 2558 เพื่อรองรับประชาคมเศรษฐกิจอาเซียน (AEC) | N12: คน
A13: 3. พัฒนาฝีมือและศักยภาพกลุ่มเครือข่ายแรงงานนานาชาติ
A14: ต้นทุนต่อหน่วยเพิ่มขึ้น ร้อยละ 99.63
A15: เนื่องจาก กรมฯ มีเป้าหมายและผลการดำเนินงานเพิ่มขึ้น เพื่อรองรับประชาคมเศรษฐกิจอาเซียน (AEC) ประกอบกับ
A16: ราคาสินค้า วัสดุ อุปกรณ์ปรับตัวสูงขึ้น
A17: 4. ฝึกอบรมฝีมือแรงงานตามโครงการอันเนื่องมาจากพระราชดำริ
A18: ต้นทุนต่อหน่วยเพิ่มขึ้น ร้อยละ 100
A19: เนื่องจาก เป็นกิจกรรมใหม่ ดำเนินการในปีงบประมาณ 2558 (ในปีงบประมาณ 2557 ไม่ได้ดำเนินการ)
A20: 5. ฝึกอบรมคนพิการร่วมกับมูลนิธิขาเทียมในสมเด็จพระศรีนครินทราบรมราชชนนี
A21: ต้นทุนต่อหน่วยเพิ่มขึ้น ร้อยละ 100
A22: เนื่องจาก เป็นกิจกรรมใหม่ ดำเนินการในปีงบประมาณ 2558 (ในปีงบประมาณ 2557 ไม่ได้ดำเนินการ)
A23: 6. ฝึกอาชีพกลุ่มแรงงานเฉพาะ
A24: ต้นทุนต่อหน่วยเพิ่มขึ้น ร้อยละ 100
... A56: เนื่องจาก เป็นกิจกรรมใหม่ ดำเนินการในปีงบประมาณ 2558 (ในปีงบประมาณ 2557 ไม่ได้ดำเนินการ)

Sheet ตารางที่ 10 ส่ง
A1: กรมพัฒนาฝีมือแรงงาน
A2: รายงานการคำนวณต้นทุนผลผลิต
A3: ประจำปีงบประมาณ พ.ศ. 2558
A4: ตารางเปรียบเทียบผลการคำนวณต้นทุนผลผลิตระหว่างปีงบประมาณ พ.ศ. 2557 และปีงบประมาณ พ.ศ. 2558
A6: ตารางที่ 10 เปรียบเทียบผลการคำนวณต้นทุนผลผลิตหลักแยกตามแหล่งเงิน
A8: ต้นทุนผลผลิตประจำปีงบประมาณ พ.ศ. 2557 (ต.ค. 56-ก.ย. 57) | J8: ต้นทุนผลผลิตประจำปีงบประมาณ พ.ศ. 2558 (ต.ค. 57-ก.ย. 58) | R8: ผลการเปรียบเทียบ
A9: ผลผลิตหลัก/โครงการ | B9: เงินใน | C9: เงินนอก | D9: งบกลาง | E9: ค่าเสื่อม | F9: ต้นทุน | G9: ปริมาณ | H9: หน่วย | I9: ต้นทุน | J9: เงินใน | K9: เงินนอก | L9: งบกลาง | M9: ค่าเสื่อม | N9: ต้นทุน | O9: ปริมาณ | P9: หน่วย | Q9: ต้นทุน | R9: ต้นทุน | S9: หน่วย | T9: ต้นทุน
B10: งปม. | C10: งปม. | E10: ราคา | F10: รวม | H10: นับ | I10: ต่อหน่วย | J10: งปม. | K10: งปม. | M10: ราคา | N10: รวม | P10: นับ | Q10: ต่อหน่วย | R10: รวม | S10: นับ | T10: ต่อหน่วย
R11: เพิ่ม (ลด) | S11: เพิ่ม (ลด) | T11: เพิ่ม (ลด)
R12: เพิ่ม (ลด) % | S12: เพิ่ม (ลด) % | T12: เพิ่ม (ลด) %
A13: (1) | B13: (2) | C13: (3) | D13: (4) | E13: (5) | F13: (6) =(2) ถึง (5) | G13: (7) | H13: (8) | I13: (9) = (6)/(7) | J13: (10) | K13: (11) | L13: (12) | M13: (13) | N13: (14) =(10) ถึง (13) | O13: (15) | P13: (16) | Q13: (17) = (14)/(15) | R13: (18) = (14)-(6) | S13: (19) = (15)-(7) | T13: (20) = (17)-(9)
R14: *100/(6) | S14: *100/(7) | T14: *100/(9)
A15: 1. โครงการ เสริมสร้างธรรมาภิบาลป้องกันและลดความเสี่ยง | B15: 0 | C15: 0 | D15: 0 | E15: 0 | F15: =SUM(B15:E15) -> 0 | G15: 0 | H15: 0 | I15: 0 | J15: 2053058.1 | K15: 14900.17 | L15: 99371.41 | M15: 242606.05 | N15: =SUM(J15:M15) -> 2409935.8 | O15: 589 | P15: คน | Q15: =+N15/O15 -> 4091.5717 | R15: 100 | S15: 100 | T15: 100
A16: ในการเกิดการทุจริตและประพฤติมิชอบ
A17: 2. เพิ่มประสิทธิภาพของแรงงานรองรับประชาคมอาเซียน | B17: 1.8640057e+08 | C17: 1975435.8 | D17: 12004640 | E17: 22743306 | F17: =SUM(B17:E17) -> 2.2312395e+08 | G17: 37040 | H17: คน | I17: =+F17/G17 -> 6023.8647 | J17: 5.4652408e+08 | K17: 3966425.9 | L17: 26452670 | M17: 64581731 | N17: =SUM(J17:M17) -> 6.415249e+08 | O17: 151611 | P17: คน | Q17: =SUM(N17/O17) -> 4231.3876 | R17: =SUM((N17-F17)*100/F17) -> 187.51952 | S17: =SUM((O17-G17)*100/G17) -> 309.31695 | T17: =SUM((Q17-I17)*100/I17) -> -29.756264
A18: 3. โครงการ ฝึกอบรมฝีมือแรงงานตามโครงการอันเนื่องมาจาก | B18: 0 | C18: 0 | D18: 0 | E18: 0 | F18: 0 | G18: 0 | H18: 0 | I18: 0 | J18: 30385260 | K18: 220522.55 | L18: 1470696.9 | M18: 3590569.6 | N18: =SUM(J18:M18) -> 35667049 | O18: 13255 | P18: คน | Q18: =SUM(N18/O18) -> 2690.8374 | R18: 100 | S18: 100 | T18: 100
A19: พระราชดำริ
A20: 4. พัฒนาฝีมือแรงงานไทยให้มีผลิตภาพสูงขึ้นเพิ่มขีดความสามารถ | B20: 2.1091812e+08 | C20: 2235267.9 | D20: 13583628 | E20: 25734767 | F20: =SUM(B20:E20) -> 2.5247178e+08 | G20: 128332 | H20: คน | I20: =+F20/G20 -> 1967.333 | J20: 0 | K20: 0 | L20: 0 | M20: 0 | N20: =SUM(J20:M20) -> 0 | O20: 0 | P20: 0 | Q20: 0 | R20: -100 | S20: -100 | T20: -100
A21: ในการแข่งขัน
A22: 5. พัฒนาศักยภาพฝีมือแรงงานทั้งระบบให้สอดคล้องกับความต้องการ | B22: 1.2403194e+09 | C22: 13144657 | D22: 79879521 | E22: 1.5133518e+08 | F22: =SUM(B22:E22) -> 1.4846788e+09 | G22: 4294363 | H22: คน | I22: =SUM(F22/G22) -> 345.72737 | J22: 1.4740957e+09 | K22: 10698324 | L22: 71348674 | M22: 1.7419114e+08 | N22: =SUM(J22:M22) -> 1.7303339e+09 | O22: 4528660 | P22: คน | Q22: =SUM(N22/O22) -> 382.08518 | R22: =SUM((N22-F22)*100/F22) -> 16.546008 | S22: =SUM((O22-G22)*100/G22) -> 5.4559198 | T22: =SUM((Q22-I22)*100/I22) -> 10.516326
A23: ของตลาดแรงงานและการประกอบอาชีพ
A24: 6. โครงการ พัฒนาศักยภาพแรงงานเพื่อรองรับการจ่ายค่าจ้างตาม | B24: 41646253 | C24: 441358.63 | D24: 2682117.7 | E24: 5081387.2 | F24: =SUM(B24:E24) -> 49851116 | G24: 15469 | H24: คน | I24: =SUM(F24/G24) -> 3222.6463 | J24: 0 | K24: 0 | L24: 0 | M24: 0 | N24: =SUM(J24:M24) -> 0 | O24: 0 | Q24: 0 | R24: -100 | S24: -100 | T24: -100
A25: มาตรฐานฝีมือแรงงาน
A26: รวมต้นทุนทั้งสิ้น | B26: =+B17+B20+B22+B24 -> 1.6792844e+09 | C26: =+C17+C20+C22+C24 -> 17796719 | D26: =+D17+D20+D22+D24 -> 1.0814991e+08 | E26: =+E17+E20+E22+E24 -> 2.0489465e+08 | F26: =+F17+F20+F22+F24 -> 2.0101257e+09 | G26: =+G17+G20+G22+G24 -> 4475204 | H26: คน | I26: =SUM(F26/G26) -> 449.16961 | J26: =+J15+J17+J18+J20+J22+J24 -> 2.0530581e+09 | K26: =+K15+K17+K18+K20+K22+K24 -> 14900172 | L26: =+L15+L17+L18+L20+L22+L24 -> 99371412 | M26: =+M15+M17+M18+M20+M22+M24 -> 2.4260605e+08 | N26: =+N15+N17+N18+N22 -> 2.4099358e+09 | O26: =+O15+O17+O18+O22+O24 -> 4694115 | P26: คน | Q26: =SUM(N26/O26) -> 513.39513 | R26: =SUM((N26-F26)*100/F26) -> 19.889807 | S26: =SUM((O26-G26)*100/G26) -> 4.8916429 | T26: =SUM((Q26-I26)*100/I26) -> 14.298722
A29: ตารางที่ 10 เปรียบเทียบผลการคำนวณต้นทุนผลผลิตหลักแยกตามแหล่งเงิน
A30: วิเคราะห์สาเหตุของการเปลี่ยนแปลงของต้นทุนต่อหน่วยผลผลิตหลัก
A32: โครงการ เสริมสร้างธรรมาภิบาลป้องกันและลดความเสี่ยงในการเกิดการทุจริตและประพฤติมิชอบ มีต้นทุนต่อหน่วยเพิ่มขึ้นร้อยละ 100 เนื่องจาก ได้ดำเนินการตามแผนยุทธศาสตร์การจัดสรรงบประมาณประจำปี 2558
A34: ผลผลิต เพิ่มประสิทธิภาพของแรงงานรองรับประชาคมเศรษฐกิจอาเซียน มีต้นทุนต่อหน่วยลดลงร้อยละ 29.76 เนื่องจาก มีเป้าหมายและผลการดำเนินงานเพิ่มขึ้นในปีงบประมาณ 2558 เพื่อรองรับประชาคมเศรษฐกิจอาเซียน (AEC)
A35: โดยได้ดำเนินการพัฒนาฝีมือแรงงานส่งเสริมศักยภาพอุตสาหกรรมยานยนต์และชิ้นส่วน การพัฒนาศักยภาพแรงงานไทยเพื่อส่งเสริมความสามารถของภาคบริการและการท่องเที่ยวสู่รายได้และการข่งขัน
A36: การพัฒนาฝีมือแรงงานรองรับการพัฒนาโครงสร้างพื้นฐานคมนาคมและการขนส่ง การฝึกอบรมฝีมือแรงงานรองรับการพัฒนาพื้นที่เศรษฐกิจชายแดน ภายใต้ผลผลิต ดังกล่าว
A38: โครงการ ฝึกอบรมฝีมือแรงงานตามโครงการอันเนื่องมาจากพระราชดำริ มีต้นทุนต่อหน่วยเพิ่มขึ้นร้อยละ 100 เนื่องจาก เป็นโครงการใหม่ ดำเนินการในปีงบประมาณ 2558 (ในปีงบประมาณ 2557 ไม่ได้ดำเนินการ)
A40: ผลผลิต พัฒนาฝีมือแรงงานไทยให้มีผลิตภาพสูงขึ้นเพิ่มขีดความสามารถในการแข่งขัน มีต้นทุนต่อหน่วยลดลงร้อยละ 100 เนื่องจาก ในปีงบประมาณ 2558 ดำเนินการภายใต้ผลผลิต พัฒนาศักยภาพฝีมือแรงงานทั้งระบบให้
A41: สอดคล้องกับความต้องของตลาดแรงงานและการประกอบอาชีพ
A43: โครงการ พัฒนาศักยภาพแรงงานเพื่อรองรับการจ่ายค่าจ้างตามมาตรฐานฝีมือแรงงาน มีต้นทุนต่อหน่วยลดลงร้อยละ 100 เนื่องจาก ในปีงบประมาณ 2558 ดำเนินการภายใต้ผลผลิต พัฒนาศักยภาพฝีมือแรงงานทั้งระบบให้
A44: สอดคล้องกับความต้องการของตลาดแรงงานและการประกอบอาชีพ
A70: ผลผลิต กำลังแรงงานในสถานประกอบกิจการได้รับการพัฒนาทักษะฝีมือและศักยภาพได้มาตรฐาน มีต้นทุนต่อหน่วยลดลง 29.65
... A74: นอกระบบและผู้จบการศึกษาใหม่มีรายได้ที่แท้จริงสูงขึ้น และจำนวนผู้เข้ารับการอบรมมากขึ้น มีผลทำให้ต้นทุนต่อหน่วยลดลง

Sheet ตารางที่ 11 ส่ง
A1: กรมพัฒนาฝีมือแรงงาน | M1: กรมพัฒนาฝีมือแรงงาน
A2: รายงานการคำนวณต้นทุนผลผลิต | M2: รายงานต้นทุนต่อหน่วยผลผลิต
A3: ประจำปีงบประมาณ พ.ศ. 2558 | M3: ประจำปีงบประมาณ พ.ศ. 2558
A4: รายงานเปรียบเทียบผลการคำนวณต้นทุนผลผลิตระหว่างปีงบประมาณ พ.ศ. 2557 และ ปีงบประมาณ พ.ศ 2558 | M4: รายงานเปรียบเทียบผลการคำนวณต้นทุนผลผลิตระหว่างปีงบประมาณ พ.ศ. 2557 และ ปีงบประมาณ พ.ศ 2558
A5: ตารางที่ 11 รายงานเปรียบเทียบต้นทุนทางตรงตามศูนย์ต้นทุนแยกตามประเภทค่าใช้จ่าย ลักษณะของต้นทุน (คงที่/ผันแปร) | M5: ตารางที่ 11 รายงานเปรียบเทียบต้นทุนทางตรงตามศูนย์ต้นทุนแยกตามประเภทค่าใช้จ่าย ลักษณะของต้นทุน (คงที่/ผันแปร)
K6: (หน่วย : บาท) | Z6: (หน่วย : บาท)
B7: ค่าใช้จ่ายทางตรงปีงบประมาณ พ.ศ. 2557 | N7: ค่าใช้จ่ายทางตรงปีงบประมาณ พ.ศ. 2558
B8: ต้นทุนคงที่ | G8: ต้นทุนผันแปร | N8: ต้นทุนคงที่ | S8: ต้นทุนผันแปร | Y8: ต้นทุน | Z8: ต้นทุน | AA8: ต้นทุน
A9: ศูนย์ต้นทุน | B9: ค่าตอบแทน | C9: ค่าใช้จ่ายบุคลากร | D9: ค่าเสื่อมราคา | E9: ค่าใช้จ่ายอื่น ๆ | F9: รวม | G9: ค่าตอบแทน | H9: ค่าใช้จ่ายบุคลากร | I9: ค่าสาธารณูปโภค | J9: ค่าใช้จ่ายอื่น | K9: รวม | L9: ต้นทุนรวม | M9: ศูนย์ต้นทุน | N9: ค่าตอบแทน | O9: ค่าใช้จ่ายบุคลากร | P9: ค่าเสื่อมราคา | Q9: ค่าใช้จ่ายอื่น ๆ | R9: รวม | S9: ค่าตอบแทน | T9: ค่าใช้จ่ายบุคลากร | U9: ค่าสาธารณูปโภค | V9: ค่าใช้จ่ายอื่น | W9: รวม | X9: ต้นทุนรวม | Y9: คงที่เพิ่ม/ | Z9: ผันแปร | AA9: รวมเพิ่ม/
B10: ใช้สอยและวัสดุ | C10: (อื่น ๆ) | D10: และค่าตัด | G10: ใช้สอยและวัสดุ | H10: (ค่าล่วงเวลา) | J10: (เงินอุดหนุนฯ) | N10: ใช้สอยและวัสดุ | O10: (อื่น ๆ) | P10: และค่าตัด | S10: ใช้สอยและวัสดุ | T10: (ค่าล่วงเวลา) | V10: (เงินอุดหนุนฯ) | Y10: (ลด)% | Z10: เพิ่ม/ | AA10: (ลด)%
B11: (อื่น ๆ) | D11: จำหน่าย | G11: (คชจ.อบรม เดินทาง | N11: (อื่น ๆ) | P11: จำหน่าย | S11: (คชจ.อบรม เดินทาง | Z11: (ลด)%
G12: ค่าวัสดุ เชื้อเพลิง) | S12: ค่าวัสดุ เชื้อเพลิง) | T12: =+T14+P14 -> 8.0641824e+08
B13: (1) | C13: (2) | D13: (3) | E13: (4) | F13: (5) =(1)+(2) | G13: (6) | H13: (7) | I13: (8) | J13: (9) | K13: (10) = (6)+(7) | L13: (11) = (5)+(10) | N13: (12) | O13: (13) | P13: (14) | Q13: (15) | R13: (16) =(12)+(13) | S13: (17) | T13: (18) | U13: (19) | V13: (20) | W13: (21) = (17)+(18) | X13: (22) = (16)+(21) | Y13: (23)=(16)-(5) | Z13: (24)=(21)-(10) | AA13: (25)=(22)-(11)
F14: +(3)+(4) | K14: +(8)+(9) | O14: =+P14+Q14 -> 7.9427278e+08 | P14: 1.4418955e+08 | Q14: 6.5008323e+08 | R14: +(14)+(15) | T14: =+V14+U14 -> 6.6222868e+08 | U14: 1.12173e+08 | V14: 5.5005568e+08 | W14: +(19)+(20) | Y14: x100/(5) | Z14: x100/(10) | AA14: x100/(11)
A15: ศูนย์ต้นทุนหลัก | B15: =SUM(B16+B18+B20+B24+B25) -> 2.906865e+08 | C15: =SUM(C16+C18+C20+C24+C25) -> 12115678 | D15: =SUM(D16+D18+D20+D24+D25) -> 1.9279897e+08 | E15: =SUM(E16+E18+E20+E24+E25) -> 13792586 | F15: =SUM(F16+F18+F20+F24+F25) -> 5.0939373e+08 | G15: =SUM(G16+G18+G20+G24+G25) -> 2.9277106e+08 | H15: =SUM(H16+H18+H20+H24+H25) -> 4434538.3 | I15: =SUM(I16+I18+I20+I24+I25) -> 64460851 | ... L15: =SUM(L16+L18+L20+L24+L25) -> 8.8523908e+08 | M15: ศูนย์ต้นทุนหลัก | N15: =+N16+N18+N20+N22+N24+N25 -> 3.5231165e+08 | O15: =+O16+O18+O20+O22+O24+O25 -> 13166482 | P15: =+P16+P18+P20+P22+P24+P25 -> 2.2539264e+08 | Q15: =+Q16+Q18+Q20+Q22+Q24+Q25 -> 61999066 | R15: =+R16+R18+R20+R22+R24+R25 -> 6.5286984e+08 | S15: =+S16+S18+S20+S22+S24+S25 -> 4.4816605e+08 | T15: =+T16+T18+T20+T22+T24+T25 -> 7544437 | U15: =+U16+U18+U20+U22+U24+U25 -> 66092945 | ... X15: =+X16+X18+X20+X22+X24+X25 -> 1.2053626e+09 | Y15: =SUM((R15-F15)*100/F15) -> 28.166054 | Z15: =SUM((W15-K15)*100/K15) -> 47.000023 | AA15: =SUM((X15-L15)*100/L15) -> 36.162379
A16: 1. สถาบันพัฒนาฝีมือ | B16: 1.0458936e+08 | C16: 4684323.5 | D16: 52670228 | E16: 5726432.8 | F16: =SUM(B16:E16) -> 1.6767035e+08 | G16: 1.0302563e+08 | H16: 1333440 | I16: 21958283 | J16: 4924300 | K16: =SUM(G16:J16) -> 1.3124165e+08 | L16: =SUM(F16+K16) -> 2.98912e+08 | M16: 1. สถาบันพัฒนาฝีมือ | N16: 1.2913459e+08 | O16: 5085036.2 | P16: 54080777 | Q16: 23810995 | R16: =SUM(N16:Q16) -> 2.121114e+08 | S16: 1.1980721e+08 | T16: 2884998 | U16: 23099570 | V16: 12182971 | W16: =SUM(S16:V16) -> 1.5797475e+08 | X16: =SUM(R16+W16) -> 3.7008615e+08 | Y16: =SUM((R16-F16)*100/F16) -> 26.505015 | Z16: =SUM((W16-K16)*100/K16) -> 20.369369 | AA16: =SUM((X16-L16)*100/L16) -> 23.811071
A17: แรงงานภาค 12 แห่ง | M17: แรงงานภาค 12 แห่ง
A18: 2. ศูนย์พัฒนาฝีมือแรงงาน | B18: 1.6918789e+08 | C18: 7158680.3 | D18: 1.3396073e+08 | E18: 8066153.1 | F18: =SUM(B18:E18) -> 3.1837346e+08 | G18: 1.6733044e+08 | H18: 2974667.1 | I18: 40983251 | J18: 9254608 | K18: =SUM(G18:J18) -> 2.2054297e+08 | L18: =SUM(F18+K18) -> 5.3891643e+08 | M18: 2. ศูนย์พัฒนาฝีมือแรงงาน | N18: 2.1089398e+08 | O18: 7674095.3 | P18: 1.6416763e+08 | Q18: 38186074 | R18: =SUM(N18:Q18) -> 4.2092178e+08 | S18: 3.0104e+08 | T18: 4387689 | U18: 41627368 | V18: 18506355 | W18: =SUM(S18:V18) -> 3.6556141e+08 | X18: =SUM(R18+W18) -> 7.8648319e+08 | Y18: =SUM((R18-F18)*100/F18) -> 32.210073 | Z18: =SUM((W18-K18)*100/K18) -> 65.755184 | AA18: =SUM((X18-L18)*100/L18) -> 45.937876
A19: จังหวัด 65 แห่ง | M19: จังหวัด 65 แห่ง
A20: 3. สถาบันพัฒนาฝีมือ | B20: 14358736 | C20: 149890 | D20: 5702223.8 | E20: 0 | F20: =SUM(B20:E20) -> 20210850 | G20: 14634390 | H20: 84040 | I20: 1268931.1 | J20: 0 | K20: =SUM(G20:J20) -> 15987361 | L20: =SUM(F20+K20) -> 36198211 | M20: 3. สถาบันพัฒนาฝีมือ | N20: 8233242.8 | O20: 51964 | P20: 6684112.1 | Q20: 0 | R20: =SUM(N20:Q20) -> 14969319 | S20: 21649078 | T20: 152040 | U20: 1094977.4 | V20: 0 | W20: =SUM(S20:V20) -> 22896096 | X20: =SUM(R20+W20) -> 37865415 | Y20: =SUM((R20-F20)*100/F20) -> -25.934244 | Z20: =SUM((W20-K20)*100/K20) -> 43.213727 | AA20: =SUM((X20-L20)*100/L20) -> 4.605762
A21: แรงงานนานาชาติเชียงแสน | M21: แรงงานนานาชาติเชียงแสน
A22: 4. สถาบันพัฒนาบุคลากรในอุตสาหกรรม | B22: 0 | C22: 0 | D22: 0 | E22: 0 | F22: =SUM(B22:E22) -> 0 | G22: 0 | H22: 0 | I22: 0 | J22: 0 | K22: =SUM(G22:J22) -> 0 | L22: =+F22+K22 -> 0 | M22: 4. สถาบันพัฒนาบุคลากรในอุตสาหกรรม | N22: 40400 | O22: 0 | P22: 1068.18 | R22: =SUM(N22:Q22) -> 41468.18 | S22: 182530 | T22: 82100 | U22: 2998.14 | V22: 0 | W22: =SUM(S22:V22) -> 267628.14 | X22: =+R22+W22 -> 309096.32 | Y22: 100 | Z22: 100 | AA22: 100
A23: ยานยนต์และชิ้นส่วนอะไหล่ยานยนต์ | M23: ยานยนต์และชิ้นส่วนอะไหล่ยานยนต์
A24: 5. กลุ่มงานอุตสาหกรรมบริการ | B24: =984496.64+273049.31 -> 1257545.9 | C24: 44228.5 | D24: 163419.44 | E24: 0 | F24: =SUM(B24:E24) -> 1465193.9 | G24: 5431704.3 | H24: 7801.2 | I24: 48794.68 | J24: 0 | K24: =SUM(G24:J24) -> 5488300.1 | L24: =SUM(F24+K24) -> 6953494 | M24: 5. กลุ่มงานอุตสาหกรรมบริการ | N24: 2291462.5 | O24: 313134.25 | P24: 180020.8 | Q24: 1996.36 | R24: =SUM(N24:Q24) -> 2786613.9 | S24: 2368548.2 | T24: 8100 | U24: 60430.99 | V24: 0 | W24: =SUM(S24:V24) -> 2437079.2 | X24: =SUM(R24+W24) -> 5223693 | Y24: =SUM((R24-F24)*100/F24) -> 90.187379 | Z24: =SUM((W24-K24)*100/K24) -> -55.595009 | AA24: =SUM((X24-L24)*100/L24) -> -24.876717
A25: 6. กองส่งเสริมการพัฒนาฝีมือแรงงาน | B25: 1292960.4 | C25: 78556 | D25: 302363.9 | E25: 0 | F25: =SUM(B25:E25) -> 1673880.3 | G25: 2348889 | H25: 34590 | I25: 201591.52 | J25: 0 | K25: =SUM(G25:J25) -> 2585070.5 | L25: =SUM(F25+K25) -> 4258950.8 | M25: 6. กองส่งเสริมการพัฒนาฝีมือ แรงงาน | N25: 1717971.4 | O25: 42252 | P25: 279038.62 | Q25: 0 | R25: =SUM(N25:Q25) -> 2039262 | S25: 3118687.6 | T25: 29510 | U25: 207601.04 | V25: 0 | W25: =SUM(S25:V25) -> 3355798.6 | X25: =SUM(R25+W25) -> 5395060.6 | Y25: =SUM((R25-F25)*100/F25) -> 21.828423 | Z25: =SUM((W25-K25)*100/K25) -> 29.814588 | AA25: =SUM((X25-L25)*100/L25) -> 26.675814
A27: ศูนย์ต้นทุนสนับสนุน | B27: =SUM(B28:B42) -> 1.3125476e+08 | C27: =SUM(C28:C42) -> 3561531.5 | D27: =SUM(D28:D42) -> 7507317.7 | E27: =SUM(E28:E42) -> 0 | F27: =SUM(F28:F42) -> 1.4232361e+08 | G27: =SUM(G28:G42) -> 91223792 | H27: =SUM(H28:H42) -> 1556210 | I27: =SUM(I28:I42) -> 1935831 | ... L27: =SUM(L28:L42) -> 2.3819735e+08 | M27: ศูนย์ต้นทุนสนับสนุน | N27: =SUM(N28:N42) -> 1.2706036e+08 | O27: =SUM(O28:O42) -> 4054482.8 | P27: =SUM(P28:P42) -> 10290098 | Q27: =SUM(Q28:Q42) -> 0 | R27: =SUM(R28:R42) -> 1.4140494e+08 | S27: =SUM(S28:S42) -> 1.0475264e+08 | T27: =SUM(T28:T42) -> 1990170 | U27: =SUM(U28:U42) -> 1975097.8 | ... X27: =SUM(X28:X42) -> 2.5114086e+08 | Y27: =SUM((R27-F27)*100/F27) -> -0.64548343 | Z27: =SUM((W27-K27)*100/K27) -> 14.458792 | AA27: =SUM((X27-L27)*100/L27) -> 5.4339435
A28: 1. สำนักอธิบดี | B28: 729691.75 | C28: 125500 | D28: 380177.67 | E28: 0 | F28: =SUM(B28:E28) -> 1235369.4 | G28: 1872994.7 | H28: 268740 | I28: 256298.51 | J28: 0 | K28: =SUM(G28:J28) -> 2398033.2 | L28: =SUM(F28+K28) -> 3633402.6 | M28: 1. สำนักอธิบดี | N28: 210729.4 | O28: 90085 | P28: 366917.96 | Q28: 0 | R28: =SUM(N28:Q28) -> 667732.36 | S28: 2244307 | T28: 441600 | U28: 242148.14 | V28: 0 | W28: =SUM(S28:V28) -> 2928055.2 | X28: =SUM(R28+W28) -> 3595787.5 | Y28: =SUM((R28-F28)*100/F28) -> -45.948771 | Z28: =SUM((W28-K28)*100/K28) -> 22.102361 | AA28: =SUM((X28-L28)*100/L28) -> -1.0352585
A29: 2. สำนักงานผู้ตรวจราชการกรม | B29: 565448.46 | C29: 103850 | D29: 104466.65 | E29: 0 | F29: =SUM(B29:E29) -> 773765.11 | G29: 1328297.1 | H29: 4310 | I29: 156754.36 | J29: 0 | K29: =SUM(G29:J29) -> 1489361.5 | L29: =SUM(F29+K29) -> 2263126.6 | M29: 2. สำนักงานผู้ตรวจราชการกรม | N29: 162459.09 | O29: 181593.5 | P29: 105533.43 | Q29: 0 | R29: =SUM(N29:Q29) -> 449586.02 | S29: 2762231.5 | T29: 0 | U29: 162132.35 | V29: 0 | W29: =SUM(S29:V29) -> 2924363.8 | X29: =SUM(R29+W29) -> 3373949.8 | Y29: =SUM((R29-F29)*100/F29) -> -41.896318 | Z29: =SUM((W29-K29)*100/K29) -> 96.350174 | AA29: =SUM((X29-L29)*100/L29) -> 49.083568
A30: 3. สำนักงานเลขานุการกรม | B30: =21509455.69-1556335 -> 19953121 | C30: 171739.5 | D30: 699688.05 | E30: 0 | F30: =SUM(B30:E30) -> 20824548 | G30: 3678296.8 | H30: 258130 | I30: 363106.74 | K30: =SUM(G30:J30) -> 4299533.6 | L30: =SUM(F30+K30) -> 25124082 | M30: 3. สำนักงานเลขานุการกรม | N30: 12150977 | O30: 238735.5 | P30: 556236.78 | Q30: 0 | R30: =SUM(N30:Q30) -> 12945949 | S30: 3278213.6 | T30: 422510 | U30: 387944.73 | W30: =SUM(S30:V30) -> 4088668.3 | X30: =SUM(R30+W30) -> 17034618 | Y30: =SUM((R30-F30)*100/F30) -> -37.833229 | Z30: =SUM((W30-K30)*100/K30) -> -4.9043746 | AA30: =SUM((X30-L30)*100/L30) -> -32.198049
A31: 4. กองแผนงานฯ | B31: 20525348 | C31: 285374 | D31: 2512455.6 | E31: 0 | F31: =SUM(B31:E31) -> 23323178 | G31: 3723334 | H31: 0 | I31: 67828.62 | J31: 0 | K31: =SUM(G31:J31) -> 3791162.7 | L31: =SUM(F31+K31) -> 27114341 | M31: 4. กองแผนงานฯ | N31: 597104.6 | O31: 407213.75 | P31: 6047480.9 | Q31: 0 | R31: =SUM(N31:Q31) -> 7051799.2 | S31: 3566870 | T31: 2370 | U31: 58652.46 | V31: 0 | W31: =SUM(S31:V31) -> 3627892.5 | X31: =SUM(R31+W31) -> 10679692 | Y31: =SUM((R31-F31)*100/F31) -> -69.764844 | Z31: =SUM((W31-K31)*100/K31) -> -4.3066 | AA31: =SUM((X31-L31)*100/L31) -> -60.612386
A32: 5. กองพัฒนาศักยภาพฯ | B32: 2157561.2 | C32: 1081445.5 | D32: 179308.16 | E32: 0 | F32: =SUM(B32:E32) -> 3418314.8 | G32: 18657382 | H32: 5820 | I32: 76246.07 | J32: 0 | K32: =SUM(G32:J32) -> 18739448 | L32: =SUM(F32+K32) -> 22157763 | M32: 5. กองพัฒนาศักยภาพฯ | N32: 7486843.6 | O32: 223782.75 | P32: 192634.82 | Q32: 0 | R32: =SUM(N32:Q32) -> 7903261.2 | S32: 10624584 | T32: 13470 | U32: 95933.82 | V32: 0 | W32: =SUM(S32:V32) -> 10733988 | X32: =SUM(R32+W32) -> 18637249 | Y32: =SUM((R32-F32)*100/F32) -> 131.20343 | Z32: =SUM((W32-K32)*100/K32) -> -42.719828 | AA32: =SUM((X32-L32)*100/L32) -> -15.888398
A33: 6. สำนักพัฒนามาตรฐานฯ | B33: 71164024 | C33: 521993 | D33: 1537428.2 | E33: 0 | F33: =SUM(B33:E33) -> 73223445 | G33: 19284637 | H33: 241130 | I33: 209793.46 | J33: 1157906.4 | K33: =SUM(G33:J33) -> 20893467 | L33: =SUM(F33+K33) -> 94116912 | M33: 6. สำนักพัฒนามาตรฐานฯ | N33: 79605697 | O33: 1470116 | P33: 1463138.8 | Q33: 0 | R33: =SUM(N33:Q33) -> 82538952 | S33: 45595593 | T33: 354780 | U33: 224083.38 | V33: 1018016.8 | W33: =SUM(S33:V33) -> 47192473 | X33: =SUM(R33+W33) -> 1.2973142e+08 | Y33: =SUM((R33-F33)*100/F33) -> 12.722027 | Z33: =SUM((W33-K33)*100/K33) -> 125.87191 | AA33: =SUM((X33-L33)*100/L33) -> 37.840715
A34: 7. สำนักพัฒนาผู้ฝึกฯ | B34: =8657792.7-B24 -> 7400246.7 | C34: =550462.5-C24 -> 506234 | D34: =1403758.82-D24 -> 1240339.4 | E34: 0 | F34: =SUM(B34:E34) -> 9146820.1 | G34: 27155810 | H34: 65010 | I34: 243973.4 | J34: 0 | K34: =SUM(G34:J34) -> 27464794 | L34: =SUM(F34+K34) -> 36611614 | M34: 7. สำนักพัฒนาผู้ฝึกฯ | N34: =16111218.82-2291462.45 -> 13819756 | O34: =772971.25-313134.25 -> 459837 | P34: =739824.06-180020.8 -> 559803.26 | Q34: 0 | R34: =SUM(N34:Q34) -> 14839397 | S34: =15878944.34-2368548.19 -> 13510396 | T34: =67500-8100 -> 59400 | U34: =302154.94-60430.99 -> 241723.95 | V34: 0 | W34: =SUM(S34:V34) -> 13811520 | X34: =SUM(R34+W34) -> 28650917 | Y34: =SUM((R34-F34)*100/F34) -> 62.235579 | Z34: =SUM((W34-K34)*100/K34) -> -49.71191 | AA34: =SUM((X34-L34)*100/L34) -> -21.743639
A35: 8. กองคลัง | B35: 908032.7 | C35: 131883.5 | D35: 326100.56 | E35: 0 | F35: =SUM(B35:E35) -> 1366016.8 | G35: 757327.8 | H35: 412270 | I35: 163587.15 | J35: 0 | K35: =SUM(G35:J35) -> 1333185 | L35: =SUM(F35+K35) -> 2699201.7 | M35: 8. กองคลัง | N35: 1124584.7 | O35: 274642.5 | P35: 376862.5 | Q35: 0 | R35: =SUM(N35:Q35) -> 1776089.7 | S35: 940758.72 | T35: 367860 | U35: 177352.25 | V35: 0 | W35: =SUM(S35:V35) -> 1485971 | X35: =SUM(R35+W35) -> 3262060.7 | Y35: =SUM((R35-F35)*100/F35) -> 30.019612 | Z35: =SUM((W35-K35)*100/K35) -> 11.460227 | AA35: =SUM((X35-L35)*100/L35) -> 20.852793
A36: 9. กองการเจ้าหน้าที่ | B36: 2415738.6 | C36: 243670 | D36: 117819.34 | E36: 0 | F36: =SUM(B36:E36) -> 2777228 | G36: 9489118 | H36: 93780 | I36: 198847.28 | J36: 0 | K36: =SUM(G36:J36) -> 9781745.2 | L36: =SUM(F36+K36) -> 12558973 | M36: 9. กองการเจ้าหน้าที่ | N36: 1546171.2 | O36: 250390 | P36: 184843 | Q36: 0 | R36: =SUM(N36:Q36) -> 1981404.2 | S36: 11405468 | T36: 102040 | U36: 179384.67 | V36: 0 | W36: =SUM(S36:V36) -> 11686893 | X36: =SUM(R36+W36) -> 13668297 | Y36: =SUM((R36-F36)*100/F36) -> -28.655328 | Z36: =SUM((W36-K36)*100/K36) -> 19.476559 | AA36: =SUM((X36-L36)*100/L36) -> 8.8329164
A37: 10. กลุ่มกฏหมาย | B37: 328058.1 | C37: 48900 | D37: 99593.76 | E37: 0 | F37: =SUM(B37:E37) -> 476551.86 | G37: 705117.57 | H37: 17340 | I37: 56100.77 | J37: 0 | K37: =SUM(G37:J37) -> 778558.34 | L37: =SUM(F37+K37) -> 1255110.2 | M37: 10. กลุ่มกฏหมาย | N37: 302028.6 | O37: 72020 | P37: 103976.36 | Q37: 0 | R37: =SUM(N37:Q37) -> 478024.96 | S37: 749946.44 | T37: 19060 | U37: 48419.33 | V37: 0 | W37: =SUM(S37:V37) -> 817425.77 | X37: =SUM(R37+W37) -> 1295450.7 | Y37: =SUM((R37-F37)*100/F37) -> 0.30911641 | Z37: =SUM((W37-K37)*100/K37) -> 4.9922309 | AA37: =SUM((X37-L37)*100/L37) -> 3.2141026
A38: 11. กองยุทธศาสตร์และเครือข่ายฯ | B38: 1398199.7 | C38: 133590 | D38: 73363.66 | E38: 0 | F38: =SUM(B38:E38) -> 1605153.4 | G38: 741428.45 | H38: 152930 | I38: 72310.31 | J38: 0 | K38: =SUM(G38:J38) -> 966668.76 | L38: =SUM(F38+K38) -> 2571822.1 | M38: 11. กองยุทธศาสตร์และเครือข่ายฯ | N38: 3959225.8 | O38: 122669.75 | P38: 95579.63 | Q38: 0 | R38: =SUM(N38:Q38) -> 4177475.2 | S38: 1414214.1 | T38: 143230 | U38: 80014.72 | V38: 0 | W38: =SUM(S38:V38) -> 1637458.8 | X38: =SUM(R38+W38) -> 5814934 | Y38: =SUM((R38-F38)*100/F38) -> 160.25396 | Z38: =SUM((W38-K38)*100/K38) -> 69.391926 | AA38: =SUM((X38-L38)*100/L38) -> 126.10172
A39: 12. กลุ่มพัฒนาระบบบริหาร | B39: 1254264 | C39: 41780 | D39: 104839.52 | E39: 0 | F39: =SUM(B39:E39) -> 1400883.5 | G39: 1139440 | H39: 20390 | I39: 29437.39 | J39: 0 | K39: =SUM(G39:J39) -> 1189267.4 | L39: =SUM(F39+K39) -> 2590150.9 | M39: 12. กลุ่มพัฒนาระบบบริหาร | N39: 4891469 | O39: 83551 | P39: 82600.53 | Q39: 0 | R39: =SUM(N39:Q39) -> 5057620.6 | S39: 1994402.1 | T39: 41540 | U39: 27438.85 | V39: 0 | W39: =SUM(S39:V39) -> 2063381 | X39: =SUM(R39+W39) -> 7121001.6 | Y39: =SUM((R39-F39)*100/F39) -> 261.03077 | Z39: =SUM((W39-K39)*100/K39) -> 73.500178 | AA39: =SUM((X39-L39)*100/L39) -> 174.92613
A40: 13. กลุ่มตรวจสอบภายใน | B40: 383320 | C40: 115948 | D40: 63906.24 | E40: 0 | F40: =SUM(B40:E40) -> 563174.24 | G40: 808194.41 | H40: 7950 | I40: 17695.19 | J40: 0 | K40: =SUM(G40:J40) -> 833839.6 | L40: =SUM(F40+K40) -> 1397013.8 | M40: 13. กลุ่มตรวจสอบภายใน | N40: 90657 | O40: 50060 | P40: 74267.14 | Q40: 0 | R40: =SUM(N40:Q40) -> 214984.14 | S40: 900341.51 | T40: 12300 | U40: 17550.58 | V40: 0 | W40: =SUM(S40:V40) -> 930192.09 | X40: =SUM(R40+W40) -> 1145176.2 | Y40: =SUM((R40-F40)*100/F40) -> -61.826354 | Z40: =SUM((W40-K40)*100/K40) -> 11.555279 | AA40: =SUM((X40-L40)*100/L40) -> -18.026851
A41: 14. กองวิเทศสัมพันธ์ | B41: 2071709.4 | C41: 49624 | D41: 67830.88 | E41: 0 | F41: =SUM(B41:E41) -> 2189164.3 | G41: 1882414.5 | H41: 8410 | I41: 23851.75 | J41: 0 | K41: =SUM(G41:J41) -> 1914676.3 | L41: =SUM(F41+K41) -> 4103840.5 | M41: 14. กองวิเทศสัมพันธ์ | N41: 880750.85 | O41: 73926 | P41: 79166.52 | Q41: 0 | R41: =SUM(N41:Q41) -> 1033843.4 | S41: 3427055 | T41: 10010 | U41: 27363.23 | V41: 0 | W41: =SUM(S41:V41) -> 3464428.3 | X41: =SUM(R41+W41) -> 4498271.6 | Y41: =SUM((R41-F41)*100/F41) -> -52.774518 | Z41: =SUM((W41-K41)*100/K41) -> 80.940678 | AA41: =SUM((X41-L41)*100/L41) -> 9.6112672
A42: 15.สำนักงานรับรองความรู้ความสามารถ | B42: 0 | C42: 0 | D42: 0 | E42: 0 | F42: =SUM(B42:E42) -> 0 | G42: 0 | H42: 0 | I42: 0 | J42: 0 | K42: =SUM(G42:J42) -> 0 | L42: =SUM(F42+K42) -> 0 | M42: 15.สำนักงานรับรองความรู้ความสามารถ | N42: 231902.97 | O42: 55860 | P42: 1056 | Q42: 0 | R42: =SUM(N42:Q42) -> 288818.97 | S42: 2338259.1 | T42: 0 | U42: 4955.3 | V42: 0 | W42: =SUM(S42:V42) -> 2343214.4 | X42: =SUM(R42+W42) -> 2632033.3 | Y42: 100 | Z42: 100 | AA42: 100
A43: รวมต้นทุนผลผลิต | B43: =SUM(B15+B27) -> 4.2194126e+08 | C43: =SUM(C15+C27) -> 15677210 | D43: =SUM(D15+D27) -> 2.0030629e+08 | E43: =SUM(E15+E27) -> 13792586 | F43: =SUM(F15+F27) -> 6.5171734e+08 | G43: =SUM(G15+G27) -> 3.8399485e+08 | H43: =SUM(H15+H27) -> 5990748.3 | I43: =SUM(I15+I27) -> 66396682 | ... K43: =SUM(K15+K27) -> 4.7171909e+08 | L43: =SUM(F43+K43) -> 1.1234364e+09 | M43: รวมต้นทุนผลผลิต | N43: =+N15+N27 -> 4.7937201e+08 | O43: =+O15+O27 -> 17220965 | P43: =+P15+P27 -> 2.3568274e+08 | Q43: =+Q15+Q27 -> 61999066 | R43: =SUM(R15+R27) -> 7.9427478e+08 | S43: =SUM(S15+S27) -> 5.5291869e+08 | T43: =SUM(T15+T27) -> 9534607 | U43: =SUM(U15+U27) -> 68068043 | V43: =SUM(V15+V27) -> 31707343 | W43: =SUM(W15+W27) -> 6.6222868e+08 | X43: =SUM(R43+W43) -> 1.4565035e+09 | Y43: =SUM((R43-F43)*100/F43) -> 21.874121 | Z43: =SUM((W43-K43)*100/K43) -> 40.386236 | AA43: =SUM((X43-L43)*100/L43) -> 29.647162

Sheet ตารางที่ 11 ต่อ
A1: ตารางที่ 11 รายงานเปรียบเทียบต้นทุนทางตรงตามศูนย์ต้นทุนแยกตามประเภทค่าใช้จ่าย
A2: และลักษณะของต้นทุน (คงที่/ผันแปร)
A4: 1. สถาบันพัฒนาฝีมือแรงงานภาค 12 แห่ง
A5: - มีต้นทุนรวมต่อหน่วยเพิ่มขึ้น ร้อยละ 23.81
A6: เนื่องจาก มีภารกิจในการพัฒนาฝีมือแรงงานด้านการฝึกอบรมฝีมือแรงงาน ทดสอบมาตรฐานฝีมือแรงงาน และส่งเสริมและ
A7: ประสานการพัฒนาฝีมือแรงงาน การฝึกอบรมเพื่อรองรับประชาคมเศรษฐกิจอาเซียน (AEC) โดยมีเป้าหมายและผลการดำเนินงาน
A8: ในการดำเนินโครงการต่างๆ เพิ่มขึ้น ประกอบกับราคาสินค้า วัสดุ อุปกรณ์ปรับตัวสูงขึ้น
A10: 2. ศูนย์พัฒนาฝีมือแรงงาน 64 แห่ง
A11: - มีต้นทุนรวมต่อหน่วยเพิ่มขึ้น ร้อยละ 45.94
A12: เนื่องจาก มีภารกิจในการพัฒนาฝีมือแรงงานด้านการฝึกอบรมฝีมือแรงงาน ทดสอบมาตรฐานฝีมือแรงงาน และส่งเสริมและ
A13: ประสานการพัฒนาฝีมือแรงงาน การฝึกอบรมเพื่อรองรับประชาคมเศรษฐกิจอาเซียน (AEC) โดยมีเป้าหมายและผลการดำเนินงาน
A14: ในการดำเนินโครงการต่างๆ เพิ่มขึ้น ประกอบกับราคาสินค้า วัสดุ อุปกรณ์ปรับตัวสูงขึ้น
... A64: เนื่องจาก กรมฯ ได้มีการปรับโครงสร้างใหม่ โดยจัดตั้งหน่วยงานในปี 2558

Sheet ตารางที่ 12 ส่ง
A1: กรมพัฒนาฝีมือแรงงาน
A2: รายงานการคำนวณต้นทุนผลผลิต
A3: ประจำปีงบประมาณ พ.ศ. 2558
A4: รายงานเปรียบเทียบผลการคำนวณต้นทุนผลผลิตระหว่างปีงบประมาณ พ.ศ. 2557 และ ปีงบประมาณ พ.ศ 2558
A6: ตารางที่ 12 รายงานเปรียบเทียบต้นทุนทางอ้อมตามลักษณะของต้นทุน (คงที่/ผันแปร)
J7: (หน่วย : บาท)
B8: งบประมาณ พ.ศ. 2557 | E8: งบประมาณ พ.ศ. 2558 | H8: ผลการเปรียบเทียบ
A9: ต้นทุนทางอ้อม | B9: ต้นทุนคงที่ | C9: ต้นทุนผันแปร | D9: รวม | E9: ต้นทุนคงที่ | F9: ต้นทุนผันแปร | G9: รวม | H9: ต้นทุน | I9: ต้นทุน | J9: ต้นทุน
H10: คงที่ | I10: ผันแปร | J10: รวม
H11: เพิ่ม/(ลด)% | I11: เพิ่ม/(ลด)% | J11: เพิ่ม/(ลด)%
B12: (1) | C12: (2) | D12: (3) = (1)+(2) | E12: (4) | F12: (5) | G12: (6) = (4)+(5) | H12: (7) = (4)-(1) | I12: (8) = (5)-(2) | J12: (9) = (6)-(3)
H13: x100/ (1) | I13: x100/ (2) | J13: x100/ (3)
A14: ค่าตอบแทนใช้สอยและวัสดุ | B14: =11101928.625+1556335 -> 12658264 | C14: 1242574.7 | D14: =SUM(B14:C14) -> 13900838 | E14: 14700622 | F14: 1314853.2 | G14: =SUM(E14:F14) -> 16015475 | H14: =SUM((E14-B14)*100/B14) -> 16.134585 | I14: =SUM((F14-C14)*100/C14) -> 5.8168292 | J14: =SUM((G14-D14)*100/D14) -> 15.212297
A15: ค่าใช้จ่ายบุคลากร | B15: 8.6469591e+08 | C15: 0 | D15: =SUM(B15:C15) -> 8.6469591e+08 | E15: 9.206418e+08 | F15: 33180 | G15: =SUM(E15:F15) -> 9.2067498e+08 | H15: =SUM((E15-B15)*100/B15) -> 6.4700076 | I15: 100 | J15: =SUM((G15-D15)*100/D15) -> 6.4738448
A16: ค่าสาธารณูปโภค | C16: 6664590.1 | D16: =SUM(B16:C16) -> 6664590.1 | E16: 0 | F16: 7180955.7 | G16: =SUM(E16:F16) -> 7180955.7 | H16: 0 | I16: =SUM((F16-C16)*100/C16) -> 7.7478969 | J16: =SUM((G16-D16)*100/D16) -> 7.7478969
A17: ค่าเสื่อมราคาและตัดจำหน่าย | B17: 6916182.9 | C17: 0 | D17: =SUM(B17:C17) -> 6916182.9 | E17: 9562895.1 | F17: 0 | G17: =SUM(E17:F17) -> 9562895.1 | H17: =SUM((E17-B17)*100/B17) -> 38.268395 | I17: 0 | J17: =SUM((G17-D17)*100/D17) -> 38.268395
A19: รวมต้นทุนผลผลิต | B19: =SUM(B14:B17) -> 8.8427035e+08 | C19: =SUM(C14:C17) -> 7907164.8 | D19: =SUM(D14:D17) -> 8.9217752e+08 | E19: =SUM(E14:E18) -> 9.4490532e+08 | F19: =SUM(F14:F18) -> 8528988.8 | G19: =SUM(G14:G18) -> 9.534343e+08 | H19: =SUM((E19-B19)*100/B19) -> 6.8570615 | I19: =SUM((F19-C19)*100/C19) -> 7.8640579 | J19: =SUM((G19-D19)*100/D19) -> 6.8659862
A22: -ค่าเสื่อมราคา มีต้นทุนต่อหน่วยเพิ่มขึ้น เนื่องจาก กรมฯ มีภารกิจเพิ่มขึ้น ซึ่งในระหว่างปีมีการจัดหาครุภัณฑ์ เพื่อการพัฒนาฝีมือแรงงาน โดยการฝึกอบรมเพื่อรองรับประชาคมเศรษฐกิจอาเซียน (AEC)
