Workbook

Sheet 60 แยกกิจกรรม (2)
B1: คำเสนอขอ ค่าใช้สอยอื่น ปี 2560 แยกกิจกรรม
H2: เอกสารแนบท้าย 2
A3: ลำดับที่ | B3: หน่วยงาน | C3: รวมขอ 2560 ทั้งสิ้น | D3: จัดทำแผนการพัฒนากำลังคนระดับชาติ | E3: กิจกรรม
E4: พัฒนาฝีมือฯประกอบอาชีพ | F4: จัดทำหลักเกณฑ์ | G4: พัฒนาระบบฝึกฯ | H4: ส่งเสริมฯ พ.ร.บ. 2545 | I4: พัฒนาศักยภาพฯ ประเมินความรู้ความสามารถตามพ.ร.บ.ส่งเสริมฯ 2557
B5: รวมทั้งสิ้น | C5: =SUM(D5:I5) -> 80366200 | D5: =SUM(D6:D123) -> 869200 | E5: =+E6 -> 10875800 | F5: =+F50 -> 28367800 | G5: =+G60 -> 27437100 | H5: =+H116 -> 1382200 | I5: =+I145 -> 11434100
B6: กองพัฒนาศักยภาพแรงงานและผู้ประกอบกิจการ | C6: =SUM(D6:I6) -> 10875800 | E6: =SUM(E7:E47) -> 10875800
A7: 1 | B7: โครงการศึกษารูปแบบการพัฒนาศักยภาพผู้สูงอายุ | C7: 1108000 | E7: 1108000
B8: เพื่อการเป็นเจ้าบ้านที่ดีและการพัฒนาผลิตภัณฑ์
B9: เพื่อการท่องเที่ยวโดยชุมชน
A10: 2 | B10: โครงการศึกษารูปแบบร้านขายอาหารที่เปิดขายบนรถยนต์ | C10: 630900 | E10: 630900
B11: (Food Truck Management) สำหรับผู้สูงอายุ/คนพิการ
B12: และผู้ดูแลคนพิการ เพื่อสร้างอาชีพและขีดความสามารถ
B13: ในการเข้าสู่ประชาคมเศรษฐกิจอาเซียน (AEC)
A14: 3 | B14: โครงการศึกษารูปแบบการพัฒนาศักยภาพคนพิการ | C14: 852400 | E14: 852400
B15: ด้านเทคโนโลยีสารสนเทศ
A16: 4 | B16: โครงการศึกษารูปแบบการฝึกอาชีพ หลักสูตรการทำ | C16: 269800 | E16: 269800
B17: เฟอร์นิเจอร์จากไม้พาเลสสำหรับคนพิการ
A18: 5 | B18: โครงการศึกษารูปแบบการฝึกอาชีพ หลักสูตร | C18: 171600 | E18: 171600
B19: ภาษาอังกฤษสำหรับอาชีพนวดแผนไทยสำหรับคนพิการ
B20: ทางการมองเห็น
A21: 6 | B21: โครงการศึกษารูปแบบการฝึกอบรม หลักสูตร | C21: 188800 | E21: 188800
B22: การจัดทำสติกเกอร์ไลน์ เพื่อการประกอบอาชีพ
B23: สำหรับเยาวชน
A24: 7 | B24: โครงการศึกษารูปแบบการฝึกอบรม หลักสูตร | C24: 221200 | E24: 221200
B25: การจัดการข้อมูลเพื่อการทำงานเชิงธุรกิจ
B26: (Application for business management information)
A27: 8 | B27: โครงการศึกษารูปแบบการฝึกอบรม หลักสูตรพัฒนา | C27: 225800 | E27: 225800
B28: ศักยภาพสตรี เพื่อเตรียมความพร้อมเพื่อเข้าสู่
B29: กระบวนการจ้างงาน (สตรีตั้งครรภ์ก่อนวัยอันควร
B30: ถูกล่วงละเมิดถูกกระทำความรุนแรงละเมิดกฏหมาย)
A31: 9 | B31: โครงการศึกษารูปแบบการฝึกอบรม หลักสูตร | C31: 252800 | E31: 252800
B32: เขียนแบบด้วยคอมพิวเตอร์ 3D เพื่องานออกแบบการก่อสร้าง
A33: 10 | B33: โครงการศึกษารูปแบบการฝึกอบรม หลักสูตร | C33: 459200 | E33: 459200
B34: การบริหารจัดการด้านการตลาด E-Commerce
A35: 11 | B35: โครงการศึกษารูปแบบการฝึกอบรม หลักสูตร | C35: 749600 | E35: 749600
B36: เทคนิคการจัดการระบบขนส่งสินค้ารองรับประชาคม
B37: อาเซียน สำหรับเยาวชนในพื้นที่จังหวัดตามแนวชายแดน
A38: 12 | B38: โครงการศึกษารูปแบบการยกระดับฝีมือพัฒนาทักษะ | C38: 828000 | E38: 828000
B39: แรงงานไทยด้านการออกแบบผลิตภัณฑ์สิ่งทอและแฟชั่น
B40: ให้กับผู้ประกอบการ SMEs
A41: 13 | B41: โครงการศึกษารูปแบบยกระดับฝีมือพัฒนาทักษะแรงงาน | C41: 2509000 | E41: 2509000
B42: เพื่อการบริการประชาชนของศูนย์ช่างประจำชุมชน
B43: เทิดไท้องค์ราชัน
A44: 14 | B44: โครงการ PROFESSIONAL INSTRUCTOR MODULE | C44: 1025000 | E44: 1025000
A45: 15 | B45: โครงการเสริมสร้างความรู้ด้านบริหารจัดการธุรกิจ | C45: 384000 | E45: 384000
B46: ให้กับผู้ประกอบการ
A47: 16 | B47: โครงการพัฒนาบุคลากรด้านโลจิสติกส์รองรับธุรกิจ | C47: 999700 | E47: 999700
B48: การขนส่งและการค้าระหว่างประเทศ
B50: สำนักพัฒนามาตรฐานและทดสอบฝีมือแรงงาน | C50: =SUM(D50:I50) -> 28367800 | F50: =+'คำขอใช้สอยอื่น 60'!C115 -> 28367800
A51: 1 | B51: โครงการกำหนดมาตรฐานฝีมือแรงงานแห่งชาติ/ | F51: 16459400
B52: วิธีการทดสอบมาตรฐานฝีมือแรงงานแห่งชาติ
B53: ประจำปีงบประมาณ 2560
A54: 2 | B54: โครงการวันมาตรฐานฝีมือแรงงานแห่งชาติ | F54: 8200000
A55: 3 | B55: โครงการเพิ่มประสิทธิภาพการทดสอบมาตรฐาน | F55: 3043800
B56: ฝีมือแรงงานแห่งชาติ รองรับ AEC
A57: 4 | B57: โครงการเพิ่มประสิทธิภาพการทดสอบมาตรฐาน | F57: 664600
B58: ฝีมือแรงงานด้วยระบบอิเล็คทรอนิกส์ (e-testing System)
B60: สำนักพัฒนาผู้ฝึกและเทคโนโลยีการฝึก | C60: =SUM(D60:I60) -> 27437100 | G60: =SUM(G61:G111) -> 27437100
A61: 1 | B61: โครงการพัฒนาชุดการฝึกและติดตามผลการดำเนินการฝึก | G61: 1672500
B62: ตามความสามารถ (Competency Based Training : CBT)
A63: 2 | B63: โครงการประกันคุณภาพการพัฒนาฝีมือแรงงาน | G63: 769500
B64: เพื่อความเป็นเลิศ
A65: 3 | B65: โครงการพัฒนาเอกสารประกอบการฝึกหลักสูตรการฝึก | G65: 6480000
B66: ยกระดับฝีมือเพื่อทดสอบมาตรฐานฝีมือแรงงานรองรับ
B67: การจ่ายค่าจ้างตามระดับมาตรฐานฝีมือแรงงานแห่งชาติ
A68: 4 | B68: โครงการสัมมนาเชิงปฏิบัติการ เรื่อง การปรับปรุง | G68: 603200
B69: หลักสูตรการพัฒนาฝีมือแรงงาน
A70: 5 | B70: โครงการสัมมนาเชิงปฏิบัติการ เรื่อง การปรับปรุงหลักสูตร | G70: 798400
B71: การพัฒนาฝีมือแรงงานมาตรฐานฝีมือแรงงานแห่งชาติ
A72: 6 | B72: โครงการพัฒนาหลักสูตรการฝึกตามกลุ่มอุตสาหกรรม | G72: 912300
B73: เพื่อรองรับการพัฒนาเขตเศรษฐกิจพิเศษ
A74: 7 | B74: โครงการประกวดสื่อการฝึกเพื่อการพัฒนาฝีมือแรงงาน | G74: 1100000
B75: ประจำปี พ.ศ. 2560
A76: 8 | B76: โครงการขยายผลสื่อการฝึกเพื่อการพัฒนาฝีมือแรงงาน | G76: 240000
B77: ประจำปี พ.ศ. 2560
A78: 9 | B78: โครงการจัดจ้างผลิตสื่อการฝึกประเภทวิดีทัศน์ และ | G78: 880000
B79: คอมพิวเตอร์ช่วยสอน (CAI)
A80: 10 | B80: โครงการขยายผลหลักสูตรอิงสมรรถนะ | G80: 4400000
B81: เข้าสู่สถานประกอบกิจการ
A82: 11 | B82: โครงการพัฒนาบุคลากรสู่การเป็น Master Trainer | G82: 824700
B83: หลักสูตรการออกแบบและพัฒนาหลักสูตรอิงสมรรถนะ
A84: 12 | B84: โครงการพัฒนาบุคลากรสู่การเป็นนักพัฒนาฝีมือแรงงาน | G84: 496600
B85: ในสถานประกอบกิจการ
A86: 13 | B86: โครงการฝึกอบรมเจ้าหน้าที่เพื่อขยายผลหลักสูตร | G86: 1425400
B87: อิงสมรรถนะเข้าสู่สถานประกอบกิจการ
A88: 14 | B88: โครงการหลักสูตรการเป็นหัวหน้างาน | G88: 346000
A89: 15 | B89: โครงการหลักสูตรเจ้าหน้าที่ฝึกอบรม | G89: 287300
A90: 16 | B90: โครงการหลักสูตรครูฝึกใหม่ | G90: 2750900
A91: 17 | B91: โครงการเพิ่มประสิทธิภาพด้านการสอน ให้แก่ครูฝึกใหม่ | G91: 1065900
A92: 18 | B92: โครงการอบรมเชิงปฏิบัติการเพื่อพัฒนาครูฝึกดีเด่น | G92: 902100
B93: สู่การเป็นวิทยากรต้นแบบ
A94: 19 | B94: โครงการหลักสูตรการวิเคราะห์งาน | G94: 173700
A95: 20 | B95: โครงการหลักสูตรเทคนิคการสอนงาน | G95: 34600
A96: 21 | B96: โครงการประชุมวิชาการเชิงปฏิบัติการ เริ่อง ปรับปรุง | G96: 500000
B97: กรอบรายการคุณลักษณะเฉพาะครุภันฑ์การฝึก
A98: 22 | B98: โครงการพัฒนาสถานฝึกและครุภัณฑ์การฝึก | G98: 79500
B99: กรมพัฒนาฝีมือแรงงานเรื่อง การพัฒนาสถานฝึกและ
B100: ครุภัณฑ์การฝึกกรมพัฒนาฝีมือแรงงาน
A101: 23 | B101: โครงการฝึกอบรมต้นแบบหลักสูตรการจัดการ | G101: 153400
B102: ด้านอาหารและโภชนการบนเรือ Ship's Cook
...

Sheet คำขอใช้สอยอื่น 60
A1: คำเสนอขอ โครงการ ค่าใช้สอยอื่น งบดำเนินงาน 2560
A2: กรมพัฒนาฝีมือแรงงาน
A4: ลำดับที่ | B4: ชื่อโครงการ | C4: จำนวนเงิน
B5: รวมเงินทั้งสิ้น | C5: =+C6+C43+C56+C72+C115+C124 -> 80366200
B6: กองพัฒนาศักยภาพแรงงานและผู้ประกอบกิจการ | C6: =SUM(C9:C41) -> 10875800
B7: แผนงานยุทธศาสตร์ที่ 3.2 พัฒนาศักยภาพคนตามช่วงวัย (แผนบูรณาการ)
B8: กิจกรรม เพื่อเพิ่มโอกาสในการประกอบอาชีพ
A9: 1 | B9: โครงการศึกษารูปแบบการพัฒนาศักยภาพผู้สูงอายุเพื่อการเป็นเจ้าบ้านที่ดีและการพัฒนา | C9: 1108000
B10: ผลิตภัณฑ์เพื่อการท่องเที่ยวโดยชุมชน
A11: 2 | B11: โครงการศึกษารูปแบบร้านขายอาหารที่เปิดขายบนรถยนต์ (Food Truck Management) | C11: 630900
B12: สำหรับผู้สูงอายุ/คนพิการและผู้ดูแลคนพิการ เพื่อสร้างอาชีพและขีดความสามารถ
B13: ในการเข้าสู่ประชาคมเศรษฐกิจอาเซียน (AEC)
A14: 3 | B14: โครงการศึกษารูปแบบการพัฒนาศักยภาพคนพิการด้านเทคโนโลยีสารสนเทศ | C14: 852400
A15: 4 | B15: โครงการศึกษารูปแบบการฝึกอาชีพ หลักสูตรการทำเฟอร์นิเจอร์จากไม้พาเลสสำหรับคนพิการ | C15: 269800
A16: 5 | B16: โครงการศึกษารูปแบบการฝึกอาชีพ หลักสูตรภาษาอังกฤษสำหรับอาชีพนวดแผนไทย | C16: 171600
B17: สำหรับคนพิการทางการเห็น
B18: ยุทธศาสตร์ที่ 2 ยุทธศาสตร์ด้านการสร้างความสามารถในการแข่งขันของประเทศ
B19: แผนงาน พื้นฐานด้านการสร้างความสามารถในการแข่งขันของประเทศ
B20: ผลผลิต พัฒนาศักยภาพฝีมือแรงงานทั้งระบบให้สอดคล้องกับความต้องการของตลาดแรงงาน
B21: และการประกอบอาชีพ
B22: กิจกรรม พัฒนาฝีมือเพื่อส่งเสริมการประกอบอาชีพ
A23: 6 | B23: โครงการศึกษารูปแบบการฝึกอบรม หลักสูตรการจัดทำสติกเกอร์ไลน์ เพื่อการประกอบอาชีพ | C23: 188800
B24: สำหรับเยาวชน
A25: 7 | B25: โครงการศึกษารูปแบบการฝึกอบรม หลักสูตรการจัดการข้อมูลเพื่อการทำงานเชิงธุรกิจ | C25: 221200
B26: (Application for business management information)
A27: 8 | B27: โครงการศึกษารูปแบบการฝึกอบรม หลักสูตรพัฒนาศักยภาพสตรี เพื่อเตรียมความพร้อม | C27: 225800
B28: เพื่อเข้าสู่กระบวนการจ้างงาน (สตรีตั้งครรภ์ก่อนวัยอันควร ถูกล่วงละเมิดถูกกระทำความรุนแรง
B29: ละเมิดกฏหมาย)
A30: 9 | B30: โครงการศึกษารูปแบบการฝึกอบรม หลักสูตรเขียนแบบด้วยคอมพิวเตอร์ 3D | C30: 252800
B31: เพื่องานออกแบบการก่อสร้าง
A32: 10 | B32: โครงการศึกษารูปแบบการฝึกอบรม หลักสูตร การบริหารจัดการด้านการตลาด E-Commerce | C32: 459200
A33: 11 | B33: โครงการศึกษารูปแบบการฝึกอบรม หลักสูตร เทคนิคการจัดการระบบขนส่งสินค้ารองรับ | C33: 749600
B34: ประชาคมอาเซียน สำหรับเยาวชนในพื้นที่จังหวัดตามแนวชายแดน
A35: 12 | B35: โครงการศึกษารูปแบบการยกระดับฝีมือพัฒนาทักษะแรงงานไทยด้านการออกแบบผลิตภัณฑ์ | C35: 828000
B36: สิ่งทอและแฟชั่นให้กับผู้ประกอบการ SMEs
A37: 13 | B37: โครงการศึกษารูปแบบยกระดับฝีมือพัฒนาทักษะแรงงานเพื่อการบริการประชาชน | C37: 2509000
B38: ของศูนย์ช่างประจำชุมชนเทิดไท้องค์ราชัน
A39: 14 | B39: โครงการ PROFESSIONAL INSTRUCTOR MODULE | C39: 1025000
A40: 15 | B40: โครงการเสริมสร้างความรู้ด้านบริหารจัดการธุรกิจให้กับผู้ประกอบการ | C40: 384000
A41: 16 | B41: โครงการพัฒนาบุคลากรด้านโลจิสติกส์รองรับธุรกิจการขนส่งและการค้าระหว่างประเทศ | C41: 999700
B43: สำนักงานรับรองความรู้ความสามารถ | C43: =+C44+C46+C49+C53 -> 11434100
A44: 1 | B44: โครงการตรวจติดตามประเมินผลการปฏิบัติงานตามพระราชบัญญัติส่งเสริม | C44: 997900
B45: การพัฒนาฝีมือแรงงาน (ฉบับที่ ๒) พ.ศ. ๒๕๕๗ กรมพัฒนาฝีมือแรงงาน ระยะที่ ๑
A46: 2 | B46: โครงการสัมมนาเชิงปฏิบัติการ เรื่อง การพัฒนาศักยภาพเจ้าหน้าที่ | C46: 1679700
B47: กรมพัฒนาฝีมือแรงงานในการปฏิบัติงานตามพระราชบัญญัติส่งเสริม
B48: การพัฒนาฝีมือแรงงาน (ฉบับที่ ๒) พ.ศ. ๒๕๕๗
A49: 3 | B49: โครงการเผยแพร่ประชาสัมพันธ์การรับรองความรู้ความสามารถในสาขาอาชีพ | C49: 4195000
B50: ที่จะประกาศเป็นสาขาอาชีพอันตรายต่อสาธารณะ ซึ่งต้องดำเนินการโดยผู้มีหนังสือ
B51: รับรองความรู้ความสามารถ ตามพระราชบัญญัติส่งเสริมการพัฒนาฝีมือแรงงาน
B52: (ฉบับที่ ๒) พ.ศ. ๒๕๕๗
A53: 4 | B53: โครงการอบรมผู้ประเมินเพื่อรองรับการประเมินความรู้ความสามารถ | C53: 4561500
B54: ตามพระราชบัญญัติส่งเสริมการพัฒนาฝีมือแรงงาน (ฉบับที่ ๒) พ.ศ. ๒๕๕๗
B56: กองยุทธศาสตร์และเครือข่ายพัฒนาฝีมือแรงงาน | C56: =SUM(C57:C70) -> 869200 | F56: =SUM(C57:C70) -> 869200
A57: 1 | B57: การประชุมคณะอนุกรรมการบูรณาการระบบข้อมูลด้านแรงงานเพื่อรองรับ | C57: 78500
B58: การพัฒนากำลังคนในระดับชาติภายใต้คณะกรรมการพัฒนาแรงงานและประสานงาน
B59: การฝึกอาชีพแห่งชาติ
A60: 2 | B60: การประชุมคณะทำงานจัดทำระบบการเชื่อมโยงข้อมูลการฝึกอบรม/ฝึกอาชีพของส่วนราชการ | C60: 70000
B61: ภายใต้คณะอนุกรรมการบูรณาการระบบข้อมูลด้านแรงงานเพื่อรองรับ
B62: การพัฒนากำลังคนในระดับชาติ
A63: 3 | B63: การประชุมคณะอนุกรรมการพัฒนาศักยภาพแรงงานด้านภาษาและวัฒนธรรม เพื่อรองรับ | C63: 57500
B64: ประชาคมอาเซียนภายใต้คณะกรรมการพัฒนาแรงงานและประสานงาน
B65: การฝึกอาชีพแห่งชาติ
A66: 4 | B66: การประชุมคณะอนุกรรมการขับเคลื่อนการพัฒนากำลังแรงงานในอุตสาหกรรมท่องเที่ยว | C66: 67000
B67: ภายใต้คณะกรรมการพัฒนาแรงงานและประสานงานการฝึกอาชีพแห่งชาติ
A68: 5 | B68: โครงการประชุมและพิธีลงนามความร่วมมือเครือข่าย | C68: 128700
A69: 6 | B69: โครงการติดตามผลการดำเนินการเครือข่ายพัฒนาฝีมือแรงงาน (จำนวน 3 ครั้ง) | C69: 89900
A70: 7 | B70: โครงการสัมมนาการสร้างเครือข่ายพัฒนาฝีมือแรงงาน | C70: 377600
B72: สำนักพัฒนาผู้ฝึกและเทคโนโลยีการฝึก | C72: =SUM(C73:C111) -> 27437100
A73: 1 | B73: โครงการพัฒนาชุดการฝึกและติดตามผลการดำเนินการฝึกตามความสามารถ | C73: 1672500
B74: (Competency Based Training : CBT)
A75: 2 | B75: โครงการประกันคุณภาพการพัฒนาฝีมือแรงงานเพื่อความเป็นเลิศ | C75: 769500
A76: 3 | B76: โครงการพัฒนาเอกสารประกอบการฝึกหลักสูตรการฝึกยกระดับฝีมือเพื่อ | C76: 6480000
B77: ทดสอบมาตรฐานฝีมือแรงงานรองรับการจ่ายค่าจ้างตามระดับมาตรฐาน
B78: ฝีมือแรงงานแห่งชาติ
A79: 4 | B79: โครงการสัมมนาเชิงปฏิบัติการ เรื่อง การปรับปรุงหลักสูตรการพัฒนาฝีมือแรงงาน | C79: 603200
A80: 5 | B80: โครงการสัมมนาเชิงปฏิบัติการ เรื่อง การปรับปรุงหลักสูตรการพัฒนาฝีมือแรงงาน | C80: 798400
B81: มาตรฐานฝีมือแรงงานแห่งชาติ
A82: 6 | B82: โครงการพัฒนาหลักสูตรการฝึกตามกลุ่มอุตสาหกรรมเพื่อรองรับการพัฒนา | C82: 912300
B83: เขตเศรษฐกิจพิเศษ
A84: 7 | B84: โครงการประกวดสื่อการฝึกเพื่อการพัฒนาฝีมือแรงงาน ประจำปี พ.ศ. 2560 | C84: 1100000
A85: 8 | B85: โครงการขยายผลสื่อการฝึกเพื่อการพัฒนาฝีมือแรงงาน ประจำปี พ.ศ. 2560 | C85: 240000
A86: 9 | B86: โครงการจัดจ้างผลิตสื่อการฝึกประเภทวิดีทัศน์ และคอมพิวเตอร์ช่วยสอน (CAI) | C86: 880000
A87: 10 | B87: โครงการขยายผลหลักสูตรอิงสมรรถนะเข้าสู่สถานประกอบกิจการ | C87: 4400000
A88: 11 | B88: โครงการพัฒนาบุคลากรสู่การเป็น Master Trainer หลักสูตรการออกแบบและ | C88: 824700
B89: พัฒนาหลักสูตรอิงสมรรถนะ
A90: 12 | B90: โครงการพัฒนาบุคลากรสู่การเป็นนักพัฒนาฝีมือแรงงานในสถานประกอบกิจการ | C90: 496600
A91: 13 | B91: โครงการฝึกอบรมเจ้าหน้าที่เพื่อขยายผลหลักสูตรอิงสมรรถนะ | C91: 1425400
B92: เข้าสู่สถานประกอบกิจการ
A93: 14 | B93: โครงการหลักสูตรการเป็นหัวหน้างาน | C93: 346000
A94: 15 | B94: โครงการหลักสูตรเจ้าหน้าที่ฝึกอบรม | C94: 287300
A95: 16 | B95: โครงการหลักสูตรครูฝึกใหม่ | C95: 2750900
A96: 17 | B96: โครงการเพิ่มประสิทธิภาพด้านการสอน ให้แก่ครูฝึกใหม่ | C96: 1065900
A97: 18 | B97: โครงการอบรมเชิงปฏิบัติการเพื่อพัฒนาครูฝึกดีเด่นสู่การเป็นวิทยากรต้นแบบ | C97: 902100
A98: 19 | B98: โครงการหลักสูตรการวิเคราะห์งาน | C98: 173700
A99: 20 | B99: โครงการหลักสูตรเทคนิคการสอนงาน | C99: 34600
A100: 21 | B100: โครงการประชุมวิชาการเชิงปฏิบัติการ เริ่อง ปรับปรุงกรอบรายการคุณลักษณะ | C100: 500000
B101: เฉพาะครุภันฑ์การฝึก
A102: 22 | B102: โครงการพัฒนาสถานฝึกและครุภัณฑ์การฝึกกรมพัฒนาฝีมือแรงงาน | C102: 79500
B103: เรื่อง การพัฒนาสถานฝึกและครุภัณฑ์การฝึกกรมพัฒนาฝีมือแรงงาน
A104: 23 | B104: โครงการฝึกอบรมต้นแบบหลักสูตรการจัดการด้านอาหารและ | C104: 153400
...

Sheet 60 รวมงบตามกิจกรรม
A1: คำเสนอขอ ค่าใช้สอยอื่น ปี 2560 แยกกิจกรรม
A2: หน่วยงาน | B2: รวมขอ 2560 ทั้งสิ้น | C2: จัดทำแผนการพัฒนากำลังคนระดับชาติ | D2: กิจกรรม
D3: พัฒนาฝีมือฯประกอบอาชีพ | E3: จัดทำหลักเกณฑ์ | F3: พัฒนาระบบฝึกฯ | G3: ส่งเสริมฯ พ.ร.บ. 2545 | H3: พัฒนาศักยภาพฯ ประเมินความรู้ความสามารถตามพ.ร.บ.ส่งเสริมฯ 2557
A4: รวม | B4: =SUM(B5:B11) -> 80366200 | C4: =SUM(C5:C9) -> 869200 | D4: =SUM(D5:D9) -> 10875800 | E4: =SUM(E5:E9) -> 28367800 | F4: =SUM(F5:F9) -> 27437100 | G4: =SUM(G5:G9) -> 1382200 | H4: =+H10 -> 11434100
A5: กองพัฒนาศักยภาพฯ | B5: =SUM(C5:H5) -> 10875800 | D5: =+'คำขอใช้สอยอื่น 60'!C6 -> 10875800
A6: สำนักพัฒนามาตรฐานฯ | B6: =SUM(C6:H6) -> 28367800 | E6: =+'คำขอใช้สอยอื่น 60'!C115 -> 28367800
A7: สำนักพัฒนาผู้ฝึกฯ | B7: =SUM(C7:H7) -> 27437100 | F7: =+'คำขอใช้สอยอื่น 60'!C72 -> 27437100
A8: กองส่งเสริมการพัฒนาฯ | B8: =SUM(C8:H8) -> 1382200 | G8: =+'คำขอใช้สอยอื่น 60'!C124 -> 1382200
A9: กองยุทธศาสตร์ฯ | B9: =SUM(C9:H9) -> 869200 | C9: =+'คำขอใช้สอยอื่น 60'!C56 -> 869200
A10: สำนักงานรับรองฯ | B10: =SUM(C10:H10) -> 11434100 | H10: =+'คำขอใช้สอยอื่น 60'!C43 -> 11434100

Sheet Sheet3
