Workbook

Sheet 60 แยกกิจกรรม (2)
B1: คำเสนอขอ ค่าใช้สอยอื่น ปี 2560 แยกกิจกรรม
H2: เอกสารแนบท้าย 2
A3: ลำดับที่ | B3: หน่วยงาน | C3: รวมขอ 2560 ทั้งสิ้น | D3: จัดทำแผนการพัฒนากำลังคนระดับชาติ | E3: กิจกรรม
E4: พัฒนาฝีมือฯประกอบอาชีพ | F4: จัดทำหลักเกณฑ์ | G4: พัฒนาระบบฝึกฯ | H4: ส่งเสริมฯ พ.ร.บ. 2545 | I4: พัฒนาศักยภาพฯ ประเมินความรู้ความสามารถตามพ.ร.บ.ส่งเสริมฯ 2557
B5: รวมทั้งสิ้น | C5: =SUM(D5:I5) -> 80366200 | D5: =SUM(D6:D123) -> 869200 | E5: =+E6 -> 10875800 | F5: =+F50 -> 28367800 | G5: =+G60 -> 27437100 | H5: =+H116 -> 1382200 | I5: =+I145 -> 11434100
B6: กองพัฒนาศักยภาพแรงงานและผู้ประกอบกิจการ | C6: =SUM(D6:I6) -> 10875800 | E6: =SUM(E7:E47) -> 10875800
A7: 1 | B7: โครงการศึกษารูปแบบการพัฒนาศักยภาพผู้สูงอายุ | C7: 1108000 | E7: 1108000
B8: เพื่อการเป็นเจ้าบ้านที่ดีและการพัฒนาผลิตภัณฑ์
B9: เพื่อการท่องเที่ยวโดยชุมชน
A10: 2 | B10: โครงการศึกษารูปแบบร้านขายอาหารที่เปิดขายบนรถยนต์ | C10: 630900 | E10: 630900
B11: (Food Truck Management) สำหรับผู้สูงอายุ/คนพิการ
B12: และผู้ดูแลคนพิการ เพื่อสร้างอาชีพและขีดความสามารถ
B13: ในการเข้าสู่ประชาคมเศรษฐกิจอาเซียน (AEC)
A14: 3 | B14: โครงการศึกษารูปแบบการพัฒนาศักยภาพคนพิการ | C14: 852400 | E14: 852400
B15: ด้านเทคโนโลยีสารสนเทศ
A16: 4 | B16: โครงการศึกษารูปแบบการฝึกอาชีพ หลักสูตรการทำ | C16: 269800 | E16: 269800
B17: เฟอร์นิเจอร์จากไม้พาเลสสำหรับคนพิการ
A18: 5 | B18: โครงการศึกษารูปแบบการฝึกอาชีพ หลักสูตร | C18: 171600 | E18: 171600
B19: ภาษาอังกฤษสำหรับอาชีพนวดแผนไทยสำหรับคนพิการ
B20: ทางการมองเห็น
A21: 6 | B21: โครงการศึกษารูปแบบการฝึกอบรม หลักสูตร | C21: 188800 | E21: 188800
B22: การจัดทำสติกเกอร์ไลน์ เพื่อการประกอบอาชีพ
B23: สำหรับเยาวชน
A24: 7 | B24: โครงการศึกษารูปแบบการฝึกอบรม หลักสูตร | C24: 221200 | E24: 221200
B25: การจัดการข้อมูลเพื่อการทำงานเชิงธุรกิจ
B26: (Application for business management information)
A27: 8 | B27: โครงการศึกษารูปแบบการฝึกอบรม หลักสูตรพัฒนา | C27: 225800 | E27: 225800
B28: ศักยภาพสตรี เพื่อเตรียมความพร้อมเพื่อเข้าสู่
B29: กระบวนการจ้างงาน (สตรีตั้งครรภ์ก่อนวัยอันควร
B30: ถูกล่วงละเมิดถูกกระทำความรุนแรงละเมิดกฏหมาย)
A31: 9 | B31: โครงการศึกษารูปแบบการฝึกอบรม หลักสูตร | C31: 252800 | E31: 252800
B32: เขียนแบบด้วยคอมพิวเตอร์ 3D เพื่องานออกแบบการก่อสร้าง
A33: 10 | B33: โครงการศึกษารูปแบบการฝึกอบรม หลักสูตร | C33: 459200 | E33: 459200
B34: การบริหารจัดการด้านการตลาด E-Commerce
A35: 11 | B35: โครงการศึกษารูปแบบการฝึกอบรม หลักสูตร | C35: 749600 | E35: 749600
B36: เทคนิคการจัดการระบบขนส่งสินค้ารองรับประชาคม
B37: อาเซียน สำหรับเยาวชนในพื้นที่จังหวัดตามแนวชายแดน
A38: 12 | B38: โครงการศึกษารูปแบบการยกระดับฝีมือพัฒนาทักษะ | C38: 828000 | E38: 828000
B39: แรงงานไทยด้านการออกแบบผลิตภัณฑ์สิ่งทอและแฟชั่น
B40: ให้กับผู้ประกอบการ SMEs
...

Sheet คำขอใช้สอยอื่น 60
A1: คำเสนอขอ โครงการ ค่าใช้สอยอื่น งบดำเนินงาน 2560
A2: กรมพัฒนาฝีมือแรงงาน
A4: ลำดับที่ | B4: ชื่อโครงการ | C4: จำนวนเงิน
B5: รวมเงินทั้งสิ้น | C5: =+C6+C43+C56+C72+C115+C124 -> 80366200
B6: กองพัฒนาศักยภาพแรงงานและผู้ประกอบกิจการ | C6: =SUM(C9:C41) -> 10875800
B7: แผนงานยุทธศาสตร์ที่ 3.2 พัฒนาศักยภาพคนตามช่วงวัย (แผนบูรณาการ)
B8: กิจกรรม เพื่อเพิ่มโอกาสในการประกอบอาชีพ
A9: 1 | B9: โครงการศึกษารูปแบบการพัฒนาศักยภาพผู้สูงอายุเพื่อการเป็นเจ้าบ้านที่ดีและการพัฒนา | C9: 1108000
B10: ผลิตภัณฑ์เพื่อการท่องเที่ยวโดยชุมชน
A11: 2 | B11: โครงการศึกษารูปแบบร้านขายอาหารที่เปิดขายบนรถยนต์ (Food Truck Management) | C11: 630900
B12: สำหรับผู้สูงอายุ/คนพิการและผู้ดูแลคนพิการ เพื่อสร้างอาชีพและขีดความสามารถ
B13: ในการเข้าสู่ประชาคมเศรษฐกิจอาเซียน (AEC)
A14: 3 | B14: โครงการศึกษารูปแบบการพัฒนาศักยภาพคนพิการด้านเทคโนโลยีสารสนเทศ | C14: 852400
A15: 4 | B15: โครงการศึกษารูปแบบการฝึกอาชีพ หลักสูตรการทำเฟอร์นิเจอร์จากไม้พาเลสสำหรับคนพิการ | C15: 269800
A16: 5 | B16: โครงการศึกษารูปแบบการฝึกอาชีพ หลักสูตรภาษาอังกฤษสำหรับอาชีพนวดแผนไทย | C16: 171600
B17: สำหรับคนพิการทางการเห็น
B18: ยุทธศาสตร์ที่ 2 ยุทธศาสตร์ด้านการสร้างความสามารถในการแข่งขันของประเทศ
B19: แผนงาน พื้นฐานด้านการสร้างความสามารถในการแข่งขันของประเทศ
B20: ผลผลิต พัฒนาศักยภาพฝีมือแรงงานทั้งระบบให้สอดคล้องกับความต้องการของตลาดแรงงาน
B21: และการประกอบอาชีพ
B22: กิจกรรม พัฒนาฝีมือเพื่อส่งเสริมการประกอบอาชีพ
A23: 6 | B23: โครงการศึกษารูปแบบการฝึกอบรม หลักสูตรการจัดทำสติกเกอร์ไลน์ เพื่อการประกอบอาชีพ | C23: 188800
B24: สำหรับเยาวชน
A25: 7 | B25: โครงการศึกษารูปแบบการฝึกอบรม หลักสูตรการจัดการข้อมูลเพื่อการทำงานเชิงธุรกิจ | C25: 221200
B26: (Application for business management information)
A27: 8 | B27: โครงการศึกษารูปแบบการฝึกอบรม หลักสูตรพัฒนาศักยภาพสตรี เพื่อเตรียมความพร้อม | C27: 225800
B28: เพื่อเข้าสู่กระบวนการจ้างงาน (สตรีตั้งครรภ์ก่อนวัยอันควร ถูกล่วงละเมิดถูกกระทำความรุนแรง
B29: ละเมิดกฏหมาย)
A30: 9 | B30: โครงการศึกษารูปแบบการฝึกอบรม หลักสูตรเขียนแบบด้วยคอมพิวเตอร์ 3D | C30: 252800
B31: เพื่องานออกแบบการก่อสร้าง
A32: 10 | B32: โครงการศึกษารูปแบบการฝึกอบรม หลักสูตร การบริหารจัดการด้านการตลาด E-Commerce | C32: 459200
A33: 11 | B33: โครงการศึกษารูปแบบการฝึกอบรม หลักสูตร เทคนิคการจัดการระบบขนส่งสินค้ารองรับ | C33: 749600
B34: ประชาคมอาเซียน สำหรับเยาวชนในพื้นที่จังหวัดตามแนวชายแดน
A35: 12 | B35: โครงการศึกษารูปแบบการยกระดับฝีมือพัฒนาทักษะแรงงานไทยด้านการออกแบบผลิตภัณฑ์ | C35: 828000
B36: สิ่งทอและแฟชั่นให้กับผู้ประกอบการ SMEs
A37: 13 | B37: โครงการศึกษารูปแบบยกระดับฝีมือพัฒนาทักษะแรงงานเพื่อการบริการประชาชน | C37: 2509000
B38: ของศูนย์ช่างประจำชุมชนเทิดไท้องค์ราชัน
A39: 14 | B39: โครงการ PROFESSIONAL INSTRUCTOR MODULE | C39: 1025000
A40: 15 | B40: โครงการเสริมสร้างความรู้ด้านบริหารจัดการธุรกิจให้กับผู้ประกอบการ | C40: 384000
A41: 16 | B41: โครงการพัฒนาบุคลากรด้านโลจิสติกส์รองรับธุรกิจการขนส่งและการค้าระหว่างประเทศ | C41: 999700
...

Sheet 60 รวมงบตามกิจกรรม
A1: คำเสนอขอ ค่าใช้สอยอื่น ปี 2560 แยกกิจกรรม
A2: หน่วยงาน | B2: รวมขอ 2560 ทั้งสิ้น | C2: จัดทำแผนการพัฒนากำลังคนระดับชาติ | D2: กิจกรรม
D3: พัฒนาฝีมือฯประกอบอาชีพ | E3: จัดทำหลักเกณฑ์ | F3: พัฒนาระบบฝึกฯ | G3: ส่งเสริมฯ พ.ร.บ. 2545 | H3: พัฒนาศักยภาพฯ ประเมินความรู้ความสามารถตามพ.ร.บ.ส่งเสริมฯ 2557
A4: รวม | B4: =SUM(B5:B11) -> 80366200 | C4: =SUM(C5:C9) -> 869200 | D4: =SUM(D5:D9) -> 10875800 | E4: =SUM(E5:E9) -> 28367800 | F4: =SUM(F5:F9) -> 27437100 | G4: =SUM(G5:G9) -> 1382200 | H4: =+H10 -> 11434100
A5: กองพัฒนาศักยภาพฯ | B5: =SUM(C5:H5) -> 10875800 | D5: =+'คำขอใช้สอยอื่น 60'!C6 -> 10875800
A6: สำนักพัฒนามาตรฐานฯ | B6: =SUM(C6:H6) -> 28367800 | E6: =+'คำขอใช้สอยอื่น 60'!C115 -> 28367800
A7: สำนักพัฒนาผู้ฝึกฯ | B7: =SUM(C7:H7) -> 27437100 | F7: =+'คำขอใช้สอยอื่น 60'!C72 -> 27437100
A8: กองส่งเสริมการพัฒนาฯ | B8: =SUM(C8:H8) -> 1382200 | G8: =+'คำขอใช้สอยอื่น 60'!C124 -> 1382200
A9: กองยุทธศาสตร์ฯ | B9: =SUM(C9:H9) -> 869200 | C9: =+'คำขอใช้สอยอื่น 60'!C56 -> 869200
A10: สำนักงานรับรองฯ | B10: =SUM(C10:H10) -> 11434100 | H10: =+'คำขอใช้สอยอื่น 60'!C43 -> 11434100

Sheet Sheet3
