Workbook

Sheet รายละเอียดบัญชี
A1: หน่วยงาน.......................................
A2: รหัสหน่วยงาน........1704.........หน่วยเบิกจ่าย....................................
A3: รายงานบัญชีเพื่อใช้ในการสอบทานข้อมูลทางบัญชีในระบบ New GFMIS Thai
A4: ณ วันที่ 30 กันยายน 2566
A6: ลำดับ | B6: รหัสบัญชี | C6: ชื่อบัญชี | D6: ยอดคงเหลือ | G6: เหตุผลประกอบการชี้แจง
D8: GFMIS | E8: เอกสาร | F8: ผลต่าง
D9: ผลรวมของ GFMIS | E9: ผลรวมของเอกสาร
A10: 1 | B10: 1101010101 | C10: เงินสดในมือ | F10: =D10-E10 -> 0
A11: 2 | B11: 1101010104 | C11: เงินทดรองราชการ | F11: =D11-E11 -> 0
A12: 3 | B12: 1101020501 | C12: เงินฝากคลัง | F12: =D12-E12 -> 0
A13: 4 | B13: 1101020601 | C13: เงินฝากธนาคาร - เพื่อการรับเงินทางอิเล็กทรอนิกส์ | F13: =D13-E13-E14 -> 0
B14: 1101020601 | C14: เงินฝากธนาคาร - เพื่อการรับเงินผ่านทางเครื่อง EDC
A15: 5 | B15: 1101020603 | C15: เงินฝากธนาคาร (เงินงบประมาณ) | F15: =D15-E15 -> 0
A16: 6 | B16: 1101020604 | C16: เงินฝากธนาคาร (เงินนอกงบประมาณ) | F16: =D16-E16 -> 0
A17: 7 | B17: 1101030199 | C17: เงินฝากไม่มีรายตัว | F17: =D17-E17 -> 0
A18: 8 | B18: 1102010101 | C18: ลูกหนี้เงินยืมในงบประมาณ | F18: =D18-E18 -> 0
A19: 9 | B19: 1102010102 | C19: ลูกหนี้เงินยืมนอกงบประมาณ | F19: =D19-E19 -> 0
A20: 10 | B20: 1102050107 | C20: รายได้ค้างรับ - บุคคลภายนอก | F20: =D20-E20 -> 0
A21: 11 | B21: 1102050124 | C21: ค้างรับจากกรมบัญชีกลาง | F21: =D21-E21 -> 0
A22: 12 | B22: 1103020111 | C22: เงินจ่ายล่วงหน้า | F22: =D22-E22 -> 0
A23: 13 | B23: 1105010105 | C23: วัสดุคงคลัง | F23: =D23-E23 -> 0
A24: 14 | B24: 1106010103 | C24: ค่าใช้จ่ายจ่ายล่วงหน้า | F24: =D24-E24 -> 0
A25: 15 | B25: 2101010101 | C25: เจ้าหนี้การค้า - หน่วยงานภาครัฐ | F25: =D25-E25 -> 0
A26: 16 | B26: 2101010102 | C26: เจ้าหนี้การค้า - บุคคลภายนอก | F26: =D26-E26 -> 0
... A35: 25 | B35: 2116010104 | C35: เบิกเกินส่งคืนรอนำส่ง | F35: =D35-E35 -> 0
A36: 26 | B36: 2213010101 | C36: รายได้รอการรับรู้ (สินทรัพย์บริจาค) | F36: =D36-E36-E37 -> 0
A37: 27 | B37: 2213010101 | C37: รายได้รอการรับรู้ (เงินบริจาค)
A38: 28 | B38: 12xxxxxxxx | C38: สินทรัพย์ถาวรรวม | F38: =D38-E38 -> 0
B42: ลงชื่อ....................................................................ผู้จัดทำ | E42: ลงชื่อ....................................................................ผู้ตรวจสอบ
B43: ตำแหน่ง............................................................... | E43: ตำแหน่ง...............................................................
B44: วันที่ ...................................…………….................. | E44: วันที่ ...................................……………..................
C46: ลงชื่อ..........................................................................
C47: ตำแหน่ง.......ผู้อำนวยการสำนักฯ/สถาบันฯ……
C48: วันที่ ...................................……………..................

Sheet 1.เงินสด
D1: เอกสาร 1
A2: รายงานบัญชีเพื่อใช้ในการสอบทานข้อมูลทางบัญชีในระบบ New GFMIS Thai
A3: บัญชีเงินสดในมือ (1101010101)
A4: ณ วันที่ 30 กันยายน 2566
A6: กระทรวงแรงงาน | D6: รหัสหน่วยงาน 17004
A7: กรมพัฒนาฝีมือแรงงาน | D7: รหัสหน่วยเบิกจ่าย...........XXXXXXXXXX…………………..
A8: ชื่อหน่วยเบิกจ่าย..............................
D9: หน่วย : บาท
A10: ยอดคงเหลือ | B10: จำนวนเงินตาม | C10: ผลต่าง
A11: บัญชีเงินสดในมือ (GFMIS) | B11: รายงานคงเหลือประจำวัน
A12: (1101010101) | C12: จำนวนเงิน | D12: สาเหตุที่เกิดผลต่าง
A13: (1) | B13: (2) | C13: (3) = (1) - (2) | D13: (4)
A14: 0 | B14: 0 | C14: =SUM(A14-B14) -> 0
A24: หมายเหตุ : ให้แนบสำเนารายงานเงินคงเหลือประจำวัน ณ วันที่ 29 กันยายน 2566 (พร้อมรับรองสำเนาถูกต้อง)

Sheet 2.เงินทดรองราชการ
I1: เอกสาร 2
A2: รายงานบัญชีเพื่อใช้ในการสอบทานข้อมูลทางบัญชีในระบบ GFMIS
A3: บัญชีเงินทดรองราชการ (1101010104)
A4: ณ วันที่ 30 กันยายน 2566
A6: กระทรวงแรงงาน | H6: รหัสหน่วยงาน 17004
A7: กรมพัฒนาฝีมือแรงงาน | H7: รหัสหน่วยเบิกจ่าย...XXXXXXXXXX…..
A8: ชื่อหน่วยเบิกจ่าย..............................
I9: หน่วย : บาท
B10: ยอดคงเหลือตามรายงาน เงินคงเหลือประจำวัน/Statement | D10: ผลต่าง | E10: สาเหตุของผลต่าง (ให้กรอกจำนวนเงินตามช่องสาเหตุ)
A11: ยอดคงเหลือ | E11: เช็คที่จ่ายแล้ว | F11: รายการ่โอนเงินผ่าน | G11: รายการเบิกเงิน | H11: สาเหตุอื่น ๆ
A12: ตามงบทดลอง | E12: แต่ผู้รับยังไม่นำไปขึ้นเงิน | F12: ระบบ KTB | G12: รอชดใช้
B13: ประเภทเงิน | C13: จำนวนเงิน | D13: (4) = (1)-(3) | E13: (เช็ครอตัดบัญชี) | F13: แต่ยังไม่ตัดบัญชี | H13: จำนวนเงิน | I13: ระบุสาเหตุ
A14: (1) | B14: (2) | C14: (3) | E14: (5) | F14: (6) | G14: (7) | H14: (8) | I14: (9)
B15: เงินสด | D15: =A15-C15-C16 -> 0
B16: เงินฝากธนาคาร
A17: =SUM(A15:A16) -> 0 | C17: =SUM(C15:C16) -> 0 | D17: =SUM(D15:D16) -> 0 | E17: =SUM(E15:E16) -> 0 | F17: =SUM(F15:F16) -> 0 | G17: =SUM(G15:G16) -> 0 | H17: =SUM(H15:H16) -> 0
A19: กรอกข้อมูลรายละเอียดบัญชีเงินฝากธนาคาร
A20: ชื่อธนาคาร | B20: สาขา | D20: ประเภท | E20: เลขบัญชี
A21: (10) | B21: (11) | D21: (12) | E21: (13)
D22: ออมทรัพย์
D23: กระแสรายวัน
A29: หมายเหตุ : ให้แนบสำเนาเอกสารประกอบ ดังนี้
A30: 1. เอกสารการเคลื่อนไหวทางบัญชีประจำเดือนกันยายน 2566 (Statement) และเอกสารต้องออกโดยธนาคารรับรองเท่านั้น
A31: 2. งบกระทบยอดเงินฝากธนาคาร ณ วันที่ 30 กันยายน 2566
A32: 3. รายงานฐานะเงินทดรองราชการ ณ วันที่ 30 กันยายน 2566

Sheet 3.เงินฝากคลัง 
E1: เอกสาร 3
A2: รายงานบัญชีเพื่อใช้ในการสอบทานข้อมูลทางบัญชีในระบบ New GFMIS Thai
A3: บัญชีเงินฝากคลัง (1101020501)
A4: ณ วันที่ 30 กันยายน 2566
A6: กระทรวงแรงงาน | E6: รหัสหน่วยงาน 17004
A7: กรมพัฒนาฝีมือแรงงาน | E7: รหัสหน่วยเบิกจ่าย......XXXXXXXXXX……
A8: ชื่อหน่วยเบิกจ่าย.............................. | E8: หน่วย : บาท
A10: รายการ | B10: จำนวนเงิน | D10: ผลต่าง | E10: ชี้แจงรายละเอียดหากมีผลต่าง พร้อมแนบเอกสารหลักฐาน
B11: GFMIS | C11: ทะเบียนคุม
A12: (1) | B12: (2) | C12: (3) | D12: (4) = (2) - (3) | E12: (5)
A13: เงินฝากคลัง
A14: รายได้เงินบำรุงการพัฒนาฝีมือแรงงาน | B14: 0 | C14: 0 | D14: =+B14-C14 -> 0
A15: เงินค้ำประกันสัญญา | B15: 0 | C15: 0 | D15: =+B15-C15 -> 0
A16: เงินประกันหอพัก | B16: 0 | C16: 0 | D16: =+B16-C16 -> 0
A17: เงินบริจาคกรมพัฒนาฝีมือแรงงาน | B17: 0 | C17: 0 | D17: =+B17-C17 -> 0
A18: เงินฝากเพื่อบูรณะทรัพย์สิน | B18: 0 | C18: 0 | D18: =+B18-C18 -> 0
A19: เงินโครงการความร่วมมือการพัฒนาทักษะสร้างความรู้ด้านเทคโนโลยีสารสนเทศกับการพัฒนาอาชีพสู่สังคมดิจิทัล สำหรับกลุ่มผู้ด้วยโอกาส (กสทช.) | B19: 0 | C19: 0 | D19: =+B19-C19 -> 0
A20: อื่นๆ | B20: 0 | C20: 0 | D20: =+B20-C20 -> 0
A21: รวมเงินฝากคลัง | B21: =SUM(B14:B20) -> 0 | C21: =SUM(C14:C20) -> 0 | D21: =SUM(D14:D20) -> 0
A28: หมายเหตุ : ให้แนบสำเนาเอกสารประกอบ ดังนี้
A29: 1. รายงานแสดงความเคลื่อนไหวเงินฝากกระทรวงการคลัง ประจำเดือนกันยายน 2566
A30: 2. รายงานการรับ - จ่ายเงินนอกงบประมาณ ประจำเดือนกันยายน 2566

Sheet 4.เงินฝากธนาคารเพื่อนำส่งคลัง
H1: เอกสาร 4
A2: รายงานบัญชีเพื่อใช้ในการสอบทานข้อมูลทางบัญชีในระบบ New GFMIS Thai
A3: บัญชีเงินฝากธนาคารเพื่อนำส่งคลัง (1101020601)
A4: ณ วันที่ 30 กันยายน 2566
A6: กระทรวงแรงงาน | G6: รหัสหน่วยงาน 17004
A7: กรมพัฒนาฝีมือแรงงาน | G7: รหัสหน่วยเบิกจ่าย....XXXXXXXXXX...
A8: ชื่อหน่วยเบิกจ่าย..............................
H9: หน่วย : บาท
B10: ยอดคงเหลือตาม Statement | E10: สาเหตุของผลต่าง (ให้กรอกจำนวนเงินตามช่องสาเหตุ)
A11: ยอดคงเหลือ | D11: ผลต่าง | E11: รายการโอนเงินผ่านระบบ KTB | F11: ยังไม่ตัด ขจ.05 | G11: สาเหตุอื่น ๆ
A12: ตามงบทดลอง | B12: ชื่อบัญชี | C12: จำนวนเงิน | D12: (4)=(1)-(3) | E12: แต่ยังไม่ตัดบัญชี | G12: จำนวนเงิน | H12: ระบุสาเหตุ
A13: (1) | B13: (2) | C13: (3) | E13: (5) | F13: (6) | G13: (7) | H13: (8)
B14: เงินฝากธนาคาร-เพื่อการรับเงินทางอิเล็กทรอนิกส์ | D14: =A14-C14-C15 -> 0
B15: เงินฝากธนาคาร-เพื่อการรับเงินผ่านทางเครื่อง EDC
A16: =SUM(A14:A15) -> 0 | B16: รวม | C16: =SUM(C14:C15) -> 0 | D16: =SUM(D14:D15) -> 0 | E16: =SUM(E14:E15) -> 0 | G16: =SUM(G14:G15) -> 0
A18: กรอกข้อมูลรายละเอียดบัญชีเงินฝากธนาคาร
A19: ชื่อธนาคาร (9) | B19: สาขา (10) | D19: ประเภท (11) | E19: เลขบัญชี (12)
A28: หมายเหตุ : ให้แนบสำเนาเอกสารประกอบ ดังนี้
A29: 1. เอกสารการเคลื่อนไหวทางบัญชีประจำเดือนกันยายน 2566 (Statement) และเอกสารต้องออกโดยธนาคารรับรองเท่านั้น
A30: 2. งบกระทบยอดเงินฝากธนาคาร ณ วันที่ 30 กันยายน 2566

Sheet 5.เงินฝากธนาคาร-ในงปม.
H1: เอกสาร 5
A2: รายงานบัญชีเพื่อใช้ในการสอบทานข้อมูลทางบัญชีในระบบ New GFMIS Thai
A3: บัญชีเงินฝากธนาคาร (เงินในงบประมาณ) (1101020603)
A4: ณ วันที่ 30 กันยายน 2566
A6: กระทรวงแรงงาน | H6: รหัสหน่วยงาน 17004
A7: กรมพัฒนาฝีมือแรงงาน | H7: รหัสหน่วยเบิกจ่าย.......XXXXXXXXXX…
A8: ชื่อหน่วยเบิกจ่าย..............................
H9: หน่วย : บาท
D10: สาเหตุของผลต่าง (ให้กรอกจำนวนเงินตามช่องสาเหตุ)
A11: ยอดคงเหลือ | B11: ยอดคงเหลือ | C11: ผลต่าง | D11: เช็คที่จ่ายแล้ว | E11: รายการโอนเงินผ่าน | F11: ยังไม่ตัด ขจ.05 | G11: สาเหตุอื่น ๆ
A12: ตามงบทดลอง | B12: ตาม Statement | D12: แต่ผู้รับยังไม่นำไปขึ้นเงิน | E12: ระบบ KTB
D13: (เช็ครอตัดบัญชี) | E13: แต่ยังไม่ตัดบัญชี | G13: จำนวนเงิน | H13: ระบุสาเหตุ
A14: (1) | B14: (2) | C14: (3)=(1)-(2) | D14: (4) | E14: (5) | F14: (6) | G14: (7) | H14: (8)
C15: =A15-B15 -> 0
A18: กรอกข้อมูลรายละเอียดบัญชีเงินฝากธนาคาร
A19: ชื่อธนาคาร (9) | B19: สาขา (10) | D19: ประเภท (11) | E19: เลขบัญชี (12)
A28: หมายเหตุ : ให้แนบสำเนาเอกสารประกอบ ดังนี้
A29: 1. เอกสารการเคลื่อนไหวทางบัญชีประจำเดือนกันยายน 2566 (Statement) และเอกสารต้องออกโดยธนาคารรับรองเท่านั้น
A30: 2. งบกระทบยอดเงินฝากธนาคาร ณ วันที่ 30 กันยายน 2566

Sheet 5.1รายละเอียดประกอบ
E1: เอกสาร 5.1
A3: รายละเอียดประกอบบัญชีเงินฝากธนาคาร (เงินในงบประมาณ) (1101020603)
A4: รายการฎีกาค้างจ่าย
A5: วันที่ ผ่านรายการ | B5: เลขที่ เอกสารขอเบิก | C5: เลขที่ฎีกา | D5: รายการ | E5: จำนวนเงิน
B6: 36XXXXXXXX | C6: P66XXXXXXX
A15: รวมเงินทั้งสิ้น | E15: =SUM(E6:E14) -> 0
A16: ยอดตามงบทดลอง | E16: ='5.เงินฝากธนาคาร-ในงปม.'!$A$15 -> 0
A17: ผลต่าง | E17: =+E15-E16 -> 0

Sheet 6.เงินฝากธนาคาร-นอกงปม.
J1: เอกสาร 6
A2: รายงานบัญชีเพื่อใช้ในการสอบทานข้อมูลทางบัญชีในระบบ New GFMIS Thai
A3: บัญชีเงินฝากธนาคาร (เงินนอกงบประมาณ) (1101020604)
A4: ณ วันที่ 30 กันยายน 2566
A6: กระทรวงแรงงาน | I6: รหัสหน่วยงาน 17004
A7: กรมพัฒนาฝีมือแรงงาน | I7: รหัสหน่วยเบิกจ่าย.......XXXXXXXXXX…
A8: ชื่อหน่วยเบิกจ่าย..............................
J9: หน่วย : บาท
F10: สาเหตุของผลต่าง (ให้กรอกจำนวนเงินตามช่องสาเหตุ)
A11: ยอดคงเหลือ | B11: ยอดคงเหลือ | C11: ผลต่าง | D11: หัก เงินฝากไม่มีรายตัว | E11: คงเหลือ | F11: เช็คที่จ่ายแล้ว | G11: รายการโอนเงินผ่าน | H11: ยังไม่ตัด ขจ.05 | I11: สาเหตุอื่น ๆ
A12: ตามงบทดลอง | B12: ตาม Statement | D12: (ที่ฝากไว้ในบัญชีเงินนอกงปม.) | E12: ผลต่าง | F12: แต่ผู้รับยังไม่นำไปขึ้นเงิน | G12: ระบบ KTB
F13: (เช็ครอตัดบัญชี) | G13: แต่ยังไม่ตัดบัญชี | I13: จำนวนเงิน | J13: ระบุสาเหตุ
A14: (1) | B14: (2) | C14: (3)=(1)-(2) | D14: (4) | E14: (5)=(3)+(4) | F14: (6) | G14: (7) | H14: (8) | I14: (9) | J14: (10)
C15: =A15-B15 -> 0 | E15: =+C15+D15 -> 0
A18: กรอกข้อมูลรายละเอียดบัญชีเงินฝากธนาคาร
A19: ชื่อธนาคาร (11) | B19: สาขา (12) | D19: ประเภท (13) | E19: ประเภท (14) | F19: เลขบัญชี (15)
A28: หมายเหตุ : ให้แนบสำเนาเอกสารประกอบ ดังนี้
A29: 1. เอกสารการเคลื่อนไหวทางบัญชีประจำเดือนกันยายน 2566 (Statement) และเอกสารต้องออกโดยธนาคารรับรองเท่านั้น
A30: 2. งบกระทบยอดเงินฝากธนาคาร ณ วันที่ 30 กันยายน 2566

Sheet 6.1รายละเอียดประกอบ
E1: เอกสาร 6.1
A3: รายละเอียดประกอบบัญชีเงินฝากธนาคาร (เงินในงบประมาณ) (1101020604)
A4: รายการฎีกาค้างจ่าย
A5: วันที่ ผ่านรายการ | B5: เลขที่ เอกสารขอเบิก | C5: เลขที่ฎีกา | D5: รายการ | E5: จำนวนเงิน
B6: 36XXXXXXXX | C6: P66XXXXXXX
A15: รวมเงินทั้งสิ้น | E15: =SUM(E6:E14) -> 0
A16: ยอดตามงบทดลอง | E16: ='6.เงินฝากธนาคาร-นอกงปม.'!$A$15 -> 0
A17: ผลต่าง | E17: =+E15-E16 -> 0

Sheet 7.เงินฝากไม่มีรายตัว
I1: เอกสาร 7
A2: รายงานบัญชีเพื่อใช้ในการสอบทานข้อมูลทางบัญชีในระบบ New GFMIS Thai
A3: บัญชีเงินฝากไม่มีรายตัว (1101030199)
A4: ณ วันที่ 30 กันยายน 2566
A6: กระทรวงแรงงาน | H6: รหัสหน่วยงาน 17004
A7: กรมพัฒนาฝีมือแรงงาน | H7: รหัสหน่วยเบิกจ่าย........XXXXXXXXXX………
A8: ชื่อหน่วยเบิกจ่าย..............................
I9: หน่วย : บาท
B10: ยอดคงเหลือ | C10: ยอดเงินฝากในบัญชี | D10: ผลต่าง | E10: ระบุสาเหตุที่เกิดผลต่าง
B11: GFMIS | C11: เงินนอกงบประมาณ
B12: (1) | C12: (2) | D12: (3) | E12: (4)
C13: ='6.เงินฝากธนาคาร-นอกงปม.'!I15 -> 0 | D13: =B13-C13 -> 0
B14: * (2) เฉพาะจำนวนเงินที่เกี่ยวข้องกับการบันทึกบัญชีเงินฝากไม่มีรายตัว
A16: รายละเอียดยอดคงเหลือตามบัญชีเงินฝากไม่มีรายตัว
A17: ลำดับ | B17: วันที่รับเงิน | C17: การอ้างอิง | D17: เลขที่เอกสาร | E17: ประเภท | F17: รายการ | H17: จำนวน
B18: (5) | C18: (6) | D18: (7) | E18: (8) | F18: (9) | H18: (10)
A19: 1 | B19: 243526 | C19: RE66XXXXXX | D19: 18XXXXXXXX | E19: RE | F19: รับเงินนอกงบประมาณโครงการ......................................
A22: รวม | H22: =SUM(H19:H21) -> 0
A29: หมายเหตุ : ให้แนบสำเนาเอกสารประกอบ ดังนี้
A30: 1. งบกระทบยอดเงินฝากธนาคาร-นอกงบประมาณประจำเดือนกันยายน 2566
A31: 2. ทะเบียนคุมการรับ-จ่ายเงินโครงการ................ที่บันทึกการรับเงินบัญชีเงินฝากไม่มีรายตัว

Sheet 8.ลูกหนี้เงินยืม-ในงปม.
P1: เอกสาร 8
A2: รายงานบัญชีเพื่อใช้ในการสอบทานข้อมูลทางบัญชีในระบบ New GFMIS Thai
A3: บัญชีลูกหนี้เงินยืมในงบประมาณ (1102010101)
A4: ณ วันที่ 30 กันยายน 2566
A6: กระทรวงแรงงาน | L6: รหัสหน่วยงาน 17004
A7: กรมพัฒนาฝีมือแรงงาน | L7: รหัสหน่วยเบิกจ่าย...........XXXXXXXXXX…………………..
A8: ชื่อหน่วยเบิกจ่าย..............................
P9: หน่วย : บาท
A10: ลำดับ | B10: ข้อมูลจากรายงานในระบบ GFMIS | G10: สัญญายืมเงิน | O10: ผลต่าง
B11: วันที่ ผ่านรายการ | C11: เลขที่ เอกสารขอเบิก | D11: ประเภท เอกสาร | E11: การอ้างอิง | F11: จำนวนเงิน | G11: เลขที่สัญญา ยืมเงิน | H11: วันที่รับเงินยืม /วันที่กลับมาถึง | I11: ชื่อลูกหนี้ | J11: วัตถุประสงค์ที่ยืม | K11: วันที่ครบกำหนด ตามสัญญา ยืมเงิน | L11: ยังไม่ถึงกำหนดชำระ (ระบุจำนวนเงิน) | M11: เกินกำหนดชำระ (ไม่เกิน 15 วัน) (ระบุจำนวนเงิน) | N11: เกินกำหนด ชำระ (เกินกว่า 15 วัน) (ระบุจำนวนเงิน) | O11: จำนวนเงิน | P11: สาเหตุ
B12: (1) | C12: (2) | D12: (3) | E12: (4) | F12: (5) | G12: (6) | H12: (7) | I12: (8) | J12: (9) | K12: (10) | L12: (11) | M12: (12) | N12: (13) | O12: (14)=(5)-(11)-(12)-(13) | P12: (15)
A13: 1 | B13: 243526 | C13: 36xxxxxxxx | D13: K1 | E13: P66xxxxxxx | O13: =F13-L13-M13-N13 -> 0
O14: =F14-L14-M14-N14 -> 0
O15: =F15-L15-M15-N15 -> 0
O16: =F16-L16-M16-N16 -> 0
O17: =F17-L17-M17-N17 -> 0
O18: =F18-L18-M18-N18 -> 0
A19: รวม | F19: =SUM(F13:F18) -> 0 | L19: =SUM(L13:L18) -> 0 | M19: =SUM(M13:M18) -> 0 | N19: =SUM(N13:N18) -> 0 | O19: =SUM(O13:O18) -> 0
B26: หมายเหตุ : | C26: 1. ให้แนบสำเนาเอกสารเฉพาะสัญญายืมเงิน
C27: 2. การส่งใช้เงินยืมให้ปฏิบัติตามระเบียบกระทรวงการคลังว่าด้วยการเบิกเงินจากคลัง การรับเงิน การจ่ายเงิน การเก็บรักษาเงิน และการนำเงินส่งคลัง พ.ศ.2562
C28: ข้อ 65 ให้ผู้ยืมส่งหลักฐานการจ่ายและเงินเหลือจ่ายที่ยืมไป (ถ้ามี) ภายในกำหนดระยะเวลา ดังนี้
C29: (1) กรณีเดินทางไปประจำต่างสำนักงานหรือการเดินทางไปราชการประจำในต่างประเทศหรือกรณีเดินทางกลับภูมิลำเนาเดิมให้ส่งแก่ส่วนราชการผู้ให้ยืมโดยทางไปรษณีย์ลงทะเบียนภายใน 30 วันนับแต่วันได้รับเงิน
D30: ตัวอย่าง จ่ายเงินยืมเดินทางไปประจำต่างสำนักงานหรือการเดินทางไปราชการประจำในต่างประเทศหรือกรณีเดินทางกลับภูมิลำเนาเดิมรับเงินยืม วันที่ 14 ก.ย. 2566 ครบกำหนด 30 วัน คือวันที่ 13 ต.ค. 2566
C31: (2) กรณีเดินทางไปราชการอื่นรวมทั้งการเดินทางไปราชการต่างประเทศชั่วคราวให้ส่งแก่ส่วนราชการผู้ให้ยืมภายใน 15 วันนับแต่วันกลับมาถึง
D32: ตัวอย่าง จ่ายเงินยืมค่าเดินทางไปราชการ ผู้ยืมมีกำหนดเดินทางกลับมาถึง วันที่ 14 ก.ย. 2566 ครบกำหนด 15 วัน คือวันที่ 28 ก.ย. 2566
C33: (3) การยืมเงินเพื่อปฏิบัติราชการนอกจาก (1) หรือ (2) ให้ส่งแก่ส่วนราชการผู้ให้ยืมภายใน 30 วันนับแต่วันได้รับเงิน
D34: ตัวอย่าง จ่ายเงินยืมค่าอบรมสัมมนา วันที่ 18 ก.ย. 2566 ครบกำหนด 30 วัน คือวันที่ 17 ต.ค. 2566
C35: 3. การนับจำนวนวันการส่งใช้เงินยืมราชการ
C36: 3.1 ตามข้อ 2 (1) และ (3) ให้นับจำนวนวันตั้งแต่วันที่ได้รับเงินยืมถึงวันที่หักล้างเงินยืม (G1) และ (BE) ในระบบ New GFMIS Thai (ตามระเบียบภายใน 30 วัน)
C37: 3.2 ตามข้อ 2 (2) ให้นับจำนวนวันตั้งแต่วันที่กลับมาถึง ถึงวันที่หักล้างเงินยืม (G1) และ (BE) ในระบบ New GFMIS Thai (ตามระเบียบภายใน 15 วัน)

Sheet 9.ลูกหนี้เงินยืม-นอกงปม.
P1: เอกสาร 9
A2: รายงานบัญชีเพื่อใช้ในการสอบทานข้อมูลทางบัญชีในระบบ New GFMIS Thai
A3: บัญชีลูกหนี้เงินยืมนอกงบประมาณ (1102010102)
A4: ณ วันที่ 30 กันยายน 2566
A6: กระทรวงแรงงาน | L6: รหัสหน่วยงาน 17004
A7: กรมพัฒนาฝีมือแรงงาน | L7: รหัสหน่วยเบิกจ่าย...........XXXXXXXXXX…………………..
A8: ชื่อหน่วยเบิกจ่าย..............................
P9: หน่วย : บาท
A10: ลำดับ | B10: ข้อมูลจากรายงานในระบบ GFMIS | G10: สัญญายืมเงิน | O10: ผลต่าง
B11: วันที่ ผ่านรายการ | C11: เลขที่ เอกสารขอเบิก | D11: ประเภท เอกสาร | E11: การอ้างอิง | F11: จำนวนเงิน | G11: เลขที่สัญญา ยืมเงิน | H11: วันที่รับเงินยืม /วันที่กลับมาถึง | I11: ชื่อลูกหนี้ | J11: วัตถุประสงค์ที่ยืม | K11: วันที่ครบกำหนด ตามสัญญา ยืมเงิน | L11: ยังไม่ถึงกำหนดชำระ (ระบุจำนวนเงิน) | M11: เกินกำหนดชำระ (ไม่เกิน 15 วัน) (ระบุจำนวนเงิน) | N11: เกินกำหนด ชำระ (เกินกว่า 15 วัน) (ระบุจำนวนเงิน) | O11: จำนวนเงิน | P11: สาเหตุ
B12: (1) | C12: (2) | D12: (3) | E12: (4) | F12: (5) | G12: (6) | H12: (7) | I12: (8) | J12: (9) | K12: (10) | L12: (11) | M12: (12) | N12: (13) | O12: (14)=(5)-(11)-(12)-(13) | P12: (15)
A13: 1 | B13: 243526 | C13: 36xxxxxxxx | D13: K1 | E13: P66xxxxxxx | O13: =F13-L13-M13-N13 -> 0
O14: =F14-L14-M14-N14 -> 0
O15: =F15-L15-M15-N15 -> 0
O16: =F16-L16-M16-N16 -> 0
O17: =F17-L17-M17-N17 -> 0
O18: =F18-L18-M18-N18 -> 0
A19: รวม | F19: =SUM(F13:F18) -> 0 | L19: =SUM(L13:L18) -> 0 | M19: =SUM(M13:M18) -> 0 | N19: =SUM(N13:N18) -> 0 | O19: =SUM(O13:O18) -> 0
B28: หมายเหตุ : | C28: 1. ให้แนบสำเนาเอกสารเฉพาะสัญญายืมเงิน
C29: 2. การส่งใช้เงินยืมให้ปฏิบัติตามระเบียบกระทรวงการคลังว่าด้วยการเบิกเงินจากคลัง การรับเงิน การจ่ายเงิน การเก็บรักษาเงิน และการนำเงินส่งคลัง พ.ศ.2562
C30: ข้อ 65 ให้ผู้ยืมส่งหลักฐานการจ่ายและเงินเหลือจ่ายที่ยืมไป (ถ้ามี) ภายในกำหนดระยะเวลา ดังนี้
C31: (1) กรณีเดินทางไปประจำต่างสำนักงานหรือการเดินทางไปราชการประจำในต่างประเทศหรือกรณีเดินทางกลับภูมิลำเนาเดิมให้ส่งแก่ส่วนราชการผู้ให้ยืมโดยทางไปรษณีย์ลงทะเบียนภายใน 30 วันนับแต่วันได้รับเงิน
D32: ตัวอย่าง จ่ายเงินยืมเดินทางไปประจำต่างสำนักงานหรือการเดินทางไปราชการประจำในต่างประเทศหรือกรณีเดินทางกลับภูมิลำเนาเดิมรับเงินยืม วันที่ 14 ก.ย. 2566 ครบกำหนด 30 วัน คือวันที่ 13 ต.ค. 2566
C33: (2) กรณีเดินทางไปราชการอื่นรวมทั้งการเดินทางไปราชการต่างประเทศชั่วคราวให้ส่งแก่ส่วนราชการผู้ให้ยืมภายใน 15 วันนับแต่วันกลับมาถึง
D34: ตัวอย่าง จ่ายเงินยืมค่าเดินทางไปราชการ ผู้ยืมมีกำหนดเดินทางกลับมาถึง วันที่ 14 ก.ย. 2566 ครบกำหนด 15 วัน คือวันที่ 28 ก.ย. 2566
C35: (3) การยืมเงินเพื่อปฏิบัติราชการนอกจาก (1) หรือ (2) ให้ส่งแก่ส่วนราชการผู้ให้ยืมภายใน 30 วันนับแต่วันได้รับเงิน
D36: ตัวอย่าง จ่ายเงินยืมค่าอบรมสัมมนา วันที่ 18 ก.ย. 2566 ครบกำหนด 30 วัน คือวันที่ 17 ต.ค. 2566
C37: 3. การนับจำนวนวันการส่งใช้เงินยืมราชการ
C38: 3.1 ตามข้อ 2 (1) และ (3) ให้นับจำนวนวันตั้งแต่วันที่ได้รับเงินยืมถึงวันที่หักล้างเงินยืม (G1) และ (BE) ในระบบ New GFMIS Thai (ตามระเบียบภายใน 30 วัน)
C39: 3.2 ตามข้อ 2 (2) ให้นับจำนวนวันตั้งแต่วันที่กลับมาถึง ถึงวันที่หักล้างเงินยืม (G1) และ (BE) ในระบบ New GFMIS Thai (ตามระเบียบภายใน 15 วัน)

Sheet 10.รายได้ค้างรับ- บุคคลภายนอก
I1: เอกสาร 10
A2: รายงานบัญชีเพื่อใช้ในการสอบทานข้อมูลทางบัญชีในระบบ New GFMIS Thai
A3: บัญชีรายได้ค้างรับ - บุคคลภายนอก (1102050107)
A4: ณ วันที่ 30 กันยายน 2566
A6: กระทรวงแรงงาน | G6: รหัสหน่วยงาน 17004
A7: กรมพัฒนาฝีมือแรงงาน | G7: รหัสหน่วยเบิกจ่าย...........XXXXXXXXXX…………………..
A8: ชื่อหน่วยเบิกจ่าย..............................
A10: ข้อมูลจากรายงานในระบบ GFMIS | E10: รายละเอียด | H10: ผลต่าง
A11: ลำดับ | B11: ว/ด/ป | C11: เลขที่เอกสาร | D11: จำนวนเงิน | E11: ว/ด/ป | F11: รายการ | G11: จำนวนเงิน | H11: จำนวนเงิน | I11: สาเหตุ
B12: (1) | C12: (2) | D12: (3) | E12: (4) | F12: (5) | G12: (6) | H12: (7)=(3)-(6) | I12: (8)
A13: 1 | B13: 243526 | C13: 10xxxxxxxx | F13: ดอกเบี้ยเงินทดรองราชการค้างรับ | H13: =+D13-G13 -> 0
F14: เลขที่บัญชี xxxxxxxxxx | H14: =+D14-G14 -> 0
H15: =+D15-G15 -> 0
H16: =+D16-G16 -> 0
A17: รวม | D17: =SUM(D13:D16) -> 0 | G17: =SUM(G13:G16) -> 0 | H17: =SUM(H13:H16) -> 0
A24: หมายเหตุ : ให้แนบสำเนาหนังสือยืนยันยอดดอกเบี้ยค้างรับเงินทดรองราชการจากธนาคาร

Sheet 11.ค้างรับกรมบัญชีกลาง
J1: เอกสาร 11
A2: รายงานบัญชีเพื่อใช้ในการสอบทานข้อมูลทางบัญชีในระบบ New GFMIS Thai
A3: บัญชีค้างรับจากกรมบัญชีกลาง (1102050124)
A4: ณ วันที่ 30 กันยายน 2566
A6: กระทรวงแรงงาน | H6: รหัสหน่วยงาน 17004
A7: กรมพัฒนาฝีมือแรงงาน | H7: รหัสหน่วยเบิกจ่าย........XXXXXXXXXX…………
A8: ชื่อหน่วยเบิกจ่าย..............................
J9: หน่วย : บาท
A10: ข้อมูลจากรายงานในระบบ GFMIS | E10: รายละเอียด | I10: ผลต่าง
A11: ลำดับ | B11: วันที่ผ่านรายการ | C11: เลขที่เอกสาร | D11: จำนวนเงิน | E11: เลขที่เอกสารขอเบิก | F11: การอ้างอิง | G11: รายการ | H11: จำนวนเงิน | I11: จำนวนเงิน | J11: สาเหตุ
B12: (1) | C12: (2) | D12: (3) | E12: (4) | F12: (5) | G12: (6) | H12: (7) | I12: (8)=(3)-(7) | J12: (9)
A13: 1 | B13: 243526 | C13: 30xxxxxxxx | E13: 32xxxxxxxx | F13: P66xxxxxxx | I13: =D13-H13 -> 0
I14: =D14-H14 -> 0
I15: =D15-H15 -> 0
I16: =D16-H16 -> 0
A17: รวม | D17: =SUM(D13:D16) -> 0 | H17: =SUM(H13:H16) -> 0 | I17: =SUM(I13:I16) -> 0

Sheet 12.เงินจ่ายล่วงหน้า
M1: เอกสาร 12
A2: รายงานบัญชีเพื่อใช้ในการสอบทานข้อมูลทางบัญชีในระบบ New GFMIS Thai
A3: บัญชีเงินจ่ายล่วงหน้า (1103020111)
A4: ณ วันที่ 30 กันยายน 2566
A6: กระทรวงแรงงาน | I6: รหัสหน่วยงาน 17004
A7: กรมพัฒนาฝีมือแรงงาน | I7: รหัสหน่วยเบิกจ่าย...........XXXXXXXXXX…………………..
A8: ชื่อหน่วยเบิกจ่าย..............................
M9: หน่วย : บาท
A10: ลำดับ | B10: ข้อมูลจากระบบ GFMIS | F10: รายละเอียด | J10: ครบกำหนดชำระคืน | K10: เลขที่ | L10: ผลต่าง
K11: เอกสารคืน
B12: ว/ด/ป | C12: เลขที่เอกสาร | D12: การอ้างอิง | E12: จำนวนเงิน | F12: ว/ด/ป | G12: เลขที่สัญญา | H12: รายการ/ชื่อบริษัท | I12: จำนวนเงิน | J12: ว/ด/ป | L12: จำนวนเงิน | M12: สาเหตุ
B13: (1) | C13: (2) | D13: (3) | E13: (4) | F13: (5) | G13: (6) | H13: (7) | I13: (8) | J13: (9) | K13: (10) | L13: (11)=(4)-(8) | M13: (12)
A14: 1 | B14: 243526 | C14: 61xxxxxxxx | L14: =+E14-I14 -> 0
L15: =+E15-I15 -> 0
L16: =+E16-I16 -> 0
L17: =+E17-I17 -> 0
L18: =+E18-I18 -> 0
A19: รวม | E19: =SUM(E14:E18) -> 0 | I19: =SUM(I14:I18) -> 0 | L19: =SUM(L14:L18) -> 0
A27: หมายเหตุ : ให้แนบสำเนาสัญญาซื้อ/จ้าง

Sheet 13.วัสดุคงคลัง
G1: เอกสาร 13
A2: รายงานบัญชีเพื่อใช้ในการสอบทานข้อมูลทางบัญชีในระบบ New GFMIS Thai
A3: บัญชีวัสดุคงคลัง (1105010105)
A4: ณ วันที่ 30 กันยายน 2566
A6: กระทรวงแรงงาน | F6: รหัสหน่วยงาน 17004
A7: กรมพัฒนาฝีมือแรงงาน | F7: รหัสหน่วยเบิกจ่าย...........XXXXXXXXXX….
A8: ชื่อหน่วยเบิกจ่าย..............................
G9: หน่วย : บาท
A10: ลำดับ | B10: หมวดพัสดุ | C10: รายการ | D10: ยอดคงเหลือ | F10: ผลต่าง
D11: วัสดุคงคลังในระบบ GFMIS | E11: วัสดุคงคลังของหน่วยงาน | F11: จำนวนเงิน | G11: สาเหตุ
B12: (1) | C12: (2) | D12: (3) | E12: (4) | F12: (5)=(3)-(4) | G12: (6)
F13: =SUM(D13-E13) -> 0
F14: =SUM(D14-E14) -> 0
F15: =SUM(D15-E15) -> 0
F16: =SUM(D16-E16) -> 0
A17: รวม | D17: =SUM(D13:D16) -> 0 | E17: =SUM(E13:E16) -> 0 | F17: =SUM(F13:F16) -> 0
A24: หมายเหตุ : ให้แนบเอกสารดังนี้
B25: 1. สำเนารายงานการตรวจนับพัสดุประจำปี
B26: 2. รายงานรายละเอียดยอดวัสดุคงเหลือ (เรียกรายงานจากระบบ GFMIS โดยใช้คำสั่ง NGL_R02 รายงานแสดงยอดวัสดุคงเหลือ)
B27: 3. การบันทึกรายการหมวดพัสดุ่ให้บันทึกผลรวมแต่ละหมวดพัสดุ

Sheet 14.ค่าใช้จ่ายจ่ายล่วงหน้า
J1: เอกสาร 14
A2: รายงานบัญชีเพื่อใช้ในการสอบทานข้อมูลทางบัญชีในระบบ New GFMIS Thai
A3: บัญชีค่าใช้จ่ายจ่ายล่วงหน้า (1106010103)
A4: ณ วันที่ 30 กันยายน 2566
A6: กระทรวงแรงงาน | H6: รหัสหน่วยงาน 17004
A7: กรมพัฒนาฝีมือแรงงาน | H7: รหัสหน่วยเบิกจ่าย...........XXXXXXXXXX…………………..
A8: ชื่อหน่วยเบิกจ่าย..............................
A10: ข้อมูลจากรายงานในระบบ GFMIS | E10: รายละเอียด | I10: ผลต่าง
A11: ลำดับ | B11: ว/ด/ป | C11: เลขที่เอกสาร | D11: จำนวนเงิน | E11: ว/ด/ป | F11: เลขที่ใบเสร็จรับเงิน | G11: รายการ | H11: จำนวนเงิน | I11: จำนวนเงิน | J11: สาเหตุ
B12: (1) | C12: (2) | D12: (3) | E12: (4) | F12: (5) | G12: (6) | H12: (7) | I12: (8)=(3)-(7) | J12: (9)
A13: 1 | B13: 243526 | C13: 01xxxxxxxx | I13: =+D13-H13 -> 0
I14: =+D14-H14 -> 0
I15: =+D15-H15 -> 0
I16: =+D16-H16 -> 0
A17: รวม | D17: =SUM(D13:D16) -> 0 | H17: =SUM(H13:H16) -> 0 | I17: =SUM(I13:I16) -> 0
B25: หมายเหตุ : | C25: 1. สำเนาใบเสร็จรับเงิน
C26: 2. สำเนาตารางกรมธรรม์ประกันภัยคุ้มครองผู้ประสบภัยจากรถ (พรบ.)

Sheet 15.เจ้าหนี้การค้า-หน่วยงานรัฐ
K1: เอกสาร 15
A2: รายงานบัญชีเพื่อใช้ในการสอบทานข้อมูลทางบัญชีในระบบ New GFMIS Thai
A3: บัญชีเจ้าหนี้การค้า - หน่วยงานภาครัฐ (2101010101)
A4: ณ วันที่ 30 กันยายน 2566
A6: กระทรวงแรงงาน | I6: รหัสหน่วยงาน 17004
A7: กรมพัฒนาฝีมือแรงงาน | I7: รหัสหน่วยเบิกจ่าย........XXXXXXXXXX………
A8: ชื่อหน่วยเบิกจ่าย..............................
K9: หน่วย : บาท
A10: ลำดับ | B10: ข้อมูลจากระบบ GFMIS ข้อมูลรายการขอเบิกที่ยังไม่จ่ายชำระ | G10: รายละเอียดภาระผูกพันที่ต้องชำระคืนเจ้าหนี้/ผู้มีสิทธิ | J10: ผลต่าง
B12: ว/ด/ป | C12: เลขที่เอกสาร | D12: การอ้างอิง | E12: ประเภท | F12: จำนวนเงิน | G12: ชื่อเจ้าหนี้/ผู้มีสิทธิ | H12: รายละเอียดการเบิก | I12: จำนวนเงิน | J12: จำนวนเงิน | K12: สาเหตุ
E13: เอกสาร
B14: (1) | C14: (2) | D14: (3) | E14: (4) | F14: (5) | G14: (6) | H14: (7) | I14: (8) | J14: (9)=(5)-(8) | K14: (10)
J15: =+F15-I15 -> 0
J16: =+F16-I16 -> 0
J17: =+F17-I17 -> 0
J18: =+F18-I18 -> 0
A19: รวม | F19: =SUM(F15:F18) -> 0 | I19: =SUM(I15:I18) -> 0 | J19: =SUM(J15:J18) -> 0
A26: หมายเหตุ : ให้แนบเอกสารเฉพาะสำเนาใบแจ้งหนี้

Sheet 16.เจ้าหนี้การค้า-ภายนอก
N1: เอกสาร 16
A2: รายงานบัญชีเพื่อใช้ในการสอบทานข้อมูลทางบัญชีในระบบ New GFMIS Thai
A3: บัญชีเจ้าหนี้การค้า - บุคคลภายนอก (2101010102)
A4: ณ วันที่ 30 กันยายน 2566
A6: กระทรวงแรงงาน | L6: รหัสหน่วยงาน 17004
A7: กรมพัฒนาฝีมือแรงงาน | L7: รหัสหน่วยเบิกจ่าย......XXXXXXXXXX………
A8: ชื่อหน่วยเบิกจ่าย..............................
N9: หน่วย : บาท
A10: ลำดับ | B10: ข้อมูลจากระบบ GFMIS ข้อมูลรายการขอเบิกที่ยังไม่จ่ายชำระ | G10: รายละเอียดภาระผูกพันที่ต้องชำระคืนเจ้าหนี้/ผู้มีสิทธิ | M10: ผลต่าง
B12: ว/ด/ป | C12: เลขที่เอกสาร | D12: การอ้างอิง | E12: ประเภท | F12: จำนวนเงิน | G12: ชื่อเจ้าหนี้/ผู้มีสิทธิ | H12: รายละเอียดการเบิก | I12: จำนวนเงิน จ่ายสุทธิ | J12: ค่าปรับ | K12: ภาษี หัก ณ ที่จ่าย | L12: รวม จำนวนเงิน | M12: จำนวนเงิน | N12: สาเหตุ
E13: เอกสาร
B14: (1) | C14: (2) | D14: (3) | E14: (4) | F14: (5) | G14: (6) | H14: (7) | I14: (8) | J14: (9) | K14: (10) | L14: (11)=(8)+(9)+(10) | M14: (12)=(5)-(11) | N14: (13)
A15: 1 | C15: 31xxxxxxxx | E15: KA | L15: =I15+J15+K15 -> 0 | M15: =F15-L15 -> 0
A16: 2 | C16: 32xxxxxxxx | E16: KE | L16: =I16+J16+K16 -> 0 | M16: =F16-L16 -> 0
A17: 3 | C17: 33xxxxxxxx | E17: KH | L17: =I17+J17+K17 -> 0 | M17: =F17-L17 -> 0
A18: 4 | C18: 34xxxxxxxx | E18: KI | L18: =I18+J18+K18 -> 0 | M18: =F18-L18 -> 0
A19: รวม | F19: =SUM(F15:F18) -> 0 | I19: =SUM(I15:I18) -> 0 | J19: =SUM(J15:J18) -> 0 | K19: =SUM(K15:K18) -> 0 | L19: =SUM(L15:L18) -> 0 | M19: =SUM(M15:M18) -> 0
A27: หมายเหตุ : ให้แนบเอกสารเฉพาะสำเนาใบแจ้งหนี้

Sheet 17.รับสินค้า - ใบสำคัญ
K1: เอกสาร 17
A2: รายงานบัญชีเพื่อใช้ในการสอบทานข้อมูลทางบัญชีในระบบ New GFMIS Thai
A3: บัญชีรับสินค้า/ใบสำคัญ (2101010103)
A4: ณ วันที่ 30 กันยายน 2566
A6: กระทรวงแรงงาน | I6: รหัสหน่วยงาน 17004
A7: กรมพัฒนาฝีมือแรงงาน | I7: รหัสหน่วยเบิกจ่าย...........XXXXXXXXXX…………………..
A8: ชื่อหน่วยเบิกจ่าย..............................
K9: หน่วย : บาท
A10: ลำดับ | B10: ข้อมูลจากระบบ GFMIS | F10: รายละเอียด | J10: ผลต่าง
B12: ว/ด/ป | C12: เลขที่เอกสาร | D12: ประเภท | E12: จำนวนเงิน | F12: รายละเอียดเอกสารจัดซื้อ | H12: รายการ | I12: จำนวนเงิน | J12: จำนวนเงิน | K12: สาเหตุ
D13: เอกสาร | F13: ว/ด/ป | G13: เลขที่ PO
B14: (1) | C14: (2) | D14: (3) | E14: (4) | F14: (5) | G14: (6) | H14: (7) | I14: (8) | J14: (9)=(4)-(8) | K14: (10)
A15: 1 | B15: 243526 | C15: 61xxxxxxxx | D15: WE | F15: 243526 | G15: 41xxxxxxxx | J15: =+E15-I15 -> 0
J16: =+E16-I16 -> 0
J17: =+E17-I17 -> 0
J18: =+E18-I18 -> 0
A19: รวม | E19: =SUM(E15:E18) -> 0 | I19: =SUM(I15:I18) -> 0 | J19: =SUM(J15:J18) -> 0
A27: หมายเหตุ : กรณีที่ได้ทำรายการขอเบิกเงินในระบบ GFMIS แล้วบัญชีรับสินค้า/ใบสำคัญ ต้องไม่มียอดคงค้าง

Sheet 18.เจ้าหนี้อื่น-หน่วยงานรัฐ
K1: เอกสาร 18
A2: รายงานบัญชีเพื่อใช้ในการสอบทานข้อมูลทางบัญชีในระบบ New GFMIS Thai
A3: บัญชีเจ้าหนี้อื่น-หน่วยงานภาครัฐ (2101020198)
A4: ณ วันที่ 30 กันยายน 2566
A6: กระทรวงแรงงาน | I6: รหัสหน่วยงาน 17004
A7: กรมพัฒนาฝีมือแรงงาน | I7: รหัสหน่วยเบิกจ่าย...........XXXXXXXXXX…………
A8: ชื่อหน่วยเบิกจ่าย..............................
K9: หน่วย : บาท
A10: ลำดับ | B10: ข้อมูลจากระบบ GFMIS ข้อมูลรายการขอเบิกที่ยังไม่จ่ายชำระ | G10: รายละเอียดภาระผูกพันที่ต้องชำระคืนเจ้าหนี้/ผู้มีสิทธิ | J10: ผลต่าง
B12: ว/ด/ป | C12: เลขที่เอกสาร | D12: การอ้างอิง | E12: ประเภท | F12: จำนวนเงิน | G12: ชื่อเจ้าหนี้/ผู้มีสิทธิ | H12: รายละเอียดการเบิก | I12: จำนวนเงิน | J12: จำนวนเงิน | K12: สาเหตุ
E13: เอกสาร
B14: (1) | C14: (2) | D14: (3) | E14: (4) | F14: (5) | G14: (6) | H14: (7) | I14: (8) | J14: (9)=(5)-(8) | K14: (10)
A15: 1 | B15: 243526 | C15: 31xxxxxxxx | E15: KC | J15: =F15-I15 -> 0
J16: =F16-I16 -> 0
J17: =F17-I17 -> 0
J18: =F18-I18 -> 0
A19: รวม | F19: =SUM(F15:F18) -> 0 | I19: =SUM(I15:I18) -> 0 | J19: =SUM(J15:J18) -> 0
A27: หมายเหตุ : ให้แนบเอกสารเฉพาะสำเนาใบแจ้งหนี้

Sheet 19.สาธารณูปโภคค้างจ่าย
L1: เอกสาร 19
A2: รายงานบัญชีเพื่อใช้ในการสอบทานข้อมูลทางบัญชีในระบบ New GFMIS Thai
A3: บัญชีสาธารณูปโภคค้างจ่าย (2102040101)
A4: ณ วันที่ 30 กันยายน 2566
A6: กระทรวงแรงงาน | J6: รหัสหน่วยงาน 17004
A7: กรมพัฒนาฝีมือแรงงาน | J7: รหัสหน่วยเบิกจ่าย.......XXXXXXXXXX……
A8: ชื่อหน่วยเบิกจ่าย..............................
L9: หน่วย : บาท
A10: ลำดับ | B10: ข้อมูลจากระบบ GFMIS | F10: รายละเอียดภาระผูกพันที่ต้องชำระคืนเจ้าหนี้/ผู้มีสิทธิ | K10: ผลต่าง
B12: ว/ด/ป | C12: เลขที่เอกสาร | D12: ประเภท | E12: จำนวนเงิน | F12: ใบแจ้งหนี้ | H12: ชื่อเจ้าหนี้/ผู้มีสิทธิ | I12: รายการ | J12: จำนวนเงิน | K12: จำนวนเงิน | L12: สาเหตุ
D13: เอกสาร | F13: ว/ด/ป | G13: เลขที่
B14: (1) | C14: (2) | D14: (3) | E14: (4) | F14: (5) | G14: (6) | H14: (7) | I14: (8) | J14: (9) | K14: (10)=(4)-(9) | L14: (11)
A15: 1 | B15: 243526 | C15: 01xxxxxxxx | D15: JV | K15: =+E15-J15 -> 0
A16: 2 | B16: 243526 | C16: 60xxxxxxxx | D16: SW | K16: =+E16-J16 -> 0
K17: =+E17-J17 -> 0
K18: =+E18-J18 -> 0
A19: รวม | E19: =SUM(E15:E18) -> 0 | J19: =SUM(J15:J18) -> 0 | K19: =SUM(K15:K18) -> 0
A27: หมายเหตุ : ให้แนบเอกสารสำเนาใบแจ้งหนี้ (ถ้ามี)

Sheet 20.ใบสำคัญค้างจ่าย
N1: เอกสาร 20
A2: รายงานบัญชีเพื่อใช้ในการสอบทานข้อมูลทางบัญชีในระบบ New GFMIS Thai
A3: บัญชีใบสำคัญค้างจ่าย (2102040102)
A4: ณ วันที่ 30 กันยายน 2566
A6: กระทรวงแรงงาน | L6: รหัสหน่วยงาน 17004
A7: กรมพัฒนาฝีมือแรงงาน | L7: รหัสหน่วยเบิกจ่าย.......XXXXXXXXXX………..
A8: ชื่อหน่วยเบิกจ่าย..............................
N9: หน่วย : บาท
A10: ลำดับ | B10: ข้อมูลจากระบบ GFMIS ข้อมูลรายการขอเบิกที่ยังไม่จ่ายชำระ | G10: รายละเอียดภาระผูกพันที่ต้องชำระคืนเจ้าหนี้/ผู้มีสิทธิ | M10: ผลต่าง
B12: ว/ด/ป | C12: เลขที่เอกสาร | D12: การอ้างอิง | E12: ประเภท | F12: จำนวนเงิน | G12: ชื่อเจ้าหนี้/ผู้มีสิทธิ | H12: รายละเอียดการเบิก | I12: จำนวนเงินจ่ายสุทธิ | J12: ค่าปรับ | K12: ภาษี หัก ณ ที่จ่าย | L12: รวม จำนวนเงิน | M12: จำนวนเงิน | N12: สาเหตุ
E13: เอกสาร
B14: (1) | C14: (2) | D14: (3) | E14: (4) | F14: (5) | G14: (6) | H14: (7) | I14: (8) | J14: (9) | K14: (10) | L14: (11)=(8)+(9)+(10) | M14: (12)=(5)-(11) | N14: (13)
A15: 1 | C15: 36xxxxxxxx | D15: P66xxxxxxx | L15: =I15+J15+K15 -> 0 | M15: =+F15-L15 -> 0
A16: 2 | L16: =I16+K16 -> 0 | M16: =+F16-L16 -> 0
A17: 3 | L17: =I17+K17 -> 0 | M17: =+F17-L17 -> 0
L18: =I18+K18 -> 0 | M18: =+F18-L18 -> 0
A19: รวม | F19: =SUM(F15:F18) -> 0 | I19: =SUM(I15:I18) -> 0 | J19: =SUM(J15:J18) -> 0 | K19: =SUM(K15:K18) -> 0 | L19: =SUM(L15:L18) -> 0 | M19: =SUM(M15:M18) -> 0
A27: หมายเหตุ : ให้แนบเฉพาะสำเนาหนังสือขออนุมัติเบิกเงิน/สำเนาใบแจ้งหนี้

Sheet 21.คชจ.ค้างจ่ายอื่น-บุคคลภายนอก
L1: เอกสาร 21
A2: รายงานบัญชีเพื่อใช้ในการสอบทานข้อมูลทางบัญชีในระบบ New GFMIS Thai
A3: บัญชีค่าใช้จ่ายค้างจ่ายอื่น - บุคคลภายนอก (2102040199)
A4: ณ วันที่ 30 กันยายน 2566
A6: กระทรวงแรงงาน | J6: รหัสหน่วยงาน 17004
A7: กรมพัฒนาฝีมือแรงงาน | J7: รหัสหน่วยเบิกจ่าย...........XXXXXXXXXX…………………..
A8: ชื่อหน่วยเบิกจ่าย..............................
L9: หน่วย : บาท
A10: ลำดับ | B10: ข้อมูลจากระบบ GFMIS | F10: รายละเอียดภาระผูกพันที่ต้องชำระคืนเจ้าหนี้/ผู้มีสิทธิ | K10: ผลต่าง
B12: ว/ด/ป | C12: เลขที่เอกสาร | D12: ประเภท | E12: จำนวนเงิน | F12: ใบแจ้งหนี้ | H12: ชื่อเจ้าหนี้/ผู้มีสิทธิ | I12: รายการ | J12: จำนวนเงิน | K12: จำนวนเงิน | L12: สาเหตุ
D13: เอกสาร | F13: ว/ด/ป | G13: เลขที่
B14: (1) | C14: (2) | D14: (3) | E14: (4) | F14: (5) | G14: (6) | H14: (7) | I14: (8) | J14: (9) | K14: (10)=(4)-(9) | L14: (11)
A15: 1 | B15: 243526 | C15: 10xxxxxxxx | D15: JV | K15: =+E15-J15 -> 0
K16: =+E16-J16 -> 0
K17: =+E17-J17 -> 0
K18: =+E18-J18 -> 0
A19: รวม | E19: =SUM(E15:E18) -> 0 | J19: =SUM(J15:J18) -> 0 | K19: =SUM(K15:K18) -> 0
A27: หมายเหตุ : ให้แนบเอกสารเฉพาะสำเนาใบแจ้งหนี้

Sheet 22.เงินรับฝากอื่น
O1: เอกสาร 22
A2: รายงานบัญชีเพื่อใช้ในการสอบทานข้อมูลทางบัญชีในระบบ New GFMIS Thai
A3: บัญชีเงินรับฝากอื่น (2111020199)
A4: ณ วันที่ 30 กันยายน 2566
A6: กระทรวงแรงงาน | M6: รหัสหน่วยงาน 17004
A7: กรมพัฒนาฝีมือแรงงาน | M7: รหัสหน่วยเบิกจ่าย...........XXXXXXXXXX…………………..
A8: ชื่อหน่วยเบิกจ่าย..............................
O9: หน่วย : บาท
A10: ลำดับ | B10: ข้อมูลจากระบบ GFMIS | G10: รายละเอียดเงินรับฝากอื่น | L10: ผลต่าง | N10: วันครบกำหนดชำระคืน | O10: ชี้แจงสาเหตุ กรณีครบกำหนดแล้ว แต่ยังไม่ชำระคืน
B12: ว/ด/ป | C12: เลขที่เอกสาร | D12: การอ้างอิง | E12: ประเภทเอกสาร | F12: จำนวนเงิน | G12: ใบเสร็จรับเงิน | I12: ชื่อเจ้าหนี้/ผู้มีสิทธิ | J12: รายการ | K12: จำนวนเงิน | L12: จำนวนเงิน | M12: สาเหตุ
G13: ว/ด/ป | H13: เลขที่
B14: (1) | C14: (2) | D14: (3) | E14: (4) | F14: (5) | G14: (6) | H14: (7) | I14: (8) | J14: (9) | K14: (10) | L14: (11)=(5)-(10) | M14: (12) | N14: (13) | O14: (14)
A15: 1 | B15: 243526 | C15: 10xxxxxxxx | D15: รับเงินสมทบค่าน้ำประปาบ้านพัก | E15: RB | L15: =+F15-K15 -> 0
A16: 2 | B16: 243526 | C16: 18xxxxxxxx | D16: รับเงินนอกงบประมาณโครงการxxxxx | E16: RE | L16: =+F16-K16 -> 0
L17: =+F17-K17 -> 0
L18: =+F18-K18 -> 0
L19: =+F19-K19 -> 0
A20: รวม | F20: =SUM(F15:F19) -> 0 | K20: =SUM(K15:K19) -> 0 | L20: =SUM(L15:L19) -> 0
B28: หมายเหตุ : | C28: 1. ให้แนบทะเบียนคุม
C29: 2. ช่องวันครบกำหนดชำระคืน (ช่อง 14) ให้กรอกเฉพาะรายการที่มีวันครบกำหนดชำระคืน
C30: 3. ยอดเงินคงเหลือของบัญชีเงินรับฝากอื่น ต้องสัมพันธ์กับบัญชีเงินฝากไม่มีรายตัว หรือทะเบียนคุมเงินฝากคลัง (เงินค้ำประกันหอพัก,เงินสมทบค่าน้ำ/ค่าไฟฟ้าประจำเดือน)

Sheet 23.เงินประกันผลงาน
N1: เอกสาร 23
A2: รายงานบัญชีเพื่อใช้ในการสอบทานข้อมูลทางบัญชีในระบบ New GFMIS Thai
A3: บัญชีเงินประกันผลงาน (2112010102)
A4: ณ วันที่ 30 กันยายน 2566
A6: กระทรวงแรงงาน | L6: รหัสหน่วยงาน 17004
A7: กรมพัฒนาฝีมือแรงงาน | L7: รหัสหน่วยเบิกจ่าย...........XXXXXXXXXX…………………..
A8: ชื่อหน่วยเบิกจ่าย..............................
N9: หน่วย : บาท
A10: ลำดับ | B10: ข้อมูลจากระบบ GFMIS | F10: รายละเอียดเงินที่เรียกเก็บเป็นหลักประกัน | K10: ผลต่าง | M10: ครบกำหนดชำระคืน | N10: ชี้แจงสาเหตุ กรณีครบกำหนดแล้ว แต่ยังไม่ชำระคืน
B12: ว/ด/ป | C12: เลขที่เอกสาร | D12: การอ้างอิง | E12: จำนวนเงิน | F12: ว/ด/ป | G12: เลขที่สัญญา | H12: ชื่อเจ้าหนี้/ผู้มีสิทธิ | I12: รายการ | J12: จำนวนเงิน | K12: จำนวนเงิน | L12: สาเหตุ | M12: ว/ด/ป
B13: (1) | C13: (2) | D13: (3) | E13: (4) | F13: (5) | G13: (6) | H13: (7) | I13: (8) | J13: (9) | K13: (10)=(4)-(9) | L13: (11) | M13: (12) | N13: (13)
A14: 1 | B14: 243526 | C14: 36xxxxxxxx | K14: =+E14-J14 -> 0
K15: =+E15-J15 -> 0
K16: =+E16-J16 -> 0
K17: =+E17-J17 -> 0
K18: =+E18-J18 -> 0
A19: รวม | E19: =SUM(E14:E18) -> 0 | J19: =SUM(J14:J18) -> 0 | K19: =SUM(K14:K18) -> 0
A28: หมายเหตุ : ให้แนบสำเนาสัญญาซื้อ/จ้าง

Sheet 24.เงินประกันอื่น
M1: เอกสาร 24
A2: รายงานบัญชีเพื่อใช้ในการสอบทานข้อมูลทางบัญชีในระบบ New GFMIS Thai
A3: บัญชีเงินประกันอื่น (2112010199)
A4: ณ วันที่ 30 กันยายน 2566
A6: กระทรวงแรงงาน | K6: รหัสหน่วยงาน 17004
A7: กรมพัฒนาฝีมือแรงงาน | K7: รหัสหน่วยเบิกจ่าย...........XXXXXXXXXX…………………..
A8: ชื่อหน่วยเบิกจ่าย..............................
M9: หน่วย : บาท
A10: ลำดับ | B10: ข้อมูลจากระบบ GFMIS | E10: รายละเอียดเงินที่เรียกเก็บเป็นหลักประกัน | J10: ผลต่าง | L10: วันครบกำหนด ชำระคืน | M10: ชี้แจงสาเหตุ กรณีครบกำหนดแล้ว แต่ยังไม่ชำระคืน
B11: ว/ด/ป | C11: เลขที่เอกสาร | D11: จำนวนเงิน | E11: ใบเสร็จรับเงิน | G11: ชื่อเจ้าหนี้/ผู้มีสิทธิ | H11: รายการ | I11: จำนวนเงิน | J11: จำนวนเงิน | K11: สาเหตุ
E12: ว/ด/ป | F12: เลขที่
B13: (1) | C13: (2) | D13: (3) | E13: (4) | F13: (5) | G13: (6) | H13: (7) | I13: (8) | J13: (9)=(3)-(8) | K13: (10) | L13: (11) | M13: (12)
A14: เงินค้ำประกันสัญญา
A15: 1 | B15: 243526 | C15: 10xxxxxxxx | J15: =+D15-I15 -> 0
J16: =+D16-I16 -> 0
J17: =+D17-I17 -> 0
J18: =+D18-I18 -> 0
A19: รวมเงินค้ำประกันสัญญา | D19: =SUM(D15:D18) -> 0 | I19: =SUM(I15:I18) -> 0 | J19: =SUM(J15:J18) -> 0
A20: เงินค้ำประกันหอพัก
J21: =+D21-I21 -> 0
J22: =+D22-I22 -> 0
J23: =+D23-I23 -> 0
A24: รวมเงินค้ำประกันหอพัก | D24: =SUM(D21:D23) -> 0 | I24: =SUM(I21:I23) -> 0 | J24: =SUM(J21:J23) -> 0
A25: รวมทั้งสิ้น | D25: =D19+D24 -> 0 | H25: รวมทั้งสิ้น | I25: =I19+I24 -> 0 | J25: =J19+J24 -> 0
A32: หมายเหตุ : ให้แนบสำเนาเอกสารประกอบ ดังนี้
A33: 1. สำเนาใบเสร็จรับเงิน
A34: 2. สำเนาสัญญาซื้อ/จ้าง

Sheet 25.เบิกเกินส่งคืนรอนำส่ง
K1: เอกสาร 25
A2: รายงานบัญชีเพื่อใช้ในการสอบทานข้อมูลทางบัญชีในระบบ New GFMIS Thai
A3: บัญชีเบิกเกินส่งคืนรอนำส่ง (2116010104)
A4: ณ วันที่ 30 กันยายน 2566
A6: กระทรวงแรงงาน
A7: กรมพัฒนาฝีมือแรงงาน | I7: รหัสหน่วยงาน 17004
A8: ชื่อหน่วยเบิกจ่าย.............................. | I8: รหัสหน่วยเบิกจ่าย...........XXXXXXXXXX…………………..
K9: หน่วย : บาท
A10: ลำดับ | B10: ข้อมูลจากระบบ GFMIS | F10: รายละเอียด | J10: ผลต่าง
B12: ว/ด/ป | C12: เลขที่เอกสาร | D12: ประเภท | E12: จำนวนเงิน | F12: ใบเสร็จรับเงิน | H12: รายการ | I12: จำนวนเงิน | J12: จำนวนเงิน | K12: สาเหตุ
D13: การเบิก | F13: ว/ด/ป | G13: เลขที่
B14: (1) | C14: (2) | D14: (3) | E14: (4) | F14: (5) | G14: (6) | H14: (7) | I14: (8) | J14: (9)=(4)-(8) | K14: (10)
A15: 1 | B15: 243526 | C15: 01xxxxxxxx | D15: BE | J15: =+E15-I15 -> 0
J16: =+E16-I16 -> 0
J17: =+E17-I17 -> 0
J18: =+E18-I18 -> 0
J19: =+E19-I19 -> 0
A20: รวม | E20: =SUM(E15:E19) -> 0 | I20: =SUM(I15:I19) -> 0 | J20: =SUM(J15:J19) -> 0
A27: หมายเหตุ : ให้แนบสำเนาใบเสร็จรับเงินหรือเอกสารการรับเงินที่เกี่ยวข้อง

Sheet สรุป.รายได้รอการรับรู้
F1: สรุปเอกสาร (26-27)
A2: รายงานบัญชีเพื่อใช้ในการสอบทานข้อมูลทางบัญชีในระบบ New GFMIS Thai
A3: บัญชีรายได้รอการรับรู้ (2213010101)
A4: ณ วันที่ 30 กันยายน 2566
A6: กระทรวงแรงงาน | F6: รหัสหน่วยงาน 17004
A7: กรมพัฒนาฝีมือแรงงาน | F7: รหัสหน่วยเบิกจ่าย...........17004XXXXX……..
A8: ชื่อหน่วยเบิกจ่าย….....................................
F9: หน่วย : บาท
A10: บัญชี | B10: จำนวนเงิน | E10: ผลต่าง
B11: งบทดลองในระบบ | C11: สินทรัพย์รับบริจาค | D11: เงินบริจาค | E11: จำนวนเงิน | F11: สาเหตุที่เกิดผลต่าง
B12: GFMIS | C12: (เอกสาร 26) | D12: (เอกสาร 27)
B13: (1) | C13: (2) | D13: (3) | E13: (4)=(1)-(2)-(3) | F13: (5)
A14: รายได้รอการรับรู้ | B14: 27980.78 | C14: ='26.รายได้รอการรับรู้(สินทรัพย์)'!L25 -> 27980.78 | D14: ='27.รายได้รอการรับรู้(เงิน)'!I22 -> 0 | E14: =B14-C14-D14 -> 0
A15: รวม | B15: =B14 -> 27980.78 | C15: =C14 -> 27980.78 | D15: =D14 -> 0 | E15: =E14 -> 0
A22: หมายเหตุ : | B22: ให้ใช้อ้างอิงข้อมูลจากเอกสาร 26-27

Sheet 26.รายได้รอการรับรู้(สินทรัพย์)
L1: เอกสาร 26
A2: รายงานบัญชีเพื่อใช้ในการสอบทานข้อมูลทางบัญชีในระบบ New GFMIS Thai
A3: บัญชีรายได้รอการรับรู้ (2213010101) จากการรับสินทรัพย์บริจาค
A4: ณ วันที่ 30 กันยายน 2566
A5: กระทรวงแรงงาน | J5: รหัสหน่วยงาน...................17004………………………………...
A6: กรมพัฒนาฝีมือแรงงาน | J6: รหัสหน่วยเบิกจ่าย...........XXXXXXXXXX…………………..
A7: ชื่อหน่วยเบิกจ่าย.............................. | L7: หน่วย : บาท
A9: รายงานแสดงยอดสินทรัพย์บริจาคคงเหลือ | L9: มูลค่าคงเหลือ
A10: ลำดับ | B10: รหัสครุภัณฑ์ | C10: รายการ | D10: อายุ | E10: จำนวน | F10: วันที่ได้มา | G10: มูลค่าการได้มา | H10: ค่าเสื่อมราคา | I10: มูลค่าตามบัญชี | J10: ค่าเสื่อมราคาตามแผน/ | K10: ค่าบัญชีสิ้นงวด | L10: (ตามงบทดลอง)
D11: การใช้งาน | H11: สะสมยกมา(ปีก่อน) | J11: ค่าเสื่อมราคาประจำปี | K11: มูลค่าคงเหลือ | L11: GFMIS
B12: (1) | C12: (2) | D12: (3) | E12: (4) | F12: (5) | G12: (6) | H12: (7) | I12: (8)=(6)-(7) | J12: (9) | K12: (10)=(8)-(9) | L12: (11)
A13: 1 | B13: 100000008984 | C13: บจ_เครื่องพิมพ์เลเซอร์ขาวดำ | D13: 3/0 | E13: 1 | F13: 25.04.2550 | G13: 16951 | H13: 16950 | I13: =G13-H13 -> 1 | K13: =I13-J13 -> 1
A14: 2 | B14: 100000015548 | C14: บจ_รถจักรยานยนต์ ระบบหัวฉีด ยามาฮ่า รุ่น Fiore | D14: 5/0 | E14: 1 | F14: 24.04.2555 | G14: 29083 | H14: 29082 | I14: =G14-H14 -> 1 | K14: =I14-J14 -> 1
A15: 3 | B15: 100000035292 | C15: บจ_เครื่องพิมพ์ชนิดเลเซอร์ มัลติฟังก์ชั่น ขาวดำ | D15: 12/0 | E15: 1 | F15: 11.10.2561 | G15: 23890 | H15: 7908.78 | I15: =G15-H15 -> 15981.22 | J15: 1990.83 | K15: =I15-J15 -> 13990.39 | L15: 13990.39
A16: 4 | B16: 100000035291 | C16: บจ_เครื่องพิมพ์ชนิดเลเซอร์ มัลติฟังก์ชั่น ขาวดำ | D16: 12/0 | E16: 1 | F16: 11.10.2561 | G16: 23890 | H16: 7908.78 | I16: =G16-H16 -> 15981.22 | J16: 1990.83 | K16: =I16-J16 -> 13990.39 | L16: 13990.39
I17: =G17-H17 -> 0 | K17: =I17-J17 -> 0
I18: =G18-H18 -> 0 | K18: =I18-J18 -> 0
I19: =G19-H19 -> 0 | K19: =I19-J19 -> 0
I20: =G20-H20 -> 0 | K20: =I20-J20 -> 0
I21: =G21-H21 -> 0 | K21: =I21-J21 -> 0
I22: =G22-H22 -> 0 | K22: =I22-J22 -> 0
I23: =G23-H23 -> 0 | K23: =I23-J23 -> 0
I24: =G24-H24 -> 0 | K24: =I24-J24 -> 0
A25: รวมครุภัณฑ์รับบริจาค | G25: =SUM(G13:G24) -> 93814 | H25: =SUM(H13:H24) -> 61849.56 | I25: =SUM(I13:I24) -> 31964.44 | J25: =SUM(J13:J24) -> 3981.66 | K25: =SUM(K13:K24) -> 27982.78 | L25: =SUM(L13:L24) -> 27980.78
B32: หมายเหตุ : | C32: 1. แนบสำเนารายงานสินทรัพย์ในระบบ GFMIS (เฉพาะรายการที่เป็นสินทรัพย์รับบริจาคที่บันทึกบัญชีรายได้รอการรับรู้ในระบบ GFMIS)
C33: 2. ช่อง 11 ให้ใส่ตัวเลขราคาสินทรัพย์คงเหลือสุทธิ (เฉพาะรายการสินทรัพย์รับบริจาคที่ยังไม่หมดอายุการใช้งาน)

Sheet 27.รายได้รอการรับรู้(เงิน)
J1: เอกสาร 27
A2: รายงานบัญชีเพื่อใช้ในการสอบทานข้อมูลทางบัญชีในระบบ New GFMIS Thai
A3: บัญชีรายได้รอการรับรู้ (2213010101) จากการรับเงินบริจาค
A4: ณ วันที่ 30 กันยายน 2566
A5: กระทรวงแรงงาน | H5: รหัสหน่วยงาน.............17004……………………
A6: กรมพัฒนาฝีมือแรงงาน | H6: รหัสหน่วยเบิกจ่าย...........17004XXXXX……..
A7: ชื่อหน่วยเบิกจ่าย….....................................
J8: หน่วย : บาท
A10: รายงานแสดงยอดเงินบริจาคคงเหลือ | J10: หมายเหตุ
A11: ลำดับ | B11: วันที่ | C11: เลขที่เอกสาร | D11: เลขที่ | E11: หน่วยงาน/ชื่อผู้บริจาค | F11: รายการ | G11: จำนวนเงิน
D12: ใบเสร็จรับเงิน | G12: รับ | H12: จ่าย | I12: คงเหลือ
B13: (1) | C13: (2) | D13: (3) | E13: (4) | F13: (5) | G13: (6) | H13: (7) | I13: (8) | J13: (9)
A14: ยอดยกมา ณ 1 ตุลาคม 2564 | I14: 0
I15: =I14+G15-H15 -> 0
I16: =I15+G16-H16 -> 0
I17: =I16+G17-H17 -> 0
I18: =I17+G18-H18 -> 0
I19: =I18+G19-H19 -> 0
I20: =I19+G20-H20 -> 0
I21: =I20+G21-H21 -> 0
A22: รวม | G22: =SUM(G15:G21) -> 0 | H22: =SUM(H15:H21) -> 0 | I22: =SUM(I15:I21) -> 0
A29: หมายเหตุ : ให้แนบสำเนาทะเบียนคุมเงินบริจาค

Sheet 28.สินทรัพย์ถาวร
K1: เอกสาร 28
A2: รายงานบัญชีเพื่อใช้ในการสอบทานข้อมูลทางบัญชีในระบบ New GFMIS Thai
A3: ข้อมูลบัญชีสินทรัพย์ถาวร (ที่ดิน อาคาร อุปกรณ์ และสินทรัพย์ไม่มีตัวตน)
A4: ณ วันที่ 30 กันยายน 2566
A5: กระทรวงแรงงาน | H5: รหัสหน่วยงาน...................17004………………………………...
A6: กรมพัฒนาฝีมือแรงงาน | H6: รหัสหน่วยเบิกจ่าย...........XXXXXXXXXX…………………..
A7: ชื่อหน่วยเบิกจ่าย..............................
K8: หน่วย : บาท
A10: ลำดับ | B10: ข้อมูลจากรายงานในระบบ GFMIS | I10: สินทรัพย์สุทธิ | J10: ผลต่าง
B11: งบทดลอง | D11: รายงานสินทรัพย์จากระบบ GFMIS | I11: ตามทะเบียนคุม
B12: รหัสบัญชีแยกประเภท | C12: จำนวนเงิน | D12: หมวดสินทรัพย์ | E12: ชื่อบัญชีแยกประเภท | F12: มูลค่าการได้มา | G12: ค่าเสื่อมราคาสะสม | H12: มูลค่าตามบัญชี | I12: สินทรัพย์ | J12: จำนวนเงิน | K12: สาเหตุ
B13: (1) | C13: (2) | D13: (3) | E13: (4) | F13: (5) | G13: (6) | H13: (7)=(5)-(6) | I13: (8) | J13: (9)=(7)-(8) | K13: (10)
A14: 1 | B14: 1205010101 | C14: 1000 | D14: 12050100 | E14: อาคารเพื่อการพักอาศัย | F14: 1000 | G14: 999 | H14: =+F14-G14 -> 1 | I14: 1 | J14: =H14-I14 -> 0
A15: 2 | B15: 1205020101 | D15: 12050200 | E15: อาคารสำนักงาน | H15: =+F15-G15 -> 0 | J15: =H15-I15 -> 0
A16: 3 | B16: 1205030101 | D16: 12050300 | E16: อาคารเพื่อประโยชน์อื่น | H16: =+F16-G16 -> 0 | J16: =H16-I16 -> 0
A17: 4 | B17: 1205030106 | D17: 12050800 | E17: ส่วนปรับปรุงอาคาร | H17: =+F17-G17 -> 0 | J17: =H17-I17 -> 0
A18: 5 | B18: 1205040101 | D18: 12050400 | E18: สิ่งปลูกสร้าง | H18: =+F18-G18 -> 0 | J18: =H18-I18 -> 0
A19: 6 | B19: 1205060101 | E19: อาคารและสิ่งปลูกสร้างไม่ระบุฯ | H19: =+F19-G19 -> 0 | J19: =H19-I19 -> 0
A20: 7 | B20: 1206010101 | D20: 12060100 | E20: ครุภัณฑ์สำนักงาน | H20: =+F20-G20 -> 0 | J20: =H20-I20 -> 0
A21: 8 | B21: 1206020101 | D21: 12060200 | E21: ครุภัณฑ์ยานพาหนะและขนส่ง | H21: =+F21-G21 -> 0 | J21: =H21-I21 -> 0
A22: 9 | B22: 1206030101 | D22: 12060300 | E22: ครุภัณฑ์ไฟฟ้า&วิทยุ | H22: =+F22-G22 -> 0 | J22: =H22-I22 -> 0
A23: 10 | B23: 1206040101 | D23: 12060400 | E23: ครุภัณฑ์โฆษณาและเผยแพร่ | H23: =+F23-G23 -> 0 | J23: =H23-I23 -> 0
A24: 11 | B24: 1206050101 | D24: 12060500 | E24: ครุภัณฑ์การเกษตร | H24: =+F24-G24 -> 0 | J24: =H24-I24 -> 0
A25: 12 | B25: 1206060101 | D25: 12060600 | E25: ครุภัณฑ์โรงงาน | H25: =+F25-G25 -> 0 | J25: =H25-I25 -> 0
A26: 13 | B26: 1206070101 | D26: 12060700 | E26: ครุภัณฑ์ก่อสร้าง | H26: =+F26-G26 -> 0 | J26: =H26-I26 -> 0
A27: 14 | B27: 1206010101 | D27: 12061000 | E27: ครุภัณฑ์คอมพิวเตอร์ | H27: =+F27-G27 -> 0 | J27: =H27-I27 -> 0
A28: 15 | B28: 1206110101 | D28: 12061100 | E28: ครุภัณฑ์การศึกษา | H28: =+F28-G28 -> 0 | J28: =H28-I28 -> 0
A29: 16 | B29: 1206120101 | D29: 12061200 | E29: ครุภัณฑ์งานบ้านงานครัว | H29: =+F29-G29 -> 0 | J29: =H29-I29 -> 0
A30: 17 | B30: 1206130101 | D30: 12061300 | E30: ครุภัณฑ์กีฬา | H30: =+F30-G30 -> 0 | J30: =H30-I30 -> 0
A31: 18 | B31: 1206150101 | D31: 12061500 | E31: ครุภัณฑ์สนาม | H31: =+F31-G31 -> 0 | J31: =H31-I31 -> 0
A32: 19 | B32: 1206160101 | D32: 12061600 | E32: ครุภัณฑ์อื่น | H32: =+F32-G32 -> 0 | J32: =H32-I32 -> 0
A33: 20 | B33: 1206180101 | E33: ครุภัณฑ์ไม่ระบุฯ | H33: =+F33-G33 -> 0 | J33: =H33-I33 -> 0
A34: 21 | B34: 1209010101 | D34: 12090100 | E34: โปรแกรมคอมพิวเตอร์ | H34: =+F34-G34 -> 0 | J34: =H34-I34 -> 0
A35: 22 | B35: 1211010101 | D35: 12110100 | E35: งานระหว่างก่อสร้าง | H35: =+F35-G35 -> 0 | J35: =H35-I35 -> 0
A36: รวมทั้งสิ้น | C36: =SUM(C14:C35) -> 1000 | F36: =SUM(F14:F35) -> 1000 | G36: =SUM(G14:G35) -> 999 | H36: =SUM(H14:H35) -> 1 | I36: =SUM(I14:I35) -> 1 | J36: =SUM(J14:J35) -> 0
A37: New GFMIS Thai : ระบบรายงานหน่วยงานภาครัฐ > ระบบบัญชีสินทรัพย์ถาวร > รายงานสินทรัพย์คงเหลือ (NFA_011)
