Workbook

Sheet 1
A1: ผลการดำเนินงานพัฒนาฝีมือแรงงาน ปีงบประมาณ 2561
A2: ตุลาคม 2560 - กันยายน 2561 เป้าหมาย 12 เดือน
A4: หน่วยงาน | B4: โครงการ | E4: โครงการ เพิ่มศักยภาพแรงงานรองรับ Thailand 4.0
B5: ฝึกอบรมฝีมือแรงงานในพื้นที่จังหวัด | E5: กิจกรรมเพิ่มศักยภาพแรงงาน | H5: กิจกรรม เพิ่มศักยภาพกำลังแรงงานภาคอุตสาหกรรมและบริการไปสู่ Thailand 4.0
B6: ชายแดนภาคใต้ | E6: เตรียมเข้าสู่อุตสาหกรรมเป้าหมาย | H6: ฝึกอาชีพราย sector และ core Technologies | K6: อบรมเพิ่มขีดความสามารถด้าน
E7: แห่งอนาคต | H7: ตามโมเดล Thailand 4.0 | K7: ภาษาต่างประเทศ
B8: เป้าหมาย | C8: รวมเข้า | D8: ร้อยละ | E8: เป้าหมาย | F8: รวมเข้า | G8: ร้อยละ | H8: เป้าหมาย | I8: รวมเข้า | J8: ร้อยละ | K8: เป้าหมาย | L8: รวมเข้า | M8: ร้อยละ
A9: รวมทั้งสิ้น | B9: =SUM(B68+B111+B112+B113) -> 800 | C9: =SUM(C68+C111+C112+C113) -> 800 | D9: =SUM(C9*100/B9) -> 100 | E9: =SUM(E12+E11+E15+E18+E23+E27+E32+E37+E43+E49+E54+E60+E64+E68+E71+E73+E77+E82+E86+E90+E96+E99+E103+E107+E111+E112+E113) -> 12000 | F9: =SUM(F12+F11+F15+F18+F23+F27+F32+F37+F43+F49+F54+F60+F64+F68+F71+F73+F77+F82+F86+F90+F96+F99+F103+F107+F111+F112+F113) -> 14176 | G9: =SUM(F9*100/E9) -> 118.13333 | H9: =SUM(H12+H15+H18+H23+H27+H32+H37+H43+H49+H54+H60+H64+H68+H71+H73+H77+H82+H86+H90+H96+H99+H103+H107+H111+H112+H113) -> 72000 | I9: =SUM(I12+I15+I18+I23+I27+I32+I37+I43+I49+I54+I60+I64+I68+I71+I73+I77+I82+I86+I90+I96+I99+I103+I107+I111+I112+I113) -> 87456 | J9: =SUM(I9*100/H9) -> 121.46667 | K9: =SUM(K15+K18+K23+K27+K32+K37+K43+K49+K54+K60+K64+K68+K71+K73+K77+K82+K86+K90+K96+K99+K103+K107+K111+K112+K113) -> 14800 | L9: =SUM(L15+L18+L23+L27+L32+L37+L43+L49+L54+L60+L64+L68+L71+L73+L77+L82+L86+L90+L96+L99+L103+L107+L111+L112+L113) -> 16260 | M9: =SUM(L9*100/K9) -> 109.86486
A10: กลุ่มงานพัฒนาวิทยากรต้นแบบ
A11: สถาบันยานยนต์ | E11: 3500 | F11: 3766 | G11: =SUM(F11*100/E11) -> 107.6
A12: สถาบันพัฒนาทรัพยากรมนุษย์สำหรับอุตสาหกรรม | E12: 500 | F12: 786 | G12: =SUM(F12*100/E12) -> 157.2 | H12: 460 | I12: 506 | J12: =SUM(I12*100/H12) -> 110
A13: สพน.เชียงแสน
A14: สำนักมาตรฐานและทดสอบฝีมือแรงงาน
A15: สพร. 1 สมุทรปราการ | E15: =SUM(E16:E17) -> 1100 | F15: =SUM(F16:F17) -> 1282 | G15: =SUM(F15*100/E15) -> 116.54545 | H15: =SUM(H16:H17) -> 3680 | I15: =SUM(I16:I17) -> 3926 | J15: =SUM(I15*100/H15) -> 106.68478 | K15: =SUM(K16:K17) -> 1240 | L15: =SUM(L16:L17) -> 1244 | M15: =SUM(L15*100/K15) -> 100.32258
A16: สถาบันพัฒนาฝีมือแรงงาน 1 สมุทรปราการ | E16: 840 | F16: 1021 | G16: =SUM(F16*100/E16) -> 121.54762 | H16: 2780 | I16: 2993 | J16: =SUM(I16*100/H16) -> 107.66187 | K16: 800 | L16: 801 | M16: =SUM(L16*100/K16) -> 100.125
A17: สำนักงานพัฒนาฝีมือแรงงานจังหวัดฉะเชิงเทรา | E17: 260 | F17: 261 | G17: =SUM(F17*100/E17) -> 100.38462 | H17: 900 | I17: 933 | J17: =SUM(I17*100/H17) -> 103.66667 | K17: 440 | L17: 443 | M17: =SUM(L17*100/K17) -> 100.68182
A18: สพร. 2 สุพรรณบุรี | E18: =SUM(E19:E22) -> 300 | F18: =SUM(F19:F22) -> 343 | G18: =SUM(F18*100/E18) -> 114.33333 | H18: =SUM(H19:H22) -> 2800 | I18: =SUM(I19:I22) -> 3216 | J18: =SUM(I18*100/H18) -> 114.85714 | K18: =SUM(K19:K22) -> 300 | L18: =SUM(L19:L22) -> 354 | M18: =SUM(L18*100/K18) -> 118
A19: สถาบันพัฒนาฝีมือแรงงาน 2 สุพรรณบุรี | E19: 300 | F19: 343 | G19: =SUM(F19*100/E19) -> 114.33333 | H19: 1680 | I19: 2005 | J19: =SUM(I19*100/H19) -> 119.34524 | K19: 120 | L19: 144 | M19: =SUM(L19*100/K19) -> 120
A20: สำนักงานพัฒนาฝีมือแรงงานจังหวัดสิงห์บุรี | H20: 520 | I20: 557 | J20: =SUM(I20*100/H20) -> 107.11538 | K20: 100 | L20: 125 | M20: =SUM(L20*100/K20) -> 125
A21: สำนักงานพัฒนาฝีมือแรงงานจังหวัดชัยนาท | H21: 340 | I21: 382 | J21: =SUM(I21*100/H21) -> 112.35294 | K21: 80 | L21: 85 | M21: =SUM(L21*100/K21) -> 106.25
A22: สำนักงานพัฒนาฝีมือแรงงานจังหวัดอุทัยธานี | H22: 260 | I22: 272 | J22: =SUM(I22*100/H22) -> 104.61538
A23: สพร. 3 ชลบุรี | E23: =SUM(E24:E26) -> 240 | F23: =SUM(F24:F26) -> 303 | G23: =SUM(F23*100/E23) -> 126.25 | H23: =SUM(H24:H26) -> 3390 | I23: =SUM(I24:I26) -> 4022 | J23: =SUM(I23*100/H23) -> 118.64307 | K23: =SUM(K24:K26) -> 1060 | L23: =SUM(L24:L26) -> 1155 | M23: =SUM(L23*100/K23) -> 108.96226
A24: สถาบันพัฒนาฝีมือแรงงาน 3 ชลบุรี | E24: 100 | F24: 140 | G24: =SUM(F24*100/E24) -> 140 | H24: 1220 | I24: 1428 | J24: =SUM(I24*100/H24) -> 117.04918 | K24: 700 | L24: 775 | M24: =SUM(L24*100/K24) -> 110.71429
A25: ศูนย์พัฒนาฝีมือแรงงานจังหวัดปราจีนบุรี | E25: 120 | F25: 138 | G25: =SUM(F25*100/E25) -> 115 | H25: 1670 | I25: 2015 | J25: =SUM(I25*100/H25) -> 120.65868 | K25: 260 | L25: 272 | M25: =SUM(L25*100/K25) -> 104.61538
A26: ศูนย์พัฒนาฝีมือแรงงานจังหวัดสระแก้ว | E26: 20 | F26: 25 | G26: =SUM(F26*100/E26) -> 125 | H26: 500 | I26: 579 | J26: =SUM(I26*100/H26) -> 115.8 | K26: 100 | L26: 108 | M26: =SUM(L26*100/K26) -> 108
A27: สพร. 4 ราชบุรี | E27: =SUM(E28:E31) -> 960 | F27: =SUM(F28:F31) -> 1313 | G27: =SUM(F27*100/E27) -> 136.77083 | H27: =SUM(H28:H31) -> 3780 | I27: =SUM(I28:I31) -> 4705 | J27: =SUM(I27*100/H27) -> 124.4709 | K27: =SUM(K28:K31) -> 1220 | L27: =SUM(L28:L31) -> 1371 | M27: =SUM(L27*100/K27) -> 112.37705
A28: สถาบันพัฒนาฝีมือแรงงาน 4 ราชบุรี | E28: 240 | F28: 260 | G28: =SUM(F28*100/E28) -> 108.33333 | H28: 1500 | I28: 1734 | J28: =SUM(I28*100/H28) -> 115.6 | K28: 680 | L28: 715 | M28: =SUM(L28*100/K28) -> 105.14706
A29: สำนักงานพัฒนาฝีมือแรงงานจังหวัดเพชรบุรี | E29: 160 | F29: 345 | G29: =SUM(F29*100/E29) -> 215.625 | H29: 900 | I29: 1239 | J29: =SUM(I29*100/H29) -> 137.66667 | K29: 240 | L29: 334 | M29: =SUM(L29*100/K29) -> 139.16667
A30: สำนักงานพัฒนาฝีมือแรงงานจังหวัดกาญจนบุรี | E30: 160 | F30: 197 | G30: =SUM(F30*100/E30) -> 123.125 | H30: 740 | I30: 925 | J30: =SUM(I30*100/H30) -> 125 | K30: 100 | L30: 111 | M30: =SUM(L30*100/K30) -> 111
A31: สำนักงานพัฒนาฝีมือแรงงานจังหวัดประจวบคีรีขันธ์ | E31: 400 | F31: 511 | G31: =SUM(F31*100/E31) -> 127.75 | H31: 640 | I31: 807 | J31: =SUM(I31*100/H31) -> 126.09375 | K31: 200 | L31: 211 | M31: =SUM(L31*100/K31) -> 105.5
A32: สพร. 5 นครราชสีมา | E32: =SUM(E33:E36) -> 880 | F32: =SUM(F33:F36) -> 1048 | G32: =SUM(F32*100/E32) -> 119.09091 | H32: =SUM(H33:H36) -> 4596 | I32: =SUM(I33:I36) -> 5554 | J32: =SUM(I32*100/H32) -> 120.84421 | K32: =SUM(K33:K36) -> 960 | L32: =SUM(L33:L36) -> 1160 | M32: =SUM(L32*100/K32) -> 120.83333
A33: สถาบันพัฒนาฝีมือแรงงาน 5 นครราชสีมา | E33: 780 | F33: 902 | G33: =SUM(F33*100/E33) -> 115.64103 | H33: 1856 | I33: 2181 | J33: =SUM(I33*100/H33) -> 117.51078 | K33: 500 | L33: 669 | M33: =SUM(L33*100/K33) -> 133.8
A34: สำนักงานพัฒนาฝีมือแรงงานจังหวัดชัยภูมิ | E34: 20 | F34: 26 | G34: =SUM(F34*100/E34) -> 130 | H34: 860 | I34: 1245 | J34: =SUM(I34*100/H34) -> 144.76744 | K34: 120 | L34: 126 | M34: =SUM(L34*100/K34) -> 105
A35: สำนักงานพัฒนาฝีมือแรงงานจังหวัดสุรินทร์ | H35: 800 | I35: 954 | J35: =SUM(I35*100/H35) -> 119.25 | K35: 140 | L35: 151 | M35: =SUM(L35*100/K35) -> 107.85714
A36: สำนักงานพัฒนาฝีมือแรงงานจังหวัดบุรีรัมย์ | E36: 80 | F36: 120 | G36: =SUM(F36*100/E36) -> 150 | H36: 1080 | I36: 1174 | J36: =SUM(I36*100/H36) -> 108.7037 | K36: 200 | L36: 214 | M36: =SUM(L36*100/K36) -> 107
A37: สพร. 6 ขอนแก่น | E37: =SUM(E38:E42) -> 200 | F37: =SUM(F38:F42) -> 291 | G37: =SUM(F37*100/E37) -> 145.5 | H37: =SUM(H38:H42) -> 3192 | I37: =SUM(I38:I42) -> 4110 | J37: =SUM(I37*100/H37) -> 128.7594 | K37: =SUM(K38:K42) -> 400 | L37: =SUM(L38:L42) -> 450 | M37: =SUM(L37*100/K37) -> 112.5
A38: สถาบันพัฒนาฝีมือแรงงาน 6 ขอนแก่น | E38: 200 | F38: 291 | G38: =SUM(F38*100/E38) -> 145.5 | H38: 820 | I38: 1247 | J38: =SUM(I38*100/H38) -> 152.07317 | K38: 100 | L38: 127 | M38: =SUM(L38*100/K38) -> 127
A39: สำนักงานพัฒนาฝีมือแรงงานจังหวัดกาฬสินธุ์ | H39: 660 | I39: 813 | J39: =SUM(I39*100/H39) -> 123.18182 | K39: 100 | L39: 114 | M39: =SUM(L39*100/K39) -> 114
A40: สำนักงานพัฒนาฝีมือแรงงานจังหวัดมุกดาหาร | H40: 440 | I40: 494 | J40: =SUM(I40*100/H40) -> 112.27273 | K40: 40 | L40: 45 | M40: =SUM(L40*100/K40) -> 112.5
A41: สำนักงานพัฒนาฝีมือแรงงานจังหวัดหนองบัวลำภู | H41: 556 | I41: 755 | J41: =SUM(I41*100/H41) -> 135.79137 | K41: 60 | L41: 61 | M41: =SUM(L41*100/K41) -> 101.66667
A42: สำนักงานพัฒนาฝีมือแรงงานจังหวัดมหาสารคาม | H42: 716 | I42: 801 | J42: =SUM(I42*100/H42) -> 111.87151 | K42: 100 | L42: 103 | M42: =SUM(L42*100/K42) -> 103
A43: สพร. 7 อุบลราชธานี | E43: =SUM(E44:E48) -> 460 | F43: =SUM(F44:F48) -> 460 | G43: =SUM(F43*100/E43) -> 100 | H43: =SUM(H44:H48) -> 5580 | I43: =SUM(I44:I48) -> 5923 | J43: =SUM(I43*100/H43) -> 106.14695 | K43: =SUM(K44:K48) -> 660 | L43: =SUM(L44:L48) -> 684 | M43: =SUM(L43*100/K43) -> 103.63636
A44: สถาบันพัฒนาฝีมือแรงงาน 7 อุบลราชธานี | E44: 460 | F44: 460 | G44: =SUM(F44*100/E44) -> 100 | H44: 2360 | I44: 2449 | J44: =SUM(I44*100/H44) -> 103.77119 | K44: 300 | L44: 322 | M44: =SUM(L44*100/K44) -> 107.33333
A45: สำนักงานพัฒนาฝีมือแรงงานจังหวัดศรีสะเกษ | H45: 580 | I45: 641 | J45: =SUM(I45*100/H45) -> 110.51724 | K45: 100 | L45: 102 | M45: =SUM(L45*100/K45) -> 102
A46: สำนักงานพัฒนาฝีมือแรงงานจังหวัดอำนาจเจริญ | H46: 1180 | I46: 1226 | J46: =SUM(I46*100/H46) -> 103.89831 | K46: 100 | L46: 100 | M46: =SUM(L46*100/K46) -> 100
A47: สำนักงานพัฒนาฝีมือแรงงานจังหวัดร้อยเอ็ด | H47: 840 | I47: 872 | J47: =SUM(I47*100/H47) -> 103.80952 | K47: 100 | L47: 100 | M47: =SUM(L47*100/K47) -> 100
A48: สำนักงานพัฒนาฝีมือแรงงานจังหวัดยโสธร | H48: 620 | I48: 735 | J48: =SUM(I48*100/H48) -> 118.54839 | K48: 60 | L48: 60 | M48: =SUM(L48*100/K48) -> 100
A49: สพร. 8 นครสวรรค์ | E49: =SUM(E50:E53) -> 160 | F49: =SUM(F50:F53) -> 176 | G49: =SUM(F49*100/E49) -> 110 | H49: =SUM(H50:H53) -> 3540 | I49: =SUM(I50:I53) -> 3939 | J49: =SUM(I49*100/H49) -> 111.27119 | K49: =SUM(K50:K53) -> 360 | L49: =SUM(L50:L53) -> 386 | M49: =SUM(L49*100/K49) -> 107.22222
A50: สถาบันพัฒนาฝีมือแรงงาน 8 นครสวรรค์ | E50: 160 | F50: 176 | G50: =SUM(F50*100/E50) -> 110 | H50: 1660 | I50: 1734 | J50: =SUM(I50*100/H50) -> 104.45783 | K50: 160 | L50: 169 | M50: =SUM(L50*100/K50) -> 105.625
A51: สำนักงานพัฒนาฝีมือแรงงานจังหวัดพิจิตร | H51: 840 | I51: 919 | J51: =SUM(I51*100/H51) -> 109.40476 | K51: 40 | L51: 41 | M51: =SUM(L51*100/K51) -> 102.5
A52: สำนักงานพัฒนาฝีมือแรงงานจังหวัดกำแพงเพชร | H52: 700 | I52: 794 | J52: =SUM(I52*100/H52) -> 113.42857 | K52: 100 | L52: 105 | M52: =SUM(L52*100/K52) -> 105
A53: สำนักงานพัฒนาฝีมือแรงงานจังหวัดตาก | H53: 340 | I53: 492 | J53: =SUM(I53*100/H53) -> 144.70588 | K53: 60 | L53: 71 | M53: =SUM(L53*100/K53) -> 118.33333
A54: สพร. 9 พิษณุโลก | E54: =SUM(E55:E59) -> 200 | F54: =SUM(F55:F59) -> 306 | G54: =SUM(F54*100/E54) -> 153 | H54: =SUM(H55:H59) -> 3200 | I54: =SUM(I55:I59) -> 3721 | J54: =SUM(I54*100/H54) -> 116.28125 | K54: =SUM(K55:K59) -> 500 | L54: =SUM(L55:L59) -> 539 | M54: =SUM(L54*100/K54) -> 107.8
A55: สถาบันพัฒนาฝีมือแรงงาน 9 พิษณุโลก | E55: 200 | F55: 306 | G55: =SUM(F55*100/E55) -> 153 | H55: 960 | I55: 1239 | J55: =SUM(I55*100/H55) -> 129.0625 | K55: 200 | L55: 216 | M55: =SUM(L55*100/K55) -> 108
A56: สำนักงานพัฒนาฝีมือแรงงานจังหวัดเลย | H56: 900 | I56: 972 | J56: =SUM(I56*100/H56) -> 108 | K56: 100 | L56: 100 | M56: =SUM(L56*100/K56) -> 100
A57: สำนักงานพัฒนาฝีมือแรงงานจังหวัดเพชรบูรณ์ | H57: 520 | I57: 631 | J57: =SUM(I57*100/H57) -> 121.34615 | K57: 60 | L57: 69 | M57: =SUM(L57*100/K57) -> 115
A58: สำนักงานพัฒนาฝีมือแรงงานจังหวัดอุตรดิตถ์ | H58: 460 | I58: 491 | J58: =SUM(I58*100/H58) -> 106.73913 | K58: 80 | L58: 84 | M58: =SUM(L58*100/K58) -> 105
A59: สำนักงานพัฒนาฝีมือแรงงานจังหวัดสุโขทัย | H59: 360 | I59: 388 | J59: =SUM(I59*100/H59) -> 107.77778 | K59: 60 | L59: 70 | M59: =SUM(L59*100/K59) -> 116.66667
A60: สพร. 10 ลำปาง | E60: =SUM(E61:E63) -> 340 | F60: =SUM(F61:F63) -> 367 | G60: =SUM(F60*100/E60) -> 107.94118 | H60: =SUM(H61:H63) -> 3215 | I60: =SUM(I61:I63) -> 4141 | J60: =SUM(I60*100/H60) -> 128.80249 | K60: =SUM(K61:K63) -> 460 | L60: =SUM(L61:L63) -> 488 | M60: =SUM(L60*100/K60) -> 106.08696
A61: สถาบันพัฒนาฝีมือแรงงาน 10 ลำปาง | E61: 300 | F61: 326 | G61: =SUM(F61*100/E61) -> 108.66667 | H61: 1800 | I61: 2186 | J61: =SUM(I61*100/H61) -> 121.44444 | K61: 180 | L61: 190 | M61: =SUM(L61*100/K61) -> 105.55556
A62: สำนักงานพัฒนาฝีมือแรงงานจังหวัดลำพูน | E62: 40 | F62: 41 | G62: =SUM(F62*100/E62) -> 102.5 | H62: 1025 | I62: 1501 | J62: =SUM(I62*100/H62) -> 146.43902 | K62: 200 | L62: 218 | M62: =SUM(L62*100/K62) -> 109
A63: สำนักงานพัฒนาฝีมือแรงงานจังหวัดแพร่ | H63: 390 | I63: 454 | J63: =SUM(I63*100/H63) -> 116.41026 | K63: 80 | L63: 80 | M63: =SUM(L63*100/K63) -> 100
A64: สพร. 11 สุราษฎร์ธานี | E64: =SUM(E65:E67) -> 200 | F64: =SUM(F65:F67) -> 267 | G64: =SUM(F64*100/E64) -> 133.5 | H64: =SUM(H65:H67) -> 2646 | I64: =SUM(I65:I67) -> 3033 | J64: =SUM(I64*100/H64) -> 114.62585 | K64: =SUM(K65:K67) -> 400 | L64: =SUM(L65:L67) -> 442 | M64: =SUM(L64*100/K64) -> 110.5
A65: สถาบันพัฒนาฝีมือแรงงาน 11 สุราษฎร์ธานี | E65: 200 | F65: 267 | G65: =SUM(F65*100/E65) -> 133.5 | H65: 1616 | I65: 1800 | J65: =SUM(I65*100/H65) -> 111.38614 | K65: 200 | L65: 233 | M65: =SUM(L65*100/K65) -> 116.5
A66: สำนักงานพัฒนาฝีมือแรงงานจังหวัดชุมพร | H66: 560 | I66: 737 | J66: =SUM(I66*100/H66) -> 131.60714 | K66: 100 | L66: 102 | M66: =SUM(L66*100/K66) -> 102
A67: สำนักงานพัฒนาฝีมือแรงงานจังหวัดระนอง | H67: 470 | I67: 496 | J67: =SUM(I67*100/H67) -> 105.53191 | K67: 100 | L67: 107 | M67: =SUM(L67*100/K67) -> 107
A68: สพร. 12 สงขลา | B68: =SUM(B69) -> 120 | C68: =SUM(C69) -> 120 | D68: =SUM(C68*100/B68) -> 100 | E68: =SUM(E69:E70) -> 500 | F68: =SUM(F69:F70) -> 567 | G68: =SUM(F68*100/E68) -> 113.4 | H68: =SUM(H69:H70) -> 1745 | I68: =SUM(I69:I70) -> 2000 | J68: =SUM(I68*100/H68) -> 114.61318 | K68: =SUM(K69:K70) -> 280 | L68: =SUM(L69:L70) -> 337 | M68: =SUM(L68*100/K68) -> 120.35714
A69: สถาบันพัฒนาฝีมือแรงงาน 12 สงขลา | B69: 120 | C69: 120 | D69: =SUM(C69*100/B69) -> 100 | E69: 500 | F69: 567 | G69: =SUM(F69*100/E69) -> 113.4 | H69: 695 | I69: 798 | J69: =SUM(I69*100/H69) -> 114.82014 | K69: 200 | L69: 221 | M69: =SUM(L69*100/K69) -> 110.5
A70: สำนักงานพัฒนาฝีมือแรงงานจังหวัดสตูล | H70: 1050 | I70: 1202 | J70: =SUM(I70*100/H70) -> 114.47619 | K70: 80 | L70: 116 | M70: =SUM(L70*100/K70) -> 145
A71: สพร. 13 กรุงเทพมหานคร | E71: =SUM(E72) -> 0 | F71: =SUM(F72) -> 0 | H71: =SUM(H72) -> 1280 | I71: =SUM(I72) -> 1471 | J71: =SUM(I71*100/H71) -> 114.92188 | K71: =SUM(K72) -> 600 | L71: =SUM(L72) -> 657 | M71: =SUM(L71*100/K71) -> 109.5
A72: สถาบันพัฒนาฝีมือแรงงาน 13 กรุงเทพมหานคร | H72: 1280 | I72: 1471 | J72: =SUM(I72*100/H72) -> 114.92188 | K72: 600 | L72: 657 | M72: =SUM(L72*100/K72) -> 109.5
A73: สพร. 14 ปทุมธานี | E73: =SUM(E74:E76) -> 300 | F73: =SUM(F74:F76) -> 302 | G73: =SUM(F73*100/E73) -> 100.66667 | H73: =SUM(H74:H76) -> 2580 | I73: =SUM(I74:I76) -> 3267 | J73: =SUM(I73*100/H73) -> 126.62791 | K73: =SUM(K74:K76) -> 760 | L73: =SUM(L74:L76) -> 831 | M73: =SUM(L73*100/K73) -> 109.34211
A74: สถาบันพัฒนาฝีมือแรงงาน 14 ปทุมธานี | E74: 300 | F74: 302 | G74: =SUM(F74*100/E74) -> 100.66667 | H74: 1240 | I74: 1371 | J74: =SUM(I74*100/H74) -> 110.56452 | K74: 500 | L74: 520 | M74: =SUM(L74*100/K74) -> 104
A75: สำนักงานพัฒนาฝีมือแรงงานจังหวัดนนทบุรี | H75: 780 | I75: 1223 | J75: =SUM(I75*100/H75) -> 156.79487 | K75: 100 | L75: 142 | M75: =SUM(L75*100/K75) -> 142
A76: สำนักงานพัฒนาฝีมือแรงงานจังหวัดนครนายก | H76: 560 | I76: 673 | J76: =SUM(I76*100/H76) -> 120.17857 | K76: 160 | L76: 169 | M76: =SUM(L76*100/K76) -> 105.625
A77: สพร. 15 พระนครศรีอยุธยา | E77: =SUM(E78:E81) -> 380 | F77: =SUM(F78:F81) -> 452 | G77: =SUM(F77*100/E77) -> 118.94737 | H77: =SUM(H78:H81) -> 4660 | I77: =SUM(I78:I81) -> 5897 | J77: =SUM(I77*100/H77) -> 126.54506 | K77: =SUM(K78:K81) -> 1240 | L77: =SUM(L78:L81) -> 1372 | M77: =SUM(L77*100/K77) -> 110.64516
A78: สถาบันพัฒนาฝีมือแรงงาน 15 พระนครศรีอยุธยา | E78: 380 | F78: 452 | G78: =SUM(F78*100/E78) -> 118.94737 | H78: 1600 | I78: 2521 | J78: =SUM(I78*100/H78) -> 157.5625 | K78: 860 | L78: 959 | M78: =SUM(L78*100/K78) -> 111.51163
A79: สำนักงานพัฒนาฝีมือแรงงานจังหวัดอ่างทอง | H79: 460 | I79: 574 | J79: =SUM(I79*100/H79) -> 124.78261 | K79: 60 | L79: 74 | M79: =SUM(L79*100/K79) -> 123.33333
A80: สำนักงานพัฒนาฝีมือแรงงานจังหวัดสระบุรี | H80: 1960 | I80: 2131 | J80: =SUM(I80*100/H80) -> 108.72449 | K80: 200 | L80: 214 | M80: =SUM(L80*100/K80) -> 107
A81: สำนักงานพัฒนาฝีมือแรงงานจังหวัดลพบุรี | H81: 640 | I81: 671 | J81: =SUM(I81*100/H81) -> 104.84375 | K81: 120 | L81: 125 | M81: =SUM(L81*100/K81) -> 104.16667
A82: สพร. 16 นครปฐม | E82: =SUM(E83:E85) -> 300 | F82: =SUM(F83:F85) -> 413 | G82: =SUM(F82*100/E82) -> 137.66667 | H82: =SUM(H83:H85) -> 3860 | I82: =SUM(I83:I85) -> 6557 | J82: =SUM(I82*100/H82) -> 169.87047 | K82: =SUM(K83:K85) -> 420 | L82: =SUM(L83:L85) -> 489 | M82: =SUM(L82*100/K82) -> 116.42857
A83: สถาบันพัฒนาฝีมือแรงงาน 16 นครปฐม | E83: 100 | F83: 129 | G83: =SUM(F83*100/E83) -> 129 | H83: 1980 | I83: 3528 | J83: =SUM(I83*100/H83) -> 178.18182 | K83: 60 | L83: 66 | M83: =SUM(L83*100/K83) -> 110
A84: สำนักงานพัฒนาฝีมือแรงงานจังหวัดสมุทรสาคร | E84: 200 | F84: 284 | G84: =SUM(F84*100/E84) -> 142 | H84: 1520 | I84: 2344 | J84: =SUM(I84*100/H84) -> 154.21053 | K84: 300 | L84: 363 | M84: =SUM(L84*100/K84) -> 121
A85: สำนักงานพัฒนาฝีมือแรงงานจังหวัดสมุทรสงคราม | H85: 360 | I85: 685 | J85: =SUM(I85*100/H85) -> 190.27778 | K85: 60 | L85: 60 | M85: =SUM(L85*100/K85) -> 100
A86: สพร. 17 ระยอง | E86: =SUM(E87:E89) -> 100 | F86: =SUM(F87:F89) -> 101 | G86: =SUM(F86*100/E86) -> 101 | H86: =SUM(H87:H89) -> 1860 | I86: =SUM(I87:I89) -> 2159 | J86: =SUM(I86*100/H86) -> 116.07527 | K86: =SUM(K87:K89) -> 540 | L86: =SUM(L87:L89) -> 558 | M86: =SUM(L86*100/K86) -> 103.33333
A87: สถาบันพัฒนาฝีมือแรงงาน 17 ระยอง | H87: 940 | I87: 984 | J87: =SUM(I87*100/H87) -> 104.68085 | K87: 300 | L87: 286 | M87: =SUM(L87*100/K87) -> 95.333333
A88: สำนักงานพัฒนาฝีมือแรงงานจังหวัดจันทบุรี | E88: 100 | F88: 101 | G88: =SUM(F88*100/E88) -> 101 | H88: 540 | I88: 779 | J88: =SUM(I88*100/H88) -> 144.25926 | K88: 200 | L88: 212 | M88: =SUM(L88*100/K88) -> 106
A89: สำนักงานพัฒนาฝีมือแรงงานจังหวัดตราด | H89: 380 | I89: 396 | J89: =SUM(I89*100/H89) -> 104.21053 | K89: 40 | L89: 60 | M89: =SUM(L89*100/K89) -> 150
A90: สพร. 18 อุดรธานี | E90: =SUM(E91:E95) -> 0 | F90: =SUM(F91:F95) -> 0 | H90: =SUM(H91:H95) -> 2576 | I90: =SUM(I91:I95) -> 3337 | J90: =SUM(I90*100/H90) -> 129.54193 | K90: =SUM(K91:K95) -> 360 | L90: =SUM(L91:L95) -> 374 | M90: =SUM(L90*100/K90) -> 103.88889
A91: สถาบันพัฒนาฝีมือแรงงาน 18 อุดรธานี | H91: 1240 | I91: 1453 | J91: =SUM(I91*100/H91) -> 117.17742 | K91: 200 | L91: 203 | M91: =SUM(L91*100/K91) -> 101.5
A92: สำนักงานพัฒนาฝีมือแรงงานจังหวัดหนองคาย | H92: 60 | I92: 65 | J92: =SUM(I92*100/H92) -> 108.33333
A93: สำนักงานพัฒนาฝีมือแรงงานจังหวัดบึงกาฬ | H93: 420 | I93: 695 | J93: =SUM(I93*100/H93) -> 165.47619 | K93: 60 | L93: 63 | M93: =SUM(L93*100/K93) -> 105
A94: สำนักงานพัฒนาฝีมือแรงงานจังหวัดสกลนคร | H94: 536 | I94: 761 | J94: =SUM(I94*100/H94) -> 141.97761 | K94: 100 | L94: 108 | M94: =SUM(L94*100/K94) -> 108
A95: สำนักงานพัฒนาฝีมือแรงงานจังหวัดนครพนม | H95: 320 | I95: 363 | J95: =SUM(I95*100/H95) -> 113.4375
A96: สพร. 19 เชียงใหม่ | E96: =SUM(E97:E98) -> 400 | F96: =SUM(F97:F98) -> 505 | G96: =SUM(F96*100/E96) -> 126.25 | H96: =SUM(H97:H98) -> 2390 | I96: =SUM(I97:I98) -> 3089 | J96: =SUM(I96*100/H96) -> 129.24686 | K96: =SUM(K97:K98) -> 360 | L96: =SUM(L97:L98) -> 423 | M96: =SUM(L96*100/K96) -> 117.5
A97: สถาบันพัฒนาฝีมือแรงงาน 19 เชียงใหม่ | E97: 400 | F97: 505 | G97: =SUM(F97*100/E97) -> 126.25 | H97: 1510 | I97: 1785 | J97: =SUM(I97*100/H97) -> 118.21192 | K97: 160 | L97: 184 | M97: =SUM(L97*100/K97) -> 115
A98: ศูนย์พัฒนาฝีมือแรงงานจังหวัดแม่ฮ่องสอน | H98: 880 | I98: 1304 | J98: =SUM(I98*100/H98) -> 148.18182 | K98: 200 | L98: 239 | M98: =SUM(L98*100/K98) -> 119.5
A99: สพร. 20 เชียงราย | E99: =SUM(E100:E102) -> 80 | F99: =SUM(F100:F102) -> 86 | G99: =SUM(F99*100/E99) -> 107.5 | H99: =SUM(H100:H102) -> 2680 | I99: =SUM(I100:I102) -> 3451 | J99: =SUM(I99*100/H99) -> 128.76866 | K99: =SUM(K100:K102) -> 300 | L99: =SUM(L100:L102) -> 337 | M99: =SUM(L99*100/K99) -> 112.33333
A100: สถาบันพัฒนาฝีมือแรงงาน 20 เชียงราย | E100: 80 | F100: 86 | G100: =SUM(F100*100/E100) -> 107.5 | H100: 760 | I100: 809 | J100: =SUM(I100*100/H100) -> 106.44737 | K100: 200 | L100: 229 | M100: =SUM(L100*100/K100) -> 114.5
A101: สำนักงานพัฒนาฝีมือแรงงานจังหวัดพะเยา | H101: 1520 | I101: 2110 | J101: =SUM(I101*100/H101) -> 138.81579 | K101: 80 | L101: 84 | M101: =SUM(L101*100/K101) -> 105
...

Sheet 2
A1: ผลการดำเนินงานพัฒนาฝีมือแรงงาน ปีงบประมาณ 2561
A2: ตุลาคม 2560 - กันยายน 2561 เป้าหมาย 12 เดือน
A4: หน่วยงาน | B4: โครงการศูนย์ฝึกอบรมเทคโนโลยีชั้นสูง | E4: โครงการเพิ่มผลิตภาพแรงงาน | H4: โครงการเพิ่มทักษะกำลังแรงงาน | K4: โครงการพัฒนาอุตสาหกรรม | N4: โครงการควบคุมและกำกับดูแล
B5: รองรับอุตสาหกรรมแห่งอนาคต | E5: สู่ SME 4.0 | H5: ในเขตพื้นที่ 10 จังหวัด ในพื้นที่ | K5: เทคโนโลยีชั้นสูงและอุตสาหกรรม | N5: การประกอบอาชีพที่อาจเป็นอันตราย
H6: เขตเศรษฐกิจพิเศษ | K6: แห่งอนาคตในพื้นที่ระเบียงเศรษฐกิจ | N6: ต่อสาธารณะหรือต้องใช้ความรู้
K7: ภาคตะวันออก | N7: ความสามารถ Safety At Work
B8: เป้าหมาย | C8: รวมเข้า | D8: ร้อยละ | E8: เป้าหมาย | F8: รวมเข้า | G8: ร้อยละ | H8: เป้าหมาย | I8: รวมเข้า | J8: ร้อยละ | K8: เป้าหมาย | L8: รวมเข้า | M8: ร้อยละ | N8: เป้าหมาย | O8: ผู้ผ่าน | P8: ร้อยละ
A9: รวมทั้งสิ้น | B9: =SUM(B10+B11+B12+B13+B14+B16+B19+B24+B28+B33+B38+B44+B50+B55+B61+B65+B69+B72+B74+B78+B83+B87+B91+B97+B100+B104+B108+B112+B113+B114) -> 10000 | C9: =SUM(C10+C11+C12+C13+C14+C16+C19+C24+C28+C33+C38+C44+C50+C55+C61+C65+C69+C72+C74+C78+C83+C87+C91+C97+C100+C104+C108+C112+C113+C114) -> 10896 | D9: =SUM(C9*100/B9) -> 108.96 | E9: 10000 | F9: =SUM(F10+F11+F12+F13+F14+F16+F19+F24+F28+F33+F38+F44+F50+F55+F61+F65+F69+F72+F74+F78+F83+F87+F91+F97+F100+F104+F108+F112+F113+F114) -> 12525 | G9: =SUM(F9*100/E9) -> 125.25 | H9: =SUM(H10+H11+H12+H13+H14+H16+H19+H24+H28+H33+H38+H44+H50+H55+H61+H65+H69+H72+H74+H78+H83+H87+H91+H97+H100+H104+H108+H112+H113+H114) -> 9920 | I9: =SUM(I10+I11+I12+I13+I14+I16+I19+I24+I28+I33+I38+I44+I50+I55+I61+I65+I69+I72+I74+I78+I83+I87+I91+I97+I100+I104+I108+I112+I113+I114) -> 11869 | J9: =SUM(I9*100/H9) -> 119.64718 | K9: =SUM(K10+K11+K12+K13+K14+K16+K19+K24+K28+K33+K38+K44+K50+K55+K61+K65+K69+K72+K74+K78+K83+K87+K91+K97+K100+K104+K108+K112+K113+K114) -> 9200 | L9: =SUM(L10+L11+L12+L13+L14+L16+L19+L24+L28+L33+L38+L44+L50+L55+L61+L65+L69+L72+L74+L78+L83+L87+L91+L97+L100+L104+L108+L112+L113+L114) -> 10917 | M9: =SUM(L9*100/K9) -> 118.66304 | N9: =SUM(N10+N11+N12+N13+N14+N15+N16+N19+N24+N28+N33+N38+N44+N50+N55+N61+N65+N69+N72+N74+N78+N83+N87+N91+N97+N100+N104+N108+N112+N113+N114) -> 32000 | O9: =SUM(O10+O11+O12+O13+O14+O15+O16+O19+O24+O28+O33+O38+O44+O50+O55+O61+O65+O69+O72+O74+O78+O83+O87+O91+O97+O100+O104+O108+O112+O113+O114) -> 25613 | P9: =SUM(O9*100/N9) -> 80.040625
A10: กลุ่มงานพัฒนาวิทยากรต้นแบบ
A11: สถาบันยานยนต์
A12: สถาบันพัฒนาทรัพยากรมนุษย์
A13: สพน.เชียงแสน | B13: 700 | C13: 846 | D13: =SUM(C13*100/B13) -> 120.85714
A14: สำนักมาตรฐานและทดสอบฝีมือแรงงาน | B14: 1400
A15: สำนักงานรับรองความรู้ความสามารถ | N15: 400 | O15: 196 | P15: =SUM(O15*100/N15) -> 49
A16: สพร. 1 สมุทรปราการ | B16: =SUM(B17:B18) -> 1180 | C16: =SUM(C17:C18) -> 1057 | D16: =SUM(C16*100/B16) -> 89.576271 | E16: =SUM(E17:E18) -> 0 | F16: =SUM(F17:F18) -> 141 | G16: =SUM(G17:G18) -> 0 | H16: =SUM(H17:H18) -> 0 | I16: =SUM(I17:I18) -> 0 | K16: =SUM(K17:K18) -> 2920 | L16: =SUM(L17:L18) -> 3627 | M16: =SUM(L16*100/K16) -> 124.21233 | N16: =SUM(N17:N18) -> 2128 | O16: =SUM(O17:O18) -> 1981 | P16: =SUM(O16*100/N16) -> 93.092105
A17: สถาบันพัฒนาฝีมือแรงงาน 1 สมุทรปราการ | B17: 1180 | C17: 1057 | D17: =SUM(C17*100/B17) -> 89.576271 | F17: 0 | N17: 1504 | O17: 1344 | P17: =SUM(O17*100/N17) -> 89.361702
A18: สำนักงานพัฒนาฝีมือแรงงานจังหวัดฉะเชิงเทรา | F18: 141 | K18: 2920 | L18: 3627 | M18: =SUM(L18*100/K18) -> 124.21233 | N18: 624 | O18: 637 | P18: =SUM(O18*100/N18) -> 102.08333
A19: สพร. 2 สุพรรณบุรี | B19: =SUM(B20:B23) -> 700 | C19: =SUM(C20:C23) -> 1083 | D19: =SUM(C19*100/B19) -> 154.71429 | E19: =SUM(E20:E23) -> 0 | F19: =SUM(F20:F23) -> 727 | G19: =SUM(G20:G23) -> 0 | H19: =SUM(H20:H23) -> 0 | I19: =SUM(I20:I23) -> 0 | K19: =SUM(K20:K23) -> 0 | L19: =SUM(L20:L23) -> 0 | M19: =SUM(M20:M23) -> 0 | N19: =SUM(N20:N23) -> 1488 | O19: =SUM(O20:O23) -> 896 | P19: =SUM(O19*100/N19) -> 60.215054
A20: สถาบันพัฒนาฝีมือแรงงาน 2 สุพรรณบุรี | B20: 700 | C20: 1083 | D20: =SUM(C20*100/B20) -> 154.71429 | F20: 366 | N20: 848 | O20: 673 | P20: =SUM(O20*100/N20) -> 79.363208
A21: สำนักงานพัฒนาฝีมือแรงงานจังหวัดสิงห์บุรี | F21: 140 | N21: 240 | O21: 41 | P21: =SUM(O21*100/N21) -> 17.083333
A22: สำนักงานพัฒนาฝีมือแรงงานจังหวัดชัยนาท | F22: 120 | N22: 208 | O22: 87 | P22: =SUM(O22*100/N22) -> 41.826923
A23: สำนักงานพัฒนาฝีมือแรงงานจังหวัดอุทัยธานี | F23: 101 | N23: 192 | O23: 95 | P23: =SUM(O23*100/N23) -> 49.479167
A24: สพร. 3 ชลบุรี | B24: =SUM(B25:B27) -> 800 | C24: =SUM(C25:C27) -> 1314 | D24: =SUM(C24*100/B24) -> 164.25 | E24: =SUM(E25:E27) -> 0 | F24: =SUM(F25:F27) -> 650 | G24: =SUM(G25:G27) -> 0 | H24: =SUM(H25:H27) -> 540 | I24: =SUM(I25:I27) -> 541 | J24: =SUM(I24*100/H24) -> 100.18519 | K24: =SUM(K25:K27) -> 3140 | L24: =SUM(L25:L27) -> 4111 | M24: =SUM(L24*100/K24) -> 130.92357 | N24: =SUM(N25:N27) -> 1648 | O24: =SUM(O25:O27) -> 2505 | P24: =SUM(O24*100/N24) -> 152.00243
A25: สถาบันพัฒนาฝีมือแรงงาน 3 ชลบุรี | B25: 800 | C25: 1314 | D25: =SUM(C25*100/B25) -> 164.25 | F25: 410 | K25: 3140 | L25: 4111 | M25: =SUM(L25*100/K25) -> 130.92357 | N25: 1200 | O25: 2085 | P25: =SUM(O25*100/N25) -> 173.75
A26: ศูนย์พัฒนาฝีมือแรงงานจังหวัดปราจีนบุรี | F26: 136 | N26: 240 | O26: 247 | P26: =SUM(O26*100/N26) -> 102.91667
A27: ศูนย์พัฒนาฝีมือแรงงานจังหวัดสระแก้ว | F27: 104 | H27: 540 | I27: 541 | J27: =SUM(I27*100/H27) -> 100.18519 | N27: 208 | O27: 173 | P27: =SUM(O27*100/N27) -> 83.173077
A28: สพร. 4 ราชบุรี | E28: =SUM(E29:E32) -> 0 | F28: =SUM(F29:F32) -> 645 | G28: =SUM(G29:G32) -> 0 | H28: =SUM(H29:H32) -> 1480 | I28: =SUM(I29:I32) -> 2261 | J28: =SUM(I28*100/H28) -> 152.77027 | K28: =SUM(K29:K32) -> 0 | L28: =SUM(L29:L32) -> 0 | M28: =SUM(M29:M32) -> 0 | N28: =SUM(N29:N32) -> 1392 | O28: =SUM(O29:O32) -> 1026 | P28: =SUM(O28*100/N28) -> 73.706897
A29: สถาบันพัฒนาฝีมือแรงงาน 4 ราชบุรี | F29: 280 | N29: 704 | O29: 389 | P29: =SUM(O29*100/N29) -> 55.255682
A30: สำนักงานพัฒนาฝีมือแรงงานจังหวัดเพชรบุรี | F30: 120 | N30: 224 | O30: 90 | P30: =SUM(O30*100/N30) -> 40.178571
A31: สำนักงานพัฒนาฝีมือแรงงานจังหวัดกาญจนบุรี | F31: 121 | H31: 1480 | I31: 2261 | J31: =SUM(I31*100/H31) -> 152.77027 | N31: 240 | O31: 280 | P31: =SUM(O31*100/N31) -> 116.66667
A32: สำนักงานพัฒนาฝีมือแรงงานจังหวัดประจวบคีรีขันธ์ | F32: 124 | N32: 224 | O32: 267 | P32: =SUM(O32*100/N32) -> 119.19643
A33: สพร. 5 นครราชสีมา | B33: =SUM(B34:B37) -> 820 | C33: =SUM(C34:C37) -> 1144 | D33: =SUM(C33*100/B33) -> 139.5122 | E33: =SUM(E34:E37) -> 0 | F33: =SUM(F34:F37) -> 526 | G33: =SUM(G34:G37) -> 0 | H33: =SUM(H34:H37) -> 0 | I33: =SUM(I34:I37) -> 0 | K33: =SUM(K34:K37) -> 0 | L33: =SUM(L34:L37) -> 0 | M33: =SUM(M34:M37) -> 0 | N33: =SUM(N34:N37) -> 1504 | O33: =SUM(O34:O37) -> 1284 | P33: =SUM(O33*100/N33) -> 85.37234
A34: สถาบันพัฒนาฝีมือแรงงาน 5 นครราชสีมา | B34: 820 | C34: 1144 | D34: =SUM(C34*100/B34) -> 139.5122 | F34: 255 | N34: 800 | O34: 595 | P34: =SUM(O34*100/N34) -> 74.375
A35: สำนักงานพัฒนาฝีมือแรงงานจังหวัดชัยภูมิ | F35: 121 | N35: 240 | O35: 242 | P35: =SUM(O35*100/N35) -> 100.83333
A36: สำนักงานพัฒนาฝีมือแรงงานจังหวัดสุรินทร์ | N36: 240 | O36: 216 | P36: =SUM(O36*100/N36) -> 90
A37: สำนักงานพัฒนาฝีมือแรงงานจังหวัดบุรีรัมย์ | F37: 150 | N37: 224 | O37: 231 | P37: =SUM(O37*100/N37) -> 103.125
A38: สพร. 6 ขอนแก่น | B38: =SUM(B39:B43) -> 400 | C38: =SUM(C39:C43) -> 751 | D38: =SUM(C38*100/B38) -> 187.75 | E38: =SUM(E39:E43) -> 0 | F38: =SUM(F39:F43) -> 755 | G38: =SUM(G39:G43) -> 0 | H38: =SUM(H39:H43) -> 880 | I38: =SUM(I39:I43) -> 989 | J38: =SUM(I38*100/H38) -> 112.38636 | K38: =SUM(K39:K43) -> 0 | L38: =SUM(L39:L43) -> 0 | M38: =SUM(M39:M43) -> 0 | N38: =SUM(N39:N43) -> 1488 | O38: =SUM(O39:O43) -> 1038 | P38: =SUM(O38*100/N38) -> 69.758065
A39: สถาบันพัฒนาฝีมือแรงงาน 6 ขอนแก่น | B39: 400 | C39: 751 | D39: =SUM(C39*100/B39) -> 187.75 | F39: 275 | N39: 752 | O39: 354 | P39: =SUM(O39*100/N39) -> 47.074468
A40: สำนักงานพัฒนาฝีมือแรงงานจังหวัดกาฬสินธุ์ | F40: 197 | N40: 256 | O40: 281 | P40: =SUM(O40*100/N40) -> 109.76562
A41: สำนักงานพัฒนาฝีมือแรงงานจังหวัดมุกดาหาร | F41: 120 | H41: 880 | I41: 989 | J41: =SUM(I41*100/H41) -> 112.38636 | N41: 144 | O41: 74 | P41: =SUM(O41*100/N41) -> 51.388889
A42: สำนักงานพัฒนาฝีมือแรงงานจังหวัดหนองบัวลำภู | F42: 43 | N42: 128 | O42: 89 | P42: =SUM(O42*100/N42) -> 69.53125
A43: สำนักงานพัฒนาฝีมือแรงงานจังหวัดมหาสารคาม | F43: 120 | N43: 208 | O43: 240 | P43: =SUM(O43*100/N43) -> 115.38462
A44: สพร. 7 อุบลราชธานี | B44: =SUM(B45:B49) -> 600 | C44: =SUM(C45:C49) -> 1016 | D44: =SUM(C44*100/B44) -> 169.33333 | E44: =SUM(E45:E49) -> 0 | F44: =SUM(F45:F49) -> 743 | G44: =SUM(G45:G49) -> 0 | H44: =SUM(H45:H49) -> 0 | I44: =SUM(I45:I49) -> 0 | K44: =SUM(K45:K49) -> 0 | L44: =SUM(L45:L49) -> 0 | M44: =SUM(M45:M49) -> 0 | N44: =SUM(N45:N49) -> 1808 | O44: =SUM(O45:O49) -> 1226 | P44: =SUM(O44*100/N44) -> 67.809735
A45: สถาบันพัฒนาฝีมือแรงงาน 7 อุบลราชธานี | B45: 600 | C45: 1016 | D45: =SUM(C45*100/B45) -> 169.33333 | F45: 214 | N45: 784 | O45: 364 | P45: =SUM(O45*100/N45) -> 46.428571
A46: สำนักงานพัฒนาฝีมือแรงงานจังหวัดศรีสะเกษ | F46: 120 | N46: 272 | O46: 288 | P46: =SUM(O46*100/N46) -> 105.88235
A47: สำนักงานพัฒนาฝีมือแรงงานจังหวัดอำนาจเจริญ | F47: 202 | N47: 128 | O47: 165 | P47: =SUM(O47*100/N47) -> 128.90625
A48: สำนักงานพัฒนาฝีมือแรงงานจังหวัดร้อยเอ็ด | F48: 120 | N48: 384 | O48: 295 | P48: =SUM(O48*100/N48) -> 76.822917
A49: สำนักงานพัฒนาฝีมือแรงงานจังหวัดยโสธร | F49: 87 | N49: 240 | O49: 114 | P49: =SUM(O49*100/N49) -> 47.5
A50: สพร. 8 นครสวรรค์ | E50: =SUM(E51:E54) -> 0 | F50: =SUM(F51:F54) -> 870 | G50: =SUM(G51:G54) -> 0 | H50: =SUM(H51:H54) -> 1200 | I50: =SUM(I51:I54) -> 1371 | J50: =SUM(I50*100/H50) -> 114.25 | K50: =SUM(K51:K54) -> 0 | L50: =SUM(L51:L54) -> 0 | M50: =SUM(M51:M54) -> 0 | N50: =SUM(N51:N54) -> 1392 | O50: =SUM(O51:O54) -> 802 | P50: =SUM(O50*100/N50) -> 57.614943
A51: สถาบันพัฒนาฝีมือแรงงาน 8 นครสวรรค์ | F51: 507 | N51: 608 | O51: 234 | P51: =SUM(O51*100/N51) -> 38.486842
A52: สำนักงานพัฒนาฝีมือแรงงานจังหวัดพิจิตร | F52: 119 | N52: 240 | O52: 283 | P52: =SUM(O52*100/N52) -> 117.91667
A53: สำนักงานพัฒนาฝีมือแรงงานจังหวัดกำแพงเพชร | F53: 168 | N53: 304 | O53: 123 | P53: =SUM(O53*100/N53) -> 40.460526
A54: สำนักงานพัฒนาฝีมือแรงงานจังหวัดตาก | F54: 76 | H54: 1200 | I54: 1371 | J54: =SUM(I54*100/H54) -> 114.25 | N54: 240 | O54: 162 | P54: =SUM(O54*100/N54) -> 67.5
A55: สพร. 9 พิษณุโลก | E55: =SUM(E56:E60) -> 0 | F55: =SUM(F56:F60) -> 625 | G55: =SUM(G56:G60) -> 0 | H55: =SUM(H56:H60) -> 0 | I55: =SUM(I56:I60) -> 0 | K55: =SUM(K56:K60) -> 0 | L55: =SUM(L56:L60) -> 0 | M55: =SUM(M56:M60) -> 0 | N55: =SUM(N56:N60) -> 2080 | O55: =SUM(O56:O60) -> 934 | P55: =SUM(O55*100/N55) -> 44.903846
A56: สถาบันพัฒนาฝีมือแรงงาน 9 พิษณุโลก | F56: 200 | N56: 784 | O56: 263 | P56: =SUM(O56*100/N56) -> 33.545918
A57: สำนักงานพัฒนาฝีมือแรงงานจังหวัดเลย | F57: 127 | N57: 304 | O57: 130 | P57: =SUM(O57*100/N57) -> 42.763158
A58: สำนักงานพัฒนาฝีมือแรงงานจังหวัดเพชรบูรณ์ | F58: 122 | N58: 400 | O58: 306 | P58: =SUM(O58*100/N58) -> 76.5
A59: สำนักงานพัฒนาฝีมือแรงงานจังหวัดอุตรดิตถ์ | F59: 130 | N59: 400 | O59: 132 | P59: =SUM(O59*100/N59) -> 33
A60: สำนักงานพัฒนาฝีมือแรงงานจังหวัดสุโขทัย | F60: 46 | N60: 192 | O60: 103 | P60: =SUM(O60*100/N60) -> 53.645833
A61: สพร. 10 ลำปาง | E61: =SUM(E62:E64) -> 0 | F61: =SUM(F62:F64) -> 494 | G61: =SUM(G62:G64) -> 0 | H61: =SUM(H62:H64) -> 0 | I61: =SUM(I62:I64) -> 0 | K61: =SUM(K62:K64) -> 0 | L61: =SUM(L62:L64) -> 0 | M61: =SUM(M62:M64) -> 0 | N61: =SUM(N62:N64) -> 1600 | O61: =SUM(O62:O64) -> 1192 | P61: =SUM(O61*100/N61) -> 74.5
A62: สถาบันพัฒนาฝีมือแรงงาน 10 ลำปาง | F62: 281 | N62: 720 | O62: 579 | P62: =SUM(O62*100/N62) -> 80.416667
A63: สำนักงานพัฒนาฝีมือแรงงานจังหวัดลำพูน | F63: 133 | N63: 608 | O63: 468 | P63: =SUM(O63*100/N63) -> 76.973684
A64: สำนักงานพัฒนาฝีมือแรงงานจังหวัดแพร่ | F64: 80 | N64: 272 | O64: 145 | P64: =SUM(O64*100/N64) -> 53.308824
A65: สพร. 11 สุราษฎร์ธานี | E65: =SUM(E66:E68) -> 0 | F65: =SUM(F66:F68) -> 670 | G65: =SUM(G66:G68) -> 0 | H65: =SUM(H66:H68) -> 0 | I65: =SUM(I66:I68) -> 0 | K65: =SUM(K66:K68) -> 0 | L65: =SUM(L66:L68) -> 0 | M65: =SUM(M66:M68) -> 0 | N65: =SUM(N66:N68) -> 1152 | O65: =SUM(O66:O68) -> 721 | P65: =SUM(O65*100/N65) -> 62.586806
A66: สถาบันพัฒนาฝีมือแรงงาน 11 สุราษฎร์ธานี | F66: 384 | N66: 784 | O66: 421 | P66: =SUM(O66*100/N66) -> 53.69898
A67: สำนักงานพัฒนาฝีมือแรงงานจังหวัดชุมพร | F67: 166 | N67: 208 | O67: 187 | P67: =SUM(O67*100/N67) -> 89.903846
A68: สำนักงานพัฒนาฝีมือแรงงานจังหวัดระนอง | F68: 120 | N68: 160 | O68: 113 | P68: =SUM(O68*100/N68) -> 70.625
A69: สพร. 12 สงขลา | B69: =SUM(B70:B71) -> 500 | C69: =SUM(C70:C71) -> 502 | D69: =SUM(C69*100/B69) -> 100.4 | E69: =SUM(E70:E71) -> 0 | F69: =SUM(F70:F71) -> 523 | G69: =SUM(G70:G71) -> 0 | H69: =SUM(H70:H71) -> 1060 | I69: =SUM(I70:I71) -> 1206 | J69: =SUM(I69*100/H69) -> 113.77358 | K69: =SUM(K70:K71) -> 0 | L69: =SUM(L70:L71) -> 0 | M69: =SUM(M70:M71) -> 0 | N69: =SUM(N70:N71) -> 992 | O69: =SUM(O70:O71) -> 754 | P69: =SUM(O69*100/N69) -> 76.008065
A70: สถาบันพัฒนาฝีมือแรงงาน 12 สงขลา | B70: 500 | C70: 502 | D70: =SUM(C70*100/B70) -> 100.4 | F70: 296 | H70: 1060 | I70: 1206 | J70: =SUM(I70*100/H70) -> 113.77358 | N70: 864 | O70: 674 | P70: =SUM(O70*100/N70) -> 78.009259
A71: สำนักงานพัฒนาฝีมือแรงงานจังหวัดสตูล | F71: 227 | N71: 128 | O71: 80 | P71: =SUM(O71*100/N71) -> 62.5
A72: สพร. 13 กรุงเทพมหานคร | E72: =SUM(E73) -> 0 | F72: =SUM(F73) -> 0 | G72: =SUM(G73) -> 0 | H72: =SUM(H73) -> 0 | I72: =SUM(I73) -> 0 | K72: =SUM(K73) -> 0 | L72: =SUM(L73) -> 0 | M72: =SUM(M73) -> 0 | N72: =SUM(N73) -> 608 | O72: =SUM(O73) -> 674 | P72: =SUM(O72*100/N72) -> 110.85526
A73: สถาบันพัฒนาฝีมือแรงงาน 13 กรุงเทพมหานคร | N73: 608 | O73: 674 | P73: =SUM(O73*100/N73) -> 110.85526
A74: สพร. 14 ปทุมธานี | E74: =SUM(E75:E77) -> 0 | F74: =SUM(F75:F77) -> 790 | G74: =SUM(G75:G77) -> 0 | H74: =SUM(H75:H77) -> 0 | I74: =SUM(I75:I77) -> 0 | K74: =SUM(K75:K77) -> 0 | L74: =SUM(L75:L77) -> 0 | M74: =SUM(M75:M77) -> 0 | N74: =SUM(N75:N77) -> 2320 | O74: =SUM(O75:O77) -> 2407 | P74: =SUM(O74*100/N74) -> 103.75
A75: สถาบันพัฒนาฝีมือแรงงาน 14 ปทุมธานี | F75: 318 | N75: 1200 | O75: 1365 | P75: =SUM(O75*100/N75) -> 113.75
A76: สำนักงานพัฒนาฝีมือแรงงานจังหวัดนนทบุรี | F76: 342 | N76: 912 | O76: 924 | P76: =SUM(O76*100/N76) -> 101.31579
A77: สำนักงานพัฒนาฝีมือแรงงานจังหวัดนครนายก | F77: 130 | N77: 208 | O77: 118 | P77: =SUM(O77*100/N77) -> 56.730769
A78: สพร. 15 พระนครศรีอยุธยา | E78: =SUM(E79:E82) -> 0 | F78: =SUM(F79:F82) -> 541 | G78: =SUM(G79:G82) -> 0 | H78: =SUM(H79:H82) -> 0 | I78: =SUM(I79:I82) -> 0 | K78: =SUM(K79:K82) -> 0 | L78: =SUM(L79:L82) -> 0 | M78: =SUM(M79:M82) -> 0 | N78: =SUM(N79:N82) -> 2480 | O78: =SUM(O79:O82) -> 1672 | P78: =SUM(O78*100/N78) -> 67.419355
A79: สถาบันพัฒนาฝีมือแรงงาน 15 พระนครศรีอยุธยา | F79: 301 | N79: 992 | O79: 902 | P79: =SUM(O79*100/N79) -> 90.927419
A80: สำนักงานพัฒนาฝีมือแรงงานจังหวัดอ่างทอง | F80: 120 | N80: 320 | O80: 181 | P80: =SUM(O80*100/N80) -> 56.5625
A81: สำนักงานพัฒนาฝีมือแรงงานจังหวัดสระบุรี | F81: 120 | N81: 768 | O81: 420 | P81: =SUM(O81*100/N81) -> 54.6875
A82: สำนักงานพัฒนาฝีมือแรงงานจังหวัดลพบุรี | N82: 400 | O82: 169 | P82: =SUM(O82*100/N82) -> 42.25
A83: สพร. 16 นครปฐม | E83: =SUM(E84:E86) -> 0 | F83: =SUM(F84:F86) -> 477 | G83: =SUM(G84:G86) -> 0 | H83: =SUM(H84:H86) -> 0 | I83: =SUM(I84:I86) -> 0 | K83: =SUM(K84:K86) -> 0 | L83: =SUM(L84:L86) -> 0 | M83: =SUM(M84:M86) -> 0 | N83: =SUM(N84:N86) -> 1232 | O83: =SUM(O84:O86) -> 1044 | P83: =SUM(O83*100/N83) -> 84.74026
A84: สถาบันพัฒนาฝีมือแรงงาน 16 นครปฐม | F84: 203 | N84: 720 | O84: 410 | P84: =SUM(O84*100/N84) -> 56.944444
A85: สำนักงานพัฒนาฝีมือแรงงานจังหวัดสมุทรสาคร | F85: 130 | N85: 352 | O85: 414 | P85: =SUM(O85*100/N85) -> 117.61364
A86: สำนักงานพัฒนาฝีมือแรงงานจังหวัดสมุทรสงคราม | F86: 144 | N86: 160 | O86: 220 | P86: =SUM(O86*100/N86) -> 137.5
A87: สพร. 17 ระยอง | B87: =SUM(B88:B90) -> 600 | C87: =SUM(C88:C90) -> 608 | D87: =SUM(C87*100/B87) -> 101.33333 | E87: =SUM(E88:E90) -> 0 | F87: =SUM(F88:F90) -> 246 | G87: =SUM(G88:G90) -> 0 | H87: =SUM(H88:H90) -> 1280 | I87: =SUM(I88:I90) -> 1555 | J87: =SUM(I87*100/H87) -> 121.48438 | K87: =SUM(K88:K90) -> 3140 | L87: =SUM(L88:L90) -> 3179 | M87: =SUM(L87*100/K87) -> 101.24204 | N87: =SUM(N88:N90) -> 1040 | O87: =SUM(O88:O90) -> 1112 | P87: =SUM(O87*100/N87) -> 106.92308
A88: สถาบันพัฒนาฝีมือแรงงาน 17 ระยอง | B88: 600 | C88: 608 | D88: =SUM(C88*100/B88) -> 101.33333 | K88: 3140 | L88: 3179 | M88: =SUM(L88*100/K88) -> 101.24204 | N88: 768 | O88: 831 | P88: =SUM(O88*100/N88) -> 108.20312
A89: สำนักงานพัฒนาฝีมือแรงงานจังหวัดจันทบุรี | F89: 126 | N89: 144 | O89: 174 | P89: =SUM(O89*100/N89) -> 120.83333
A90: สำนักงานพัฒนาฝีมือแรงงานจังหวัดตราด | F90: 120 | H90: 1280 | I90: 1555 | J90: =SUM(I90*100/H90) -> 121.48438 | N90: 128 | O90: 107 | P90: =SUM(O90*100/N90) -> 83.59375
A91: สพร. 18 อุดรธานี | B91: =SUM(B92:B96) -> 400 | C91: =SUM(C92:C96) -> 554 | D91: =SUM(C91*100/B91) -> 138.5 | E91: =SUM(E92:E96) -> 0 | F91: =SUM(F92:F96) -> 708 | G91: =SUM(G92:G96) -> 0 | H91: =SUM(H92:H96) -> 1580 | I91: =SUM(I92:I96) -> 1941 | J91: =SUM(I91*100/H91) -> 122.8481 | K91: =SUM(K92:K96) -> 0 | L91: =SUM(L92:L96) -> 0 | M91: =SUM(M92:M96) -> 0 | N91: =SUM(N92:N96) -> 928 | O91: =SUM(O92:O96) -> 846 | P91: =SUM(O91*100/N91) -> 91.163793
A92: สถาบันพัฒนาฝีมือแรงงาน 18 อุดรธานี | B92: 400 | C92: 554 | D92: =SUM(C92*100/B92) -> 138.5 | F92: 121 | N92: 400 | O92: 221 | P92: =SUM(O92*100/N92) -> 55.25
A93: สำนักงานพัฒนาฝีมือแรงงานจังหวัดหนองคาย | F93: 120 | H93: 860 | I93: 1152 | J93: =SUM(I93*100/H93) -> 133.95349 | N93: 128 | O93: 171 | P93: =SUM(O93*100/N93) -> 133.59375
A94: สำนักงานพัฒนาฝีมือแรงงานจังหวัดบึงกาฬ | F94: 165 | N94: 128 | O94: 128 | P94: =SUM(O94*100/N94) -> 100
A95: สำนักงานพัฒนาฝีมือแรงงานจังหวัดสกลนคร | F95: 120 | N95: 128 | O95: 170 | P95: =SUM(O95*100/N95) -> 132.8125
A96: สำนักงานพัฒนาฝีมือแรงงานจังหวัดนครพนม | F96: 182 | H96: 720 | I96: 789 | J96: =SUM(I96*100/H96) -> 109.58333 | N96: 144 | O96: 156 | P96: =SUM(O96*100/N96) -> 108.33333
A97: สพร. 19 เชียงใหม่ | B97: =SUM(B98:B99) -> 700 | C97: =SUM(C98:C99) -> 813 | D97: =SUM(C97*100/B97) -> 116.14286 | E97: =SUM(E98:E99) -> 0 | F97: =SUM(F98:F99) -> 401 | G97: =SUM(G98:G99) -> 0 | H97: =SUM(H98:H99) -> 0 | I97: =SUM(I98:I99) -> 0 | K97: =SUM(K98:K99) -> 0 | L97: =SUM(L98:L99) -> 0 | M97: =SUM(M98:M99) -> 0 | N97: =SUM(N98:N99) -> 848 | O97: =SUM(O98:O99) -> 710 | P97: =SUM(O97*100/N97) -> 83.726415
A98: สถาบันพัฒนาฝีมือแรงงาน 19 เชียงใหม่ | B98: 700 | C98: 813 | D98: =SUM(C98*100/B98) -> 116.14286 | F98: 401 | N98: 704 | O98: 641 | P98: =SUM(O98*100/N98) -> 91.051136
A99: ศูนย์พัฒนาฝีมือแรงงานจังหวัดแม่ฮ่องสอน | D99: =SUM(C99*100/B99) -> #DIV/0! | N99: 144 | O99: 69 | P99: =SUM(O99*100/N99) -> 47.916667
A100: สพร. 20 เชียงราย | E100: =SUM(E101:E103) -> 0 | F100: =SUM(F101:F103) -> 371 | G100: =SUM(G101:G103) -> 0 | H100: =SUM(H101:H103) -> 1500 | I100: =SUM(I101:I103) -> 1582 | J100: =SUM(I100*100/H100) -> 105.46667 | K100: =SUM(K101:K103) -> 0 | L100: =SUM(L101:L103) -> 0 | M100: =SUM(M101:M103) -> 0 | N100: =SUM(N101:N103) -> 848 | O100: =SUM(O101:O103) -> 753 | P100: =SUM(O100*100/N100) -> 88.79717
A101: สถาบันพัฒนาฝีมือแรงงาน 20 เชียงราย | F101: 120 | H101: 1500 | I101: 1582 | J101: =SUM(I101*100/H101) -> 105.46667 | N101: 544 | O101: 401 | P101: =SUM(O101*100/N101) -> 73.713235
...

Sheet 3
A1: ผลการดำเนินงานพัฒนาฝีมือแรงงาน ปีงบประมาณ 2561
A2: ตุลาคม 2560 - กันยายน 2561 เป้าหมาย 12 เดือน
A4: หน่วยงาน | B4: โครงการยกระดับแรงงานไทยให้ได้มาตรฐานฝีมือแรงงานเพื่อรองรับการแข่งขัน | K4: โครงการพัฒนาฝีมือให้แก่กลุ่มวิสาหกิจชุมชน
B5: กิจกรรมพัฒนาศักยภาพแรงงานเพื่อรองรับ | E5: กิจกรรมทดสอบมาตรฐานฝีมือแรงงาน | H5: กิจกรรมพัฒนาศักยภาพมาตรฐาน | K5: และผู้มีรายได้น้อย
B6: การจ่ายค่าจ้างตามมาตรฐานฝีมือ | E6: ให้มีสมรรถนะ | H6: ฝีมือแรงงานไทยในต่างประเทศ
B7: เป้าหมาย | C7: รวมเข้า | D7: ร้อยละ | E7: เป้าหมาย | F7: รวมเข้า | G7: ร้อยละ | H7: เป้าหมาย | I7: รวมเข้า | J7: ร้อยละ | K7: เป้าหมาย | L7: รวมเข้า | M7: ร้อยละ
A8: รวมทั้งสิ้น | B8: =SUM(B11+B15+B18+B23+B27+B32+B37+B43+B49+B54+B60+B64+B68+B71+B73+B77+B82+B86+B90+B96+B99+B103+B107+B111+B112+B113) -> 4100 | C8: =SUM(C11+C15+C18+C23+C27+C32+C37+C43+C49+C54+C60+C64+C68+C71+C73+C77+C82+C86+C90+C96+C99+C103+C107+C111+C112+C113) -> 5071 | D8: =SUM(C8*100/B8) -> 123.68293 | E8: =SUM(E11+E13+E15+E18+E23+E27+E32+E37+E43+E49+E54+E60+E64+E68+E71+E73+E77+E82+E86+E90+E96+E99+E103+E107+E111+E112+E113) -> 19140 | F8: =SUM(F11+F13+F15+F18+F23+F27+F32+F37+F43+F49+F54+F60+F64+F68+F71+F73+F77+F82+F86+F90+F96+F99+F103+F107+F111+F112+F113) -> 37042 | G8: =SUM(F8*100/E8) -> 193.53187 | H8: =SUM(H13) -> 100 | I8: =SUM(I13) -> 313 | J8: =SUM(I8*100/H8) -> 313 | K8: =SUM(K15+K18+K23+K27+K32+K37+K43+K49+K54+K60+K64+K68+K71+K73+K77+K82+K86+K90+K96+K99+K103+K107+K111+K112+K113) -> 3840 | L8: =SUM(L15+L18+L23+L27+L32+L37+L43+L49+L54+L60+L64+L68+L71+L73+L77+L82+L86+L90+L96+L99+L103+L107+L111+L112+L113) -> 4063 | M8: =SUM(L8*100/K8) -> 105.80729
A9: กลุ่มงานพัฒนาวิทยากรต้นแบบ
A10: สถาบันยานยนต์
A11: สถาบันพัฒนาทรัพยากรมนุษย์สำหรับอุตสาหกรรม | B11: 50 | C11: 58 | D11: =SUM(C11*100/B11) -> 116 | E11: 220 | F11: 297 | G11: =SUM(F11*100/E11) -> 135
A12: สถาบันพัฒนาฝีมือแรงงานนานาชาติเชียงแสน
A13: สำนักมาตรฐานและทดสอบฝีมือแรงงาน | H13: 100 | I13: 313 | J13: =SUM(I13*100/H13) -> 313
A14: สำนักงานรับรองความรู้ความสามารถ
A15: สพร. 1 สมุทรปราการ | B15: =SUM(B16:B17) -> 160 | C15: =SUM(C16:C17) -> 172 | D15: =SUM(C15*100/B15) -> 107.5 | E15: =SUM(E16:E17) -> 760 | F15: =SUM(F16:F17) -> 2011 | G15: =SUM(F15*100/E15) -> 264.60526
A16: สถาบันพัฒนาฝีมือแรงงาน 1 สมุทรปราการ | B16: 120 | C16: 130 | D16: =SUM(C16*100/B16) -> 108.33333 | E16: 430 | F16: 1527 | G16: =SUM(F16*100/E16) -> 355.11628
A17: สำนักงานพัฒนาฝีมือแรงงานจังหวัดฉะเชิงเทรา | B17: 40 | C17: 42 | D17: =SUM(C17*100/B17) -> 105 | E17: 330 | F17: 484 | G17: =SUM(F17*100/E17) -> 146.66667
A18: สพร. 2 สุพรรณบุรี | B18: =SUM(B19:B22) -> 240 | C18: =SUM(C19:C22) -> 260 | D18: =SUM(C18*100/B18) -> 108.33333 | E18: =SUM(E19:E22) -> 970 | F18: =SUM(F19:F22) -> 1365 | G18: =SUM(F18*100/E18) -> 140.72165
A19: สถาบันพัฒนาฝีมือแรงงาน 2 สุพรรณบุรี | B19: 160 | C19: 167 | D19: =SUM(C19*100/B19) -> 104.375 | E19: 570 | F19: 784 | G19: =SUM(F19*100/E19) -> 137.54386
A20: สำนักงานพัฒนาฝีมือแรงงานจังหวัดสิงห์บุรี | B20: 40 | C20: 40 | D20: =SUM(C20*100/B20) -> 100 | E20: 160 | F20: 185 | G20: =SUM(F20*100/E20) -> 115.625
A21: สำนักงานพัฒนาฝีมือแรงงานจังหวัดชัยนาท | B21: 20 | C21: 29 | D21: =SUM(C21*100/B21) -> 145 | E21: 130 | F21: 133 | G21: =SUM(F21*100/E21) -> 102.30769
A22: สำนักงานพัฒนาฝีมือแรงงานจังหวัดอุทัยธานี | B22: 20 | C22: 24 | D22: =SUM(C22*100/B22) -> 120 | E22: 110 | F22: 263 | G22: =SUM(F22*100/E22) -> 239.09091
A23: สพร. 3 ชลบุรี | B23: =SUM(B24:B26) -> 120 | C23: =SUM(C24:C26) -> 141 | D23: =SUM(C23*100/B23) -> 117.5 | E23: =SUM(E24:E26) -> 2060 | F23: =SUM(F24:F26) -> 2628 | G23: =SUM(F23*100/E23) -> 127.57282 | K23: =SUM(K24:K26) -> 800 | L23: =SUM(L24:L26) -> 814 | M23: =SUM(L23*100/K23) -> 101.75
A24: สถาบันพัฒนาฝีมือแรงงาน 3 ชลบุรี | B24: 60 | C24: 81 | D24: =SUM(C24*100/B24) -> 135 | E24: 1650 | F24: 1772 | G24: =SUM(F24*100/E24) -> 107.39394
A25: ศูนย์พัฒนาฝีมือแรงงานจังหวัดปราจีนบุรี | B25: 40 | C25: 40 | D25: =SUM(C25*100/B25) -> 100 | E25: 220 | F25: 365 | G25: =SUM(F25*100/E25) -> 165.90909
A26: ศูนย์พัฒนาฝีมือแรงงานจังหวัดสระแก้ว | B26: 20 | C26: 20 | D26: =SUM(C26*100/B26) -> 100 | E26: 190 | F26: 491 | G26: =SUM(F26*100/E26) -> 258.42105 | K26: 800 | L26: 814 | M26: =SUM(L26*100/K26) -> 101.75
A27: สพร. 4 ราชบุรี | B27: =SUM(B28:B31) -> 160 | C27: =SUM(C28:C31) -> 256 | D27: =SUM(C27*100/B27) -> 160 | E27: =SUM(E28:E31) -> 710 | F27: =SUM(F28:F31) -> 1427 | G27: =SUM(F27*100/E27) -> 200.98592
A28: สถาบันพัฒนาฝีมือแรงงาน 4 ราชบุรี | B28: 60 | C28: 140 | D28: =SUM(C28*100/B28) -> 233.33333 | E28: 270 | F28: 442 | G28: =SUM(F28*100/E28) -> 163.7037
A29: สำนักงานพัฒนาฝีมือแรงงานจังหวัดเพชรบุรี | B29: 20 | C29: 20 | D29: =SUM(C29*100/B29) -> 100 | E29: 60 | F29: 193 | G29: =SUM(F29*100/E29) -> 321.66667
A30: สำนักงานพัฒนาฝีมือแรงงานจังหวัดกาญจนบุรี | B30: 40 | C30: 47 | D30: =SUM(C30*100/B30) -> 117.5 | E30: 220 | F30: 546 | G30: =SUM(F30*100/E30) -> 248.18182
A31: สำนักงานพัฒนาฝีมือแรงงานจังหวัดประจวบคีรีขันธ์ | B31: 40 | C31: 49 | D31: =SUM(C31*100/B31) -> 122.5 | E31: 160 | F31: 246 | G31: =SUM(F31*100/E31) -> 153.75
A32: สพร. 5 นครราชสีมา | B32: =SUM(B33:B36) -> 260 | C32: =SUM(C33:C36) -> 362 | D32: =SUM(C32*100/B32) -> 139.23077 | E32: =SUM(E33:E36) -> 1100 | F32: =SUM(F33:F36) -> 2576 | G32: =SUM(F32*100/E32) -> 234.18182 | K32: =SUM(K33:K36) -> 700 | L32: =SUM(L33:L36) -> 819 | M32: =SUM(L32*100/K32) -> 117
A33: สถาบันพัฒนาฝีมือแรงงาน 5 นครราชสีมา | B33: 220 | C33: 252 | D33: =SUM(C33*100/B33) -> 114.54545 | E33: 490 | F33: 926 | G33: =SUM(F33*100/E33) -> 188.97959
A34: สำนักงานพัฒนาฝีมือแรงงานจังหวัดชัยภูมิ | E34: 380 | F34: 988 | G34: =SUM(F34*100/E34) -> 260 | K34: 300 | L34: 339 | M34: =SUM(L34*100/K34) -> 113
A35: สำนักงานพัฒนาฝีมือแรงงานจังหวัดสุรินทร์ | B35: 20 | C35: 84 | D35: =SUM(C35*100/B35) -> 420 | E35: 120 | F35: 279 | G35: =SUM(F35*100/E35) -> 232.5 | K35: 200 | L35: 229 | M35: =SUM(L35*100/K35) -> 114.5
A36: สำนักงานพัฒนาฝีมือแรงงานจังหวัดบุรีรัมย์ | B36: 20 | C36: 26 | D36: =SUM(C36*100/B36) -> 130 | E36: 110 | F36: 383 | G36: =SUM(F36*100/E36) -> 348.18182 | K36: 200 | L36: 251 | M36: =SUM(L36*100/K36) -> 125.5
A37: สพร. 6 ขอนแก่น | B37: =SUM(B38:B42) -> 160 | C37: =SUM(C38:C42) -> 185 | D37: =SUM(C37*100/B37) -> 115.625 | E37: =SUM(E38:E42) -> 1450 | F37: =SUM(F38:F42) -> 2408 | G37: =SUM(F37*100/E37) -> 166.06897 | K37: =SUM(K38:K42) -> 700 | L37: =SUM(L38:L42) -> 731 | M37: =SUM(L37*100/K37) -> 104.42857
A38: สถาบันพัฒนาฝีมือแรงงาน 6 ขอนแก่น | B38: 60 | C38: 72 | D38: =SUM(C38*100/B38) -> 120 | E38: 490 | F38: 869 | G38: =SUM(F38*100/E38) -> 177.34694
A39: สำนักงานพัฒนาฝีมือแรงงานจังหวัดกาฬสินธุ์ | B39: 20 | C39: 25 | D39: =SUM(C39*100/B39) -> 125 | E39: 430 | F39: 844 | G39: =SUM(F39*100/E39) -> 196.27907 | K39: 100 | L39: 100 | M39: =SUM(L39*100/K39) -> 100
A40: สำนักงานพัฒนาฝีมือแรงงานจังหวัดมุกดาหาร | B40: 20 | C40: 24 | D40: =SUM(C40*100/B40) -> 120 | E40: 150 | F40: 227 | G40: =SUM(F40*100/E40) -> 151.33333 | K40: 100 | L40: 100 | M40: =SUM(L40*100/K40) -> 100
A41: สำนักงานพัฒนาฝีมือแรงงานจังหวัดหนองบัวลำภู | B41: 40 | C41: 40 | D41: =SUM(C41*100/B41) -> 100 | E41: 160 | F41: 200 | G41: =SUM(F41*100/E41) -> 125 | K41: 300 | L41: 308 | M41: =SUM(L41*100/K41) -> 102.66667
A42: สำนักงานพัฒนาฝีมือแรงงานจังหวัดมหาสารคาม | B42: 20 | C42: 24 | D42: =SUM(C42*100/B42) -> 120 | E42: 220 | F42: 268 | G42: =SUM(F42*100/E42) -> 121.81818 | K42: 200 | L42: 223 | M42: =SUM(L42*100/K42) -> 111.5
A43: สพร. 7 อุบลราชธานี | B43: =SUM(B44:B48) -> 440 | C43: =SUM(C44:C48) -> 447 | D43: =SUM(C43*100/B43) -> 101.59091 | E43: =SUM(E44:E48) -> 1360 | F43: =SUM(F44:F48) -> 2372 | G43: =SUM(F43*100/E43) -> 174.41176 | K43: =SUM(K44:K48) -> 740 | L43: =SUM(L44:L48) -> 780 | M43: =SUM(L43*100/K43) -> 105.40541
A44: สถาบันพัฒนาฝีมือแรงงาน 7 อุบลราชธานี | B44: 280 | C44: 280 | D44: =SUM(C44*100/B44) -> 100 | E44: 550 | F44: 1278 | G44: =SUM(F44*100/E44) -> 232.36364 | K44: 200 | L44: 200 | M44: =SUM(L44*100/K44) -> 100
A45: สำนักงานพัฒนาฝีมือแรงงานจังหวัดศรีสะเกษ | B45: 40 | C45: 46 | D45: =SUM(C45*100/B45) -> 115 | E45: 160 | F45: 161 | G45: =SUM(F45*100/E45) -> 100.625 | K45: 200 | L45: 200 | M45: =SUM(L45*100/K45) -> 100
A46: สำนักงานพัฒนาฝีมือแรงงานจังหวัดอำนาจเจริญ | B46: 40 | C46: 40 | D46: =SUM(C46*100/B46) -> 100 | E46: 220 | F46: 220 | G46: =SUM(F46*100/E46) -> 100 | K46: 200 | L46: 200 | M46: =SUM(L46*100/K46) -> 100
A47: สำนักงานพัฒนาฝีมือแรงงานจังหวัดร้อยเอ็ด | B47: 20 | C47: 20 | D47: =SUM(C47*100/B47) -> 100 | E47: 270 | F47: 289 | G47: =SUM(F47*100/E47) -> 107.03704 | K47: 40 | L47: 80 | M47: =SUM(L47*100/K47) -> 200
A48: สำนักงานพัฒนาฝีมือแรงงานจังหวัดยโสธร | B48: 60 | C48: 61 | D48: =SUM(C48*100/B48) -> 101.66667 | E48: 160 | F48: 424 | G48: =SUM(F48*100/E48) -> 265 | K48: 100 | L48: 100 | M48: =SUM(L48*100/K48) -> 100
A49: สพร. 8 นครสวรรค์ | B49: =SUM(B50:B53) -> 200 | C49: =SUM(C50:C53) -> 249 | D49: =SUM(C49*100/B49) -> 124.5 | E49: =SUM(E50:E53) -> 940 | F49: =SUM(F50:F53) -> 1614 | G49: =SUM(F49*100/E49) -> 171.70213
A50: สถาบันพัฒนาฝีมือแรงงาน 8 นครสวรรค์ | B50: 80 | C50: 85 | D50: =SUM(C50*100/B50) -> 106.25 | E50: 360 | F50: 422 | G50: =SUM(F50*100/E50) -> 117.22222
A51: สำนักงานพัฒนาฝีมือแรงงานจังหวัดพิจิตร | B51: 40 | C51: 48 | D51: =SUM(C51*100/B51) -> 120 | E51: 110 | F51: 342 | G51: =SUM(F51*100/E51) -> 310.90909
A52: สำนักงานพัฒนาฝีมือแรงงานจังหวัดกำแพงเพชร | B52: 40 | C52: 40 | D52: =SUM(C52*100/B52) -> 100 | E52: 270 | F52: 270 | G52: =SUM(F52*100/E52) -> 100
A53: สำนักงานพัฒนาฝีมือแรงงานจังหวัดตาก | B53: 40 | C53: 76 | D53: =SUM(C53*100/B53) -> 190 | E53: 200 | F53: 580 | G53: =SUM(F53*100/E53) -> 290
A54: สพร. 9 พิษณุโลก | B54: =SUM(B55:B59) -> 260 | C54: =SUM(C55:C59) -> 288 | D54: =SUM(C54*100/B54) -> 110.76923 | E54: =SUM(E55:E59) -> 1250 | F54: =SUM(F55:F59) -> 1894 | G54: =SUM(F54*100/E54) -> 151.52 | K54: =SUM(K55:K59) -> 200 | L54: =SUM(L55:L59) -> 202 | M54: =SUM(L54*100/K54) -> 101
A55: สถาบันพัฒนาฝีมือแรงงาน 9 พิษณุโลก | B55: 100 | C55: 112 | D55: =SUM(C55*100/B55) -> 112 | E55: 330 | F55: 403 | G55: =SUM(F55*100/E55) -> 122.12121
A56: สำนักงานพัฒนาฝีมือแรงงานจังหวัดเลย | B56: 20 | C56: 22 | D56: =SUM(C56*100/B56) -> 110 | E56: 160 | F56: 264 | G56: =SUM(F56*100/E56) -> 165
A57: สำนักงานพัฒนาฝีมือแรงงานจังหวัดเพชรบูรณ์ | B57: 80 | C57: 90 | D57: =SUM(C57*100/B57) -> 112.5 | E57: 330 | F57: 413 | G57: =SUM(F57*100/E57) -> 125.15152
A58: สำนักงานพัฒนาฝีมือแรงงานจังหวัดอุตรดิตถ์ | B58: 40 | C58: 40 | D58: =SUM(C58*100/B58) -> 100 | E58: 270 | F58: 617 | G58: =SUM(F58*100/E58) -> 228.51852
A59: สำนักงานพัฒนาฝีมือแรงงานจังหวัดสุโขทัย | B59: 20 | C59: 24 | D59: =SUM(C59*100/B59) -> 120 | E59: 160 | F59: 197 | G59: =SUM(F59*100/E59) -> 123.125 | K59: 200 | L59: 202 | M59: =SUM(L59*100/K59) -> 101
A60: สพร. 10 ลำปาง | B60: =SUM(B61:B63) -> 160 | C60: =SUM(C61:C63) -> 240 | D60: =SUM(C60*100/B60) -> 150 | E60: =SUM(E61:E63) -> 760 | F60: =SUM(F61:F63) -> 1530 | G60: =SUM(F60*100/E60) -> 201.31579 | K60: =SUM(K61:K63) -> 100 | L60: =SUM(L61:L63) -> 100 | M60: =SUM(L60*100/K60) -> 100
A61: สถาบันพัฒนาฝีมือแรงงาน 10 ลำปาง | B61: 80 | C61: 137 | D61: =SUM(C61*100/B61) -> 171.25 | E61: 380 | F61: 663 | G61: =SUM(F61*100/E61) -> 174.47368
A62: สำนักงานพัฒนาฝีมือแรงงานจังหวัดลำพูน | B62: 40 | C62: 53 | D62: =SUM(C62*100/B62) -> 132.5 | E62: 160 | F62: 535 | G62: =SUM(F62*100/E62) -> 334.375
A63: สำนักงานพัฒนาฝีมือแรงงานจังหวัดแพร่ | B63: 40 | C63: 50 | D63: =SUM(C63*100/B63) -> 125 | E63: 220 | F63: 332 | G63: =SUM(F63*100/E63) -> 150.90909 | K63: 100 | L63: 100 | M63: =SUM(L63*100/K63) -> 100
A64: สพร. 11 สุราษฎร์ธานี | B64: =SUM(B65:B67) -> 100 | C64: =SUM(C65:C67) -> 142 | D64: =SUM(C64*100/B64) -> 142 | E64: =SUM(E65:E67) -> 420 | F64: =SUM(F65:F67) -> 840 | G64: =SUM(F64*100/E64) -> 200
A65: สถาบันพัฒนาฝีมือแรงงาน 11 สุราษฎร์ธานี | B65: 40 | C65: 76 | D65: =SUM(C65*100/B65) -> 190 | E65: 280 | F65: 407 | G65: =SUM(F65*100/E65) -> 145.35714
A66: สำนักงานพัฒนาฝีมือแรงงานจังหวัดชุมพร | B66: 20 | C66: 22 | D66: =SUM(C66*100/B66) -> 110 | E66: 80 | F66: 258 | G66: =SUM(F66*100/E66) -> 322.5
A67: สำนักงานพัฒนาฝีมือแรงงานจังหวัดระนอง | B67: 40 | C67: 44 | D67: =SUM(C67*100/B67) -> 110 | E67: 60 | F67: 175 | G67: =SUM(F67*100/E67) -> 291.66667
A68: สพร. 12 สงขลา | B68: =SUM(B69:B70) -> 100 | C68: =SUM(C69:C70) -> 105 | D68: =SUM(C68*100/B68) -> 105 | E68: =SUM(E69:E70) -> 250 | F68: =SUM(F69:F70) -> 1359 | G68: =SUM(F68*100/E68) -> 543.6
A69: สถาบันพัฒนาฝีมือแรงงาน 12 สงขลา | B69: 80 | C69: 80 | D69: =SUM(C69*100/B69) -> 100 | E69: 170 | F69: 1121 | G69: =SUM(F69*100/E69) -> 659.41176
A70: สำนักงานพัฒนาฝีมือแรงงานจังหวัดสตูล | B70: 20 | C70: 25 | D70: =SUM(C70*100/B70) -> 125 | E70: 80 | F70: 238 | G70: =SUM(F70*100/E70) -> 297.5
A71: สพร. 13 กรุงเทพมหานคร | B71: =SUM(B72) -> 80 | C71: =SUM(C72) -> 90 | D71: =SUM(C71*100/B71) -> 112.5 | E71: =SUM(E72) -> 160 | F71: =SUM(F72) -> 654 | G71: =SUM(F71*100/E71) -> 408.75
A72: สถาบันพัฒนาฝีมือแรงงาน 13 กรุงเทพมหานคร | B72: 80 | C72: 90 | D72: =SUM(C72*100/B72) -> 112.5 | E72: 160 | F72: 654 | G72: =SUM(F72*100/E72) -> 408.75
A73: สพร. 14 ปทุมธานี | B73: =SUM(B74:B76) -> 180 | C73: =SUM(C74:C76) -> 258 | D73: =SUM(C73*100/B73) -> 143.33333 | E73: =SUM(E74:E76) -> 1340 | F73: =SUM(F74:F76) -> 2054 | G73: =SUM(F73*100/E73) -> 153.28358
A74: สถาบันพัฒนาฝีมือแรงงาน 14 ปทุมธานี | B74: 80 | C74: 83 | D74: =SUM(C74*100/B74) -> 103.75 | E74: 660 | F74: 990 | G74: =SUM(F74*100/E74) -> 150
A75: สำนักงานพัฒนาฝีมือแรงงานจังหวัดนนทบุรี | B75: 60 | C75: 127 | D75: =SUM(C75*100/B75) -> 211.66667 | E75: 550 | F75: 922 | G75: =SUM(F75*100/E75) -> 167.63636
A76: สำนักงานพัฒนาฝีมือแรงงานจังหวัดนครนายก | B76: 40 | C76: 48 | D76: =SUM(C76*100/B76) -> 120 | E76: 130 | F76: 142 | G76: =SUM(F76*100/E76) -> 109.23077
A77: สพร. 15 พระนครศรีอยุธยา | B77: =SUM(B78:B81) -> 190 | C77: =SUM(C78:C81) -> 197 | D77: =SUM(C77*100/B77) -> 103.68421 | E77: =SUM(E78:E81) -> 1100 | F77: =SUM(F78:F81) -> 2156 | G77: =SUM(F77*100/E77) -> 196
A78: สถาบันพัฒนาฝีมือแรงงาน 15 พระนครศรีอยุธยา | B78: 110 | C78: 111 | D78: =SUM(C78*100/B78) -> 100.90909 | E78: 550 | F78: 1170 | G78: =SUM(F78*100/E78) -> 212.72727
A79: สำนักงานพัฒนาฝีมือแรงงานจังหวัดอ่างทอง | B79: 20 | C79: 20 | D79: =SUM(C79*100/B79) -> 100 | E79: 110 | F79: 272 | G79: =SUM(F79*100/E79) -> 247.27273
A80: สำนักงานพัฒนาฝีมือแรงงานจังหวัดสระบุรี | B80: 40 | C80: 46 | D80: =SUM(C80*100/B80) -> 115 | E80: 280 | F80: 515 | G80: =SUM(F80*100/E80) -> 183.92857
A81: สำนักงานพัฒนาฝีมือแรงงานจังหวัดลพบุรี | B81: 20 | C81: 20 | D81: =SUM(C81*100/B81) -> 100 | E81: 160 | F81: 199 | G81: =SUM(F81*100/E81) -> 124.375
A82: สพร. 16 นครปฐม | B82: =SUM(B83:B85) -> 240 | C82: =SUM(C83:C85) -> 288 | D82: =SUM(C82*100/B82) -> 120 | E82: =SUM(E83:E85) -> 620 | F82: =SUM(F83:F85) -> 1414 | G82: =SUM(F82*100/E82) -> 228.06452
A83: สถาบันพัฒนาฝีมือแรงงาน 16 นครปฐม | B83: 120 | C83: 149 | D83: =SUM(C83*100/B83) -> 124.16667 | E83: 280 | F83: 657 | G83: =SUM(F83*100/E83) -> 234.64286
A84: สำนักงานพัฒนาฝีมือแรงงานจังหวัดสมุทรสาคร | B84: 100 | C84: 119 | D84: =SUM(C84*100/B84) -> 119 | E84: 280 | F84: 499 | G84: =SUM(F84*100/E84) -> 178.21429
A85: สำนักงานพัฒนาฝีมือแรงงานจังหวัดสมุทรสงคราม | B85: 20 | C85: 20 | D85: =SUM(C85*100/B85) -> 100 | E85: 60 | F85: 258 | G85: =SUM(F85*100/E85) -> 430
A86: สพร. 17 ระยอง | B86: =SUM(B87:B89) -> 80 | C86: =SUM(C87:C89) -> 86 | D86: =SUM(C86*100/B86) -> 107.5 | E86: =SUM(E87:E89) -> 430 | F86: =SUM(F87:F89) -> 962 | G86: =SUM(F86*100/E86) -> 223.72093
A87: สถาบันพัฒนาฝีมือแรงงาน 17 ระยอง | B87: 80 | C87: 86 | D87: =SUM(C87*100/B87) -> 107.5 | E87: 190 | F87: 648 | G87: =SUM(F87*100/E87) -> 341.05263
A88: สำนักงานพัฒนาฝีมือแรงงานจังหวัดจันทบุรี | E88: 130 | F88: 182 | G88: =SUM(F88*100/E88) -> 140
A89: สำนักงานพัฒนาฝีมือแรงงานจังหวัดตราด | E89: 110 | F89: 132 | G89: =SUM(F89*100/E89) -> 120
A90: สพร. 18 อุดรธานี | B90: =SUM(B91:B95) -> 140 | C90: =SUM(C91:C95) -> 165 | D90: =SUM(C90*100/B90) -> 117.85714 | E90: =SUM(E91:E95) -> 1030 | F90: =SUM(F91:F95) -> 2031 | G90: =SUM(F90*100/E90) -> 197.18447 | K90: =SUM(K91:K95) -> 300 | L90: =SUM(L91:L95) -> 303 | M90: =SUM(L90*100/K90) -> 101
A91: สถาบันพัฒนาฝีมือแรงงาน 18 อุดรธานี | B91: 20 | C91: 20 | D91: =SUM(C91*100/B91) -> 100 | E91: 380 | F91: 542 | G91: =SUM(F91*100/E91) -> 142.63158
A92: สำนักงานพัฒนาฝีมือแรงงานจังหวัดหนองคาย | B92: 20 | C92: 20 | D92: =SUM(C92*100/B92) -> 100 | E92: 160 | F92: 322 | G92: =SUM(F92*100/E92) -> 201.25
A93: สำนักงานพัฒนาฝีมือแรงงานจังหวัดบึงกาฬ | B93: 40 | C93: 45 | D93: =SUM(C93*100/B93) -> 112.5 | E93: 110 | F93: 122 | G93: =SUM(F93*100/E93) -> 110.90909 | K93: 100 | L93: 103 | M93: =SUM(L93*100/K93) -> 103
A94: สำนักงานพัฒนาฝีมือแรงงานจังหวัดสกลนคร | B94: 20 | C94: 25 | D94: =SUM(C94*100/B94) -> 125 | E94: 270 | F94: 393 | G94: =SUM(F94*100/E94) -> 145.55556 | K94: 100 | L94: 100 | M94: =SUM(L94*100/K94) -> 100
A95: สำนักงานพัฒนาฝีมือแรงงานจังหวัดนครพนม | B95: 40 | C95: 55 | D95: =SUM(C95*100/B95) -> 137.5 | E95: 110 | F95: 652 | G95: =SUM(F95*100/E95) -> 592.72727 | K95: 100 | L95: 100 | M95: =SUM(L95*100/K95) -> 100
A96: สพร. 19 เชียงใหม่ | B96: =SUM(B97:B98) -> 60 | C96: =SUM(C97:C98) -> 67 | D96: =SUM(C96*100/B96) -> 111.66667 | E96: =SUM(E97:E98) -> 330 | F96: =SUM(F97:F98) -> 824 | G96: =SUM(F96*100/E96) -> 249.69697 | K96: =SUM(K97:K98) -> 200 | L96: =SUM(L97:L98) -> 214 | M96: =SUM(L96*100/K96) -> 107
A97: สถาบันพัฒนาฝีมือแรงงาน 19 เชียงใหม่ | B97: 40 | C97: 46 | D97: =SUM(C97*100/B97) -> 115 | E97: 270 | F97: 675 | G97: =SUM(F97*100/E97) -> 250
A98: ศูนย์พัฒนาฝีมือแรงงานจังหวัดแม่ฮ่องสอน | B98: 20 | C98: 21 | D98: =SUM(C98*100/B98) -> 105 | E98: 60 | F98: 149 | G98: =SUM(F98*100/E98) -> 248.33333 | K98: 200 | L98: 214 | M98: =SUM(L98*100/K98) -> 107
A99: สพร. 20 เชียงราย | B99: =SUM(B100:B102) -> 100 | C99: =SUM(C100:C102) -> 132 | D99: =SUM(C99*100/B99) -> 132 | E99: =SUM(E100:E102) -> 450 | F99: =SUM(F100:F102) -> 1617 | G99: =SUM(F99*100/E99) -> 359.33333 | K99: =SUM(K100:K102) -> 100 | L99: =SUM(L100:L102) -> 100 | M99: =SUM(L99*100/K99) -> 100
A100: สถาบันพัฒนาฝีมือแรงงาน 20 เชียงราย | B100: 60 | C100: 66 | D100: =SUM(C100*100/B100) -> 110 | E100: 220 | F100: 670 | G100: =SUM(F100*100/E100) -> 304.54545
A101: สำนักงานพัฒนาฝีมือแรงงานจังหวัดพะเยา | B101: 20 | C101: 44 | D101: =SUM(C101*100/B101) -> 220 | E101: 120 | F101: 722 | G101: =SUM(F101*100/E101) -> 601.66667
...

Sheet 4
A1: ผลการดำเนินงานพัฒนาฝีมือแรงงาน ปีงบประมาณ 2561
A2: ตุลาคม 2560 - กันยายน 2561 เป้าหมาย 12 เดือน
A4: หน่วยงาน | B4: โครงการพัฒนาฝีมือแรงงานนานาชาติ | E4: ผลผลิตพัฒนา/ขับเคลื่อนความร่วมมือเครือข่ายและส่งเสริมการพัฒนาฝีมือแรงงาน | K4: ฝึกอบรมแรงงานกลุ่มเป้าหมายเฉพาะ | N4: ฝึกอบรมแรงงานผู้สูงอายุ
B5: เพื่อการพัฒนาความร่วมมือทางเศรษฐกิจ | E5: ส่งเสริมและสนับสนุนให้สถานประกอบกิจการ | H5: พัฒนาช่างช่วยคนพิการกับ | K5: เพื่อเพิ่มโอกาสในการประกอบอาชีพ | N5: เพื่อเพิ่มโอกาสในการประกอบอาชีพ
B6: ในอนุภิภาคลุ่มแม่น้ำโขงฯ | E6: ดำเนินการฝึกอบรมฯ ตาม พ.ร.บ ส่งเสริมฯ | H6: มูลนิธิขาเทียม
B7: เป้าหมาย | C7: รวมเข้า | D7: ร้อยละ | E7: เป้าหมาย | F7: รวมเข้า | G7: ร้อยละ | H7: เป้าหมาย | I7: รวมเข้า | J7: ร้อยละ | K7: เป้าหมาย | L7: รวมเข้า | M7: ร้อยละ | N7: เป้าหมาย | O7: รวมเข้า | P7: ร้อยละ
A8: รวมทั้งสิ้น | B8: =SUM(B12+B16+B19+B24+B28+B33+B38+B44+B50+B55+B61+B65+B69+B72+B74+B78+B83+B87+B91+B97+B100+B104+B108+B112+B113+B114) -> 2000 | C8: =SUM(C12+C16+C19+C24+C28+C33+C38+C44+C50+C55+C61+C65+C69+C72+C74+C78+C83+C87+C91+C97+C100+C104+C108+C112+C113+C114) -> 2003 | D8: =SUM(C12*100/B12) -> 100.15 | E8: =SUM(E16+E19+E24+E28+E33+E38+E44+E50+E55+E61+E65+E69+E72+E74+E78+E83+E87+E91+E97+E100+E104+E108+E112+E113+E114) -> 3505510 | F8: =SUM(F16+F19+F24+F28+F33+F38+F44+F50+F55+F61+F65+F69+F72+F74+F78+F83+F87+F91+F97+F100+F104+F108+F112+F113+F114) -> 4404994 | G8: =SUM(F8*100/E8) -> 125.65915 | H8: =SUM(H16+H19+H24+H28+H33+H38+H44+H50+H55+H61+H65+H69+H72+H74+H78+H83+H87+H91+H97+H100+H104+H108+H112+H113+H114) -> 60 | I8: =SUM(I16+I19+I24+I28+I33+I38+I44+I50+I55+I61+I65+I69+I72+I74+I78+I83+I87+I91+I97+I100+I104+I108+I112+I113+I114) -> 64 | J8: =SUM(J16+J19+J24+J28+J33+J38+J44+J50+J55+J61+J65+J69+J72+J74+J78+J83+J87+J91+J97+J100+J104+J108+J112+J113+J114) -> 106.66667 | K8: =SUM(K16+K19+K24+K28+K33+K38+K44+K50+K55+K61+K65+K69+K72+K74+K78+K83+K87+K91+K97+K100+K104+K108+K112+K113+K114+K13) -> 20000 | L8: =SUM(L16+L19+L24+L28+L33+L38+L44+L50+L55+L61+L65+L69+L72+L74+L78+L83+L87+L91+L97+L100+L104+L108+L112+L113+L114+L13) -> 31826 | M8: =SUM(L8*100/K8) -> 159.13 | N8: =SUM(N16+N19+N24+N28+N33+N38+N44+N50+N55+N61+N65+N69+N72+N74+N78+N83+N87+N91+N97+N100+N104+N108+N112+N113+N114) -> 6800 | O8: =SUM(O16+O19+O24+O28+O33+O38+O44+O50+O55+O61+O65+O69+O72+O74+O78+O83+O87+O91+O97+O100+O104+O108+O112+O113+O114) -> 8263 | P8: =SUM(O8*100/N8) -> 121.51471
A9: กลุ่มงานพัฒนาวิทยากรต้นแบบ
A10: สถาบันยานยนต์
A11: สถาบันพัฒนาทรัพยากรมนุษย์
A12: สถาบันพัฒนาฝีมือแรงงานนานาชาติเชียงแสน | B12: 2000 | C12: 2003 | D12: =SUM(C12*100/B12) -> 100.15
A13: สถาบันพัฒนาทรัพยากรมนุษย์สำหรับอุตสาหกรรม | K13: 60 | L13: 98 | M13: =SUM(L13*100/K13) -> 163.33333
A14: สำนักมาตรฐานและทดสอบฝีมือแรงงาน
A15: สำนักงานรับรองความรู้ความสามารถ
A16: สพร. 1 สมุทรปราการ | E16: =SUM(E17:E18) -> 395000 | F16: =SUM(F17:F18) -> 421293 | G16: =SUM(F16*100/E16) -> 106.65646 | K16: =SUM(K17:K18) -> 600 | L16: =SUM(L17:L18) -> 1027 | M16: =SUM(L16*100/K16) -> 171.16667 | N16: =SUM(N17:N18) -> 200 | O16: =SUM(O17:O18) -> 205 | P16: =SUM(O16*100/N16) -> 102.5
A17: สถาบันพัฒนาฝีมือแรงงาน 1 สมุทรปราการ | E17: 315000 | F17: 340937 | G17: =SUM(F17*100/E17) -> 108.23397 | K17: 300 | L17: 578 | M17: =SUM(L17*100/K17) -> 192.66667 | N17: 80 | O17: 85 | P17: =SUM(O17*100/N17) -> 106.25
A18: สำนักงานพัฒนาฝีมือแรงงานจังหวัดฉะเชิงเทรา | E18: 80000 | F18: 80356 | G18: =SUM(F18*100/E18) -> 100.445 | K18: 300 | L18: 449 | M18: =SUM(L18*100/K18) -> 149.66667 | N18: 120 | O18: 120 | P18: =SUM(O18*100/N18) -> 100
A19: สพร. 2 สุพรรณบุรี | E19: =SUM(E20:E23) -> 14200 | F19: =SUM(F20:F23) -> 18139 | G19: =SUM(F19*100/E19) -> 127.73944 | K19: =SUM(K20:K23) -> 860 | L19: =SUM(L20:L23) -> 955 | M19: =SUM(L19*100/K19) -> 111.04651 | N19: =SUM(N20:N23) -> 540 | O19: =SUM(O20:O23) -> 582 | P19: =SUM(O19*100/N19) -> 107.77778
A20: สถาบันพัฒนาฝีมือแรงงาน 2 สุพรรณบุรี | E20: 4700 | F20: 6601 | G20: =SUM(F20*100/E20) -> 140.44681 | K20: 80 | L20: 83 | M20: =SUM(L20*100/K20) -> 103.75 | N20: 80 | O20: 105 | P20: =SUM(O20*100/N20) -> 131.25
A21: สำนักงานพัฒนาฝีมือแรงงานจังหวัดสิงห์บุรี | E21: 6000 | F21: 6183 | G21: =SUM(F21*100/E21) -> 103.05 | K21: 100 | L21: 111 | M21: =SUM(L21*100/K21) -> 111 | N21: 80 | O21: 90 | P21: =SUM(O21*100/N21) -> 112.5
A22: สำนักงานพัฒนาฝีมือแรงงานจังหวัดชัยนาท | E22: 2000 | F22: 3542 | G22: =SUM(F22*100/E22) -> 177.1 | K22: 200 | L22: 237 | M22: =SUM(L22*100/K22) -> 118.5 | N22: 100 | O22: 105 | P22: =SUM(O22*100/N22) -> 105
A23: สำนักงานพัฒนาฝีมือแรงงานจังหวัดอุทัยธานี | E23: 1500 | F23: 1813 | G23: =SUM(F23*100/E23) -> 120.86667 | K23: 480 | L23: 524 | M23: =SUM(L23*100/K23) -> 109.16667 | N23: 280 | O23: 282 | P23: =SUM(O23*100/N23) -> 100.71429
A24: สพร. 3 ชลบุรี | E24: =SUM(E25:E27) -> 273000 | F24: =SUM(F25:F27) -> 381398 | G24: =SUM(F24*100/E24) -> 139.70623 | K24: =SUM(K25:K27) -> 360 | L24: =SUM(L25:L27) -> 503 | M24: =SUM(L24*100/K24) -> 139.72222 | N24: =SUM(N25:N27) -> 220 | O24: =SUM(O25:O27) -> 269 | P24: =SUM(O24*100/N24) -> 122.27273
A25: สถาบันพัฒนาฝีมือแรงงาน 3 ชลบุรี | E25: 224000 | F25: 296090 | G25: =SUM(F25*100/E25) -> 132.18304 | K25: 140 | L25: 230 | M25: =SUM(L25*100/K25) -> 164.28571 | N25: 100 | O25: 148 | P25: =SUM(O25*100/N25) -> 148
A26: ศูนย์พัฒนาฝีมือแรงงานจังหวัดปราจีนบุรี | E26: 47000 | F26: 82322 | G26: =SUM(F26*100/E26) -> 175.15319 | K26: 80 | L26: 80 | M26: =SUM(L26*100/K26) -> 100 | N26: 100 | O26: 100 | P26: =SUM(O26*100/N26) -> 100
A27: ศูนย์พัฒนาฝีมือแรงงานจังหวัดสระแก้ว | E27: 2000 | F27: 2986 | G27: =SUM(F27*100/E27) -> 149.3 | K27: 140 | L27: 193 | M27: =SUM(L27*100/K27) -> 137.85714 | N27: 20 | O27: 21 | P27: =SUM(O27*100/N27) -> 105
A28: สพร. 4 ราชบุรี | E28: =SUM(E29:E32) -> 47700 | F28: =SUM(F29:F32) -> 72716 | G28: =SUM(F28*100/E28) -> 152.44444 | K28: =SUM(K29:K32) -> 1160 | L28: =SUM(L29:L32) -> 1773 | M28: =SUM(L28*100/K28) -> 152.84483 | N28: =SUM(N29:N32) -> 280 | O28: =SUM(O29:O32) -> 303 | P28: =SUM(O28*100/N28) -> 108.21429
A29: สถาบันพัฒนาฝีมือแรงงาน 4 ราชบุรี | E29: 20000 | F29: 31364 | G29: =SUM(F29*100/E29) -> 156.82 | K29: 400 | L29: 461 | M29: =SUM(L29*100/K29) -> 115.25 | N29: 60 | O29: 60 | P29: =SUM(O29*100/N29) -> 100
A30: สำนักงานพัฒนาฝีมือแรงงานจังหวัดเพชรบุรี | E30: 7200 | F30: 10230 | G30: =SUM(F30*100/E30) -> 142.08333 | K30: 280 | L30: 517 | M30: =SUM(L30*100/K30) -> 184.64286 | N30: 60 | O30: 63 | P30: =SUM(O30*100/N30) -> 105
A31: สำนักงานพัฒนาฝีมือแรงงานจังหวัดกาญจนบุรี | E31: 10500 | F31: 16020 | G31: =SUM(F31*100/E31) -> 152.57143 | K31: 260 | L31: 366 | M31: =SUM(L31*100/K31) -> 140.76923 | N31: 100 | O31: 120 | P31: =SUM(O31*100/N31) -> 120
A32: สำนักงานพัฒนาฝีมือแรงงานจังหวัดประจวบคีรีขันธ์ | E32: 10000 | F32: 15102 | G32: =SUM(F32*100/E32) -> 151.02 | K32: 220 | L32: 429 | M32: =SUM(L32*100/K32) -> 195 | N32: 60 | O32: 60 | P32: =SUM(O32*100/N32) -> 100
A33: สพร. 5 นครราชสีมา | E33: =SUM(E34:E37) -> 99000 | F33: =SUM(F34:F37) -> 109413 | G33: =SUM(F33*100/E33) -> 110.51818 | K33: =SUM(K34:K37) -> 1260 | L33: =SUM(L34:L37) -> 2549 | M33: =SUM(L33*100/K33) -> 202.30159 | N33: =SUM(N34:N37) -> 380 | O33: =SUM(O34:O37) -> 532 | P33: =SUM(O33*100/N33) -> 140
A34: สถาบันพัฒนาฝีมือแรงงาน 5 นครราชสีมา | E34: 90000 | F34: 90296 | G34: =SUM(F34*100/E34) -> 100.32889 | K34: 480 | L34: 933 | M34: =SUM(L34*100/K34) -> 194.375 | N34: 200 | O34: 323 | P34: =SUM(O34*100/N34) -> 161.5
A35: สำนักงานพัฒนาฝีมือแรงงานจังหวัดชัยภูมิ | E35: 3000 | F35: 6526 | G35: =SUM(F35*100/E35) -> 217.53333 | K35: 240 | L35: 516 | M35: =SUM(L35*100/K35) -> 215 | N35: 80 | O35: 89 | P35: =SUM(O35*100/N35) -> 111.25
A36: สำนักงานพัฒนาฝีมือแรงงานจังหวัดสุรินทร์ | E36: 2000 | F36: 3659 | G36: =SUM(F36*100/E36) -> 182.95 | K36: 300 | L36: 447 | M36: =SUM(L36*100/K36) -> 149 | N36: 40 | O36: 40 | P36: =SUM(O36*100/N36) -> 100
A37: สำนักงานพัฒนาฝีมือแรงงานจังหวัดบุรีรัมย์ | E37: 4000 | F37: 8932 | G37: =SUM(F37*100/E37) -> 223.3 | K37: 240 | L37: 653 | M37: =SUM(L37*100/K37) -> 272.08333 | N37: 60 | O37: 80 | P37: =SUM(O37*100/N37) -> 133.33333
A38: สพร. 6 ขอนแก่น | E38: =SUM(E39:E43) -> 19700 | F38: =SUM(F39:F43) -> 57649 | G38: =SUM(F38*100/E38) -> 292.63452 | K38: =SUM(K39:K43) -> 1040 | L38: =SUM(L39:L43) -> 1473 | M38: =SUM(L38*100/K38) -> 141.63462 | N38: =SUM(N39:N43) -> 420 | O38: =SUM(O39:O43) -> 494 | P38: =SUM(O38*100/N38) -> 117.61905
A39: สถาบันพัฒนาฝีมือแรงงาน 6 ขอนแก่น | E39: 15000 | F39: 46159 | G39: =SUM(F39*100/E39) -> 307.72667 | K39: 300 | L39: 356 | M39: =SUM(L39*100/K39) -> 118.66667 | N39: 80 | O39: 85 | P39: =SUM(O39*100/N39) -> 106.25
A40: สำนักงานพัฒนาฝีมือแรงงานจังหวัดกาฬสินธุ์ | E40: 1200 | F40: 3477 | G40: =SUM(F40*100/E40) -> 289.75 | K40: 160 | L40: 323 | M40: =SUM(L40*100/K40) -> 201.875 | N40: 60 | O40: 107 | P40: =SUM(O40*100/N40) -> 178.33333
A41: สำนักงานพัฒนาฝีมือแรงงานจังหวัดมุกดาหาร | E41: 800 | F41: 2308 | G41: =SUM(F41*100/E41) -> 288.5 | K41: 240 | L41: 392 | M41: =SUM(L41*100/K41) -> 163.33333 | N41: 80 | O41: 80 | P41: =SUM(O41*100/N41) -> 100
A42: สำนักงานพัฒนาฝีมือแรงงานจังหวัดหนองบัวลำภู | E42: 1200 | F42: 3055 | G42: =SUM(F42*100/E42) -> 254.58333 | K42: 200 | L42: 240 | M42: =SUM(L42*100/K42) -> 120 | N42: 120 | O42: 138 | P42: =SUM(O42*100/N42) -> 115
A43: สำนักงานพัฒนาฝีมือแรงงานจังหวัดมหาสารคาม | E43: 1500 | F43: 2650 | G43: =SUM(F43*100/E43) -> 176.66667 | K43: 140 | L43: 162 | M43: =SUM(L43*100/K43) -> 115.71429 | N43: 80 | O43: 84 | P43: =SUM(O43*100/N43) -> 105
A44: สพร. 7 อุบลราชธานี | E44: =SUM(E45:E49) -> 10550 | F44: =SUM(F45:F49) -> 20379 | G44: =SUM(F44*100/E44) -> 193.16588 | K44: =SUM(K45:K49) -> 1660 | L44: =SUM(L45:L49) -> 2222 | M44: =SUM(L44*100/K44) -> 133.85542 | N44: =SUM(N45:N49) -> 480 | O44: =SUM(O45:O49) -> 520 | P44: =SUM(O44*100/N44) -> 108.33333
A45: สถาบันพัฒนาฝีมือแรงงาน 7 อุบลราชธานี | E45: 6500 | F45: 11016 | G45: =SUM(F45*100/E45) -> 169.47692 | K45: 580 | L45: 651 | M45: =SUM(L45*100/K45) -> 112.24138 | N45: 160 | O45: 160 | P45: =SUM(O45*100/N45) -> 100
A46: สำนักงานพัฒนาฝีมือแรงงานจังหวัดศรีสะเกษ | E46: 1000 | F46: 1987 | G46: =SUM(F46*100/E46) -> 198.7 | K46: 260 | L46: 267 | M46: =SUM(L46*100/K46) -> 102.69231 | N46: 80 | O46: 80 | P46: =SUM(O46*100/N46) -> 100
A47: สำนักงานพัฒนาฝีมือแรงงานจังหวัดอำนาจเจริญ | E47: 50 | F47: 77 | G47: =SUM(F47*100/E47) -> 154 | K47: 300 | L47: 388 | M47: =SUM(L47*100/K47) -> 129.33333 | N47: 120 | O47: 120 | P47: =SUM(O47*100/N47) -> 100
A48: สำนักงานพัฒนาฝีมือแรงงานจังหวัดร้อยเอ็ด | E48: 2000 | F48: 5811 | G48: =SUM(F48*100/E48) -> 290.55 | K48: 300 | L48: 530 | M48: =SUM(L48*100/K48) -> 176.66667 | N48: 80 | O48: 120 | P48: =SUM(O48*100/N48) -> 150
A49: สำนักงานพัฒนาฝีมือแรงงานจังหวัดยโสธร | E49: 1000 | F49: 1488 | G49: =SUM(F49*100/E49) -> 148.8 | K49: 220 | L49: 386 | M49: =SUM(L49*100/K49) -> 175.45455 | N49: 40 | O49: 40 | P49: =SUM(O49*100/N49) -> 100
A50: สพร. 8 นครสวรรค์ | E50: =SUM(E51:E54) -> 16200 | F50: =SUM(F51:F54) -> 28158 | G50: =SUM(F50*100/E50) -> 173.81481 | K50: =SUM(K51:K54) -> 1240 | L50: =SUM(L51:L54) -> 2070 | M50: =SUM(L50*100/K50) -> 166.93548 | N50: =SUM(N51:N54) -> 280 | O50: =SUM(O51:O54) -> 461 | P50: =SUM(O50*100/N50) -> 164.64286
A51: สถาบันพัฒนาฝีมือแรงงาน 8 นครสวรรค์ | E51: 8000 | F51: 12372 | G51: =SUM(F51*100/E51) -> 154.65 | K51: 420 | L51: 571 | M51: =SUM(L51*100/K51) -> 135.95238 | N51: 80 | O51: 80 | P51: =SUM(O51*100/N51) -> 100
A52: สำนักงานพัฒนาฝีมือแรงงานจังหวัดพิจิตร | E52: 1200 | F52: 3752 | G52: =SUM(F52*100/E52) -> 312.66667 | K52: 240 | L52: 301 | M52: =SUM(L52*100/K52) -> 125.41667 | N52: 20 | O52: 20 | P52: 0
A53: สำนักงานพัฒนาฝีมือแรงงานจังหวัดกำแพงเพชร | E53: 3000 | F53: 5589 | G53: =SUM(F53*100/E53) -> 186.3 | K53: 280 | L53: 525 | M53: =SUM(L53*100/K53) -> 187.5 | N53: 80 | O53: 198 | P53: =SUM(O53*100/N53) -> 247.5
A54: สำนักงานพัฒนาฝีมือแรงงานจังหวัดตาก | E54: 4000 | F54: 6445 | G54: =SUM(F54*100/E54) -> 161.125 | K54: 300 | L54: 673 | M54: =SUM(L54*100/K54) -> 224.33333 | N54: 100 | O54: 163 | P54: =SUM(O54*100/N54) -> 163
A55: สพร. 9 พิษณุโลก | E55: =SUM(E56:E60) -> 13200 | F55: =SUM(F56:F60) -> 28999 | G55: =SUM(F55*100/E55) -> 219.68939 | K55: =SUM(K56:K60) -> 1660 | L55: =SUM(L56:L60) -> 2048 | M55: =SUM(L55*100/K55) -> 123.37349 | N55: =SUM(N56:N60) -> 440 | O55: =SUM(O56:O60) -> 446 | P55: =SUM(O55*100/N55) -> 101.36364
A56: สถาบันพัฒนาฝีมือแรงงาน 9 พิษณุโลก | E56: 6000 | F56: 11658 | G56: =SUM(F56*100/E56) -> 194.3 | K56: 640 | L56: 802 | M56: =SUM(L56*100/K56) -> 125.3125 | N56: 100 | O56: 101 | P56: =SUM(O56*100/N56) -> 101
A57: สำนักงานพัฒนาฝีมือแรงงานจังหวัดเลย | E57: 700 | F57: 2004 | G57: =SUM(F57*100/E57) -> 286.28571 | K57: 240 | L57: 342 | M57: =SUM(L57*100/K57) -> 142.5 | N57: 100 | O57: 104 | P57: =SUM(O57*100/N57) -> 104
A58: สำนักงานพัฒนาฝีมือแรงงานจังหวัดเพชรบูรณ์ | E58: 3000 | F58: 10802 | G58: =SUM(F58*100/E58) -> 360.06667 | K58: 340 | L58: 352 | M58: =SUM(L58*100/K58) -> 103.52941 | N58: 80 | O58: 80 | P58: =SUM(O58*100/N58) -> 100
A59: สำนักงานพัฒนาฝีมือแรงงานจังหวัดอุตรดิตถ์ | E59: 2900 | F59: 3752 | G59: =SUM(F59*100/E59) -> 129.37931 | K59: 320 | L59: 337 | M59: =SUM(L59*100/K59) -> 105.3125 | N59: 80 | O59: 81 | P59: =SUM(O59*100/N59) -> 101.25
A60: สำนักงานพัฒนาฝีมือแรงงานจังหวัดสุโขทัย | E60: 600 | F60: 783 | G60: =SUM(F60*100/E60) -> 130.5 | K60: 120 | L60: 215 | M60: =SUM(L60*100/K60) -> 179.16667 | N60: 80 | O60: 80 | P60: =SUM(O60*100/N60) -> 100
A61: สพร. 10 ลำปาง | E61: =SUM(E62:E64) -> 35000 | F61: =SUM(F62:F64) -> 58401 | G61: =SUM(F61*100/E61) -> 166.86 | K61: =SUM(K62:K64) -> 780 | L61: =SUM(L62:L64) -> 1290 | M61: =SUM(L61*100/K61) -> 165.38462 | N61: =SUM(N62:N64) -> 380 | O61: =SUM(O62:O64) -> 431 | P61: =SUM(O61*100/N61) -> 113.42105
A62: สถาบันพัฒนาฝีมือแรงงาน 10 ลำปาง | E62: 9000 | F62: 9161 | G62: =SUM(F62*100/E62) -> 101.78889 | K62: 460 | L62: 656 | M62: =SUM(L62*100/K62) -> 142.6087 | N62: 220 | O62: 221 | P62: =SUM(O62*100/N62) -> 100.45455
A63: สำนักงานพัฒนาฝีมือแรงงานจังหวัดลำพูน | E63: 25000 | F63: 46966 | G63: =SUM(F63*100/E63) -> 187.864 | K63: 200 | L63: 438 | M63: =SUM(L63*100/K63) -> 219 | N63: 100 | O63: 150 | P63: =SUM(O63*100/N63) -> 150
A64: สำนักงานพัฒนาฝีมือแรงงานจังหวัดแพร่ | E64: 1000 | F64: 2274 | G64: =SUM(F64*100/E64) -> 227.4 | K64: 120 | L64: 196 | M64: =SUM(L64*100/K64) -> 163.33333 | N64: 60 | O64: 60 | P64: =SUM(O64*100/N64) -> 100
A65: สพร. 11 สุราษฎร์ธานี | E65: =SUM(E66:E68) -> 17050 | F65: =SUM(F66:F68) -> 35661 | G65: =SUM(F65*100/E65) -> 209.15543 | K65: =SUM(K66:K68) -> 480 | L65: =SUM(L66:L68) -> 918 | M65: =SUM(L65*100/K65) -> 191.25 | N65: =SUM(N66:N68) -> 240 | O65: =SUM(O66:O68) -> 305 | P65: =SUM(O65*100/N65) -> 127.08333
A66: สถาบันพัฒนาฝีมือแรงงาน 11 สุราษฎร์ธานี | E66: 13500 | F66: 23017 | G66: =SUM(F66*100/E66) -> 170.4963 | K66: 160 | L66: 224 | M66: =SUM(L66*100/K66) -> 140 | N66: 80 | O66: 80 | P66: =SUM(O66*100/N66) -> 100
A67: สำนักงานพัฒนาฝีมือแรงงานจังหวัดชุมพร | E67: 3000 | F67: 10071 | G67: =SUM(F67*100/E67) -> 335.7 | K67: 280 | L67: 609 | M67: =SUM(L67*100/K67) -> 217.5 | N67: 60 | O67: 125 | P67: =SUM(O67*100/N67) -> 208.33333
A68: สำนักงานพัฒนาฝีมือแรงงานจังหวัดระนอง | E68: 550 | F68: 2573 | G68: =SUM(F68*100/E68) -> 467.81818 | K68: 40 | L68: 85 | M68: =SUM(L68*100/K68) -> 212.5 | N68: 100 | O68: 100 | P68: =SUM(O68*100/N68) -> 100
A69: สพร. 12 สงขลา | E69: =SUM(E70:E71) -> 51000 | F69: =SUM(F70:F71) -> 89089 | G69: =SUM(F69*100/E69) -> 174.68431 | K69: =SUM(K70:K71) -> 480 | L69: =SUM(L70:L71) -> 504 | M69: =SUM(L69*100/K69) -> 105 | N69: =SUM(N70:N71) -> 100 | O69: =SUM(O70:O71) -> 102 | P69: =SUM(O69*100/N69) -> 102
A70: สถาบันพัฒนาฝีมือแรงงาน 12 สงขลา | E70: 50000 | F70: 85706 | G70: =SUM(F70*100/E70) -> 171.412 | K70: 180 | L70: 190 | M70: =SUM(L70*100/K70) -> 105.55556 | N70: 20 | O70: 20 | P70: =SUM(O70*100/N70) -> 100
A71: สำนักงานพัฒนาฝีมือแรงงานจังหวัดสตูล | E71: 1000 | F71: 3383 | G71: =SUM(F71*100/E71) -> 338.3 | K71: 300 | L71: 314 | M71: =SUM(L71*100/K71) -> 104.66667 | N71: 80 | O71: 82 | P71: =SUM(O71*100/N71) -> 102.5
A72: สพร. 13 กรุงเทพมหานคร | E72: =SUM(E73) -> 1649840 | F72: =SUM(F73) -> 1826651 | G72: =SUM(F72*100/E72) -> 110.71686 | K72: =SUM(K73) -> 80 | L72: =SUM(L73) -> 168 | M72: =SUM(L72*100/K72) -> 210 | N72: =SUM(N73) -> 80 | O72: =SUM(O73) -> 103 | P72: =SUM(O72*100/N72) -> 128.75
A73: สถาบันพัฒนาฝีมือแรงงาน 13 กรุงเทพมหานคร | E73: 1649840 | F73: 1826651 | G73: =SUM(F73*100/E73) -> 110.71686 | K73: 80 | L73: 168 | M73: =SUM(L73*100/K73) -> 210 | N73: 80 | O73: 103 | P73: =SUM(O73*100/N73) -> 128.75
A74: สพร. 14 ปทุมธานี | E74: =SUM(E75:E77) -> 252000 | F74: =SUM(F75:F77) -> 324143 | G74: =SUM(F74*100/E74) -> 128.62817 | K74: =SUM(K75:K77) -> 1000 | L74: =SUM(L75:L77) -> 1578 | M74: =SUM(L74*100/K74) -> 157.8 | N74: =SUM(N75:N77) -> 320 | O74: =SUM(O75:O77) -> 353 | P74: =SUM(O74*100/N74) -> 110.3125
A75: สถาบันพัฒนาฝีมือแรงงาน 14 ปทุมธานี | E75: 150000 | F75: 208810 | G75: =SUM(F75*100/E75) -> 139.20667 | K75: 180 | L75: 212 | M75: =SUM(L75*100/K75) -> 117.77778 | N75: 100 | O75: 120 | P75: =SUM(O75*100/N75) -> 120
A76: สำนักงานพัฒนาฝีมือแรงงานจังหวัดนนทบุรี | E76: 100000 | F76: 111994 | G76: =SUM(F76*100/E76) -> 111.994 | K76: 640 | L76: 1174 | M76: =SUM(L76*100/K76) -> 183.4375 | N76: 80 | O76: 91 | P76: =SUM(O76*100/N76) -> 113.75
A77: สำนักงานพัฒนาฝีมือแรงงานจังหวัดนครนายก | E77: 2000 | F77: 3339 | G77: =SUM(F77*100/E77) -> 166.95 | K77: 180 | L77: 192 | M77: =SUM(L77*100/K77) -> 106.66667 | N77: 140 | O77: 142 | P77: =SUM(O77*100/N77) -> 101.42857
A78: สพร. 15 พระนครศรีอยุธยา | E78: =SUM(E79:E82) -> 176900 | F78: =SUM(F79:F82) -> 266508 | G78: =SUM(F78*100/E78) -> 150.65461 | K78: =SUM(K79:K82) -> 1200 | L78: =SUM(L79:L82) -> 2197 | M78: =SUM(L78*100/K78) -> 183.08333 | N78: =SUM(N79:N82) -> 340 | O78: =SUM(O79:O82) -> 429 | P78: =SUM(O78*100/N78) -> 126.17647
A79: สถาบันพัฒนาฝีมือแรงงาน 15 พระนครศรีอยุธยา | E79: 120000 | F79: 168523 | G79: =SUM(F79*100/E79) -> 140.43583 | K79: 480 | L79: 593 | M79: =SUM(L79*100/K79) -> 123.54167 | N79: 100 | O79: 100 | P79: =SUM(O79*100/N79) -> 100
A80: สำนักงานพัฒนาฝีมือแรงงานจังหวัดอ่างทอง | E80: 1900 | F80: 2125 | G80: =SUM(F80*100/E80) -> 111.84211 | K80: 180 | L80: 225 | M80: =SUM(L80*100/K80) -> 125 | N80: 80 | O80: 83 | P80: =SUM(O80*100/N80) -> 103.75
A81: สำนักงานพัฒนาฝีมือแรงงานจังหวัดสระบุรี | E81: 40000 | F81: 67760 | G81: =SUM(F81*100/E81) -> 169.4 | K81: 240 | L81: 581 | M81: =SUM(L81*100/K81) -> 242.08333 | N81: 80 | O81: 86 | P81: =SUM(O81*100/N81) -> 107.5
A82: สำนักงานพัฒนาฝีมือแรงงานจังหวัดลพบุรี | E82: 15000 | F82: 28100 | G82: =SUM(F82*100/E82) -> 187.33333 | K82: 300 | L82: 798 | M82: =SUM(L82*100/K82) -> 266 | N82: 80 | O82: 160 | P82: =SUM(O82*100/N82) -> 200
A83: สพร. 16 นครปฐม | E83: =SUM(E84:E86) -> 147650 | F83: =SUM(F84:F86) -> 260132 | G83: =SUM(F83*100/E83) -> 176.18151 | K83: =SUM(K84:K86) -> 440 | L83: =SUM(L84:L86) -> 1095 | M83: =SUM(L83*100/K83) -> 248.86364 | N83: =SUM(N84:N86) -> 420 | O83: =SUM(O84:O86) -> 614 | P83: =SUM(O83*100/N83) -> 146.19048
A84: สถาบันพัฒนาฝีมือแรงงาน 16 นครปฐม | E84: 30000 | F84: 59878 | G84: =SUM(F84*100/E84) -> 199.59333 | K84: 220 | L84: 568 | M84: =SUM(L84*100/K84) -> 258.18182 | N84: 60 | O84: 162 | P84: =SUM(O84*100/N84) -> 270
A85: สำนักงานพัฒนาฝีมือแรงงานจังหวัดสมุทรสาคร | E85: 114500 | F85: 194152 | G85: =SUM(F85*100/E85) -> 169.56507 | K85: 120 | L85: 160 | M85: =SUM(L85*100/K85) -> 133.33333 | N85: 60 | O85: 80 | P85: =SUM(O85*100/N85) -> 133.33333
A86: สำนักงานพัฒนาฝีมือแรงงานจังหวัดสมุทรสงคราม | E86: 3150 | F86: 6102 | G86: =SUM(F86*100/E86) -> 193.71429 | K86: 100 | L86: 367 | M86: =SUM(L86*100/K86) -> 367 | N86: 300 | O86: 372 | P86: =SUM(O86*100/N86) -> 124
A87: สพร. 17 ระยอง | E87: =SUM(E88:E90) -> 196000 | F87: =SUM(F88:F90) -> 259954 | G87: =SUM(F87*100/E87) -> 132.62959 | K87: =SUM(K88:K90) -> 500 | L87: =SUM(L88:L90) -> 1175 | M87: =SUM(L87*100/K87) -> 235 | N87: =SUM(N88:N90) -> 260 | O87: =SUM(O88:O90) -> 340 | P87: =SUM(O87*100/N87) -> 130.76923
A88: สถาบันพัฒนาฝีมือแรงงาน 17 ระยอง | E88: 190000 | F88: 251225 | G88: =SUM(F88*100/E88) -> 132.22368 | K88: 200 | L88: 264 | M88: =SUM(L88*100/K88) -> 132 | N88: 120 | O88: 126 | P88: =SUM(O88*100/N88) -> 105
A89: สำนักงานพัฒนาฝีมือแรงงานจังหวัดจันทบุรี | E89: 5000 | F89: 6563 | G89: =SUM(F89*100/E89) -> 131.26 | K89: 260 | L89: 786 | M89: =SUM(L89*100/K89) -> 302.30769 | N89: 60 | O89: 92 | P89: =SUM(O89*100/N89) -> 153.33333
A90: สำนักงานพัฒนาฝีมือแรงงานจังหวัดตราด | E90: 1000 | F90: 2166 | G90: =SUM(F90*100/E90) -> 216.6 | K90: 40 | L90: 125 | M90: =SUM(L90*100/K90) -> 312.5 | N90: 80 | O90: 122 | P90: =SUM(O90*100/N90) -> 152.5
A91: สพร. 18 อุดรธานี | E91: =SUM(E92:E96) -> 8410 | F91: =SUM(F92:F96) -> 14915 | G91: =SUM(F91*100/E91) -> 177.34839 | H91: =SUM(H92:H96) -> 0 | I91: =SUM(I92:I96) -> 0 | J91: =SUM(J92:J96) -> 0 | K91: =SUM(K92:K96) -> 1360 | L91: =SUM(L92:L96) -> 2135 | M91: =SUM(L91*100/K91) -> 156.98529 | N91: =SUM(N92:N96) -> 380 | O91: =SUM(O92:O96) -> 437 | P91: =SUM(O91*100/N91) -> 115
A92: สถาบันพัฒนาฝีมือแรงงาน 18 อุดรธานี | E92: 6000 | F92: 9636 | G92: =SUM(F92*100/E92) -> 160.6 | K92: 320 | L92: 450 | M92: =SUM(L92*100/K92) -> 140.625 | N92: 100 | O92: 100 | P92: =SUM(O92*100/N92) -> 100
A93: สำนักงานพัฒนาฝีมือแรงงานจังหวัดหนองคาย | E93: 1500 | F93: 2717 | G93: =SUM(F93*100/E93) -> 181.13333 | K93: 220 | L93: 383 | M93: =SUM(L93*100/K93) -> 174.09091 | N93: 20 | O93: 36 | P93: =SUM(O93*100/N93) -> 180
A94: สำนักงานพัฒนาฝีมือแรงงานจังหวัดบึงกาฬ | E94: 300 | F94: 860 | G94: =SUM(F94*100/E94) -> 286.66667 | K94: 220 | L94: 289 | M94: =SUM(L94*100/K94) -> 131.36364 | N94: 160 | O94: 160 | P94: =SUM(O94*100/N94) -> 100
A95: สำนักงานพัฒนาฝีมือแรงงานจังหวัดสกลนคร | E95: 500 | F95: 1577 | G95: =SUM(F95*100/E95) -> 315.4 | K95: 300 | L95: 365 | M95: =SUM(L95*100/K95) -> 121.66667 | N95: 80 | O95: 80 | P95: =SUM(O95*100/N95) -> 100
A96: สำนักงานพัฒนาฝีมือแรงงานจังหวัดนครพนม | E96: 110 | F96: 125 | G96: =SUM(F96*100/E96) -> 113.63636 | K96: 300 | L96: 648 | M96: =SUM(L96*100/K96) -> 216 | N96: 20 | O96: 61 | P96: =SUM(O96*100/N96) -> 305
A97: สพร. 19 เชียงใหม่ | E97: =SUM(E98:E99) -> 25000 | F97: =SUM(F98:F99) -> 44989 | G97: =SUM(F97*100/E97) -> 179.956 | H97: =SUM(H98:H99) -> 60 | I97: =SUM(I98:I99) -> 64 | J97: =SUM(I97*100/H97) -> 106.66667 | K97: =SUM(K98:K99) -> 560 | L97: =SUM(L98:L99) -> 930 | M97: =SUM(L97*100/K97) -> 166.07143 | N97: =SUM(N98:N99) -> 120 | O97: =SUM(O98:O99) -> 175 | P97: =SUM(O97*100/N97) -> 145.83333
A98: สถาบันพัฒนาฝีมือแรงงาน 19 เชียงใหม่ | E98: 25000 | F98: 44959 | G98: =SUM(F98*100/E98) -> 179.836 | H98: 60 | I98: 64 | J98: =SUM(I98*100/H98) -> 106.66667 | K98: 260 | L98: 480 | M98: =SUM(L98*100/K98) -> 184.61538 | N98: 80 | O98: 115 | P98: =SUM(O98*100/N98) -> 143.75
A99: ศูนย์พัฒนาฝีมือแรงงานจังหวัดแม่ฮ่องสอน | F99: 30 | G99: 0 | K99: 300 | L99: 450 | M99: =SUM(L99*100/K99) -> 150 | N99: 40 | O99: 60 | P99: =SUM(O99*100/N99) -> 150
A100: สพร. 20 เชียงราย | E100: =SUM(E101:E103) -> 5710 | F100: =SUM(F101:F103) -> 11052 | G100: =SUM(F100*100/E100) -> 193.55517 | K100: =SUM(K101:K103) -> 800 | L100: =SUM(L101:L103) -> 1501 | M100: =SUM(L100*100/K100) -> 187.625 | N100: =SUM(N101:N103) -> 460 | O100: =SUM(O101:O103) -> 584 | P100: =SUM(O100*100/N100) -> 126.95652
A101: สถาบันพัฒนาฝีมือแรงงาน 20 เชียงราย | E101: 5000 | F101: 9765 | G101: =SUM(F101*100/E101) -> 195.3 | K101: 240 | L101: 286 | M101: =SUM(L101*100/K101) -> 119.16667 | N101: 100 | O101: 104 | P101: =SUM(O101*100/N101) -> 104
...

Sheet สรุป
A1: สรุปผลการดำเนินงานพัฒนาฝีมือแรงงานในภาพรวมทุกผลผลิต/กิจกรรม/โครงการ ปีงบประมาณ 2561
A2: ตุลาคม 2560 - กันยายน 2561
A3: เป้าหมาย 12 เดือน
A5: หน่วยงาน | B5: รวมทั้งสิ้น
B8: เป้าหมาย | C8: ผลงาน | D8: ร้อยละ
A9: รวมทั้งสิ้น | B9: =SUM('1'!B9+'1'!E9+'1'!H9+'1'!K9+'2'!B9+'2'!E9+'2'!H9+'2'!K9+'2'!N9+'3'!B8+'3'!E8+'3'!H8+'3'!K8+'4'!B8+'4'!E8+'4'!H8+'4'!K8+'4'!N8) -> 3732270 | C9: =SUM('1'!C9+'1'!F9+'1'!I9+'1'!L9+'2'!C9+'2'!F9+'2'!I9+'2'!L9+'2'!O9+'3'!C8+'3'!F8+'3'!I8+'3'!L8+'4'!C8+'4'!F8+'4'!I8+'4'!L8+'4'!O8) -> 4684151 | D9: =SUM(C9*100/B9) -> 125.50408
A10: กลุ่มงานพัฒนาวิทยากรต้นแบบ
A11: สถาบันยานยนต์ | B11: =SUM('1'!E11) -> 3500 | C11: =SUM('1'!F11) -> 3766 | D11: =SUM(C11*100/B11) -> 107.6
A12: สถาบันพัฒนาทรัพยากรมนุษย์ | B12: =SUM('1'!H12+'3'!B11+'4'!E11) -> 510 | C12: =SUM('1'!I12+'3'!C11+'4'!F11) -> 564 | D12: =SUM(C12*100/B12) -> 110.58824
A13: สถาบันพัฒนาฝีมือแรงงานนานาชาติเชียงแสน | B13: =SUM('2'!B13+'4'!B12) -> 2700 | C13: =SUM('2'!C13+'4'!C12) -> 2849 | D13: =SUM(C13*100/B13) -> 105.51852
A14: สำนักมาตรฐานและทดสอบฝีมือแรงงาน | B14: =SUM('2'!B14+'3'!H13) -> 1500 | C14: =SUM('3'!I13) -> 313 | D14: =SUM(C14*100/B14) -> 20.866667
A15: สำนักงานรับรองความรู้ความสามารถ | B15: =SUM('2'!N15) -> 400 | C15: =SUM('2'!O15) -> 196 | D15: =SUM(C15*100/B15) -> 49
A16: สพร. 1 สมุทรปราการ | B16: =SUM(B17:B18) -> 408968 | C16: =SUM(C17:C18) -> 437825 | D16: =SUM(C16*100/B16) -> 107.05605
A17: สถาบันพัฒนาฝีมือแรงงาน 1 สมุทรปราการ | B17: =SUM('1'!E16+'1'!H16+'1'!K16+'2'!B17+'2'!N17+'3'!B16+'3'!E16+'4'!E17+'4'!K17+'4'!N17) -> 323034 | C17: =SUM('1'!F16+'1'!I16+'1'!L16+'2'!C17+'2'!O17+'3'!C16+'3'!F16+'4'!F17+'4'!L17+'4'!O17) -> 350473 | D17: =SUM(C17*100/B17) -> 108.49415
A18: สำนักงานพัฒนาฝีมือแรงงานจังหวัดฉะเชิงเทรา | B18: =SUM('1'!E17+'1'!H17+'1'!K17+'2'!K18+'2'!N18+'3'!B17+'3'!E17+'4'!E18+'4'!K18+'4'!N18) -> 85934 | C18: =SUM('1'!F17+'1'!I17+'1'!L17+'2'!L18+'2'!O18+'3'!C17+'3'!F17+'4'!F18+'4'!L18+'4'!O18) -> 87352 | D18: =SUM(C18*100/B18) -> 101.6501
A19: สพร. 2 สุพรรณบุรี | B19: =SUM(B20:B23) -> 22398 | C19: =SUM(C20:C23) -> 27193 | D19: =SUM(C19*100/B19) -> 121.40816
A20: สถาบันพัฒนาฝีมือแรงงาน 2 สุพรรณบุรี | B20: =SUM('1'!E19+'1'!H19+'1'!K19+'2'!B20+'2'!N20+'3'!B19+'3'!E19+'4'!E20+'4'!K20+'4'!N20) -> 9238 | C20: =SUM('1'!F19+'1'!I19+'1'!L19+'2'!C20+'2'!O20+'3'!C19+'3'!F19+'4'!F20+'4'!L20+'4'!O20) -> 11988 | D20: =SUM(C20*100/B20) -> 129.76835
A21: สำนักงานพัฒนาฝีมือแรงงานจังหวัดสิงห์บุรี | B21: =SUM('1'!E20+'1'!H20+'1'!K20+'2'!B21+'2'!N21+'3'!B20+'3'!E20+'4'!E21+'4'!K21+'4'!N21) -> 7240 | C21: =SUM('1'!F20+'1'!I20+'1'!L20+'2'!C21+'2'!O21+'3'!C20+'3'!F20+'4'!F21+'4'!L21+'4'!O21) -> 7332 | D21: =SUM(C21*100/B21) -> 101.27072
A22: สำนักงานพัฒนาฝีมือแรงงานจังหวัดชัยนาท | B22: =SUM('1'!E21+'1'!H21+'1'!K21+'2'!B22+'2'!N22+'3'!B21+'3'!E21+'4'!E22+'4'!K22+'4'!N22) -> 3078 | C22: =SUM('1'!F21+'1'!I21+'1'!L21+'2'!C22+'2'!O22+'3'!C21+'3'!F21+'4'!F22+'4'!L22+'4'!O22) -> 4600 | D22: =SUM(C22*100/B22) -> 149.44769
A23: สำนักงานพัฒนาฝีมือแรงงานจังหวัดอุทัยธานี | B23: =SUM('1'!E22+'1'!H22+'1'!K22+'2'!B23+'2'!N23+'3'!B22+'3'!E22+'4'!E23+'4'!K23+'4'!N23) -> 2842 | C23: =SUM('1'!F22+'1'!I22+'1'!L22+'2'!C23+'2'!O23+'3'!C22+'3'!F22+'4'!F23+'4'!L23+'4'!O23) -> 3273 | D23: =SUM(C23*100/B23) -> 115.16538
A24: สพร. 3 ชลบุรี | B24: =SUM(B25:B27) -> 286038 | C24: =SUM(C25:C27) -> 398349 | D24: =SUM(C24*100/B24) -> 139.26436
A25: สถาบันพัฒนาฝีมือแรงงาน 3 ชลบุรี | B25: =SUM('1'!E24+'1'!H24+'1'!K24+'2'!B25+'2'!K25+'2'!N25+'3'!B24+'3'!E24+'4'!E25+'4'!K25+'4'!N25) -> 233110 | C25: =SUM('1'!F24+'1'!I24+'1'!L24+'2'!C25+'2'!L25+'2'!O25+'3'!C24+'3'!F24+'4'!F25+'4'!L25+'4'!O25) -> 308174 | D25: =SUM(C25*100/B25) -> 132.20111
A26: ศูนย์พัฒนาฝีมือแรงงานจังหวัดปราจีนบุรี | B26: =SUM('1'!E25+'1'!H25+'1'!K25+'2'!N26+'3'!B25+'3'!E25+'4'!E26+'4'!K26+'4'!N26) -> 49730 | C26: =SUM('1'!F25+'1'!I25+'1'!L25+'2'!O26+'3'!C25+'3'!F25+'4'!F26+'4'!L26+'4'!O26) -> 85579 | D26: =SUM(C26*100/B26) -> 172.08727
A27: ศูนย์พัฒนาฝีมือแรงงานจังหวัดสระแก้ว | B27: =SUM('1'!E26+'1'!H26+'1'!K26+'2'!B27+'2'!K27+'2'!N27+'3'!B26+'3'!E26+'4'!E27+'4'!K27+'4'!N27) -> 3198 | C27: =SUM('1'!F26+'1'!I26+'1'!L26+'2'!C27+'2'!L27+'2'!O27+'3'!C26+'3'!F26+'4'!F27+'4'!L27+'4'!O27) -> 4596 | D27: =SUM(C27*100/B27) -> 143.71482
A28: สพร. 4 ราชบุรี | B28: =SUM(B29:B32) -> 58842 | C28: =SUM(C29:C32) -> 84890 | D28: =SUM(C28*100/B28) -> 144.2677
A29: สถาบันพัฒนาฝีมือแรงงาน 4 ราชบุรี | B29: =SUM('1'!E28+'1'!H28+'1'!K28+'2'!N29+'3'!B28+'3'!E28+'4'!E29+'4'!K29+'4'!N29) -> 23914 | C29: =SUM('1'!F28+'1'!I28+'1'!L28+'2'!O29+'3'!C28+'3'!F28+'4'!F29+'4'!L29+'4'!O29) -> 35565 | D29: =SUM(C29*100/B29) -> 148.72041
A30: สำนักงานพัฒนาฝีมือแรงงานจังหวัดเพชรบุรี | B30: =SUM('1'!E29+'1'!H29+'1'!K29+'2'!N30+'3'!B29+'3'!E29+'4'!E30+'4'!K30+'4'!N30) -> 9144 | C30: =SUM('1'!F29+'1'!I29+'1'!L29+'2'!O30+'3'!C29+'3'!F29+'4'!F30+'4'!L30+'4'!O30) -> 13031 | D30: =SUM(C30*100/B30) -> 142.50875
A31: สำนักงานพัฒนาฝีมือแรงงานจังหวัดกาญจนบุรี | B31: =SUM('1'!E30+'1'!H30+'1'!K30+'2'!H31+'2'!N31+'3'!B30+'3'!E30+'4'!E31+'4'!K31+'4'!N31) -> 13840 | C31: =SUM('1'!F30+'1'!I30+'1'!L30+'2'!O31+'3'!C30+'3'!F30+'4'!F31+'4'!L31+'4'!O31) -> 18612 | D31: =SUM(C31*100/B31) -> 134.47977
A32: สำนักงานพัฒนาฝีมือแรงงานจังหวัดประจวบคีรีขันธ์ | B32: =SUM('1'!E31+'1'!H31+'1'!K31+'2'!N32+'3'!B31+'3'!E31+'4'!E32+'4'!K32+'4'!N32) -> 11944 | C32: =SUM('1'!F31+'1'!I31+'1'!L31+'2'!O32+'3'!C31+'3'!F31+'4'!F32+'4'!L32+'4'!O32) -> 17682 | D32: =SUM(C32*100/B32) -> 148.04086
A33: สพร. 5 นครราชสีมา | B33: =SUM(B34:B37) -> 111460 | C33: =SUM(C34:C37) -> 126441 | D33: =SUM(C33*100/B33) -> 113.4407
A34: สถาบันพัฒนาฝีมือแรงงาน 5 นครราชสีมา | B34: =SUM('1'!E33+'1'!H33+'1'!K33+'2'!B34+'2'!N34+'3'!B33+'3'!E33+'4'!E34+'4'!K34+'4'!N34) -> 96146 | C34: =SUM('1'!F33+'1'!I33+'1'!L33+'2'!C34+'2'!O34+'3'!C33+'3'!F33+'4'!F34+'4'!L34+'4'!O34) -> 98221 | D34: =SUM(C34*100/B34) -> 102.15818
A35: สำนักงานพัฒนาฝีมือแรงงานจังหวัดชัยภูมิ | B35: =SUM('1'!E34+'1'!H34+'1'!K34+'2'!N35+'3'!E34+'3'!K34+'4'!E35+'4'!K35+'4'!N35) -> 5240 | C35: =SUM('1'!F34+'1'!I34+'1'!L34+'2'!O35+'3'!F34+'3'!L34+'4'!F35+'4'!L35+'4'!O35) -> 10097 | D35: =SUM(C35*100/B35) -> 192.69084
A36: สำนักงานพัฒนาฝีมือแรงงานจังหวัดสุรินทร์ | B36: =SUM('1'!H35+'1'!K35+'2'!N36+'3'!B35+'3'!E35+'3'!K35+'4'!E36+'4'!K36+'4'!N36) -> 3860 | C36: =SUM('1'!I35+'1'!L35+'2'!O36+'3'!C35+'3'!F35+'3'!L35+'4'!F36+'4'!L36+'4'!O36) -> 6059 | D36: =SUM(C36*100/B36) -> 156.96891
A37: สำนักงานพัฒนาฝีมือแรงงานจังหวัดบุรีรัมย์ | B37: =SUM('1'!E36+'1'!H36+'1'!K36+'2'!N37+'3'!B36+'3'!E36+'3'!K36+'4'!E37+'4'!K37+'4'!N37) -> 6214 | C37: =SUM('1'!F36+'1'!I36+'1'!L36+'2'!O37+'3'!C36+'3'!F36+'3'!L36+'4'!F37+'4'!L37+'4'!O37) -> 12064 | D37: =SUM(C37*100/B37) -> 194.14226
A38: สพร. 6 ขอนแก่น | B38: =SUM(B39:B43) -> 30030 | C38: =SUM(C39:C43) -> 70569 | D38: =SUM(C38*100/B38) -> 234.995
A39: สถาบันพัฒนาฝีมือแรงงาน 6 ขอนแก่น | B39: =SUM('1'!E38+'1'!H38+'1'!K38+'2'!B39+'2'!N39+'3'!B38+'3'!E38+'4'!E39+'4'!K39+'4'!N39) -> 18202 | C39: =SUM('1'!F38+'1'!I38+'1'!L38+'2'!C39+'2'!O39+'3'!C38+'3'!F38+'4'!F39+'4'!L39+'4'!O39) -> 50311 | D39: =SUM(C39*100/B39) -> 276.40369
A40: สำนักงานพัฒนาฝีมือแรงงานจังหวัดกาฬสินธุ์ | B40: =SUM('1'!H39+'1'!K39+'2'!N40+'3'!B39+'3'!E39+'3'!K39+'4'!E40+'4'!K40+'4'!N40) -> 2986 | C40: =SUM('1'!I39+'1'!L39+'2'!O40+'3'!C39+'3'!F39+'3'!L39+'4'!F40+'4'!L40+'4'!O40) -> 6084 | D40: =SUM(C40*100/B40) -> 203.75084
A41: สำนักงานพัฒนาฝีมือแรงงานจังหวัดมุกดาหาร | B41: =SUM('1'!H40+'1'!K40+'2'!H41+'2'!N41+'3'!B40+'3'!E40+'3'!K40+'4'!E41+'4'!K41+'4'!N41) -> 2894 | C41: =SUM('1'!I40+'1'!L40+'2'!I41+'2'!O41+'3'!C40+'3'!F40+'3'!L40+'4'!F41+'4'!L41+'4'!O41) -> 4733 | D41: =SUM(C41*100/B41) -> 163.54527
A42: สำนักงานพัฒนาฝีมือแรงงานจังหวัดหนองบัวลำภู | B42: =SUM('1'!H41+'1'!K41+'2'!N42+'3'!B41+'3'!E41+'3'!K41+'4'!E42+'4'!K42+'4'!N42) -> 2764 | C42: =SUM('1'!I41+'1'!L41+'2'!O42+'3'!C41+'3'!F41+'3'!L41+'4'!F42+'4'!L42+'4'!O42) -> 4886 | D42: =SUM(C42*100/B42) -> 176.77279
A43: สำนักงานพัฒนาฝีมือแรงงานจังหวัดมหาสารคาม | B43: =SUM('1'!H42+'1'!K42+'2'!N43+'3'!B42+'3'!E42+'3'!K42+'4'!E43+'4'!K43+'4'!N43) -> 3184 | C43: =SUM('1'!I42+'1'!L42+'2'!O43+'3'!C42+'3'!F42+'3'!L42+'4'!F43+'4'!L43+'4'!O43) -> 4555 | D43: =SUM(C43*100/B43) -> 143.05905
A44: สพร. 7 อุบลราชธานี | B44: =SUM(B45:B49) -> 24338 | C44: =SUM(C45:C49) -> 36029 | D44: =SUM(C44*100/B44) -> 148.03599
A45: สถาบันพัฒนาฝีมือแรงงาน 7 อุบลราชธานี | B45: =SUM('1'!E44+'1'!H44+'1'!K44+'2'!B45+'2'!N45+'3'!B44+'3'!E44+'3'!K44+'4'!E45+'4'!K45+'4'!N45) -> 12774 | C45: =SUM('1'!F44+'1'!I44+'1'!L44+'2'!C45+'2'!O45+'3'!C44+'3'!F44+'3'!L44+'4'!F45+'4'!L45+'4'!O45) -> 18196 | D45: =SUM(C45*100/B45) -> 142.44559
A46: สำนักงานพัฒนาฝีมือแรงงานจังหวัดศรีสะเกษ | B46: =SUM('1'!E45+'1'!H45+'1'!K45+'2'!B46+'2'!N46+'3'!B45+'3'!E45+'3'!K45+'4'!E46+'4'!K46+'4'!N46) -> 2692 | C46: =SUM('1'!F45+'1'!I45+'1'!L45+'2'!C46+'2'!O46+'3'!C45+'3'!F45+'3'!L45+'4'!F46+'4'!L46+'4'!O46) -> 3772 | D46: =SUM(C46*100/B46) -> 140.11887
A47: สำนักงานพัฒนาฝีมือแรงงานจังหวัดอำนาจเจริญ | B47: =SUM('1'!E46+'1'!H46+'1'!K46+'2'!B47+'2'!N47+'3'!B46+'3'!E46+'3'!K46+'4'!E47+'4'!K47+'4'!N47) -> 2338 | C47: =SUM('1'!F46+'1'!I46+'1'!L46+'2'!C47+'2'!O47+'3'!C46+'3'!F46+'3'!L46+'4'!F47+'4'!L47+'4'!O47) -> 2536 | D47: =SUM(C47*100/B47) -> 108.46878
A48: สำนักงานพัฒนาฝีมือแรงงานจังหวัดร้อยเอ็ด | B48: =SUM('1'!E47+'1'!H47+'1'!K47+'2'!B48+'2'!N48+'3'!B47+'3'!E47+'3'!K47+'4'!E48+'4'!K48+'4'!N48) -> 4034 | C48: =SUM('1'!F47+'1'!I47+'1'!L47+'2'!C48+'2'!O48+'3'!C47+'3'!F47+'3'!L47+'4'!F48+'4'!L48+'4'!O48) -> 8117 | D48: =SUM(C48*100/B48) -> 201.21468
A49: สำนักงานพัฒนาฝีมือแรงงานจังหวัดยโสธร | B49: =SUM('1'!E48+'1'!H48+'1'!K48+'2'!B49+'2'!N49+'3'!B48+'3'!E48+'3'!K48+'4'!E49+'4'!K49+'4'!N49) -> 2500 | C49: =SUM('1'!F48+'1'!I48+'1'!L48+'2'!C49+'2'!O49+'3'!C48+'3'!F48+'3'!L48+'4'!F49+'4'!L49+'4'!O49) -> 3408 | D49: =SUM(C49*100/B49) -> 136.32
A50: สพร. 8 นครสวรรค์ | B50: =SUM(B51:B54) -> 25512 | C50: =SUM(C51:C54) -> 39226 | D50: =SUM(C50*100/B50) -> 153.7551
A51: สถาบันพัฒนาฝีมือแรงงาน 8 นครสวรรค์ | B51: =SUM('1'!E50+'1'!H50+'1'!K50+'2'!N51+'3'!B50+'3'!E50+'4'!E51+'4'!K51+'4'!N51) -> 11528 | C51: =SUM('1'!F50+'1'!I50+'1'!L50+'2'!O51+'3'!C50+'3'!F50+'4'!F51+'4'!L51+'4'!O51) -> 15843 | D51: =SUM(C51*100/B51) -> 137.4306
A52: สำนักงานพัฒนาฝีมือแรงงานจังหวัดพิจิตร | B52: =SUM('1'!E51+'1'!H51+'1'!K51+'2'!N52+'3'!B51+'3'!E51+'4'!E52+'4'!K52+'4'!N52) -> 2730 | C52: =SUM('1'!F51+'1'!I51+'1'!L51+'2'!O52+'3'!C51+'3'!F51+'4'!F52+'4'!L52+'4'!O52) -> 5706 | D52: =SUM(C52*100/B52) -> 209.01099
A53: สำนักงานพัฒนาฝีมือแรงงานจังหวัดกำแพงเพชร | B53: =SUM('1'!E52+'1'!H52+'1'!K52+'2'!N53+'3'!B52+'3'!E52+'4'!E53+'4'!K53+'4'!N53) -> 4774 | C53: =SUM('1'!F52+'1'!I52+'1'!L52+'2'!O53+'3'!C52+'3'!F52+'4'!F53+'4'!L53+'4'!O53) -> 7644 | D53: =SUM(C53*100/B53) -> 160.1173
A54: สำนักงานพัฒนาฝีมือแรงงานจังหวัดตาก | B54: =SUM('1'!H53+'1'!K53+'2'!H54+'2'!N54+'3'!B53+'3'!E53+'4'!E54+'4'!K54+'4'!N54) -> 6480 | C54: =SUM('1'!I53+'1'!L53+'2'!I54+'2'!O54+'3'!C53+'3'!F53+'4'!F54+'4'!L54+'4'!O54) -> 10033 | D54: =SUM(C54*100/B54) -> 154.83025
A55: สพร. 9 พิษณุโลก | B55: =SUM(B56:B60) -> 22990 | C55: =SUM(C56:C60) -> 39377 | D55: =SUM(C55*100/B55) -> 171.27882
A56: สถาบันพัฒนาฝีมือแรงงาน 9 พิษณุโลก | B56: =SUM('1'!E55+'1'!H55+'1'!K55+'2'!N56+'3'!B55+'3'!E55+'4'!E56+'4'!K56+'4'!N56) -> 9314 | C56: =SUM('1'!F55+'1'!I55+'1'!L55+'2'!O56+'3'!C55+'3'!F55+'4'!F56+'4'!L56+'4'!O56) -> 15100 | D56: =SUM(C56*100/B56) -> 162.12154
A57: สำนักงานพัฒนาฝีมือแรงงานจังหวัดเลย | B57: =SUM('1'!E56+'1'!H56+'1'!K56+'2'!N57+'3'!B56+'3'!E56+'4'!E57+'4'!K57+'4'!N57) -> 2524 | C57: =SUM('1'!F56+'1'!I56+'1'!L56+'2'!O57+'3'!C56+'3'!F56+'4'!F57+'4'!L57+'4'!O57) -> 3938 | D57: =SUM(C57*100/B57) -> 156.02219
A58: สำนักงานพัฒนาฝีมือแรงงานจังหวัดเพชรบูรณ์ | B58: =SUM('1'!E57+'1'!H57+'1'!K57+'2'!N58+'3'!B57+'3'!E57+'4'!E58+'4'!K58+'4'!N58) -> 4810 | C58: =SUM('1'!F57+'1'!I57+'1'!L57+'2'!O58+'3'!C57+'3'!F57+'4'!F58+'4'!L58+'4'!O58) -> 12743 | D58: =SUM(C58*100/B58) -> 264.92723
A59: สำนักงานพัฒนาฝีมือแรงงานจังหวัดอุตรดิตถ์ | B59: =SUM('1'!E58+'1'!H58+'1'!K58+'2'!N59+'3'!B58+'3'!E58+'4'!E59+'4'!K59+'4'!N59) -> 4550 | C59: =SUM('1'!F58+'1'!I58+'1'!L58+'2'!O59+'3'!C58+'3'!F58+'4'!F59+'4'!L59+'4'!O59) -> 5534 | D59: =SUM(C59*100/B59) -> 121.62637
A60: สำนักงานพัฒนาฝีมือแรงงานจังหวัดสุโขทัย | B60: =SUM('1'!H59+'1'!K59+'2'!N60+'3'!B59+'3'!E59+'3'!K59+'4'!E60+'4'!K60+'4'!N60) -> 1792 | C60: =SUM('1'!I59+'1'!L59+'2'!O60+'3'!C59+'3'!F59+'3'!L59+'4'!F60+'4'!L60+'4'!O60) -> 2062 | D60: =SUM(C60*100/B60) -> 115.06696
A61: สพร. 10 ลำปาง | B61: =SUM(B62:B64) -> 42795 | C61: =SUM(C62:C64) -> 68180 | D61: =SUM(C61*100/B61) -> 159.31768
A62: สถาบันพัฒนาฝีมือแรงงาน 10 ลำปาง | B62: =SUM('1'!E61+'1'!H61+'1'!K61+'2'!N62+'3'!B61+'3'!E61+'4'!E62+'4'!K62+'4'!N62) -> 13140 | C62: =SUM('1'!F61+'1'!I61+'1'!L61+'2'!O62+'3'!C61+'3'!F61+'4'!F62+'4'!L62+'4'!O62) -> 14119 | D62: =SUM(C62*100/B62) -> 107.45053
A63: สำนักงานพัฒนาฝีมือแรงงานจังหวัดลำพูน | B63: =SUM('1'!E62+'1'!H62+'1'!K62+'2'!N63+'3'!B62+'3'!E62+'4'!E63+'4'!K63+'4'!N63) -> 27373 | C63: =SUM('1'!F62+'1'!I62+'1'!L62+'2'!O63+'3'!C62+'3'!F62+'4'!F63+'4'!L63+'4'!O63) -> 50370 | D63: =SUM(C63*100/B63) -> 184.01344
A64: สำนักงานพัฒนาฝีมือแรงงานจังหวัดแพร่ | B64: =SUM('1'!H63+'1'!K63+'2'!N64+'3'!B63+'3'!E63+'3'!K63+'4'!E64+'4'!K64+'4'!N64) -> 2282 | C64: =SUM('1'!I63+'1'!L63+'2'!O64+'3'!C63+'3'!F63+'3'!L63+'4'!F64+'4'!L64+'4'!O64) -> 3691 | D64: =SUM(C64*100/B64) -> 161.74408
A65: สพร. 11 สุราษฎร์ธานี | B65: =SUM(B66:B68) -> 22688 | C65: =SUM(C66:C68) -> 42329 | D65: =SUM(C65*100/B65) -> 186.56999
A66: สถาบันพัฒนาฝีมือแรงงาน 11 สุราษฎร์ธานี | B66: =SUM('1'!E65+'1'!H65+'1'!K65+'2'!N66+'3'!B65+'3'!E65+'4'!E66+'4'!K66+'4'!N66) -> 16860 | C66: =SUM('1'!F65+'1'!I65+'1'!L65+'2'!O66+'3'!C65+'3'!F65+'4'!F66+'4'!L66+'4'!O66) -> 26525 | D66: =SUM(C66*100/B66) -> 157.32503
A67: สำนักงานพัฒนาฝีมือแรงงานจังหวัดชุมพร | B67: =SUM('1'!E66+'1'!H66+'1'!K66+'2'!N67+'3'!B66+'3'!E66+'4'!E67+'4'!K67+'4'!N67) -> 4308 | C67: =SUM('1'!F66+'1'!I66+'1'!L66+'2'!O67+'3'!C66+'3'!F66+'4'!F67+'4'!L67+'4'!O67) -> 12111 | D67: =SUM(C67*100/B67) -> 281.12813
A68: สำนักงานพัฒนาฝีมือแรงงานจังหวัดระนอง | B68: =SUM('1'!E67+'1'!H67+'1'!K67+'2'!N68+'3'!B67+'3'!E67+'4'!E68+'4'!K68+'4'!N68) -> 1520 | C68: =SUM('1'!F67+'1'!I67+'1'!L67+'2'!O68+'3'!C67+'3'!F67+'4'!F68+'4'!L68+'4'!O68) -> 3693 | D68: =SUM(C68*100/B68) -> 242.96053
A69: สพร. 12 สงขลา | B69: =SUM(B70:B71) -> 57127 | C69: =SUM(C70:C71) -> 96645 | D69: =SUM(C69*100/B69) -> 169.1757
A70: สถาบันพัฒนาฝีมือแรงงาน 12 สงขลา | B70: =SUM('1'!B69+'1'!E69+'1'!H69+'1'!K69+'2'!B70+'2'!H70+'2'!N70+'3'!B69+'3'!E69+'4'!E70+'4'!K70+'4'!N70) -> 54389 | C70: =SUM('1'!C69+'1'!F69+'1'!I69+'1'!L69+'2'!C70+'2'!I70+'2'!O70+'3'!C69+'3'!F69+'4'!F70+'4'!L70+'4'!O70) -> 91205 | D70: =SUM(C70*100/B70) -> 167.69016
A71: สำนักงานพัฒนาฝีมือแรงงานจังหวัดสตูล | B71: =SUM('1'!B70+'1'!E70+'1'!H70+'1'!K70+'2'!B71+'2'!N71+'3'!B70+'3'!E70+'4'!E71+'4'!K71+'4'!N71) -> 2738 | C71: =SUM('1'!C70+'1'!F70+'1'!I70+'1'!L70+'2'!C71+'2'!O71+'3'!C70+'3'!F70+'4'!F71+'4'!L71+'4'!O71) -> 5440 | D71: =SUM(C71*100/B71) -> 198.68517
A72: สพร. 13 กรุงเทพมหานคร | B72: =SUM(B73) -> 1652728 | C72: =SUM(C73) -> 1830468 | D72: =SUM(C72*100/B72) -> 110.75434
A73: สถาบันพัฒนาฝีมือแรงงาน 13 กรุงเทพมหานคร | B73: =SUM('1'!H72+'1'!K72+'2'!N73+'3'!B72+'3'!E72+'4'!E73+'4'!K73+'4'!N73) -> 1652728 | C73: =SUM('1'!I72+'1'!L72+'2'!O73+'3'!C72+'3'!F72+'4'!F73+'4'!L73+'4'!O73) -> 1830468 | D73: =SUM(C73*100/B73) -> 110.75434
A74: สพร. 14 ปทุมธานี | B74: =SUM(B75:B77) -> 260800 | C74: =SUM(C75:C77) -> 335193 | D74: =SUM(C74*100/B74) -> 128.52492
A75: สถาบันพัฒนาฝีมือแรงงาน 14 ปทุมธานี | B75: =SUM('1'!E74+'1'!H74+'1'!K74+'2'!N75+'3'!B74+'3'!E74+'4'!E75+'4'!K75+'4'!N75) -> 154260 | C75: =SUM('1'!F74+'1'!I74+'1'!L74+'2'!O75+'3'!C74+'3'!F74+'4'!F75+'4'!L75+'4'!O75) -> 213773 | D75: =SUM(C75*100/B75) -> 138.57967
A76: สำนักงานพัฒนาฝีมือแรงงานจังหวัดนนทบุรี | B76: =SUM('1'!E75+'1'!H75+'1'!K75+'2'!N76+'3'!B75+'3'!E75+'4'!E76+'4'!K76+'4'!N76) -> 103122 | C76: =SUM('1'!F75+'1'!I75+'1'!L75+'2'!O76+'3'!C75+'3'!F75+'4'!F76+'4'!L76+'4'!O76) -> 116597 | D76: =SUM(C76*100/B76) -> 113.06705
A77: สำนักงานพัฒนาฝีมือแรงงานจังหวัดนครนายก | B77: =SUM('1'!E76+'1'!H76+'1'!K76+'2'!N77+'3'!B76+'3'!E76+'4'!E77+'4'!K77+'4'!N77) -> 3418 | C77: =SUM('1'!F76+'1'!I76+'1'!L76+'2'!O77+'3'!C76+'3'!F76+'4'!F77+'4'!L77+'4'!O77) -> 4823 | D77: =SUM(C77*100/B77) -> 141.10591
A78: สพร. 15 พระนครศรีอยุธยา | B78: =SUM(B79:B82) -> 188490 | C78: =SUM(C79:C82) -> 280880 | D78: =SUM(C78*100/B78) -> 149.01586
A79: สถาบันพัฒนาฝีมือแรงงาน 15 พระนครศรีอยุธยา | B79: =SUM('1'!E78+'1'!H78+'1'!K78+'2'!N79+'3'!B78+'3'!E78+'4'!E79+'4'!K79+'4'!N79) -> 125072 | C79: =SUM('1'!F78+'1'!I78+'1'!L78+'2'!O79+'3'!C78+'3'!F78+'4'!F79+'4'!L79+'4'!O79) -> 175331 | D79: =SUM(C79*100/B79) -> 140.18405
A80: สำนักงานพัฒนาฝีมือแรงงานจังหวัดอ่างทอง | B80: =SUM('1'!E79+'1'!H79+'1'!K79+'2'!N80+'3'!B79+'3'!E79+'4'!E80+'4'!K80+'4'!N80) -> 3130 | C80: =SUM('1'!F79+'1'!I79+'1'!L79+'2'!O80+'3'!C79+'3'!F79+'4'!F80+'4'!L80+'4'!O80) -> 3554 | D80: =SUM(C80*100/B80) -> 113.54633
A81: สำนักงานพัฒนาฝีมือแรงงานจังหวัดสระบุรี | B81: =SUM('1'!E80+'1'!H80+'1'!K80+'2'!N81+'3'!B80+'3'!E80+'4'!E81+'4'!K81+'4'!N81) -> 43568 | C81: =SUM('1'!F80+'1'!I80+'1'!L80+'2'!O81+'3'!C80+'3'!F80+'4'!F81+'4'!L81+'4'!O81) -> 71753 | D81: =SUM(C81*100/B81) -> 164.69198
A82: สำนักงานพัฒนาฝีมือแรงงานจังหวัดลพบุรี | B82: =SUM('1'!E81+'1'!H81+'1'!K81+'2'!N82+'3'!B81+'3'!E81+'4'!E82+'4'!K82+'4'!N82) -> 16720 | C82: =SUM('1'!F81+'1'!I81+'1'!L81+'2'!O82+'3'!C81+'3'!F81+'4'!F82+'4'!L82+'4'!O82) -> 30242 | D82: =SUM(C82*100/B82) -> 180.87321
A83: สพร. 16 นครปฐม | B83: =SUM(B84:B86) -> 155182 | C83: =SUM(C84:C86) -> 272046 | D83: =SUM(C83*100/B83) -> 175.3077
A84: สถาบันพัฒนาฝีมือแรงงาน 16 นครปฐม | B84: =SUM('1'!E83+'1'!H83+'1'!K83+'2'!N84+'3'!B83+'3'!E83+'4'!E84+'4'!K84+'4'!N84) -> 33540 | C84: =SUM('1'!F83+'1'!I83+'1'!L83+'2'!O84+'3'!C83+'3'!F83+'4'!F84+'4'!L84+'4'!O84) -> 65547 | D84: =SUM(C84*100/B84) -> 195.42934
A85: สำนักงานพัฒนาฝีมือแรงงานจังหวัดสมุทรสาคร | B85: =SUM('1'!E84+'1'!H84+'1'!K84+'2'!N85+'3'!B84+'3'!E84+'4'!E85+'4'!K85+'4'!N85) -> 117432 | C85: =SUM('1'!F84+'1'!I84+'1'!L84+'2'!O85+'3'!C84+'3'!F84+'4'!F85+'4'!L85+'4'!O85) -> 198415 | D85: =SUM(C85*100/B85) -> 168.96161
A86: สำนักงานพัฒนาฝีมือแรงงานจังหวัดสมุทรสงคราม | B86: =SUM('1'!E85+'1'!H85+'1'!K85+'2'!N86+'3'!B85+'3'!E85+'4'!E86+'4'!K86+'4'!N86) -> 4210 | C86: =SUM('1'!F85+'1'!I85+'1'!L85+'2'!O86+'3'!C85+'3'!F85+'4'!F86+'4'!L86+'4'!O86) -> 8084 | D86: =SUM(C86*100/B86) -> 192.019
A87: สพร. 17 ระยอง | B87: =SUM(B88:B90) -> 205830 | C87: =SUM(C88:C90) -> 271789 | D87: =SUM(C87*100/B87) -> 132.04538
A88: สถาบันพัฒนาฝีมือแรงงาน 17 ระยอง | B88: =SUM('1'!H87+'1'!K87+'2'!B88+'2'!K88+'2'!N88+'3'!B87+'3'!E87+'4'!E88+'4'!K88+'4'!N88) -> 196338 | C88: =SUM('1'!I87+'1'!L87+'2'!C88+'2'!L88+'2'!O88+'3'!C87+'3'!F87+'4'!F88+'4'!L88+'4'!O88) -> 258237 | D88: =SUM(C88*100/B88) -> 131.52675
A89: สำนักงานพัฒนาฝีมือแรงงานจังหวัดจันทบุรี | B89: =SUM('1'!E88+'1'!H88+'1'!K88+'2'!N89+'3'!E88+'4'!E89+'4'!K89+'4'!N89) -> 6434 | C89: =SUM('1'!F88+'1'!I88+'1'!L88+'2'!O89+'3'!F88+'4'!F89+'4'!L89+'4'!O89) -> 8889 | D89: =SUM(C89*100/B89) -> 138.15667
A90: สำนักงานพัฒนาฝีมือแรงงานจังหวัดตราด | B90: =SUM('1'!H89+'1'!K89+'2'!H90+'2'!N90+'3'!E89+'4'!E90+'4'!K90+'4'!N90) -> 3058 | C90: =SUM('1'!I89+'1'!L89+'2'!I90+'2'!O90+'3'!F89+'4'!F90+'4'!L90+'4'!O90) -> 4663 | D90: =SUM(C90*100/B90) -> 152.48528
A91: สพร. 18 อุดรธานี | B91: =SUM(B92:B96) -> 17464 | C91: =SUM(C92:C96) -> 27038 | D91: =SUM(C91*100/B91) -> 154.82135
A92: สถาบันพัฒนาฝีมือแรงงาน 18 อุดรธานี | B92: =SUM('1'!H91+'1'!K91+'2'!B92+'2'!N92+'3'!B91+'3'!E91+'4'!E92+'4'!K92+'4'!N92) -> 9060 | C92: =SUM('1'!I91+'1'!L91+'2'!C92+'2'!O92+'3'!C91+'3'!F91+'4'!F92+'4'!L92+'4'!O92) -> 13179 | D92: =SUM(C92*100/B92) -> 145.46358
A93: สำนักงานพัฒนาฝีมือแรงงานจังหวัดหนองคาย | B93: =SUM('1'!H92+'2'!H93+'2'!N93+'3'!B92+'3'!E92+'4'!E93+'4'!K93+'4'!N93) -> 2968 | C93: =SUM('1'!I92+'2'!I93+'2'!O93+'3'!C92+'3'!F92+'4'!F93+'4'!L93+'4'!O93) -> 4866 | D93: =SUM(C93*100/B93) -> 163.94879
A94: สำนักงานพัฒนาฝีมือแรงงานจังหวัดบึงกาฬ | B94: =SUM('1'!H93+'1'!K93+'2'!N94+'3'!B93+'3'!E93+'3'!K93+'4'!E94+'4'!K94+'4'!N94) -> 1538 | C94: =SUM('1'!I93+'1'!L93+'2'!O94+'3'!C93+'3'!F93+'3'!L93+'4'!F94+'4'!L94+'4'!O94) -> 2465 | D94: =SUM(C94*100/B94) -> 160.27308
A95: สำนักงานพัฒนาฝีมือแรงงานจังหวัดสกลนคร | B95: =SUM('1'!H94+'1'!K94+'2'!N95+'3'!B94+'3'!E94+'3'!K94+'4'!E95+'4'!K95+'4'!N95) -> 2034 | C95: =SUM('1'!I94+'1'!L94+'2'!O95+'3'!C94+'3'!F94+'3'!L94+'4'!F95+'4'!L95+'4'!O95) -> 3579 | D95: =SUM(C95*100/B95) -> 175.9587
A96: สำนักงานพัฒนาฝีมือแรงงานจังหวัดนครพนม | B96: =SUM('1'!H95+'2'!H96+'2'!N96+'3'!B95+'3'!E95+'3'!K95+'4'!E96+'4'!K96+'4'!N96) -> 1864 | C96: =SUM('1'!I95+'2'!I96+'2'!O96+'3'!C95+'3'!F95+'3'!L95+'4'!F96+'4'!L96+'4'!O96) -> 2949 | D96: =SUM(C96*100/B96) -> 158.20815
A97: สพร. 19 เชียงใหม่ | B97: =SUM(B98:B99) -> 31028 | C97: =SUM(C98:C99) -> 52773 | D97: =SUM(C97*100/B97) -> 170.08186
A98: สถาบันพัฒนาฝีมือแรงงาน 19 เชียงใหม่ | B98: =SUM('1'!E97+'1'!H97+'1'!K97+'2'!B98+'2'!N98+'3'!B97+'3'!E97+'4'!E98+'4'!H98+'4'!K98+'4'!N98) -> 29184 | C98: =SUM('1'!F97+'1'!I97+'1'!L97+'2'!C98+'2'!O98+'3'!C97+'3'!F97+'4'!F98+'4'!I98+'4'!L98+'4'!O98) -> 50267 | D98: =SUM(C98*100/B98) -> 172.24164
A99: ศูนย์พัฒนาฝีมือแรงงานจังหวัดแม่ฮ่องสอน | B99: =SUM('1'!H98+'1'!K98+'2'!N99+'3'!B98+'3'!E98+'3'!K98+'4'!K99+'4'!N99) -> 1844 | C99: =SUM('1'!I98+'1'!L98+'2'!O99+'3'!C98+'3'!F98+'3'!L98+'4'!L99+'4'!O99) -> 2506 | D99: =SUM(C99*100/B99) -> 135.90022
A100: สพร. 20 เชียงราย | B100: =SUM(B101:B103) -> 13028 | C100: =SUM(C101:C103) -> 21195 | D100: =SUM(C100*100/B100) -> 162.68806
A101: สถาบันพัฒนาฝีมือแรงงาน 20 เชียงราย | B101: =SUM('1'!E100+'1'!H100+'1'!K100+'2'!H101+'2'!N101+'3'!B100+'3'!E100+'4'!E101+'4'!K101+'4'!N101) -> 8704 | C101: =SUM('1'!F100+'1'!I100+'1'!L100+'2'!I101+'2'!O101+'3'!C100+'3'!F100+'4'!F101+'4'!L101+'4'!O101) -> 13998 | D101: =SUM(C101*100/B101) -> 160.82261
A102: สำนักงานพัฒนาฝีมือแรงงานจังหวัดพะเยา | B102: =SUM('1'!E101+'1'!H101+'1'!K101+'2'!N102+'3'!B101+'3'!E101+'4'!E102+'4'!K102+'4'!N102) -> 2910 | C102: =SUM('1'!F101+'1'!I101+'1'!L101+'2'!O102+'3'!C101+'3'!F101+'4'!F102+'4'!L102+'4'!O102) -> 4870 | D102: =SUM(C102*100/B102) -> 167.35395
A103: สำนักงานพัฒนาฝีมือแรงงานจังหวัดน่าน | B103: =SUM('1'!H102+'1'!K102+'2'!N103+'3'!B102+'3'!E102+'3'!K102+'4'!E103+'4'!K103+'4'!N103) -> 1414 | C103: =SUM('1'!I102+'1'!L102+'2'!O103+'3'!C102+'3'!F102+'3'!L102+'4'!F103+'4'!L103+'4'!O103) -> 2327 | D103: =SUM(C103*100/B103) -> 164.5686
...

Sheet Sheet2

Sheet Sheet11
A1: รวม สพร.1 | C1: ศพจ. | D1: ตาก | E1: สพร. 18 | F1: อุดรธานี
A2: สพร. | B2: 1 สมุทรปราการ | C2: รวม สพร. 9 | E2: ศพจ. | F2: หนองคาย
A3: ศพจ. | B3: ฉะเชิงเทรา | C3: สพร. 9 | D3: พิษณุโลก | E3: ศพจ. | F3: บึงกาฬ
A4: รวม สพร. 2 | C4: ศพจ. | D4: เลย | E4: ศพจ. | F4: สกลนคร
A5: สพร.2 | B5: สุพรรณบุรี | C5: ศพจ. | D5: เพชรบูรณ์ | E5: ศพจ. | F5: นครพนม
A6: ศพจ. | B6: สิงห์บุรี | C6: ศพจ. | D6: อุตรดิตถ์ | E6: รวม สพร. 19
A7: ศพจ. | B7: ชัยนาท | C7: ศพจ. | D7: สุโขทัย | E7: สพร. 19 | F7: เชียงใหม่
A8: ศพจ. | B8: อุทัยธานี | C8: รวม สพร. 10 | E8: ศพจ. | F8: แม่ฮ่องสอน
A9: รวม สพร. 3 | C9: สพร. 10 | D9: ลำปาง | E9: รวม สพร. 20
A10: สพร.3 | B10: ชลบุรี | C10: ศพจ. | D10: ลำพูน | E10: สพร. 20 | F10: เชียงราย
A11: ศพจ. | B11: ปราจีนบุรี | C11: ศพจ. | D11: แพร่ | E11: ศพจ. | F11: พะเยา
A12: ศพจ. | B12: สระแก้ว | C12: รวม สพร. 11 | E12: ศพจ. | F12: น่าน
A13: รวม สพร. 4 | C13: สพร. 11 | D13: สุราษฎร์ธานี | E13: รวม สพร. 21
A14: สพร.4 | B14: ราชบุรี | C14: ศพจ. | D14: ชุมพร | E14: สพร. 21 | F14: ภูเก็ต
A15: ศพจ. | B15: เพชรบุรี | C15: ศพจ. | D15: ระนอง | E15: ศพจ. | F15: พังงา
A16: ศพจ. | B16: กาญจนบุรี | C16: รวม สพร. 12 | E16: ศพจ. | F16: กระบี่
A17: ศพจ. | B17: ประจวบคีรีขันธ์ | C17: สพร. 12 | D17: สงขลา | E17: รวม สพร. 22
A18: รวม สพร. 5 | C18: ศพจ. | D18: สตูล | E18: สพร. 22 | F18: นครศรีธรรมราช
A19: สพร.5 | B19: นครราชสีมา | C19: รวม สพร. 13 | E19: ศพจ. | F19: พัทลุง
A20: ศพจ. | B20: ชัยภูมิ | C20: สพร. 13 | D20: กรุงเทพฯ | E20: ศพจ. | F20: ตรัง
A21: ศพจ. | B21: สุรินทร์ | C21: รวม สพร.14 | E21: สพร. 23 ปัตตานี
A22: ศพจ. | B22: บุรีรัมย์ | C22: สพร. 14 | D22: ปทุมธานี | E22: สพร. 24 ยะลา
A23: รวม สพร. 6 | C23: ศพจ. | D23: นนทบุรี | E23: สพร. 25 นราธิวาส
A24: สพร.6 | B24: ขอนแก่น | C24: ศพจ. | D24: นครนายก
A25: ศพจ. | B25: กาฬสินธุ์ | C25: รวม สพร. 15
A26: ศพจ. | B26: มุกดาหาร | C26: สพร. 15 | D26: พระนครศรีอยุธยา
A27: ศพจ. | B27: หนองบัวลำภู | C27: ศพจ. | D27: อ่างทอง
A28: ศพจ. | B28: มหาสารคาม | C28: ศพจ. | D28: สระบุรี
A29: รวม สพร.7 | C29: ศพจ. | D29: ลพบุรี
A30: สพร.7 | B30: อุบลราชธานี | C30: รวม สพร. 16
A31: ศพจ. | B31: ศรีสะเกษ | C31: สพร. 16 | D31: นครปฐม
A32: ศพจ. | B32: อำนาจเจริญ | C32: ศพจ. | D32: สมุทรสาคร
A33: ศพจ. | B33: ร้อยเอ็ด | C33: ศพจ. | D33: สมุทรสงคราม
A34: ศพจ. | B34: ยโสธร | C34: รวม สพร. 17
A35: รวม สพร. 8 | C35: สพร. 17 | D35: ระยอง
A36: สพร.8 | B36: นครสวรรค์ | C36: ศพจ. | D36: จันทบุรี
A37: ศพจ. | B37: พิจิตร | C37: ศพจ. | D37: ตราด
A38: ศพจ. | B38: กำแพงเพชร | C38: รวม สพร. 18
