Workbook

Sheet 1
A1: ผลการดำเนินงานพัฒนาฝีมือแรงงาน ปีงบประมาณ 2561
A2: ตุลาคม 2560 - กันยายน 2561 เป้าหมาย 12 เดือน
A4: หน่วยงาน | B4: โครงการ | E4: โครงการ เพิ่มศักยภาพแรงงานรองรับ Thailand 4.0
B5: ฝึกอบรมฝีมือแรงงานในพื้นที่จังหวัด | E5: กิจกรรมเพิ่มศักยภาพแรงงาน | H5: กิจกรรม เพิ่มศักยภาพกำลังแรงงานภาคอุตสาหกรรมและบริการไปสู่ Thailand 4.0
B6: ชายแดนภาคใต้ | E6: เตรียมเข้าสู่อุตสาหกรรมเป้าหมาย | H6: ฝึกอาชีพราย sector และ core Technologies | K6: อบรมเพิ่มขีดความสามารถด้าน
E7: แห่งอนาคต | H7: ตามโมเดล Thailand 4.0 | K7: ภาษาต่างประเทศ
B8: เป้าหมาย | C8: รวมเข้า | D8: ร้อยละ | E8: เป้าหมาย | F8: รวมเข้า | G8: ร้อยละ | H8: เป้าหมาย | I8: รวมเข้า | J8: ร้อยละ | K8: เป้าหมาย | L8: รวมเข้า | M8: ร้อยละ
A9: รวมทั้งสิ้น | B9: =SUM(B68+B111+B112+B113) -> 800 | C9: =SUM(C68+C111+C112+C113) -> 800 | D9: =SUM(C9*100/B9) -> 100 | E9: =SUM(E12+E11+E15+E18+E23+E27+E32+E37+E43+E49+E54+E60+E64+E68+E71+E73+E77+E82+E86+E90+E96+E99+E103+E107+E111+E112+E113) -> 12000 | F9: =SUM(F12+F11+F15+F18+F23+F27+F32+F37+F43+F49+F54+F60+F64+F68+F71+F73+F77+F82+F86+F90+F96+F99+F103+F107+F111+F112+F113) -> 14176 | G9: =SUM(F9*100/E9) -> 118.13333 | H9: =SUM(H12+H15+H18+H23+H27+H32+H37+H43+H49+H54+H60+H64+H68+H71+H73+H77+H82+H86+H90+H96+H99+H103+H107+H111+H112+H113) -> 72000 | I9: =SUM(I12+I15+I18+I23+I27+I32+I37+I43+I49+I54+I60+I64+I68+I71+I73+I77+I82+I86+I90+I96+I99+I103+I107+I111+I112+I113) -> 87456 | J9: =SUM(I9*100/H9) -> 121.46667 | K9: =SUM(K15+K18+K23+K27+K32+K37+K43+K49+K54+K60+K64+K68+K71+K73+K77+K82+K86+K90+K96+K99+K103+K107+K111+K112+K113) -> 14800 | L9: =SUM(L15+L18+L23+L27+L32+L37+L43+L49+L54+L60+L64+L68+L71+L73+L77+L82+L86+L90+L96+L99+L103+L107+L111+L112+L113) -> 16260 | M9: =SUM(L9*100/K9) -> 109.86486
A10: กลุ่มงานพัฒนาวิทยากรต้นแบบ
A11: สถาบันยานยนต์ | E11: 3500 | F11: 3766 | G11: =SUM(F11*100/E11) -> 107.6
A12: สถาบันพัฒนาทรัพยากรมนุษย์สำหรับอุตสาหกรรม | E12: 500 | F12: 786 | G12: =SUM(F12*100/E12) -> 157.2 | H12: 460 | I12: 506 | J12: =SUM(I12*100/H12) -> 110
A13: สพน.เชียงแสน
A14: สำนักมาตรฐานและทดสอบฝีมือแรงงาน
A15: สพร. 1 สมุทรปราการ | E15: =SUM(E16:E17) -> 1100 | F15: =SUM(F16:F17) -> 1282 | G15: =SUM(F15*100/E15) -> 116.54545 | H15: =SUM(H16:H17) -> 3680 | I15: =SUM(I16:I17) -> 3926 | J15: =SUM(I15*100/H15) -> 106.68478 | K15: =SUM(K16:K17) -> 1240 | L15: =SUM(L16:L17) -> 1244 | M15: =SUM(L15*100/K15) -> 100.32258
A16: สถาบันพัฒนาฝีมือแรงงาน 1 สมุทรปราการ | E16: 840 | F16: 1021 | G16: =SUM(F16*100/E16) -> 121.54762 | H16: 2780 | I16: 2993 | J16: =SUM(I16*100/H16) -> 107.66187 | K16: 800 | L16: 801 | M16: =SUM(L16*100/K16) -> 100.125
A17: สำนักงานพัฒนาฝีมือแรงงานจังหวัดฉะเชิงเทรา | E17: 260 | F17: 261 | G17: =SUM(F17*100/E17) -> 100.38462 | H17: 900 | I17: 933 | J17: =SUM(I17*100/H17) -> 103.66667 | K17: 440 | L17: 443 | M17: =SUM(L17*100/K17) -> 100.68182
A18: สพร. 2 สุพรรณบุรี | E18: =SUM(E19:E22) -> 300 | F18: =SUM(F19:F22) -> 343 | G18: =SUM(F18*100/E18) -> 114.33333 | H18: =SUM(H19:H22) -> 2800 | I18: =SUM(I19:I22) -> 3216 | J18: =SUM(I18*100/H18) -> 114.85714 | K18: =SUM(K19:K22) -> 300 | L18: =SUM(L19:L22) -> 354 | M18: =SUM(L18*100/K18) -> 118
A19: สถาบันพัฒนาฝีมือแรงงาน 2 สุพรรณบุรี | E19: 300 | F19: 343 | G19: =SUM(F19*100/E19) -> 114.33333 | H19: 1680 | I19: 2005 | J19: =SUM(I19*100/H19) -> 119.34524 | K19: 120 | L19: 144 | M19: =SUM(L19*100/K19) -> 120
A20: สำนักงานพัฒนาฝีมือแรงงานจังหวัดสิงห์บุรี | H20: 520 | I20: 557 | J20: =SUM(I20*100/H20) -> 107.11538 | K20: 100 | L20: 125 | M20: =SUM(L20*100/K20) -> 125
A21: สำนักงานพัฒนาฝีมือแรงงานจังหวัดชัยนาท | H21: 340 | I21: 382 | J21: =SUM(I21*100/H21) -> 112.35294 | K21: 80 | L21: 85 | M21: =SUM(L21*100/K21) -> 106.25
A22: สำนักงานพัฒนาฝีมือแรงงานจังหวัดอุทัยธานี | H22: 260 | I22: 272 | J22: =SUM(I22*100/H22) -> 104.61538
A23: สพร. 3 ชลบุรี | E23: =SUM(E24:E26) -> 240 | F23: =SUM(F24:F26) -> 303 | G23: =SUM(F23*100/E23) -> 126.25 | H23: =SUM(H24:H26) -> 3390 | I23: =SUM(I24:I26) -> 4022 | J23: =SUM(I23*100/H23) -> 118.64307 | K23: =SUM(K24:K26) -> 1060 | L23: =SUM(L24:L26) -> 1155 | M23: =SUM(L23*100/K23) -> 108.96226
A24: สถาบันพัฒนาฝีมือแรงงาน 3 ชลบุรี | E24: 100 | F24: 140 | G24: =SUM(F24*100/E24) -> 140 | H24: 1220 | I24: 1428 | J24: =SUM(I24*100/H24) -> 117.04918 | K24: 700 | L24: 775 | M24: =SUM(L24*100/K24) -> 110.71429
A25: ศูนย์พัฒนาฝีมือแรงงานจังหวัดปราจีนบุรี | E25: 120 | F25: 138 | G25: =SUM(F25*100/E25) -> 115 | H25: 1670 | I25: 2015 | J25: =SUM(I25*100/H25) -> 120.65868 | K25: 260 | L25: 272 | M25: =SUM(L25*100/K25) -> 104.61538
A26: ศูนย์พัฒนาฝีมือแรงงานจังหวัดสระแก้ว | E26: 20 | F26: 25 | G26: =SUM(F26*100/E26) -> 125 | H26: 500 | I26: 579 | J26: =SUM(I26*100/H26) -> 115.8 | K26: 100 | L26: 108 | M26: =SUM(L26*100/K26) -> 108
A27: สพร. 4 ราชบุรี | E27: =SUM(E28:E31) -> 960 | F27: =SUM(F28:F31) -> 1313 | G27: =SUM(F27*100/E27) -> 136.77083 | H27: =SUM(H28:H31) -> 3780 | I27: =SUM(I28:I31) -> 4705 | J27: =SUM(I27*100/H27) -> 124.4709 | K27: =SUM(K28:K31) -> 1220 | L27: =SUM(L28:L31) -> 1371 | M27: =SUM(L27*100/K27) -> 112.37705
A28: สถาบันพัฒนาฝีมือแรงงาน 4 ราชบุรี | E28: 240 | F28: 260 | G28: =SUM(F28*100/E28) -> 108.33333 | H28: 1500 | I28: 1734 | J28: =SUM(I28*100/H28) -> 115.6 | K28: 680 | L28: 715 | M28: =SUM(L28*100/K28) -> 105.14706
A29: สำนักงานพัฒนาฝีมือแรงงานจังหวัดเพชรบุรี | E29: 160 | F29: 345 | G29: =SUM(F29*100/E29) -> 215.625 | H29: 900 | I29: 1239 | J29: =SUM(I29*100/H29) -> 137.66667 | K29: 240 | L29: 334 | M29: =SUM(L29*100/K29) -> 139.16667
A30: สำนักงานพัฒนาฝีมือแรงงานจังหวัดกาญจนบุรี | E30: 160 | F30: 197 | G30: =SUM(F30*100/E30) -> 123.125 | H30: 740 | I30: 925 | J30: =SUM(I30*100/H30) -> 125 | K30: 100 | L30: 111 | M30: =SUM(L30*100/K30) -> 111
A31: สำนักงานพัฒนาฝีมือแรงงานจังหวัดประจวบคีรีขันธ์ | E31: 400 | F31: 511 | G31: =SUM(F31*100/E31) -> 127.75 | H31: 640 | I31: 807 | J31: =SUM(I31*100/H31) -> 126.09375 | K31: 200 | L31: 211 | M31: =SUM(L31*100/K31) -> 105.5
A32: สพร. 5 นครราชสีมา | E32: =SUM(E33:E36) -> 880 | F32: =SUM(F33:F36) -> 1048 | G32: =SUM(F32*100/E32) -> 119.09091 | H32: =SUM(H33:H36) -> 4596 | I32: =SUM(I33:I36) -> 5554 | J32: =SUM(I32*100/H32) -> 120.84421 | K32: =SUM(K33:K36) -> 960 | L32: =SUM(L33:L36) -> 1160 | M32: =SUM(L32*100/K32) -> 120.83333
A33: สถาบันพัฒนาฝีมือแรงงาน 5 นครราชสีมา | E33: 780 | F33: 902 | G33: =SUM(F33*100/E33) -> 115.64103 | H33: 1856 | I33: 2181 | J33: =SUM(I33*100/H33) -> 117.51078 | K33: 500 | L33: 669 | M33: =SUM(L33*100/K33) -> 133.8
A34: สำนักงานพัฒนาฝีมือแรงงานจังหวัดชัยภูมิ | E34: 20 | F34: 26 | G34: =SUM(F34*100/E34) -> 130 | H34: 860 | I34: 1245 | J34: =SUM(I34*100/H34) -> 144.76744 | K34: 120 | L34: 126 | M34: =SUM(L34*100/K34) -> 105
A35: สำนักงานพัฒนาฝีมือแรงงานจังหวัดสุรินทร์ | H35: 800 | I35: 954 | J35: =SUM(I35*100/H35) -> 119.25 | K35: 140 | L35: 151 | M35: =SUM(L35*100/K35) -> 107.85714
A36: สำนักงานพัฒนาฝีมือแรงงานจังหวัดบุรีรัมย์ | E36: 80 | F36: 120 | G36: =SUM(F36*100/E36) -> 150 | H36: 1080 | I36: 1174 | J36: =SUM(I36*100/H36) -> 108.7037 | K36: 200 | L36: 214 | M36: =SUM(L36*100/K36) -> 107
A37: สพร. 6 ขอนแก่น | E37: =SUM(E38:E42) -> 200 | F37: =SUM(F38:F42) -> 291 | G37: =SUM(F37*100/E37) -> 145.5 | H37: =SUM(H38:H42) -> 3192 | I37: =SUM(I38:I42) -> 4110 | J37: =SUM(I37*100/H37) -> 128.7594 | K37: =SUM(K38:K42) -> 400 | L37: =SUM(L38:L42) -> 450 | M37: =SUM(L37*100/K37) -> 112.5
A38: สถาบันพัฒนาฝีมือแรงงาน 6 ขอนแก่น | E38: 200 | F38: 291 | G38: =SUM(F38*100/E38) -> 145.5 | H38: 820 | I38: 1247 | J38: =SUM(I38*100/H38) -> 152.07317 | K38: 100 | L38: 127 | M38: =SUM(L38*100/K38) -> 127
A39: สำนักงานพัฒนาฝีมือแรงงานจังหวัดกาฬสินธุ์ | H39: 660 | I39: 813 | J39: =SUM(I39*100/H39) -> 123.18182 | K39: 100 | L39: 114 | M39: =SUM(L39*100/K39) -> 114
A40: สำนักงานพัฒนาฝีมือแรงงานจังหวัดมุกดาหาร | H40: 440 | I40: 494 | J40: =SUM(I40*100/H40) -> 112.27273 | K40: 40 | L40: 45 | M40: =SUM(L40*100/K40) -> 112.5
A41: สำนักงานพัฒนาฝีมือแรงงานจังหวัดหนองบัวลำภู | H41: 556 | I41: 755 | J41: =SUM(I41*100/H41) -> 135.79137 | K41: 60 | L41: 61 | M41: =SUM(L41*100/K41) -> 101.66667
...

Sheet 2
A1: ผลการดำเนินงานพัฒนาฝีมือแรงงาน ปีงบประมาณ 2561
A2: ตุลาคม 2560 - กันยายน 2561 เป้าหมาย 12 เดือน
A4: หน่วยงาน | B4: โครงการศูนย์ฝึกอบรมเทคโนโลยีชั้นสูง | E4: โครงการเพิ่มผลิตภาพแรงงาน | H4: โครงการเพิ่มทักษะกำลังแรงงาน | K4: โครงการพัฒนาอุตสาหกรรม | N4: โครงการควบคุมและกำกับดูแล
B5: รองรับอุตสาหกรรมแห่งอนาคต | E5: สู่ SME 4.0 | H5: ในเขตพื้นที่ 10 จังหวัด ในพื้นที่ | K5: เทคโนโลยีชั้นสูงและอุตสาหกรรม | N5: การประกอบอาชีพที่อาจเป็นอันตราย
H6: เขตเศรษฐกิจพิเศษ | K6: แห่งอนาคตในพื้นที่ระเบียงเศรษฐกิจ | N6: ต่อสาธารณะหรือต้องใช้ความรู้
K7: ภาคตะวันออก | N7: ความสามารถ Safety At Work
B8: เป้าหมาย | C8: รวมเข้า | D8: ร้อยละ | E8: เป้าหมาย | F8: รวมเข้า | G8: ร้อยละ | H8: เป้าหมาย | I8: รวมเข้า | J8: ร้อยละ | K8: เป้าหมาย | L8: รวมเข้า | M8: ร้อยละ | N8: เป้าหมาย | O8: ผู้ผ่าน | P8: ร้อยละ
A9: รวมทั้งสิ้น | B9: =SUM(B10+B11+B12+B13+B14+B16+B19+B24+B28+B33+B38+B44+B50+B55+B61+B65+B69+B72+B74+B78+B83+B87+B91+B97+B100+B104+B108+B112+B113+B114) -> 10000 | C9: =SUM(C10+C11+C12+C13+C14+C16+C19+C24+C28+C33+C38+C44+C50+C55+C61+C65+C69+C72+C74+C78+C83+C87+C91+C97+C100+C104+C108+C112+C113+C114) -> 10896 | D9: =SUM(C9*100/B9) -> 108.96 | E9: 10000 | F9: =SUM(F10+F11+F12+F13+F14+F16+F19+F24+F28+F33+F38+F44+F50+F55+F61+F65+F69+F72+F74+F78+F83+F87+F91+F97+F100+F104+F108+F112+F113+F114) -> 12525 | G9: =SUM(F9*100/E9) -> 125.25 | H9: =SUM(H10+H11+H12+H13+H14+H16+H19+H24+H28+H33+H38+H44+H50+H55+H61+H65+H69+H72+H74+H78+H83+H87+H91+H97+H100+H104+H108+H112+H113+H114) -> 9920 | I9: =SUM(I10+I11+I12+I13+I14+I16+I19+I24+I28+I33+I38+I44+I50+I55+I61+I65+I69+I72+I74+I78+I83+I87+I91+I97+I100+I104+I108+I112+I113+I114) -> 11869 | J9: =SUM(I9*100/H9) -> 119.64718 | K9: =SUM(K10+K11+K12+K13+K14+K16+K19+K24+K28+K33+K38+K44+K50+K55+K61+K65+K69+K72+K74+K78+K83+K87+K91+K97+K100+K104+K108+K112+K113+K114) -> 9200 | L9: =SUM(L10+L11+L12+L13+L14+L16+L19+L24+L28+L33+L38+L44+L50+L55+L61+L65+L69+L72+L74+L78+L83+L87+L91+L97+L100+L104+L108+L112+L113+L114) -> 10917 | M9: =SUM(L9*100/K9) -> 118.66304 | N9: =SUM(N10+N11+N12+N13+N14+N15+N16+N19+N24+N28+N33+N38+N44+N50+N55+N61+N65+N69+N72+N74+N78+N83+N87+N91+N97+N100+N104+N108+N112+N113+N114) -> 32000 | O9: =SUM(O10+O11+O12+O13+O14+O15+O16+O19+O24+O28+O33+O38+O44+O50+O55+O61+O65+O69+O72+O74+O78+O83+O87+O91+O97+O100+O104+O108+O112+O113+O114) -> 25613 | P9: =SUM(O9*100/N9) -> 80.040625
A10: กลุ่มงานพัฒนาวิทยากรต้นแบบ
A11: สถาบันยานยนต์
A12: สถาบันพัฒนาทรัพยากรมนุษย์
A13: สพน.เชียงแสน | B13: 700 | C13: 846 | D13: =SUM(C13*100/B13) -> 120.85714
A14: สำนักมาตรฐานและทดสอบฝีมือแรงงาน | B14: 1400
A15: สำนักงานรับรองความรู้ความสามารถ | N15: 400 | O15: 196 | P15: =SUM(O15*100/N15) -> 49
A16: สพร. 1 สมุทรปราการ | B16: =SUM(B17:B18) -> 1180 | C16: =SUM(C17:C18) -> 1057 | D16: =SUM(C16*100/B16) -> 89.576271 | E16: =SUM(E17:E18) -> 0 | F16: =SUM(F17:F18) -> 141 | G16: =SUM(G17:G18) -> 0 | H16: =SUM(H17:H18) -> 0 | I16: =SUM(I17:I18) -> 0 | K16: =SUM(K17:K18) -> 2920 | L16: =SUM(L17:L18) -> 3627 | M16: =SUM(L16*100/K16) -> 124.21233 | N16: =SUM(N17:N18) -> 2128 | O16: =SUM(O17:O18) -> 1981 | P16: =SUM(O16*100/N16) -> 93.092105
A17: สถาบันพัฒนาฝีมือแรงงาน 1 สมุทรปราการ | B17: 1180 | C17: 1057 | D17: =SUM(C17*100/B17) -> 89.576271 | F17: 0 | N17: 1504 | O17: 1344 | P17: =SUM(O17*100/N17) -> 89.361702
A18: สำนักงานพัฒนาฝีมือแรงงานจังหวัดฉะเชิงเทรา | F18: 141 | K18: 2920 | L18: 3627 | M18: =SUM(L18*100/K18) -> 124.21233 | N18: 624 | O18: 637 | P18: =SUM(O18*100/N18) -> 102.08333
A19: สพร. 2 สุพรรณบุรี | B19: =SUM(B20:B23) -> 700 | C19: =SUM(C20:C23) -> 1083 | D19: =SUM(C19*100/B19) -> 154.71429 | E19: =SUM(E20:E23) -> 0 | F19: =SUM(F20:F23) -> 727 | G19: =SUM(G20:G23) -> 0 | H19: =SUM(H20:H23) -> 0 | I19: =SUM(I20:I23) -> 0 | K19: =SUM(K20:K23) -> 0 | L19: =SUM(L20:L23) -> 0 | M19: =SUM(M20:M23) -> 0 | N19: =SUM(N20:N23) -> 1488 | O19: =SUM(O20:O23) -> 896 | P19: =SUM(O19*100/N19) -> 60.215054
A20: สถาบันพัฒนาฝีมือแรงงาน 2 สุพรรณบุรี | B20: 700 | C20: 1083 | D20: =SUM(C20*100/B20) -> 154.71429 | F20: 366 | N20: 848 | O20: 673 | P20: =SUM(O20*100/N20) -> 79.363208
A21: สำนักงานพัฒนาฝีมือแรงงานจังหวัดสิงห์บุรี | F21: 140 | N21: 240 | O21: 41 | P21: =SUM(O21*100/N21) -> 17.083333
A22: สำนักงานพัฒนาฝีมือแรงงานจังหวัดชัยนาท | F22: 120 | N22: 208 | O22: 87 | P22: =SUM(O22*100/N22) -> 41.826923
A23: สำนักงานพัฒนาฝีมือแรงงานจังหวัดอุทัยธานี | F23: 101 | N23: 192 | O23: 95 | P23: =SUM(O23*100/N23) -> 49.479167
A24: สพร. 3 ชลบุรี | B24: =SUM(B25:B27) -> 800 | C24: =SUM(C25:C27) -> 1314 | D24: =SUM(C24*100/B24) -> 164.25 | E24: =SUM(E25:E27) -> 0 | F24: =SUM(F25:F27) -> 650 | G24: =SUM(G25:G27) -> 0 | H24: =SUM(H25:H27) -> 540 | I24: =SUM(I25:I27) -> 541 | J24: =SUM(I24*100/H24) -> 100.18519 | K24: =SUM(K25:K27) -> 3140 | L24: =SUM(L25:L27) -> 4111 | M24: =SUM(L24*100/K24) -> 130.92357 | N24: =SUM(N25:N27) -> 1648 | O24: =SUM(O25:O27) -> 2505 | P24: =SUM(O24*100/N24) -> 152.00243
A25: สถาบันพัฒนาฝีมือแรงงาน 3 ชลบุรี | B25: 800 | C25: 1314 | D25: =SUM(C25*100/B25) -> 164.25 | F25: 410 | K25: 3140 | L25: 4111 | M25: =SUM(L25*100/K25) -> 130.92357 | N25: 1200 | O25: 2085 | P25: =SUM(O25*100/N25) -> 173.75
A26: ศูนย์พัฒนาฝีมือแรงงานจังหวัดปราจีนบุรี | F26: 136 | N26: 240 | O26: 247 | P26: =SUM(O26*100/N26) -> 102.91667
A27: ศูนย์พัฒนาฝีมือแรงงานจังหวัดสระแก้ว | F27: 104 | H27: 540 | I27: 541 | J27: =SUM(I27*100/H27) -> 100.18519 | N27: 208 | O27: 173 | P27: =SUM(O27*100/N27) -> 83.173077
A28: สพร. 4 ราชบุรี | E28: =SUM(E29:E32) -> 0 | F28: =SUM(F29:F32) -> 645 | G28: =SUM(G29:G32) -> 0 | H28: =SUM(H29:H32) -> 1480 | I28: =SUM(I29:I32) -> 2261 | J28: =SUM(I28*100/H28) -> 152.77027 | K28: =SUM(K29:K32) -> 0 | L28: =SUM(L29:L32) -> 0 | M28: =SUM(M29:M32) -> 0 | N28: =SUM(N29:N32) -> 1392 | O28: =SUM(O29:O32) -> 1026 | P28: =SUM(O28*100/N28) -> 73.706897
A29: สถาบันพัฒนาฝีมือแรงงาน 4 ราชบุรี | F29: 280 | N29: 704 | O29: 389 | P29: =SUM(O29*100/N29) -> 55.255682
A30: สำนักงานพัฒนาฝีมือแรงงานจังหวัดเพชรบุรี | F30: 120 | N30: 224 | O30: 90 | P30: =SUM(O30*100/N30) -> 40.178571
A31: สำนักงานพัฒนาฝีมือแรงงานจังหวัดกาญจนบุรี | F31: 121 | H31: 1480 | I31: 2261 | J31: =SUM(I31*100/H31) -> 152.77027 | N31: 240 | O31: 280 | P31: =SUM(O31*100/N31) -> 116.66667
A32: สำนักงานพัฒนาฝีมือแรงงานจังหวัดประจวบคีรีขันธ์ | F32: 124 | N32: 224 | O32: 267 | P32: =SUM(O32*100/N32) -> 119.19643
A33: สพร. 5 นครราชสีมา | B33: =SUM(B34:B37) -> 820 | C33: =SUM(C34:C37) -> 1144 | D33: =SUM(C33*100/B33) -> 139.5122 | E33: =SUM(E34:E37) -> 0 | F33: =SUM(F34:F37) -> 526 | G33: =SUM(G34:G37) -> 0 | H33: =SUM(H34:H37) -> 0 | I33: =SUM(I34:I37) -> 0 | K33: =SUM(K34:K37) -> 0 | L33: =SUM(L34:L37) -> 0 | M33: =SUM(M34:M37) -> 0 | N33: =SUM(N34:N37) -> 1504 | O33: =SUM(O34:O37) -> 1284 | P33: =SUM(O33*100/N33) -> 85.37234
A34: สถาบันพัฒนาฝีมือแรงงาน 5 นครราชสีมา | B34: 820 | C34: 1144 | D34: =SUM(C34*100/B34) -> 139.5122 | F34: 255 | N34: 800 | O34: 595 | P34: =SUM(O34*100/N34) -> 74.375
A35: สำนักงานพัฒนาฝีมือแรงงานจังหวัดชัยภูมิ | F35: 121 | N35: 240 | O35: 242 | P35: =SUM(O35*100/N35) -> 100.83333
A36: สำนักงานพัฒนาฝีมือแรงงานจังหวัดสุรินทร์ | N36: 240 | O36: 216 | P36: =SUM(O36*100/N36) -> 90
A37: สำนักงานพัฒนาฝีมือแรงงานจังหวัดบุรีรัมย์ | F37: 150 | N37: 224 | O37: 231 | P37: =SUM(O37*100/N37) -> 103.125
A38: สพร. 6 ขอนแก่น | B38: =SUM(B39:B43) -> 400 | C38: =SUM(C39:C43) -> 751 | D38: =SUM(C38*100/B38) -> 187.75 | E38: =SUM(E39:E43) -> 0 | F38: =SUM(F39:F43) -> 755 | G38: =SUM(G39:G43) -> 0 | H38: =SUM(H39:H43) -> 880 | I38: =SUM(I39:I43) -> 989 | J38: =SUM(I38*100/H38) -> 112.38636 | K38: =SUM(K39:K43) -> 0 | L38: =SUM(L39:L43) -> 0 | M38: =SUM(M39:M43) -> 0 | N38: =SUM(N39:N43) -> 1488 | O38: =SUM(O39:O43) -> 1038 | P38: =SUM(O38*100/N38) -> 69.758065
A39: สถาบันพัฒนาฝีมือแรงงาน 6 ขอนแก่น | B39: 400 | C39: 751 | D39: =SUM(C39*100/B39) -> 187.75 | F39: 275 | N39: 752 | O39: 354 | P39: =SUM(O39*100/N39) -> 47.074468
A40: สำนักงานพัฒนาฝีมือแรงงานจังหวัดกาฬสินธุ์ | F40: 197 | N40: 256 | O40: 281 | P40: =SUM(O40*100/N40) -> 109.76562
A41: สำนักงานพัฒนาฝีมือแรงงานจังหวัดมุกดาหาร | F41: 120 | H41: 880 | I41: 989 | J41: =SUM(I41*100/H41) -> 112.38636 | N41: 144 | O41: 74 | P41: =SUM(O41*100/N41) -> 51.388889
...

Sheet 3
A1: ผลการดำเนินงานพัฒนาฝีมือแรงงาน ปีงบประมาณ 2561
A2: ตุลาคม 2560 - กันยายน 2561 เป้าหมาย 12 เดือน
A4: หน่วยงาน | B4: โครงการยกระดับแรงงานไทยให้ได้มาตรฐานฝีมือแรงงานเพื่อรองรับการแข่งขัน | K4: โครงการพัฒนาฝีมือให้แก่กลุ่มวิสาหกิจชุมชน
B5: กิจกรรมพัฒนาศักยภาพแรงงานเพื่อรองรับ | E5: กิจกรรมทดสอบมาตรฐานฝีมือแรงงาน | H5: กิจกรรมพัฒนาศักยภาพมาตรฐาน | K5: และผู้มีรายได้น้อย
B6: การจ่ายค่าจ้างตามมาตรฐานฝีมือ | E6: ให้มีสมรรถนะ | H6: ฝีมือแรงงานไทยในต่างประเทศ
B7: เป้าหมาย | C7: รวมเข้า | D7: ร้อยละ | E7: เป้าหมาย | F7: รวมเข้า | G7: ร้อยละ | H7: เป้าหมาย | I7: รวมเข้า | J7: ร้อยละ | K7: เป้าหมาย | L7: รวมเข้า | M7: ร้อยละ
A8: รวมทั้งสิ้น | B8: =SUM(B11+B15+B18+B23+B27+B32+B37+B43+B49+B54+B60+B64+B68+B71+B73+B77+B82+B86+B90+B96+B99+B103+B107+B111+B112+B113) -> 4100 | C8: =SUM(C11+C15+C18+C23+C27+C32+C37+C43+C49+C54+C60+C64+C68+C71+C73+C77+C82+C86+C90+C96+C99+C103+C107+C111+C112+C113) -> 5071 | D8: =SUM(C8*100/B8) -> 123.68293 | E8: =SUM(E11+E13+E15+E18+E23+E27+E32+E37+E43+E49+E54+E60+E64+E68+E71+E73+E77+E82+E86+E90+E96+E99+E103+E107+E111+E112+E113) -> 19140 | F8: =SUM(F11+F13+F15+F18+F23+F27+F32+F37+F43+F49+F54+F60+F64+F68+F71+F73+F77+F82+F86+F90+F96+F99+F103+F107+F111+F112+F113) -> 37042 | G8: =SUM(F8*100/E8) -> 193.53187 | H8: =SUM(H13) -> 100 | I8: =SUM(I13) -> 313 | J8: =SUM(I8*100/H8) -> 313 | K8: =SUM(K15+K18+K23+K27+K32+K37+K43+K49+K54+K60+K64+K68+K71+K73+K77+K82+K86+K90+K96+K99+K103+K107+K111+K112+K113) -> 3840 | L8: =SUM(L15+L18+L23+L27+L32+L37+L43+L49+L54+L60+L64+L68+L71+L73+L77+L82+L86+L90+L96+L99+L103+L107+L111+L112+L113) -> 4063 | M8: =SUM(L8*100/K8) -> 105.80729
A9: กลุ่มงานพัฒนาวิทยากรต้นแบบ
A10: สถาบันยานยนต์
A11: สถาบันพัฒนาทรัพยากรมนุษย์สำหรับอุตสาหกรรม | B11: 50 | C11: 58 | D11: =SUM(C11*100/B11) -> 116 | E11: 220 | F11: 297 | G11: =SUM(F11*100/E11) -> 135
A12: สถาบันพัฒนาฝีมือแรงงานนานาชาติเชียงแสน
A13: สำนักมาตรฐานและทดสอบฝีมือแรงงาน | H13: 100 | I13: 313 | J13: =SUM(I13*100/H13) -> 313
A14: สำนักงานรับรองความรู้ความสามารถ
A15: สพร. 1 สมุทรปราการ | B15: =SUM(B16:B17) -> 160 | C15: =SUM(C16:C17) -> 172 | D15: =SUM(C15*100/B15) -> 107.5 | E15: =SUM(E16:E17) -> 760 | F15: =SUM(F16:F17) -> 2011 | G15: =SUM(F15*100/E15) -> 264.60526
A16: สถาบันพัฒนาฝีมือแรงงาน 1 สมุทรปราการ | B16: 120 | C16: 130 | D16: =SUM(C16*100/B16) -> 108.33333 | E16: 430 | F16: 1527 | G16: =SUM(F16*100/E16) -> 355.11628
A17: สำนักงานพัฒนาฝีมือแรงงานจังหวัดฉะเชิงเทรา | B17: 40 | C17: 42 | D17: =SUM(C17*100/B17) -> 105 | E17: 330 | F17: 484 | G17: =SUM(F17*100/E17) -> 146.66667
A18: สพร. 2 สุพรรณบุรี | B18: =SUM(B19:B22) -> 240 | C18: =SUM(C19:C22) -> 260 | D18: =SUM(C18*100/B18) -> 108.33333 | E18: =SUM(E19:E22) -> 970 | F18: =SUM(F19:F22) -> 1365 | G18: =SUM(F18*100/E18) -> 140.72165
A19: สถาบันพัฒนาฝีมือแรงงาน 2 สุพรรณบุรี | B19: 160 | C19: 167 | D19: =SUM(C19*100/B19) -> 104.375 | E19: 570 | F19: 784 | G19: =SUM(F19*100/E19) -> 137.54386
A20: สำนักงานพัฒนาฝีมือแรงงานจังหวัดสิงห์บุรี | B20: 40 | C20: 40 | D20: =SUM(C20*100/B20) -> 100 | E20: 160 | F20: 185 | G20: =SUM(F20*100/E20) -> 115.625
A21: สำนักงานพัฒนาฝีมือแรงงานจังหวัดชัยนาท | B21: 20 | C21: 29 | D21: =SUM(C21*100/B21) -> 145 | E21: 130 | F21: 133 | G21: =SUM(F21*100/E21) -> 102.30769
A22: สำนักงานพัฒนาฝีมือแรงงานจังหวัดอุทัยธานี | B22: 20 | C22: 24 | D22: =SUM(C22*100/B22) -> 120 | E22: 110 | F22: 263 | G22: =SUM(F22*100/E22) -> 239.09091
A23: สพร. 3 ชลบุรี | B23: =SUM(B24:B26) -> 120 | C23: =SUM(C24:C26) -> 141 | D23: =SUM(C23*100/B23) -> 117.5 | E23: =SUM(E24:E26) -> 2060 | F23: =SUM(F24:F26) -> 2628 | G23: =SUM(F23*100/E23) -> 127.57282 | K23: =SUM(K24:K26) -> 800 | L23: =SUM(L24:L26) -> 814 | M23: =SUM(L23*100/K23) -> 101.75
A24: สถาบันพัฒนาฝีมือแรงงาน 3 ชลบุรี | B24: 60 | C24: 81 | D24: =SUM(C24*100/B24) -> 135 | E24: 1650 | F24: 1772 | G24: =SUM(F24*100/E24) -> 107.39394
A25: ศูนย์พัฒนาฝีมือแรงงานจังหวัดปราจีนบุรี | B25: 40 | C25: 40 | D25: =SUM(C25*100/B25) -> 100 | E25: 220 | F25: 365 | G25: =SUM(F25*100/E25) -> 165.90909
A26: ศูนย์พัฒนาฝีมือแรงงานจังหวัดสระแก้ว | B26: 20 | C26: 20 | D26: =SUM(C26*100/B26) -> 100 | E26: 190 | F26: 491 | G26: =SUM(F26*100/E26) -> 258.42105 | K26: 800 | L26: 814 | M26: =SUM(L26*100/K26) -> 101.75
A27: สพร. 4 ราชบุรี | B27: =SUM(B28:B31) -> 160 | C27: =SUM(C28:C31) -> 256 | D27: =SUM(C27*100/B27) -> 160 | E27: =SUM(E28:E31) -> 710 | F27: =SUM(F28:F31) -> 1427 | G27: =SUM(F27*100/E27) -> 200.98592
A28: สถาบันพัฒนาฝีมือแรงงาน 4 ราชบุรี | B28: 60 | C28: 140 | D28: =SUM(C28*100/B28) -> 233.33333 | E28: 270 | F28: 442 | G28: =SUM(F28*100/E28) -> 163.7037
A29: สำนักงานพัฒนาฝีมือแรงงานจังหวัดเพชรบุรี | B29: 20 | C29: 20 | D29: =SUM(C29*100/B29) -> 100 | E29: 60 | F29: 193 | G29: =SUM(F29*100/E29) -> 321.66667
A30: สำนักงานพัฒนาฝีมือแรงงานจังหวัดกาญจนบุรี | B30: 40 | C30: 47 | D30: =SUM(C30*100/B30) -> 117.5 | E30: 220 | F30: 546 | G30: =SUM(F30*100/E30) -> 248.18182
A31: สำนักงานพัฒนาฝีมือแรงงานจังหวัดประจวบคีรีขันธ์ | B31: 40 | C31: 49 | D31: =SUM(C31*100/B31) -> 122.5 | E31: 160 | F31: 246 | G31: =SUM(F31*100/E31) -> 153.75
A32: สพร. 5 นครราชสีมา | B32: =SUM(B33:B36) -> 260 | C32: =SUM(C33:C36) -> 362 | D32: =SUM(C32*100/B32) -> 139.23077 | E32: =SUM(E33:E36) -> 1100 | F32: =SUM(F33:F36) -> 2576 | G32: =SUM(F32*100/E32) -> 234.18182 | K32: =SUM(K33:K36) -> 700 | L32: =SUM(L33:L36) -> 819 | M32: =SUM(L32*100/K32) -> 117
A33: สถาบันพัฒนาฝีมือแรงงาน 5 นครราชสีมา | B33: 220 | C33: 252 | D33: =SUM(C33*100/B33) -> 114.54545 | E33: 490 | F33: 926 | G33: =SUM(F33*100/E33) -> 188.97959
A34: สำนักงานพัฒนาฝีมือแรงงานจังหวัดชัยภูมิ | E34: 380 | F34: 988 | G34: =SUM(F34*100/E34) -> 260 | K34: 300 | L34: 339 | M34: =SUM(L34*100/K34) -> 113
A35: สำนักงานพัฒนาฝีมือแรงงานจังหวัดสุรินทร์ | B35: 20 | C35: 84 | D35: =SUM(C35*100/B35) -> 420 | E35: 120 | F35: 279 | G35: =SUM(F35*100/E35) -> 232.5 | K35: 200 | L35: 229 | M35: =SUM(L35*100/K35) -> 114.5
A36: สำนักงานพัฒนาฝีมือแรงงานจังหวัดบุรีรัมย์ | B36: 20 | C36: 26 | D36: =SUM(C36*100/B36) -> 130 | E36: 110 | F36: 383 | G36: =SUM(F36*100/E36) -> 348.18182 | K36: 200 | L36: 251 | M36: =SUM(L36*100/K36) -> 125.5
A37: สพร. 6 ขอนแก่น | B37: =SUM(B38:B42) -> 160 | C37: =SUM(C38:C42) -> 185 | D37: =SUM(C37*100/B37) -> 115.625 | E37: =SUM(E38:E42) -> 1450 | F37: =SUM(F38:F42) -> 2408 | G37: =SUM(F37*100/E37) -> 166.06897 | K37: =SUM(K38:K42) -> 700 | L37: =SUM(L38:L42) -> 731 | M37: =SUM(L37*100/K37) -> 104.42857
A38: สถาบันพัฒนาฝีมือแรงงาน 6 ขอนแก่น | B38: 60 | C38: 72 | D38: =SUM(C38*100/B38) -> 120 | E38: 490 | F38: 869 | G38: =SUM(F38*100/E38) -> 177.34694
A39: สำนักงานพัฒนาฝีมือแรงงานจังหวัดกาฬสินธุ์ | B39: 20 | C39: 25 | D39: =SUM(C39*100/B39) -> 125 | E39: 430 | F39: 844 | G39: =SUM(F39*100/E39) -> 196.27907 | K39: 100 | L39: 100 | M39: =SUM(L39*100/K39) -> 100
A40: สำนักงานพัฒนาฝีมือแรงงานจังหวัดมุกดาหาร | B40: 20 | C40: 24 | D40: =SUM(C40*100/B40) -> 120 | E40: 150 | F40: 227 | G40: =SUM(F40*100/E40) -> 151.33333 | K40: 100 | L40: 100 | M40: =SUM(L40*100/K40) -> 100
A41: สำนักงานพัฒนาฝีมือแรงงานจังหวัดหนองบัวลำภู | B41: 40 | C41: 40 | D41: =SUM(C41*100/B41) -> 100 | E41: 160 | F41: 200 | G41: =SUM(F41*100/E41) -> 125 | K41: 300 | L41: 308 | M41: =SUM(L41*100/K41) -> 102.66667
...

Sheet 4
A1: ผลการดำเนินงานพัฒนาฝีมือแรงงาน ปีงบประมาณ 2561
A2: ตุลาคม 2560 - กันยายน 2561 เป้าหมาย 12 เดือน
A4: หน่วยงาน | B4: โครงการพัฒนาฝีมือแรงงานนานาชาติ | E4: ผลผลิตพัฒนา/ขับเคลื่อนความร่วมมือเครือข่ายและส่งเสริมการพัฒนาฝีมือแรงงาน | K4: ฝึกอบรมแรงงานกลุ่มเป้าหมายเฉพาะ | N4: ฝึกอบรมแรงงานผู้สูงอายุ
B5: เพื่อการพัฒนาความร่วมมือทางเศรษฐกิจ | E5: ส่งเสริมและสนับสนุนให้สถานประกอบกิจการ | H5: พัฒนาช่างช่วยคนพิการกับ | K5: เพื่อเพิ่มโอกาสในการประกอบอาชีพ | N5: เพื่อเพิ่มโอกาสในการประกอบอาชีพ
B6: ในอนุภิภาคลุ่มแม่น้ำโขงฯ | E6: ดำเนินการฝึกอบรมฯ ตาม พ.ร.บ ส่งเสริมฯ | H6: มูลนิธิขาเทียม
B7: เป้าหมาย | C7: รวมเข้า | D7: ร้อยละ | E7: เป้าหมาย | F7: รวมเข้า | G7: ร้อยละ | H7: เป้าหมาย | I7: รวมเข้า | J7: ร้อยละ | K7: เป้าหมาย | L7: รวมเข้า | M7: ร้อยละ | N7: เป้าหมาย | O7: รวมเข้า | P7: ร้อยละ
A8: รวมทั้งสิ้น | B8: =SUM(B12+B16+B19+B24+B28+B33+B38+B44+B50+B55+B61+B65+B69+B72+B74+B78+B83+B87+B91+B97+B100+B104+B108+B112+B113+B114) -> 2000 | C8: =SUM(C12+C16+C19+C24+C28+C33+C38+C44+C50+C55+C61+C65+C69+C72+C74+C78+C83+C87+C91+C97+C100+C104+C108+C112+C113+C114) -> 2003 | D8: =SUM(C12*100/B12) -> 100.15 | E8: =SUM(E16+E19+E24+E28+E33+E38+E44+E50+E55+E61+E65+E69+E72+E74+E78+E83+E87+E91+E97+E100+E104+E108+E112+E113+E114) -> 3505510 | F8: =SUM(F16+F19+F24+F28+F33+F38+F44+F50+F55+F61+F65+F69+F72+F74+F78+F83+F87+F91+F97+F100+F104+F108+F112+F113+F114) -> 4404994 | G8: =SUM(F8*100/E8) -> 125.65915 | H8: =SUM(H16+H19+H24+H28+H33+H38+H44+H50+H55+H61+H65+H69+H72+H74+H78+H83+H87+H91+H97+H100+H104+H108+H112+H113+H114) -> 60 | I8: =SUM(I16+I19+I24+I28+I33+I38+I44+I50+I55+I61+I65+I69+I72+I74+I78+I83+I87+I91+I97+I100+I104+I108+I112+I113+I114) -> 64 | J8: =SUM(J16+J19+J24+J28+J33+J38+J44+J50+J55+J61+J65+J69+J72+J74+J78+J83+J87+J91+J97+J100+J104+J108+J112+J113+J114) -> 106.66667 | K8: =SUM(K16+K19+K24+K28+K33+K38+K44+K50+K55+K61+K65+K69+K72+K74+K78+K83+K87+K91+K97+K100+K104+K108+K112+K113+K114+K13) -> 20000 | L8: =SUM(L16+L19+L24+L28+L33+L38+L44+L50+L55+L61+L65+L69+L72+L74+L78+L83+L87+L91+L97+L100+L104+L108+L112+L113+L114+L13) -> 31826 | M8: =SUM(L8*100/K8) -> 159.13 | N8: =SUM(N16+N19+N24+N28+N33+N38+N44+N50+N55+N61+N65+N69+N72+N74+N78+N83+N87+N91+N97+N100+N104+N108+N112+N113+N114) -> 6800 | O8: =SUM(O16+O19+O24+O28+O33+O38+O44+O50+O55+O61+O65+O69+O72+O74+O78+O83+O87+O91+O97+O100+O104+O108+O112+O113+O114) -> 8263 | P8: =SUM(O8*100/N8) -> 121.51471
A9: กลุ่มงานพัฒนาวิทยากรต้นแบบ
A10: สถาบันยานยนต์
A11: สถาบันพัฒนาทรัพยากรมนุษย์
A12: สถาบันพัฒนาฝีมือแรงงานนานาชาติเชียงแสน | B12: 2000 | C12: 2003 | D12: =SUM(C12*100/B12) -> 100.15
A13: สถาบันพัฒนาทรัพยากรมนุษย์สำหรับอุตสาหกรรม | K13: 60 | L13: 98 | M13: =SUM(L13*100/K13) -> 163.33333
A14: สำนักมาตรฐานและทดสอบฝีมือแรงงาน
A15: สำนักงานรับรองความรู้ความสามารถ
A16: สพร. 1 สมุทรปราการ | E16: =SUM(E17:E18) -> 395000 | F16: =SUM(F17:F18) -> 421293 | G16: =SUM(F16*100/E16) -> 106.65646 | K16: =SUM(K17:K18) -> 600 | L16: =SUM(L17:L18) -> 1027 | M16: =SUM(L16*100/K16) -> 171.16667 | N16: =SUM(N17:N18) -> 200 | O16: =SUM(O17:O18) -> 205 | P16: =SUM(O16*100/N16) -> 102.5
A17: สถาบันพัฒนาฝีมือแรงงาน 1 สมุทรปราการ | E17: 315000 | F17: 340937 | G17: =SUM(F17*100/E17) -> 108.23397 | K17: 300 | L17: 578 | M17: =SUM(L17*100/K17) -> 192.66667 | N17: 80 | O17: 85 | P17: =SUM(O17*100/N17) -> 106.25
A18: สำนักงานพัฒนาฝีมือแรงงานจังหวัดฉะเชิงเทรา | E18: 80000 | F18: 80356 | G18: =SUM(F18*100/E18) -> 100.445 | K18: 300 | L18: 449 | M18: =SUM(L18*100/K18) -> 149.66667 | N18: 120 | O18: 120 | P18: =SUM(O18*100/N18) -> 100
A19: สพร. 2 สุพรรณบุรี | E19: =SUM(E20:E23) -> 14200 | F19: =SUM(F20:F23) -> 18139 | G19: =SUM(F19*100/E19) -> 127.73944 | K19: =SUM(K20:K23) -> 860 | L19: =SUM(L20:L23) -> 955 | M19: =SUM(L19*100/K19) -> 111.04651 | N19: =SUM(N20:N23) -> 540 | O19: =SUM(O20:O23) -> 582 | P19: =SUM(O19*100/N19) -> 107.77778
A20: สถาบันพัฒนาฝีมือแรงงาน 2 สุพรรณบุรี | E20: 4700 | F20: 6601 | G20: =SUM(F20*100/E20) -> 140.44681 | K20: 80 | L20: 83 | M20: =SUM(L20*100/K20) -> 103.75 | N20: 80 | O20: 105 | P20: =SUM(O20*100/N20) -> 131.25
A21: สำนักงานพัฒนาฝีมือแรงงานจังหวัดสิงห์บุรี | E21: 6000 | F21: 6183 | G21: =SUM(F21*100/E21) -> 103.05 | K21: 100 | L21: 111 | M21: =SUM(L21*100/K21) -> 111 | N21: 80 | O21: 90 | P21: =SUM(O21*100/N21) -> 112.5
A22: สำนักงานพัฒนาฝีมือแรงงานจังหวัดชัยนาท | E22: 2000 | F22: 3542 | G22: =SUM(F22*100/E22) -> 177.1 | K22: 200 | L22: 237 | M22: =SUM(L22*100/K22) -> 118.5 | N22: 100 | O22: 105 | P22: =SUM(O22*100/N22) -> 105
A23: สำนักงานพัฒนาฝีมือแรงงานจังหวัดอุทัยธานี | E23: 1500 | F23: 1813 | G23: =SUM(F23*100/E23) -> 120.86667 | K23: 480 | L23: 524 | M23: =SUM(L23*100/K23) -> 109.16667 | N23: 280 | O23: 282 | P23: =SUM(O23*100/N23) -> 100.71429
A24: สพร. 3 ชลบุรี | E24: =SUM(E25:E27) -> 273000 | F24: =SUM(F25:F27) -> 381398 | G24: =SUM(F24*100/E24) -> 139.70623 | K24: =SUM(K25:K27) -> 360 | L24: =SUM(L25:L27) -> 503 | M24: =SUM(L24*100/K24) -> 139.72222 | N24: =SUM(N25:N27) -> 220 | O24: =SUM(O25:O27) -> 269 | P24: =SUM(O24*100/N24) -> 122.27273
A25: สถาบันพัฒนาฝีมือแรงงาน 3 ชลบุรี | E25: 224000 | F25: 296090 | G25: =SUM(F25*100/E25) -> 132.18304 | K25: 140 | L25: 230 | M25: =SUM(L25*100/K25) -> 164.28571 | N25: 100 | O25: 148 | P25: =SUM(O25*100/N25) -> 148
A26: ศูนย์พัฒนาฝีมือแรงงานจังหวัดปราจีนบุรี | E26: 47000 | F26: 82322 | G26: =SUM(F26*100/E26) -> 175.15319 | K26: 80 | L26: 80 | M26: =SUM(L26*100/K26) -> 100 | N26: 100 | O26: 100 | P26: =SUM(O26*100/N26) -> 100
A27: ศูนย์พัฒนาฝีมือแรงงานจังหวัดสระแก้ว | E27: 2000 | F27: 2986 | G27: =SUM(F27*100/E27) -> 149.3 | K27: 140 | L27: 193 | M27: =SUM(L27*100/K27) -> 137.85714 | N27: 20 | O27: 21 | P27: =SUM(O27*100/N27) -> 105
A28: สพร. 4 ราชบุรี | E28: =SUM(E29:E32) -> 47700 | F28: =SUM(F29:F32) -> 72716 | G28: =SUM(F28*100/E28) -> 152.44444 | K28: =SUM(K29:K32) -> 1160 | L28: =SUM(L29:L32) -> 1773 | M28: =SUM(L28*100/K28) -> 152.84483 | N28: =SUM(N29:N32) -> 280 | O28: =SUM(O29:O32) -> 303 | P28: =SUM(O28*100/N28) -> 108.21429
A29: สถาบันพัฒนาฝีมือแรงงาน 4 ราชบุรี | E29: 20000 | F29: 31364 | G29: =SUM(F29*100/E29) -> 156.82 | K29: 400 | L29: 461 | M29: =SUM(L29*100/K29) -> 115.25 | N29: 60 | O29: 60 | P29: =SUM(O29*100/N29) -> 100
A30: สำนักงานพัฒนาฝีมือแรงงานจังหวัดเพชรบุรี | E30: 7200 | F30: 10230 | G30: =SUM(F30*100/E30) -> 142.08333 | K30: 280 | L30: 517 | M30: =SUM(L30*100/K30) -> 184.64286 | N30: 60 | O30: 63 | P30: =SUM(O30*100/N30) -> 105
A31: สำนักงานพัฒนาฝีมือแรงงานจังหวัดกาญจนบุรี | E31: 10500 | F31: 16020 | G31: =SUM(F31*100/E31) -> 152.57143 | K31: 260 | L31: 366 | M31: =SUM(L31*100/K31) -> 140.76923 | N31: 100 | O31: 120 | P31: =SUM(O31*100/N31) -> 120
A32: สำนักงานพัฒนาฝีมือแรงงานจังหวัดประจวบคีรีขันธ์ | E32: 10000 | F32: 15102 | G32: =SUM(F32*100/E32) -> 151.02 | K32: 220 | L32: 429 | M32: =SUM(L32*100/K32) -> 195 | N32: 60 | O32: 60 | P32: =SUM(O32*100/N32) -> 100
A33: สพร. 5 นครราชสีมา | E33: =SUM(E34:E37) -> 99000 | F33: =SUM(F34:F37) -> 109413 | G33: =SUM(F33*100/E33) -> 110.51818 | K33: =SUM(K34:K37) -> 1260 | L33: =SUM(L34:L37) -> 2549 | M33: =SUM(L33*100/K33) -> 202.30159 | N33: =SUM(N34:N37) -> 380 | O33: =SUM(O34:O37) -> 532 | P33: =SUM(O33*100/N33) -> 140
A34: สถาบันพัฒนาฝีมือแรงงาน 5 นครราชสีมา | E34: 90000 | F34: 90296 | G34: =SUM(F34*100/E34) -> 100.32889 | K34: 480 | L34: 933 | M34: =SUM(L34*100/K34) -> 194.375 | N34: 200 | O34: 323 | P34: =SUM(O34*100/N34) -> 161.5
A35: สำนักงานพัฒนาฝีมือแรงงานจังหวัดชัยภูมิ | E35: 3000 | F35: 6526 | G35: =SUM(F35*100/E35) -> 217.53333 | K35: 240 | L35: 516 | M35: =SUM(L35*100/K35) -> 215 | N35: 80 | O35: 89 | P35: =SUM(O35*100/N35) -> 111.25
A36: สำนักงานพัฒนาฝีมือแรงงานจังหวัดสุรินทร์ | E36: 2000 | F36: 3659 | G36: =SUM(F36*100/E36) -> 182.95 | K36: 300 | L36: 447 | M36: =SUM(L36*100/K36) -> 149 | N36: 40 | O36: 40 | P36: =SUM(O36*100/N36) -> 100
A37: สำนักงานพัฒนาฝีมือแรงงานจังหวัดบุรีรัมย์ | E37: 4000 | F37: 8932 | G37: =SUM(F37*100/E37) -> 223.3 | K37: 240 | L37: 653 | M37: =SUM(L37*100/K37) -> 272.08333 | N37: 60 | O37: 80 | P37: =SUM(O37*100/N37) -> 133.33333
A38: สพร. 6 ขอนแก่น | E38: =SUM(E39:E43) -> 19700 | F38: =SUM(F39:F43) -> 57649 | G38: =SUM(F38*100/E38) -> 292.63452 | K38: =SUM(K39:K43) -> 1040 | L38: =SUM(L39:L43) -> 1473 | M38: =SUM(L38*100/K38) -> 141.63462 | N38: =SUM(N39:N43) -> 420 | O38: =SUM(O39:O43) -> 494 | P38: =SUM(O38*100/N38) -> 117.61905
A39: สถาบันพัฒนาฝีมือแรงงาน 6 ขอนแก่น | E39: 15000 | F39: 46159 | G39: =SUM(F39*100/E39) -> 307.72667 | K39: 300 | L39: 356 | M39: =SUM(L39*100/K39) -> 118.66667 | N39: 80 | O39: 85 | P39: =SUM(O39*100/N39) -> 106.25
A40: สำนักงานพัฒนาฝีมือแรงงานจังหวัดกาฬสินธุ์ | E40: 1200 | F40: 3477 | G40: =SUM(F40*100/E40) -> 289.75 | K40: 160 | L40: 323 | M40: =SUM(L40*100/K40) -> 201.875 | N40: 60 | O40: 107 | P40: =SUM(O40*100/N40) -> 178.33333
A41: สำนักงานพัฒนาฝีมือแรงงานจังหวัดมุกดาหาร | E41: 800 | F41: 2308 | G41: =SUM(F41*100/E41) -> 288.5 | K41: 240 | L41: 392 | M41: =SUM(L41*100/K41) -> 163.33333 | N41: 80 | O41: 80 | P41: =SUM(O41*100/N41) -> 100
...

Sheet สรุป
A1: สรุปผลการดำเนินงานพัฒนาฝีมือแรงงานในภาพรวมทุกผลผลิต/กิจกรรม/โครงการ ปีงบประมาณ 2561
A2: ตุลาคม 2560 - กันยายน 2561
A3: เป้าหมาย 12 เดือน
A5: หน่วยงาน | B5: รวมทั้งสิ้น
B8: เป้าหมาย | C8: ผลงาน | D8: ร้อยละ
A9: รวมทั้งสิ้น | B9: =SUM('1'!B9+'1'!E9+'1'!H9+'1'!K9+'2'!B9+'2'!E9+'2'!H9+'2'!K9+'2'!N9+'3'!B8+'3'!E8+'3'!H8+'3'!K8+'4'!B8+'4'!E8+'4'!H8+'4'!K8+'4'!N8) -> 3732270 | C9: =SUM('1'!C9+'1'!F9+'1'!I9+'1'!L9+'2'!C9+'2'!F9+'2'!I9+'2'!L9+'2'!O9+'3'!C8+'3'!F8+'3'!I8+'3'!L8+'4'!C8+'4'!F8+'4'!I8+'4'!L8+'4'!O8) -> 4684151 | D9: =SUM(C9*100/B9) -> 125.50408
A10: กลุ่มงานพัฒนาวิทยากรต้นแบบ
A11: สถาบันยานยนต์ | B11: =SUM('1'!E11) -> 3500 | C11: =SUM('1'!F11) -> 3766 | D11: =SUM(C11*100/B11) -> 107.6
A12: สถาบันพัฒนาทรัพยากรมนุษย์ | B12: =SUM('1'!H12+'3'!B11+'4'!E11) -> 510 | C12: =SUM('1'!I12+'3'!C11+'4'!F11) -> 564 | D12: =SUM(C12*100/B12) -> 110.58824
A13: สถาบันพัฒนาฝีมือแรงงานนานาชาติเชียงแสน | B13: =SUM('2'!B13+'4'!B12) -> 2700 | C13: =SUM('2'!C13+'4'!C12) -> 2849 | D13: =SUM(C13*100/B13) -> 105.51852
A14: สำนักมาตรฐานและทดสอบฝีมือแรงงาน | B14: =SUM('2'!B14+'3'!H13) -> 1500 | C14: =SUM('3'!I13) -> 313 | D14: =SUM(C14*100/B14) -> 20.866667
A15: สำนักงานรับรองความรู้ความสามารถ | B15: =SUM('2'!N15) -> 400 | C15: =SUM('2'!O15) -> 196 | D15: =SUM(C15*100/B15) -> 49
A16: สพร. 1 สมุทรปราการ | B16: =SUM(B17:B18) -> 408968 | C16: =SUM(C17:C18) -> 437825 | D16: =SUM(C16*100/B16) -> 107.05605
A17: สถาบันพัฒนาฝีมือแรงงาน 1 สมุทรปราการ | B17: =SUM('1'!E16+'1'!H16+'1'!K16+'2'!B17+'2'!N17+'3'!B16+'3'!E16+'4'!E17+'4'!K17+'4'!N17) -> 323034 | C17: =SUM('1'!F16+'1'!I16+'1'!L16+'2'!C17+'2'!O17+'3'!C16+'3'!F16+'4'!F17+'4'!L17+'4'!O17) -> 350473 | D17: =SUM(C17*100/B17) -> 108.49415
A18: สำนักงานพัฒนาฝีมือแรงงานจังหวัดฉะเชิงเทรา | B18: =SUM('1'!E17+'1'!H17+'1'!K17+'2'!K18+'2'!N18+'3'!B17+'3'!E17+'4'!E18+'4'!K18+'4'!N18) -> 85934 | C18: =SUM('1'!F17+'1'!I17+'1'!L17+'2'!L18+'2'!O18+'3'!C17+'3'!F17+'4'!F18+'4'!L18+'4'!O18) -> 87352 | D18: =SUM(C18*100/B18) -> 101.6501
A19: สพร. 2 สุพรรณบุรี | B19: =SUM(B20:B23) -> 22398 | C19: =SUM(C20:C23) -> 27193 | D19: =SUM(C19*100/B19) -> 121.40816
A20: สถาบันพัฒนาฝีมือแรงงาน 2 สุพรรณบุรี | B20: =SUM('1'!E19+'1'!H19+'1'!K19+'2'!B20+'2'!N20+'3'!B19+'3'!E19+'4'!E20+'4'!K20+'4'!N20) -> 9238 | C20: =SUM('1'!F19+'1'!I19+'1'!L19+'2'!C20+'2'!O20+'3'!C19+'3'!F19+'4'!F20+'4'!L20+'4'!O20) -> 11988 | D20: =SUM(C20*100/B20) -> 129.76835
A21: สำนักงานพัฒนาฝีมือแรงงานจังหวัดสิงห์บุรี | B21: =SUM('1'!E20+'1'!H20+'1'!K20+'2'!B21+'2'!N21+'3'!B20+'3'!E20+'4'!E21+'4'!K21+'4'!N21) -> 7240 | C21: =SUM('1'!F20+'1'!I20+'1'!L20+'2'!C21+'2'!O21+'3'!C20+'3'!F20+'4'!F21+'4'!L21+'4'!O21) -> 7332 | D21: =SUM(C21*100/B21) -> 101.27072
A22: สำนักงานพัฒนาฝีมือแรงงานจังหวัดชัยนาท | B22: =SUM('1'!E21+'1'!H21+'1'!K21+'2'!B22+'2'!N22+'3'!B21+'3'!E21+'4'!E22+'4'!K22+'4'!N22) -> 3078 | C22: =SUM('1'!F21+'1'!I21+'1'!L21+'2'!C22+'2'!O22+'3'!C21+'3'!F21+'4'!F22+'4'!L22+'4'!O22) -> 4600 | D22: =SUM(C22*100/B22) -> 149.44769
A23: สำนักงานพัฒนาฝีมือแรงงานจังหวัดอุทัยธานี | B23: =SUM('1'!E22+'1'!H22+'1'!K22+'2'!B23+'2'!N23+'3'!B22+'3'!E22+'4'!E23+'4'!K23+'4'!N23) -> 2842 | C23: =SUM('1'!F22+'1'!I22+'1'!L22+'2'!C23+'2'!O23+'3'!C22+'3'!F22+'4'!F23+'4'!L23+'4'!O23) -> 3273 | D23: =SUM(C23*100/B23) -> 115.16538
A24: สพร. 3 ชลบุรี | B24: =SUM(B25:B27) -> 286038 | C24: =SUM(C25:C27) -> 398349 | D24: =SUM(C24*100/B24) -> 139.26436
A25: สถาบันพัฒนาฝีมือแรงงาน 3 ชลบุรี | B25: =SUM('1'!E24+'1'!H24+'1'!K24+'2'!B25+'2'!K25+'2'!N25+'3'!B24+'3'!E24+'4'!E25+'4'!K25+'4'!N25) -> 233110 | C25: =SUM('1'!F24+'1'!I24+'1'!L24+'2'!C25+'2'!L25+'2'!O25+'3'!C24+'3'!F24+'4'!F25+'4'!L25+'4'!O25) -> 308174 | D25: =SUM(C25*100/B25) -> 132.20111
A26: ศูนย์พัฒนาฝีมือแรงงานจังหวัดปราจีนบุรี | B26: =SUM('1'!E25+'1'!H25+'1'!K25+'2'!N26+'3'!B25+'3'!E25+'4'!E26+'4'!K26+'4'!N26) -> 49730 | C26: =SUM('1'!F25+'1'!I25+'1'!L25+'2'!O26+'3'!C25+'3'!F25+'4'!F26+'4'!L26+'4'!O26) -> 85579 | D26: =SUM(C26*100/B26) -> 172.08727
A27: ศูนย์พัฒนาฝีมือแรงงานจังหวัดสระแก้ว | B27: =SUM('1'!E26+'1'!H26+'1'!K26+'2'!B27+'2'!K27+'2'!N27+'3'!B26+'3'!E26+'4'!E27+'4'!K27+'4'!N27) -> 3198 | C27: =SUM('1'!F26+'1'!I26+'1'!L26+'2'!C27+'2'!L27+'2'!O27+'3'!C26+'3'!F26+'4'!F27+'4'!L27+'4'!O27) -> 4596 | D27: =SUM(C27*100/B27) -> 143.71482
A28: สพร. 4 ราชบุรี | B28: =SUM(B29:B32) -> 58842 | C28: =SUM(C29:C32) -> 84890 | D28: =SUM(C28*100/B28) -> 144.2677
A29: สถาบันพัฒนาฝีมือแรงงาน 4 ราชบุรี | B29: =SUM('1'!E28+'1'!H28+'1'!K28+'2'!N29+'3'!B28+'3'!E28+'4'!E29+'4'!K29+'4'!N29) -> 23914 | C29: =SUM('1'!F28+'1'!I28+'1'!L28+'2'!O29+'3'!C28+'3'!F28+'4'!F29+'4'!L29+'4'!O29) -> 35565 | D29: =SUM(C29*100/B29) -> 148.72041
A30: สำนักงานพัฒนาฝีมือแรงงานจังหวัดเพชรบุรี | B30: =SUM('1'!E29+'1'!H29+'1'!K29+'2'!N30+'3'!B29+'3'!E29+'4'!E30+'4'!K30+'4'!N30) -> 9144 | C30: =SUM('1'!F29+'1'!I29+'1'!L29+'2'!O30+'3'!C29+'3'!F29+'4'!F30+'4'!L30+'4'!O30) -> 13031 | D30: =SUM(C30*100/B30) -> 142.50875
A31: สำนักงานพัฒนาฝีมือแรงงานจังหวัดกาญจนบุรี | B31: =SUM('1'!E30+'1'!H30+'1'!K30+'2'!H31+'2'!N31+'3'!B30+'3'!E30+'4'!E31+'4'!K31+'4'!N31) -> 13840 | C31: =SUM('1'!F30+'1'!I30+'1'!L30+'2'!O31+'3'!C30+'3'!F30+'4'!F31+'4'!L31+'4'!O31) -> 18612 | D31: =SUM(C31*100/B31) -> 134.47977
A32: สำนักงานพัฒนาฝีมือแรงงานจังหวัดประจวบคีรีขันธ์ | B32: =SUM('1'!E31+'1'!H31+'1'!K31+'2'!N32+'3'!B31+'3'!E31+'4'!E32+'4'!K32+'4'!N32) -> 11944 | C32: =SUM('1'!F31+'1'!I31+'1'!L31+'2'!O32+'3'!C31+'3'!F31+'4'!F32+'4'!L32+'4'!O32) -> 17682 | D32: =SUM(C32*100/B32) -> 148.04086
A33: สพร. 5 นครราชสีมา | B33: =SUM(B34:B37) -> 111460 | C33: =SUM(C34:C37) -> 126441 | D33: =SUM(C33*100/B33) -> 113.4407
A34: สถาบันพัฒนาฝีมือแรงงาน 5 นครราชสีมา | B34: =SUM('1'!E33+'1'!H33+'1'!K33+'2'!B34+'2'!N34+'3'!B33+'3'!E33+'4'!E34+'4'!K34+'4'!N34) -> 96146 | C34: =SUM('1'!F33+'1'!I33+'1'!L33+'2'!C34+'2'!O34+'3'!C33+'3'!F33+'4'!F34+'4'!L34+'4'!O34) -> 98221 | D34: =SUM(C34*100/B34) -> 102.15818
A35: สำนักงานพัฒนาฝีมือแรงงานจังหวัดชัยภูมิ | B35: =SUM('1'!E34+'1'!H34+'1'!K34+'2'!N35+'3'!E34+'3'!K34+'4'!E35+'4'!K35+'4'!N35) -> 5240 | C35: =SUM('1'!F34+'1'!I34+'1'!L34+'2'!O35+'3'!F34+'3'!L34+'4'!F35+'4'!L35+'4'!O35) -> 10097 | D35: =SUM(C35*100/B35) -> 192.69084
A36: สำนักงานพัฒนาฝีมือแรงงานจังหวัดสุรินทร์ | B36: =SUM('1'!H35+'1'!K35+'2'!N36+'3'!B35+'3'!E35+'3'!K35+'4'!E36+'4'!K36+'4'!N36) -> 3860 | C36: =SUM('1'!I35+'1'!L35+'2'!O36+'3'!C35+'3'!F35+'3'!L35+'4'!F36+'4'!L36+'4'!O36) -> 6059 | D36: =SUM(C36*100/B36) -> 156.96891
A37: สำนักงานพัฒนาฝีมือแรงงานจังหวัดบุรีรัมย์ | B37: =SUM('1'!E36+'1'!H36+'1'!K36+'2'!N37+'3'!B36+'3'!E36+'3'!K36+'4'!E37+'4'!K37+'4'!N37) -> 6214 | C37: =SUM('1'!F36+'1'!I36+'1'!L36+'2'!O37+'3'!C36+'3'!F36+'3'!L36+'4'!F37+'4'!L37+'4'!O37) -> 12064 | D37: =SUM(C37*100/B37) -> 194.14226
A38: สพร. 6 ขอนแก่น | B38: =SUM(B39:B43) -> 30030 | C38: =SUM(C39:C43) -> 70569 | D38: =SUM(C38*100/B38) -> 234.995
A39: สถาบันพัฒนาฝีมือแรงงาน 6 ขอนแก่น | B39: =SUM('1'!E38+'1'!H38+'1'!K38+'2'!B39+'2'!N39+'3'!B38+'3'!E38+'4'!E39+'4'!K39+'4'!N39) -> 18202 | C39: =SUM('1'!F38+'1'!I38+'1'!L38+'2'!C39+'2'!O39+'3'!C38+'3'!F38+'4'!F39+'4'!L39+'4'!O39) -> 50311 | D39: =SUM(C39*100/B39) -> 276.40369
A40: สำนักงานพัฒนาฝีมือแรงงานจังหวัดกาฬสินธุ์ | B40: =SUM('1'!H39+'1'!K39+'2'!N40+'3'!B39+'3'!E39+'3'!K39+'4'!E40+'4'!K40+'4'!N40) -> 2986 | C40: =SUM('1'!I39+'1'!L39+'2'!O40+'3'!C39+'3'!F39+'3'!L39+'4'!F40+'4'!L40+'4'!O40) -> 6084 | D40: =SUM(C40*100/B40) -> 203.75084
A41: สำนักงานพัฒนาฝีมือแรงงานจังหวัดมุกดาหาร | B41: =SUM('1'!H40+'1'!K40+'2'!H41+'2'!N41+'3'!B40+'3'!E40+'3'!K40+'4'!E41+'4'!K41+'4'!N41) -> 2894 | C41: =SUM('1'!I40+'1'!L40+'2'!I41+'2'!O41+'3'!C40+'3'!F40+'3'!L40+'4'!F41+'4'!L41+'4'!O41) -> 4733 | D41: =SUM(C41*100/B41) -> 163.54527
A42: สำนักงานพัฒนาฝีมือแรงงานจังหวัดหนองบัวลำภู | B42: =SUM('1'!H41+'1'!K41+'2'!N42+'3'!B41+'3'!E41+'3'!K41+'4'!E42+'4'!K42+'4'!N42) -> 2764 | C42: =SUM('1'!I41+'1'!L41+'2'!O42+'3'!C41+'3'!F41+'3'!L41+'4'!F42+'4'!L42+'4'!O42) -> 4886 | D42: =SUM(C42*100/B42) -> 176.77279
A43: สำนักงานพัฒนาฝีมือแรงงานจังหวัดมหาสารคาม | B43: =SUM('1'!H42+'1'!K42+'2'!N43+'3'!B42+'3'!E42+'3'!K42+'4'!E43+'4'!K43+'4'!N43) -> 3184 | C43: =SUM('1'!I42+'1'!L42+'2'!O43+'3'!C42+'3'!F42+'3'!L42+'4'!F43+'4'!L43+'4'!O43) -> 4555 | D43: =SUM(C43*100/B43) -> 143.05905
...

Sheet Sheet2

Sheet Sheet11
A1: รวม สพร.1 | C1: ศพจ. | D1: ตาก | E1: สพร. 18 | F1: อุดรธานี
A2: สพร. | B2: 1 สมุทรปราการ | C2: รวม สพร. 9 | E2: ศพจ. | F2: หนองคาย
A3: ศพจ. | B3: ฉะเชิงเทรา | C3: สพร. 9 | D3: พิษณุโลก | E3: ศพจ. | F3: บึงกาฬ
A4: รวม สพร. 2 | C4: ศพจ. | D4: เลย | E4: ศพจ. | F4: สกลนคร
A5: สพร.2 | B5: สุพรรณบุรี | C5: ศพจ. | D5: เพชรบูรณ์ | E5: ศพจ. | F5: นครพนม
A6: ศพจ. | B6: สิงห์บุรี | C6: ศพจ. | D6: อุตรดิตถ์ | E6: รวม สพร. 19
A7: ศพจ. | B7: ชัยนาท | C7: ศพจ. | D7: สุโขทัย | E7: สพร. 19 | F7: เชียงใหม่
A8: ศพจ. | B8: อุทัยธานี | C8: รวม สพร. 10 | E8: ศพจ. | F8: แม่ฮ่องสอน
A9: รวม สพร. 3 | C9: สพร. 10 | D9: ลำปาง | E9: รวม สพร. 20
A10: สพร.3 | B10: ชลบุรี | C10: ศพจ. | D10: ลำพูน | E10: สพร. 20 | F10: เชียงราย
A11: ศพจ. | B11: ปราจีนบุรี | C11: ศพจ. | D11: แพร่ | E11: ศพจ. | F11: พะเยา
A12: ศพจ. | B12: สระแก้ว | C12: รวม สพร. 11 | E12: ศพจ. | F12: น่าน
A13: รวม สพร. 4 | C13: สพร. 11 | D13: สุราษฎร์ธานี | E13: รวม สพร. 21
A14: สพร.4 | B14: ราชบุรี | C14: ศพจ. | D14: ชุมพร | E14: สพร. 21 | F14: ภูเก็ต
A15: ศพจ. | B15: เพชรบุรี | C15: ศพจ. | D15: ระนอง | E15: ศพจ. | F15: พังงา
A16: ศพจ. | B16: กาญจนบุรี | C16: รวม สพร. 12 | E16: ศพจ. | F16: กระบี่
A17: ศพจ. | B17: ประจวบคีรีขันธ์ | C17: สพร. 12 | D17: สงขลา | E17: รวม สพร. 22
A18: รวม สพร. 5 | C18: ศพจ. | D18: สตูล | E18: สพร. 22 | F18: นครศรีธรรมราช
A19: สพร.5 | B19: นครราชสีมา | C19: รวม สพร. 13 | E19: ศพจ. | F19: พัทลุง
A20: ศพจ. | B20: ชัยภูมิ | C20: สพร. 13 | D20: กรุงเทพฯ | E20: ศพจ. | F20: ตรัง
A21: ศพจ. | B21: สุรินทร์ | C21: รวม สพร.14 | E21: สพร. 23 ปัตตานี
A22: ศพจ. | B22: บุรีรัมย์ | C22: สพร. 14 | D22: ปทุมธานี | E22: สพร. 24 ยะลา
A23: รวม สพร. 6 | C23: ศพจ. | D23: นนทบุรี | E23: สพร. 25 นราธิวาส
A24: สพร.6 | B24: ขอนแก่น | C24: ศพจ. | D24: นครนายก
A25: ศพจ. | B25: กาฬสินธุ์ | C25: รวม สพร. 15
A26: ศพจ. | B26: มุกดาหาร | C26: สพร. 15 | D26: พระนครศรีอยุธยา
A27: ศพจ. | B27: หนองบัวลำภู | C27: ศพจ. | D27: อ่างทอง
A28: ศพจ. | B28: มหาสารคาม | C28: ศพจ. | D28: สระบุรี
A29: รวม สพร.7 | C29: ศพจ. | D29: ลพบุรี
A30: สพร.7 | B30: อุบลราชธานี | C30: รวม สพร. 16
A31: ศพจ. | B31: ศรีสะเกษ | C31: สพร. 16 | D31: นครปฐม
A32: ศพจ. | B32: อำนาจเจริญ | C32: ศพจ. | D32: สมุทรสาคร
A33: ศพจ. | B33: ร้อยเอ็ด | C33: ศพจ. | D33: สมุทรสงคราม
A34: ศพจ. | B34: ยโสธร | C34: รวม สพร. 17
A35: รวม สพร. 8 | C35: สพร. 17 | D35: ระยอง
A36: สพร.8 | B36: นครสวรรค์ | C36: ศพจ. | D36: จันทบุรี
A37: ศพจ. | B37: พิจิตร | C37: ศพจ. | D37: ตราด
A38: ศพจ. | B38: กำแพงเพชร | C38: รวม สพร. 18
