Workbook

Sheet โครง 1-6
A1: ผลการดำเนินงานพัฒนาฝีมือแรงงาน ปีงบประมาณ 2560
A2: ตุลาคม 2559 - กันยายน 2560 เป้าหมาย 12 เดือน
A4: หน่วยงาน | B4: โครงการ 1 | E4: โครงการ 2 | H4: โครงการ 3 | K4: โครงการ 5 | N4: โครงการ 6 | Q4: โครงการ 7
B5: พัฒนาฝีมือแรงงานร่วมเทิดทูน | E5: ฝึกอบรมฝีมือแรงงาน | H5: ฝึกอบรมฝีมือแรงงาน | K5: ฝึกอบรมฝีมือแรงงานรองรับ | N5: ฝึกอบรมฝีมือแรงงานนานาชาติ | Q5: เพิ่มผลิตภาพแรงงานไทย
B6: สถาบันพระมหากษัตริย์ | E6: ในพื้นที่ชายแดนภาคใต้ | H6: ในพื้นที่เขตเศรษฐกิจพิเศษ | K6: ระบบขนส่งด้านโลจิสติกส์ และก่อสร้าง
B7: เป้าหมาย | C7: รวมเข้า | D7: ร้อยละ | E7: เป้าหมาย | F7: รวมเข้า | G7: ร้อยละ | H7: เป้าหมาย | I7: รวมเข้า | J7: ร้อยละ | K7: เป้าหมาย | L7: รวมเข้า | M7: ร้อยละ | N7: เป้าหมาย | O7: รวมเข้า | P7: ร้อยละ | Q7: เป้าหมาย | R7: รวมเข้า | S7: ร้อยละ
A8: รวมทั้งสิ้น | B8: =SUM(B10+B13+B18+B22+B27+B32+B38+B44+B49+B55+B59+B63+B66+B68+B72+B77+B81+B85+B91+B94+B98+B102+B106+B107+B108) -> 5000 | C8: =SUM(C10+C13+C18+C22+C27+C32+C38+C44+C49+C55+C59+C63+C66+C68+C72+C77+C81+C85+C91+C94+C98+C102+C106+C107+C108) -> 6319 | D8: =SUM(C8*100/B8) -> 126.38 | E8: =SUM(E63+E106+E107+E108) -> 800 | F8: =SUM(F63+F106+F107+F108) -> 867 | G8: =SUM(F8*100/E8) -> 108.375 | H8: =SUM(H10+H13+H18+H22+H27+H32+H38+H44+H49+H55+H59+H63+H66+H68+H72+H77+H81+H85+H91+H94+H98+H102+H106+H107+H108) -> 16000 | I8: =SUM(I10+I13+I18+I22+I27+I32+I38+I44+I49+I55+I59+I63+I66+I68+I72+I77+I81+I85+I91+I94+I98+I102+I106+I107+I108) -> 19559 | J8: =SUM(I8*100/H8) -> 122.24375 | K8: =SUM(K10+K13+K18+K22+K27+K32+K38+K44+K49+K55+K59+K63+K66+K68+K72+K77+K81+K85+K91+K94+K98+K102+K106+K107+K108) -> 17840 | L8: =SUM(L10+L13+L18+L22+L27+L32+L38+L44+L49+L55+L59+L63+L66+L68+L72+L77+L81+L85+L91+L94+L98+L102+L106+L107+L108) -> 20958 | M8: =SUM(L8*100/K8) -> 117.47758 | N8: =SUM(N9) -> 2000 | O8: =SUM(O9) -> 2429 | P8: =SUM(O8*100/N8) -> 121.45 | Q8: 10000 | R8: =SUM(R10+R13+R18+R22+R27+R32+R38+R44+R49+R55+R59+R63+R66+R68+R72+R77+R81+R85+R91+R94+R98+R102+R106+R107+R108) -> 13750 | S8: =SUM(R8*100/Q8) -> 137.5
A9: สพน.เชียงแสน | N9: 2000 | O9: 2429 | P9: =SUM(O9*100/N9) -> 121.45
A10: สพร. 1 สมุทรปราการ | B10: 200 | C10: =SUM(C11:C12) -> 281 | D10: =SUM(C10*100/B10) -> 140.5 | K10: =SUM(K11:K12) -> 880 | L10: =SUM(L11:L12) -> 976 | M10: =SUM(L10*100/K10) -> 110.90909 | Q10: =SUM(Q11:Q12) -> 0 | R10: =SUM(R11:R12) -> 1774
A11: สถาบันพัฒนาฝีมือแรงงาน 1 สมุทรปราการ | B11: 160 | C11: 240 | D11: =SUM(C11*100/B11) -> 150 | K11: 680 | L11: 761 | M11: =SUM(L11*100/K11) -> 111.91176 | R11: 1088
A12: สำนักงานพัฒนาฝีมือแรงงานจังหวัดฉะเชิงเทรา | B12: 40 | C12: 41 | D12: =SUM(C12*100/B12) -> 102.5 | K12: 200 | L12: 215 | M12: =SUM(L12*100/K12) -> 107.5 | R12: 686
A13: สพร. 2 สุพรรณบุรี | B13: 260 | C13: =SUM(C14:C17) -> 392 | D13: =SUM(C13*100/B13) -> 150.76923 | K13: =SUM(K14:K17) -> 860 | L13: =SUM(L14:L17) -> 1013 | M13: =SUM(L13*100/K13) -> 117.7907 | Q13: =SUM(Q14:Q17) -> 0 | R13: =SUM(R14:R17) -> 501
A14: สถาบันพัฒนาฝีมือแรงงาน 2 สุพรรณบุรี | B14: 20 | C14: 20 | D14: =SUM(C14*100/B14) -> 100 | K14: 600 | L14: 702 | M14: =SUM(L14*100/K14) -> 117 | R14: 228
A15: สำนักงานพัฒนาฝีมือแรงงานจังหวัดสิงห์บุรี | B15: 40 | C15: 164 | D15: =SUM(C15*100/B15) -> 410 | K15: 140 | L15: 147 | M15: =SUM(L15*100/K15) -> 105 | R15: 140
A16: สำนักงานพัฒนาฝีมือแรงงานจังหวัดชัยนาท | B16: 40 | C16: 40 | D16: =SUM(C16*100/B16) -> 100 | K16: 60 | L16: 104 | M16: =SUM(L16*100/K16) -> 173.33333 | R16: 63
A17: สำนักงานพัฒนาฝีมือแรงงานจังหวัดอุทัยธานี | B17: 160 | C17: 168 | D17: =SUM(C17*100/B17) -> 105 | K17: 60 | L17: 60 | M17: =SUM(L17*100/K17) -> 100 | R17: 70
A18: สพร. 3 ชลบุรี | B18: 120 | C18: =SUM(C19:C21) -> 209 | D18: =SUM(C18*100/B18) -> 174.16667 | H18: =SUM(H19:H21) -> 2100 | I18: =SUM(I19:I21) -> 2671 | J18: =SUM(I18*100/H18) -> 127.19048 | K18: =SUM(K19:K21) -> 980 | L18: =SUM(L19:L21) -> 1224 | M18: =SUM(L18*100/K18) -> 124.89796 | Q18: =SUM(Q19:Q21) -> 0 | R18: =SUM(R19:R21) -> 905
A19: สถาบันพัฒนาฝีมือแรงงาน 3 ชลบุรี | B19: 80 | C19: 169 | D19: =SUM(C19*100/B19) -> 211.25 | K19: 640 | L19: 884 | M19: =SUM(L19*100/K19) -> 138.125 | R19: 685
A20: ศูนย์พัฒนาฝีมือแรงงานจังหวัดปราจีนบุรี | B20: 20 | C20: 20 | D20: =SUM(C20*100/B20) -> 100 | K20: 260 | L20: 260 | M20: =SUM(L20*100/K20) -> 100 | R20: 150
A21: ศูนย์พัฒนาฝีมือแรงงานจังหวัดสระแก้ว | B21: 20 | C21: 20 | D21: =SUM(C21*100/B21) -> 100 | H21: 2100 | I21: 2671 | J21: =SUM(I21*100/H21) -> 127.19048 | K21: 80 | L21: 80 | M21: =SUM(L21*100/K21) -> 100 | R21: 70
A22: สพร. 4 ราชบุรี | B22: 280 | C22: =SUM(C23:C26) -> 320 | D22: =SUM(C22*100/B22) -> 114.28571 | H22: =SUM(H23:H26) -> 1660 | I22: =SUM(I23:I26) -> 2320 | J22: =SUM(I22*100/H22) -> 139.75904 | K22: =SUM(K23:K26) -> 1080 | L22: =SUM(L23:L26) -> 1175 | M22: =SUM(L22*100/K22) -> 108.7963 | Q22: =SUM(Q23:Q26) -> 0 | R22: =SUM(R23:R26) -> 522
A23: สถาบันพัฒนาฝีมือแรงงาน 4 ราชบุรี | B23: 100 | C23: 100 | D23: =SUM(C23*100/B23) -> 100 | K23: 780 | L23: 829 | M23: =SUM(L23*100/K23) -> 106.28205 | R23: 254
A24: สำนักงานพัฒนาฝีมือแรงงานจังหวัดเพชรบุรี | B24: 60 | C24: 80 | D24: =SUM(C24*100/B24) -> 133.33333 | K24: 140 | L24: 156 | M24: =SUM(L24*100/K24) -> 111.42857 | R24: 77
A25: สำนักงานพัฒนาฝีมือแรงงานจังหวัดกาญจนบุรี | B25: 120 | C25: 140 | D25: =SUM(C25*100/B25) -> 116.66667 | H25: 1660 | I25: 2320 | J25: =SUM(I25*100/H25) -> 139.75904 | K25: 160 | L25: 190 | M25: =SUM(L25*100/K25) -> 118.75 | R25: 126
A26: สำนักงานพัฒนาฝีมือแรงงานจังหวัดประจวบคีรีขันธ์ | R26: 65
A27: สพร. 5 นครราชสีมา | B27: 320 | C27: =SUM(C28:C31) -> 320 | D27: =SUM(C27*100/B27) -> 100 | H27: =SUM(H28:H31) -> 0 | I27: =SUM(I28:I31) -> 0 | K27: =SUM(K28:K31) -> 1580 | L27: =SUM(L28:L31) -> 1717 | M27: =SUM(L27*100/K27) -> 108.67089 | Q27: =SUM(Q28:Q31) -> 0 | R27: =SUM(R28:R31) -> 610
A28: สถาบันพัฒนาฝีมือแรงงาน 5 นครราชสีมา | B28: 120 | C28: 120 | D28: =SUM(C28*100/B28) -> 100 | K28: 660 | L28: 703 | M28: =SUM(L28*100/K28) -> 106.51515 | R28: 353
A29: สำนักงานพัฒนาฝีมือแรงงานจังหวัดชัยภูมิ | B29: 80 | C29: 80 | D29: =SUM(C29*100/B29) -> 100 | K29: 320 | L29: 367 | M29: =SUM(L29*100/K29) -> 114.6875 | R29: 64
A30: สำนักงานพัฒนาฝีมือแรงงานจังหวัดสุรินทร์ | B30: 40 | C30: 40 | D30: =SUM(C30*100/B30) -> 100 | K30: 240 | L30: 246 | M30: =SUM(L30*100/K30) -> 102.5 | R30: 60
A31: สำนักงานพัฒนาฝีมือแรงงานจังหวัดบุรีรัมย์ | B31: 80 | C31: 80 | D31: =SUM(C31*100/B31) -> 100 | K31: 360 | L31: 401 | M31: =SUM(L31*100/K31) -> 111.38889 | R31: 133
A32: สพร. 6 ขอนแก่น | B32: 300 | C32: =SUM(C33:C37) -> 321 | D32: =SUM(C32*100/B32) -> 107 | H32: =SUM(H33:H37) -> 1460 | I32: =SUM(I33:I37) -> 1855 | J32: =SUM(I32*100/H32) -> 127.05479 | K32: =SUM(K33:K37) -> 1500 | L32: =SUM(L33:L37) -> 1583 | M32: =SUM(L32*100/K32) -> 105.53333 | Q32: =SUM(Q33:Q37) -> 0 | R32: =SUM(R33:R37) -> 846
A33: สถาบันพัฒนาฝีมือแรงงาน 6 ขอนแก่น | B33: 120 | C33: 121 | D33: =SUM(C33*100/B33) -> 100.83333 | K33: 440 | L33: 467 | M33: =SUM(L33*100/K33) -> 106.13636 | R33: 430
A34: สำนักงานพัฒนาฝีมือแรงงานจังหวัดกาฬสินธุ์ | B34: 20 | C34: 25 | D34: =SUM(C34*100/B34) -> 125 | K34: 200 | L34: 229 | M34: =SUM(L34*100/K34) -> 114.5 | R34: 80
A35: สำนักงานพัฒนาฝีมือแรงงานจังหวัดมุกดาหาร | B35: 40 | C35: 40 | D35: =SUM(C35*100/B35) -> 100 | H35: 1460 | I35: 1855 | J35: =SUM(I35*100/H35) -> 127.05479 | K35: 500 | L35: 517 | M35: =SUM(L35*100/K35) -> 103.4 | R35: 120
A36: สำนักงานพัฒนาฝีมือแรงงานจังหวัดหนองบัวลำภู | B36: 40 | C36: 55 | D36: =SUM(C36*100/B36) -> 137.5 | K36: 200 | L36: 201 | M36: =SUM(L36*100/K36) -> 100.5 | R36: 120
A37: สำนักงานพัฒนาฝีมือแรงงานจังหวัดมหาสารคาม | B37: 80 | C37: 80 | D37: =SUM(C37*100/B37) -> 100 | K37: 160 | L37: 169 | M37: =SUM(L37*100/K37) -> 105.625 | R37: 96
A38: สพร. 7 อุบลราชธานี | B38: 280 | C38: =SUM(C39:C43) -> 284 | D38: =SUM(C38*100/B38) -> 101.42857 | K38: =SUM(K39:K43) -> 1520 | L38: =SUM(L39:L43) -> 1856 | M38: =SUM(L38*100/K38) -> 122.10526 | Q38: =SUM(Q39:Q43) -> 0 | R38: =SUM(R39:R43) -> 260
A39: สถาบันพัฒนาฝีมือแรงงาน 7 อุบลราชธานี | B39: 100 | C39: 100 | D39: =SUM(C39*100/B39) -> 100 | K39: 600 | L39: 606 | M39: =SUM(L39*100/K39) -> 101 | R39: 109
A40: สำนักงานพัฒนาฝีมือแรงงานจังหวัดศรีสะเกษ | B40: 40 | C40: 42 | D40: =SUM(C40*100/B40) -> 105 | K40: 40 | L40: 40 | M40: =SUM(L40*100/K40) -> 100 | R40: 31
A41: สำนักงานพัฒนาฝีมือแรงงานจังหวัดอำนาจเจริญ | B41: 40 | C41: 40 | D41: =SUM(C41*100/B41) -> 100 | K41: 240 | L41: 272 | M41: =SUM(L41*100/K41) -> 113.33333 | R41: 61
A42: สำนักงานพัฒนาฝีมือแรงงานจังหวัดร้อยเอ็ด | B42: 60 | C42: 60 | D42: =SUM(C42*100/B42) -> 100 | K42: 320 | L42: 617 | M42: =SUM(L42*100/K42) -> 192.8125 | R42: 59
A43: สำนักงานพัฒนาฝีมือแรงงานจังหวัดยโสธร | B43: 40 | C43: 42 | D43: =SUM(C43*100/B43) -> 105 | K43: 320 | L43: 321 | M43: =SUM(L43*100/K43) -> 100.3125
A44: สพร. 8 นครสวรรค์ | B44: 200 | C44: =SUM(C45:C48) -> 200 | D44: =SUM(C44*100/B44) -> 100 | H44: =SUM(H45:H48) -> 1080 | I44: =SUM(I45:I48) -> 1494 | J44: =SUM(I44*100/H44) -> 138.33333 | K44: =SUM(K45:K48) -> 880 | L44: =SUM(L45:L48) -> 1018 | M44: =SUM(L44*100/K44) -> 115.68182 | Q44: =SUM(Q45:Q48) -> 0 | R44: =SUM(R45:R48) -> 458
A45: สถาบันพัฒนาฝีมือแรงงาน 8 นครสวรรค์ | B45: 100 | C45: 100 | D45: =SUM(C45*100/B45) -> 100 | K45: 540 | L45: 562 | M45: =SUM(L45*100/K45) -> 104.07407 | R45: 265
A46: สำนักงานพัฒนาฝีมือแรงงานจังหวัดพิจิตร | B46: 40 | C46: 40 | D46: =SUM(C46*100/B46) -> 100 | K46: 100 | L46: 110 | M46: =SUM(L46*100/K46) -> 110 | R46: 90
A47: สำนักงานพัฒนาฝีมือแรงงานจังหวัดกำแพงเพชร | B47: 40 | C47: 40 | D47: =SUM(C47*100/B47) -> 100 | K47: 200 | L47: 305 | M47: =SUM(L47*100/K47) -> 152.5 | R47: 54
A48: สำนักงานพัฒนาฝีมือแรงงานจังหวัดตาก | B48: 20 | C48: 20 | D48: =SUM(C48*100/B48) -> 100 | H48: 1080 | I48: 1494 | J48: =SUM(I48*100/H48) -> 138.33333 | K48: 40 | L48: 41 | M48: =SUM(L48*100/K48) -> 102.5 | R48: 49
A49: สพร. 9 พิษณุโลก | B49: 380 | C49: =SUM(C50:C54) -> 422 | D49: =SUM(C49*100/B49) -> 111.05263 | H49: =SUM(H50:H54) -> 0 | I49: =SUM(I50:I54) -> 0 | K49: =SUM(K50:K54) -> 1240 | L49: =SUM(L50:L54) -> 1322 | M49: =SUM(L49*100/K49) -> 106.6129 | Q49: =SUM(Q50:Q54) -> 0 | R49: =SUM(R50:R54) -> 819
A50: สถาบันพัฒนาฝีมือแรงงาน 9 พิษณุโลก | B50: 240 | C50: 280 | D50: =SUM(C50*100/B50) -> 116.66667 | K50: 380 | L50: 386 | M50: =SUM(L50*100/K50) -> 101.57895 | R50: 302
A51: สำนักงานพัฒนาฝีมือแรงงานจังหวัดเลย | B51: 100 | C51: 100 | D51: =SUM(C51*100/B51) -> 100 | K51: 360 | L51: 381 | M51: =SUM(L51*100/K51) -> 105.83333 | R51: 66
A52: สำนักงานพัฒนาฝีมือแรงงานจังหวัดเพชรบูรณ์ | K52: 160 | L52: 175 | M52: =SUM(L52*100/K52) -> 109.375 | R52: 269
A53: สำนักงานพัฒนาฝีมือแรงงานจังหวัดอุตรดิตถ์ | B53: 20 | C53: 22 | D53: =SUM(C53*100/B53) -> 110 | K53: 140 | L53: 148 | M53: =SUM(L53*100/K53) -> 105.71429 | R53: 122
A54: สำนักงานพัฒนาฝีมือแรงงานจังหวัดสุโขทัย | B54: 20 | C54: 20 | D54: =SUM(C54*100/B54) -> 100 | K54: 200 | L54: 232 | M54: =SUM(L54*100/K54) -> 116 | R54: 60
A55: สพร. 10 ลำปาง | B55: 160 | C55: =SUM(C56:C58) -> 230 | D55: =SUM(C55*100/B55) -> 143.75 | H55: =SUM(H56:H58) -> 0 | I55: =SUM(I56:I58) -> 0 | K55: =SUM(K56:K58) -> 775 | L55: =SUM(L56:L58) -> 1063 | M55: =SUM(L55*100/K55) -> 137.16129 | Q55: =SUM(Q56:Q58) -> 0 | R55: =SUM(R56:R58) -> 512
A56: สถาบันพัฒนาฝีมือแรงงาน 10 ลำปาง | B56: 100 | C56: 170 | D56: =SUM(C56*100/B56) -> 170 | K56: 495 | L56: 589 | M56: =SUM(L56*100/K56) -> 118.9899 | R56: 450
A57: สำนักงานพัฒนาฝีมือแรงงานจังหวัดลำพูน | B57: 60 | C57: 60 | D57: =SUM(C57*100/B57) -> 100 | K57: 200 | L57: 365 | M57: =SUM(L57*100/K57) -> 182.5
A58: สำนักงานพัฒนาฝีมือแรงงานจังหวัดแพร่ | K58: 80 | L58: 109 | M58: =SUM(L58*100/K58) -> 136.25 | R58: 62
A59: สพร. 11 สุราษฎร์ธานี | B59: 240 | C59: =SUM(C60:C62) -> 453 | D59: =SUM(C59*100/B59) -> 188.75 | H59: =SUM(H60:H62) -> 0 | I59: =SUM(I60:I62) -> 0 | K59: =SUM(K60:K62) -> 440 | L59: =SUM(L60:L62) -> 498 | M59: =SUM(L59*100/K59) -> 113.18182 | Q59: =SUM(Q60:Q62) -> 0 | R59: =SUM(R60:R62) -> 572
A60: สถาบันพัฒนาฝีมือแรงงาน 11 สุราษฎร์ธานี | B60: 120 | C60: 120 | D60: =SUM(C60*100/B60) -> 100 | K60: 370 | L60: 414 | M60: =SUM(L60*100/K60) -> 111.89189 | R60: 380
A61: สำนักงานพัฒนาฝีมือแรงงานจังหวัดชุมพร | B61: 100 | C61: 293 | D61: =SUM(C61*100/B61) -> 293 | K61: 20 | L61: 34 | M61: =SUM(L61*100/K61) -> 170 | R61: 132
A62: สำนักงานพัฒนาฝีมือแรงงานจังหวัดระนอง | B62: 20 | C62: 40 | D62: =SUM(C62*100/B62) -> 200 | K62: 50 | L62: 50 | M62: =SUM(L62*100/K62) -> 100 | R62: 60
A63: สพร. 12 สงขลา | E63: =SUM(E64) -> 120 | F63: =SUM(F64) -> 141 | G63: =SUM(F63*100/E63) -> 117.5 | H63: =SUM(H64:H65) -> 2260 | I63: =SUM(I64:I65) -> 2368 | J63: =SUM(I63*100/H63) -> 104.77876 | K63: =SUM(K64:K65) -> 460 | L63: =SUM(L64:L65) -> 470 | M63: =SUM(L63*100/K63) -> 102.17391 | Q63: =SUM(Q64:Q65) -> 0 | R63: =SUM(R64:R65) -> 367
A64: สถาบันพัฒนาฝีมือแรงงาน 12 สงขลา | E64: 120 | F64: 141 | G64: =SUM(F64*100/E64) -> 117.5 | H64: 2260 | I64: 2368 | J64: =SUM(I64*100/H64) -> 104.77876 | K64: 120 | L64: 120 | M64: =SUM(L64*100/K64) -> 100 | R64: 283
A65: สำนักงานพัฒนาฝีมือแรงงานจังหวัดสตูล | K65: 340 | L65: 350 | M65: =SUM(L65*100/K65) -> 102.94118 | R65: 84
A66: สพร. 13 กรุงเทพมหานคร | B66: 40 | C66: =SUM(C67) -> 51 | D66: =SUM(C66*100/B66) -> 127.5 | H66: =SUM(H67) -> 0 | I66: =SUM(I67) -> 0 | K66: =SUM(K67) -> 200 | L66: =SUM(L67) -> 280 | M66: =SUM(L66*100/K66) -> 140 | Q66: =SUM(Q67) -> 0 | R66: =SUM(R67) -> 0
A67: สถาบันพัฒนาฝีมือแรงงาน 13 กรุงเทพมหานคร | B67: 40 | C67: 51 | D67: =SUM(C67*100/B67) -> 127.5 | K67: 200 | L67: 280 | M67: =SUM(L67*100/K67) -> 140
A68: สพร. 14 ปทุมธานี | B68: 660 | C68: =SUM(C69:C71) -> 973 | D68: =SUM(C68*100/B68) -> 147.42424 | H68: =SUM(H69:H71) -> 0 | I68: =SUM(I69:I71) -> 0 | K68: =SUM(K69:K71) -> 300 | L68: =SUM(L69:L71) -> 324 | M68: =SUM(L68*100/K68) -> 108 | Q68: =SUM(Q69:Q71) -> 0 | R68: =SUM(R69:R71) -> 1107
A69: สถาบันพัฒนาฝีมือแรงงาน 14 ปทุมธานี | K69: 120 | L69: 136 | M69: =SUM(L69*100/K69) -> 113.33333 | R69: 683
A70: สำนักงานพัฒนาฝีมือแรงงานจังหวัดนนทบุรี | B70: 640 | C70: 933 | D70: =SUM(C70*100/B70) -> 145.78125 | K70: 120 | L70: 122 | M70: =SUM(L70*100/K70) -> 101.66667 | R70: 304
A71: สำนักงานพัฒนาฝีมือแรงงานจังหวัดนครนายก | B71: 20 | C71: 40 | D71: =SUM(C71*100/B71) -> 200 | K71: 60 | L71: 66 | M71: =SUM(L71*100/K71) -> 110 | R71: 120
A72: สพร. 15 พระนครศรีอยุธยา | B72: 160 | C72: =SUM(C73:C76) -> 237 | D72: =SUM(C72*100/B72) -> 148.125 | H72: =SUM(H73:H76) -> 0 | I72: =SUM(I73:I76) -> 0 | K72: =SUM(K73:K76) -> 580 | L72: =SUM(L73:L76) -> 681 | M72: =SUM(L72*100/K72) -> 117.41379 | Q72: =SUM(Q73:Q76) -> 0 | R72: =SUM(R73:R76) -> 674
A73: สถาบันพัฒนาฝีมือแรงงาน 15 พระนครศรีอยุธยา | B73: 100 | C73: 177 | D73: =SUM(C73*100/B73) -> 177 | K73: 100 | L73: 100 | M73: =SUM(L73*100/K73) -> 100 | R73: 372
A74: สำนักงานพัฒนาฝีมือแรงงานจังหวัดอ่างทอง | B74: 20 | C74: 20 | D74: =SUM(C74*100/B74) -> 100 | K74: 80 | L74: 140 | M74: =SUM(L74*100/K74) -> 175 | R74: 91
A75: สำนักงานพัฒนาฝีมือแรงงานจังหวัดสระบุรี | B75: 40 | C75: 40 | D75: =SUM(C75*100/B75) -> 100 | K75: 400 | L75: 441 | M75: =SUM(L75*100/K75) -> 110.25 | R75: 160
A76: สำนักงานพัฒนาฝีมือแรงงานจังหวัดลพบุรี | R76: 51
A77: สพร. 16 นครปฐม | H77: =SUM(H78:H80) -> 0 | I77: =SUM(I78:I80) -> 0 | K77: =SUM(K78:K80) -> 1420 | L77: =SUM(L78:L80) -> 1991 | M77: =SUM(L77*100/K77) -> 140.21127 | Q77: =SUM(Q78:Q80) -> 0 | R77: =SUM(R78:R80) -> 1151
A78: สถาบันพัฒนาฝีมือแรงงาน 16 นครปฐม | K78: 1000 | L78: 1368 | M78: =SUM(L78*100/K78) -> 136.8 | R78: 700
A79: สำนักงานพัฒนาฝีมือแรงงานจังหวัดสมุทรสาคร | K79: 380 | L79: 578 | M79: =SUM(L79*100/K79) -> 152.10526 | R79: 351
A80: สำนักงานพัฒนาฝีมือแรงงานจังหวัดสมุทรสงคราม | K80: 40 | L80: 45 | M80: =SUM(L80*100/K80) -> 112.5 | R80: 100
A81: สพร. 17 ระยอง | B81: 100 | C81: =SUM(C82:C84) -> 120 | D81: =SUM(C81*100/B81) -> 120 | H81: =SUM(H82:H84) -> 1700 | I81: =SUM(I82:I84) -> 1805 | J81: =SUM(I81*100/H81) -> 106.17647 | K81: =SUM(K82:K84) -> 440 | L81: =SUM(L82:L84) -> 505 | M81: =SUM(L81*100/K81) -> 114.77273 | Q81: =SUM(Q82:Q84) -> 0 | R81: =SUM(R82:R84) -> 1072
A82: สถาบันพัฒนาฝีมือแรงงาน 17 ระยอง | B82: 40 | C82: 44 | D82: =SUM(C82*100/B82) -> 110 | K82: 360 | L82: 418 | M82: =SUM(L82*100/K82) -> 116.11111 | R82: 828
A83: สำนักงานพัฒนาฝีมือแรงงานจังหวัดจันทบุรี | B83: 40 | C83: 46 | D83: =SUM(C83*100/B83) -> 115 | K83: 40 | L83: 43 | M83: =SUM(L83*100/K83) -> 107.5 | R83: 118
A84: สำนักงานพัฒนาฝีมือแรงงานจังหวัดตราด | B84: 20 | C84: 30 | D84: =SUM(C84*100/B84) -> 150 | H84: 1700 | I84: 1805 | J84: =SUM(I84*100/H84) -> 106.17647 | K84: 40 | L84: 44 | M84: =SUM(L84*100/K84) -> 110 | R84: 126
A85: สพร. 18 อุดรธานี | B85: 320 | C85: =SUM(C86:C90) -> 428 | D85: =SUM(C85*100/B85) -> 133.75 | H85: =SUM(H86:H90) -> 3200 | I85: =SUM(I86:I90) -> 3887 | J85: =SUM(I85*100/H85) -> 121.46875 | K85: =SUM(K86:K90) -> 760 | L85: =SUM(L86:L90) -> 942 | M85: =SUM(L85*100/K85) -> 123.94737 | Q85: =SUM(Q86:Q90) -> 0 | R85: =SUM(R86:R90) -> 330
A86: สถาบันพัฒนาฝีมือแรงงาน 18 อุดรธานี | B86: 40 | C86: 60 | D86: =SUM(C86*100/B86) -> 150 | K86: 460 | L86: 509 | M86: =SUM(L86*100/K86) -> 110.65217 | R86: 149
A87: สำนักงานพัฒนาฝีมือแรงงานจังหวัดหนองคาย | B87: 20 | C87: 20 | D87: =SUM(C87*100/B87) -> 100 | H87: 1860 | I87: 2241 | J87: =SUM(I87*100/H87) -> 120.48387 | R87: 60
A88: สำนักงานพัฒนาฝีมือแรงงานจังหวัดบึงกาฬ | B88: 40 | C88: 86 | D88: =SUM(C88*100/B88) -> 215 | K88: 60 | L88: 101 | M88: =SUM(L88*100/K88) -> 168.33333 | R88: 60
A89: สำนักงานพัฒนาฝีมือแรงงานจังหวัดสกลนคร | B89: 140 | C89: 140 | D89: =SUM(C89*100/B89) -> 100 | K89: 120 | L89: 133 | M89: =SUM(L89*100/K89) -> 110.83333 | R89: 61
A90: สำนักงานพัฒนาฝีมือแรงงานจังหวัดนครพนม | B90: 80 | C90: 122 | D90: =SUM(C90*100/B90) -> 152.5 | H90: 1340 | I90: 1646 | J90: =SUM(I90*100/H90) -> 122.83582 | K90: 120 | L90: 199 | M90: =SUM(L90*100/K90) -> 165.83333
A91: สพร. 19 เชียงใหม่ | B91: 300 | C91: =SUM(C92:C93) -> 355 | D91: =SUM(C91*100/B91) -> 118.33333 | H91: =SUM(H92:H93) -> 0 | I91: =SUM(I92:I93) -> 0 | K91: =SUM(K92:K93) -> 295 | L91: =SUM(L92:L93) -> 451 | M91: =SUM(L91*100/K91) -> 152.88136 | Q91: =SUM(Q92:Q93) -> 0 | R91: =SUM(R92:R93) -> 240
A92: สถาบันพัฒนาฝีมือแรงงาน 19 เชียงใหม่ | B92: 100 | C92: 141 | D92: =SUM(C92*100/B92) -> 141 | K92: 100 | L92: 101 | M92: =SUM(L92*100/K92) -> 101 | R92: 180
A93: ศูนย์พัฒนาฝีมือแรงงานจังหวัดแม่ฮ่องสอน | B93: 200 | C93: 214 | D93: =SUM(C93*100/B93) -> 107 | K93: 195 | L93: 350 | M93: =SUM(L93*100/K93) -> 179.48718 | R93: 60
A94: สพร. 20 เชียงราย | B94: 180 | C94: =SUM(C95:C97) -> 222 | D94: =SUM(C94*100/B94) -> 123.33333 | H94: =SUM(H95:H97) -> 1600 | I94: =SUM(I95:I97) -> 1980 | J94: =SUM(I94*100/H94) -> 123.75 | K94: =SUM(K95:K97) -> 530 | L94: =SUM(L95:L97) -> 652 | M94: =SUM(L94*100/K94) -> 123.01887 | Q94: =SUM(Q95:Q97) -> 0 | R94: =SUM(R95:R97) -> 187
A95: สถาบันพัฒนาฝีมือแรงงาน 20 เชียงราย | B95: 60 | C95: 102 | D95: =SUM(C95*100/B95) -> 170 | H95: 1600 | I95: 1980 | J95: =SUM(I95*100/H95) -> 123.75 | K95: 70 | L95: 86 | M95: =SUM(L95*100/K95) -> 122.85714 | R95: 103
A96: สำนักงานพัฒนาฝีมือแรงงานจังหวัดพะเยา | B96: 60 | C96: 60 | D96: =SUM(C96*100/B96) -> 100 | K96: 320 | L96: 375 | M96: =SUM(L96*100/K96) -> 117.1875 | R96: 50
A97: สำนักงานพัฒนาฝีมือแรงงานจังหวัดน่าน | B97: 60 | C97: 60 | D97: =SUM(C97*100/B97) -> 100 | K97: 140 | L97: 191 | M97: =SUM(L97*100/K97) -> 136.42857 | R97: 34
A98: สพร. 21 ภูเก็ต | B98: 80 | C98: =SUM(C99:C101) -> 80 | D98: =SUM(C98*100/B98) -> 100 | H98: =SUM(H99:H101) -> 0 | I98: =SUM(I99:I101) -> 0 | K98: =SUM(K99:K101) -> 140 | L98: =SUM(L99:L101) -> 144 | M98: =SUM(L98*100/K98) -> 102.85714 | Q98: =SUM(Q99:Q101) -> 0 | R98: =SUM(R99:R101) -> 346
A99: สถาบันพัฒนาฝีมือแรงงาน 21 ภูเก็ต | B99: 20 | C99: 20 | D99: =SUM(C99*100/B99) -> 100 | K99: 100 | L99: 104 | M99: =SUM(L99*100/K99) -> 104 | R99: 128
A100: สำนักงานพัฒนาฝีมือแรงงานจังหวัดพังงา | B100: 60 | C100: 60 | D100: =SUM(C100*100/B100) -> 100 | K100: 40 | L100: 40 | M100: =SUM(L100*100/K100) -> 100 | R100: 122
A101: สำนักงานพัฒนาฝีมือแรงงานจังหวัดกระบี่ | R101: 96
...

Sheet โครง 8
A1: ผลการดำเนินงานพัฒนาฝีมือแรงงาน ปีงบประมาณ 2560
A2: ตุลาคม 2559 - กันยายน 2560 เป้าหมาย 12 เดือน
A4: หน่วยงาน | B4: โครงการ 8
B5: โครงการพัฒนาศักยภาพแรงงานรองรับภาคอุตสาหกรรมและบริการเพื่อการแข่งขัน
B6: ฝึกอบรมฝีมือแรงงานรองรับ | E6: ทดสอบมาตรฐานฝีมือแรงงาน
B7: ภาคอุตสาหกรรมและบริการ
B8: เป้าหมาย | C8: รวมเข้า | D8: ร้อยละ | E8: เป้าหมาย | F8: รวมเข้า | G8: ร้อยละ
A9: รวมทั้งสิ้น | B9: =SUM(B10+B11+B12+B13+B14+B15+B18+B23+B27+B32+B37+B43+B49+B54+B60+B64+B68+B71+B73+B77+B82+B86+B90+B96+B99+B103+B107+B111+B112+B113) -> 80100 | C9: =SUM(C10+C11+C12+C13+C14+C15+C18+C23+C27+C32+C37+C43+C49+C54+C60+C64+C68+C71+C73+C77+C82+C86+C90+C96+C99+C103+C107+C111+C112+C113) -> 100038 | D9: =SUM(C9*100/B9) -> 124.89139 | E9: =SUM(E12+E13+E14+E15+E18+E23+E27+E32+E37+E43+E49+E54+E60+E64+E68+E71+E73+E77+E82+E86+E90+E96+E99+E103+E107+E111+E112+E113) -> 24200 | F9: =SUM(F12+F13+F14+F15+F18+F23+F27+F32+F37+F43+F49+F54+F60+F64+F68+F71+F73+F77+F82+F86+F90+F96+F99+F103+F107+F111+F112+F113) -> 77344 | G9: =SUM(F9*100/E9) -> 319.60331
A10: กลุ่มงานพัฒนาวิทยากรต้นแบบ | B10: 700 | C10: 812 | D10: =SUM(C10*100/B10) -> 116
A11: สถาบันยานยนต์ | B11: 3000 | C11: 3224 | D11: =SUM(C11*100/B11) -> 107.46667
A12: สถาบันพัฒนาทรัพยากรมนุษย์ | B12: 740 | C12: 901 | D12: =SUM(C12*100/B12) -> 121.75676 | E12: 260 | F12: 386 | G12: =SUM(F12*100/E12) -> 148.46154
A13: สพน.เชียงแสน | B13: 0 | E13: 100 | F13: 0 | G13: =SUM(F13*100/E13) -> 0
A14: สำนักมาตรฐานและทดสอบฝีมือแรงงาน | B14: 0 | E14: 100 | F14: 177 | G14: =SUM(F14*100/E14) -> 177
A15: สพร. 1 สมุทรปราการ | B15: =SUM(B16:B17) -> 4380 | C15: =SUM(C16:C17) -> 4842 | D15: =SUM(C15*100/B15) -> 110.54795 | E15: =SUM(E16:E17) -> 1250 | F15: =SUM(F16:F17) -> 5480 | G15: =SUM(F15*100/E15) -> 438.4
A16: สถาบันพัฒนาฝีมือแรงงาน 1 สมุทรปราการ | B16: 2930 | C16: 3208 | D16: =SUM(C16*100/B16) -> 109.48805 | E16: 990 | F16: 3367 | G16: =SUM(F16*100/E16) -> 340.10101
A17: สำนักงานพัฒนาฝีมือแรงงานจังหวัดฉะเชิงเทรา | B17: 1450 | C17: 1634 | D17: =SUM(C17*100/B17) -> 112.68966 | E17: 260 | F17: 2113 | G17: =SUM(F17*100/E17) -> 812.69231
A18: สพร. 2 สุพรรณบุรี | B18: =SUM(B19:B22) -> 2992 | C18: =SUM(C19:C22) -> 4033 | D18: =SUM(C18*100/B18) -> 134.79278 | E18: =SUM(E19:E22) -> 1260 | F18: =SUM(F19:F22) -> 2500 | G18: =SUM(F18*100/E18) -> 198.4127
A19: สถาบันพัฒนาฝีมือแรงงาน 2 สุพรรณบุรี | B19: 1678 | C19: 2413 | D19: =SUM(C19*100/B19) -> 143.80215 | E19: 670 | F19: 997 | G19: =SUM(F19*100/E19) -> 148.80597
A20: สำนักงานพัฒนาฝีมือแรงงานจังหวัดสิงห์บุรี | B20: 778 | C20: 963 | D20: =SUM(C20*100/B20) -> 123.77892 | E20: 190 | F20: 572 | G20: =SUM(F20*100/E20) -> 301.05263
A21: สำนักงานพัฒนาฝีมือแรงงานจังหวัดชัยนาท | B21: 356 | C21: 440 | D21: =SUM(C21*100/B21) -> 123.59551 | E21: 220 | F21: 397 | G21: =SUM(F21*100/E21) -> 180.45455
A22: สำนักงานพัฒนาฝีมือแรงงานจังหวัดอุทัยธานี | B22: 180 | C22: 217 | D22: =SUM(C22*100/B22) -> 120.55556 | E22: 180 | F22: 534 | G22: =SUM(F22*100/E22) -> 296.66667
A23: สพร. 3 ชลบุรี | B23: =SUM(B24:B26) -> 6150 | C23: =SUM(C24:C26) -> 6979 | D23: =SUM(C23*100/B23) -> 113.47967 | E23: =SUM(E24:E26) -> 1700 | F23: =SUM(F24:F26) -> 5866 | G23: =SUM(F23*100/E23) -> 345.05882
A24: สถาบันพัฒนาฝีมือแรงงาน 3 ชลบุรี | B24: 4535 | C24: 5180 | D24: =SUM(C24*100/B24) -> 114.22271 | E24: 1180 | F24: 3421 | G24: =SUM(F24*100/E24) -> 289.91525
A25: ศูนย์พัฒนาฝีมือแรงงานจังหวัดปราจีนบุรี | B25: 1280 | C25: 1349 | D25: =SUM(C25*100/B25) -> 105.39062 | E25: 320 | F25: 1236 | G25: =SUM(F25*100/E25) -> 386.25
A26: ศูนย์พัฒนาฝีมือแรงงานจังหวัดสระแก้ว | B26: 335 | C26: 450 | D26: =SUM(C26*100/B26) -> 134.32836 | E26: 200 | F26: 1209 | G26: =SUM(F26*100/E26) -> 604.5
A27: สพร. 4 ราชบุรี | B27: =SUM(B28:B31) -> 4898 | C27: =SUM(C28:C31) -> 6044 | D27: =SUM(C27*100/B27) -> 123.39731 | E27: =SUM(E28:E31) -> 1300 | F27: =SUM(F28:F31) -> 3301 | G27: =SUM(F27*100/E27) -> 253.92308
A28: สถาบันพัฒนาฝีมือแรงงาน 4 ราชบุรี | B28: 1878 | C28: 1972 | D28: =SUM(C28*100/B28) -> 105.00532 | E28: 560 | F28: 1243 | G28: =SUM(F28*100/E28) -> 221.96429
A29: สำนักงานพัฒนาฝีมือแรงงานจังหวัดเพชรบุรี | B29: 1250 | C29: 1602 | D29: =SUM(C29*100/B29) -> 128.16 | E29: 180 | F29: 463 | G29: =SUM(F29*100/E29) -> 257.22222
A30: สำนักงานพัฒนาฝีมือแรงงานจังหวัดกาญจนบุรี | B30: 620 | C30: 976 | D30: =SUM(C30*100/B30) -> 157.41935 | E30: 360 | F30: 999 | G30: =SUM(F30*100/E30) -> 277.5
A31: สำนักงานพัฒนาฝีมือแรงงานจังหวัดประจวบคีรีขันธ์ | B31: 1150 | C31: 1494 | D31: =SUM(C31*100/B31) -> 129.91304 | E31: 200 | F31: 596 | G31: =SUM(F31*100/E31) -> 298
A32: สพร. 5 นครราชสีมา | B32: =SUM(B33:B36) -> 4224 | C32: =SUM(C33:C36) -> 5559 | D32: =SUM(C32*100/B32) -> 131.60511 | E32: =SUM(E33:E36) -> 1445 | F32: =SUM(F33:F36) -> 4277 | G32: =SUM(F32*100/E32) -> 295.98616
A33: สถาบันพัฒนาฝีมือแรงงาน 5 นครราชสีมา | B33: 1964 | C33: 2588 | D33: =SUM(C33*100/B33) -> 131.77189 | E33: 655 | F33: 1655 | G33: =SUM(F33*100/E33) -> 252.67176
A34: สำนักงานพัฒนาฝีมือแรงงานจังหวัดชัยภูมิ | B34: 560 | C34: 948 | D34: =SUM(C34*100/B34) -> 169.28571 | E34: 310 | F34: 1020 | G34: =SUM(F34*100/E34) -> 329.03226
A35: สำนักงานพัฒนาฝีมือแรงงานจังหวัดสุรินทร์ | B35: 680 | C35: 908 | D35: =SUM(C35*100/B35) -> 133.52941 | E35: 230 | F35: 661 | G35: =SUM(F35*100/E35) -> 287.3913
A36: สำนักงานพัฒนาฝีมือแรงงานจังหวัดบุรีรัมย์ | B36: 1020 | C36: 1115 | D36: =SUM(C36*100/B36) -> 109.31373 | E36: 250 | F36: 941 | G36: =SUM(F36*100/E36) -> 376.4
A37: สพร. 6 ขอนแก่น | B37: =SUM(B38:B42) -> 4808 | C37: =SUM(C38:C42) -> 5374 | D37: =SUM(C37*100/B37) -> 111.77205 | E37: =SUM(E38:E42) -> 1690 | F37: =SUM(F38:F42) -> 4160 | G37: =SUM(F37*100/E37) -> 246.15385
A38: สถาบันพัฒนาฝีมือแรงงาน 6 ขอนแก่น | B38: 2900 | C38: 3174 | D38: =SUM(C38*100/B38) -> 109.44828 | E38: 500 | F38: 1784 | G38: =SUM(F38*100/E38) -> 356.8
A39: สำนักงานพัฒนาฝีมือแรงงานจังหวัดกาฬสินธุ์ | B39: 404 | C39: 485 | D39: =SUM(C39*100/B39) -> 120.0495 | E39: 420 | F39: 1022 | G39: =SUM(F39*100/E39) -> 243.33333
A40: สำนักงานพัฒนาฝีมือแรงงานจังหวัดมุกดาหาร | B40: 320 | C40: 386 | D40: =SUM(C40*100/B40) -> 120.625 | E40: 200 | F40: 412 | G40: =SUM(F40*100/E40) -> 206
A41: สำนักงานพัฒนาฝีมือแรงงานจังหวัดหนองบัวลำภู | B41: 484 | C41: 520 | D41: =SUM(C41*100/B41) -> 107.43802 | E41: 260 | F41: 430 | G41: =SUM(F41*100/E41) -> 165.38462
A42: สำนักงานพัฒนาฝีมือแรงงานจังหวัดมหาสารคาม | B42: 700 | C42: 809 | D42: =SUM(C42*100/B42) -> 115.57143 | E42: 310 | F42: 512 | G42: =SUM(F42*100/E42) -> 165.16129
A43: สพร. 7 อุบลราชธานี | B43: =SUM(B44:B48) -> 4360 | C43: =SUM(C44:C48) -> 4850 | D43: =SUM(C43*100/B43) -> 111.23853 | E43: =SUM(E44:E48) -> 1950 | F43: =SUM(F44:F48) -> 3140 | G43: =SUM(F43*100/E43) -> 161.02564
A44: สถาบันพัฒนาฝีมือแรงงาน 7 อุบลราชธานี | B44: 2230 | C44: 2366 | D44: =SUM(C44*100/B44) -> 106.09865 | E44: 780 | F44: 1316 | G44: =SUM(F44*100/E44) -> 168.71795
A45: สำนักงานพัฒนาฝีมือแรงงานจังหวัดศรีสะเกษ | B45: 460 | C45: 595 | D45: =SUM(C45*100/B45) -> 129.34783 | E45: 230 | F45: 228 | G45: =SUM(F45*100/E45) -> 99.130435
A46: สำนักงานพัฒนาฝีมือแรงงานจังหวัดอำนาจเจริญ | B46: 500 | C46: 527 | D46: =SUM(C46*100/B46) -> 105.4 | E46: 170 | F46: 390 | G46: =SUM(F46*100/E46) -> 229.41176
A47: สำนักงานพัฒนาฝีมือแรงงานจังหวัดร้อยเอ็ด | B47: 730 | C47: 804 | D47: =SUM(C47*100/B47) -> 110.13699 | E47: 460 | F47: 661 | G47: =SUM(F47*100/E47) -> 143.69565
A48: สำนักงานพัฒนาฝีมือแรงงานจังหวัดยโสธร | B48: 440 | C48: 558 | D48: =SUM(C48*100/B48) -> 126.81818 | E48: 310 | F48: 545 | G48: =SUM(F48*100/E48) -> 175.80645
A49: สพร. 8 นครสวรรค์ | B49: =SUM(B50:B53) -> 3124 | C49: =SUM(C50:C53) -> 3601 | D49: =SUM(C49*100/B49) -> 115.26889 | E49: =SUM(E50:E53) -> 1520 | F49: =SUM(F50:F53) -> 2750 | G49: =SUM(F49*100/E49) -> 180.92105
A50: สถาบันพัฒนาฝีมือแรงงาน 8 นครสวรรค์ | B50: 1374 | C50: 1522 | D50: =SUM(C50*100/B50) -> 110.77147 | E50: 715 | F50: 985 | G50: =SUM(F50*100/E50) -> 137.76224
A51: สำนักงานพัฒนาฝีมือแรงงานจังหวัดพิจิตร | B51: 830 | C51: 910 | D51: =SUM(C51*100/B51) -> 109.63855 | E51: 180 | F51: 372 | G51: =SUM(F51*100/E51) -> 206.66667
A52: สำนักงานพัฒนาฝีมือแรงงานจังหวัดกำแพงเพชร | B52: 628 | C52: 773 | D52: =SUM(C52*100/B52) -> 123.08917 | E52: 310 | F52: 514 | G52: =SUM(F52*100/E52) -> 165.80645
A53: สำนักงานพัฒนาฝีมือแรงงานจังหวัดตาก | B53: 292 | C53: 396 | D53: =SUM(C53*100/B53) -> 135.61644 | E53: 315 | F53: 879 | G53: =SUM(F53*100/E53) -> 279.04762
A54: สพร. 9 พิษณุโลก | B54: =SUM(B55:B59) -> 2828 | C54: =SUM(C55:C59) -> 3264 | D54: =SUM(C54*100/B54) -> 115.41726 | E54: =SUM(E55:E59) -> 1480 | F54: =SUM(F55:F59) -> 3991 | G54: =SUM(F54*100/E54) -> 269.66216
A55: สถาบันพัฒนาฝีมือแรงงาน 9 พิษณุโลก | B55: 1160 | C55: 1371 | D55: =SUM(C55*100/B55) -> 118.18966 | E55: 480 | F55: 1344 | G55: =SUM(F55*100/E55) -> 280
A56: สำนักงานพัฒนาฝีมือแรงงานจังหวัดเลย | B56: 848 | C56: 904 | D56: =SUM(C56*100/B56) -> 106.60377 | E56: 280 | F56: 484 | G56: =SUM(F56*100/E56) -> 172.85714
A57: สำนักงานพัฒนาฝีมือแรงงานจังหวัดเพชรบูรณ์ | B57: 350 | C57: 362 | D57: =SUM(C57*100/B57) -> 103.42857 | E57: 300 | F57: 853 | G57: =SUM(F57*100/E57) -> 284.33333
A58: สำนักงานพัฒนาฝีมือแรงงานจังหวัดอุตรดิตถ์ | B58: 260 | C58: 327 | D58: =SUM(C58*100/B58) -> 125.76923 | E58: 240 | F58: 749 | G58: =SUM(F58*100/E58) -> 312.08333
A59: สำนักงานพัฒนาฝีมือแรงงานจังหวัดสุโขทัย | B59: 210 | C59: 300 | D59: =SUM(C59*100/B59) -> 142.85714 | E59: 180 | F59: 561 | G59: =SUM(F59*100/E59) -> 311.66667
A60: สพร. 10 ลำปาง | B60: =SUM(B61:B63) -> 2656 | C60: =SUM(C61:C63) -> 3679 | D60: =SUM(C60*100/B60) -> 138.51657 | E60: =SUM(E61:E63) -> 966 | F60: =SUM(F61:F63) -> 2657 | G60: =SUM(F60*100/E60) -> 275.05176
A61: สถาบันพัฒนาฝีมือแรงงาน 10 ลำปาง | B61: 1576 | C61: 1694 | D61: =SUM(C61*100/B61) -> 107.48731 | E61: 596 | F61: 1127 | G61: =SUM(F61*100/E61) -> 189.09396
A62: สำนักงานพัฒนาฝีมือแรงงานจังหวัดลำพูน | B62: 840 | C62: 1650 | D62: =SUM(C62*100/B62) -> 196.42857 | E62: 190 | F62: 1070 | G62: =SUM(F62*100/E62) -> 563.15789
A63: สำนักงานพัฒนาฝีมือแรงงานจังหวัดแพร่ | B63: 240 | C63: 335 | D63: =SUM(C63*100/B63) -> 139.58333 | E63: 180 | F63: 460 | G63: =SUM(F63*100/E63) -> 255.55556
A64: สพร. 11 สุราษฎร์ธานี | B64: =SUM(B65:B67) -> 2398 | C64: =SUM(C65:C67) -> 3909 | D64: =SUM(C64*100/B64) -> 163.01084 | E64: =SUM(E65:E67) -> 830 | F64: =SUM(F65:F67) -> 2845 | G64: =SUM(F64*100/E64) -> 342.77108
A65: สถาบันพัฒนาฝีมือแรงงาน 11 สุราษฎร์ธานี | B65: 1490 | C65: 2712 | D65: =SUM(C65*100/B65) -> 182.01342 | E65: 580 | F65: 2012 | G65: =SUM(F65*100/E65) -> 346.89655
A66: สำนักงานพัฒนาฝีมือแรงงานจังหวัดชุมพร | B66: 554 | C66: 812 | D66: =SUM(C66*100/B66) -> 146.5704 | E66: 140 | F66: 598 | G66: =SUM(F66*100/E66) -> 427.14286
A67: สำนักงานพัฒนาฝีมือแรงงานจังหวัดระนอง | B67: 354 | C67: 385 | D67: =SUM(C67*100/B67) -> 108.75706 | E67: 110 | F67: 235 | G67: =SUM(F67*100/E67) -> 213.63636
A68: สพร. 12 สงขลา | B68: =SUM(B69:B70) -> 2610 | C68: =SUM(C69:C70) -> 2918 | D68: =SUM(C68*100/B68) -> 111.80077 | E68: =SUM(E69:E70) -> 520 | F68: =SUM(F69:F70) -> 2252 | G68: =SUM(F68*100/E68) -> 433.07692
A69: สถาบันพัฒนาฝีมือแรงงาน 12 สงขลา | B69: 1880 | C69: 2076 | D69: =SUM(C69*100/B69) -> 110.42553 | E69: 380 | F69: 1968 | G69: =SUM(F69*100/E69) -> 517.89474
A70: สำนักงานพัฒนาฝีมือแรงงานจังหวัดสตูล | B70: 730 | C70: 842 | D70: =SUM(C70*100/B70) -> 115.34247 | E70: 140 | F70: 284 | G70: =SUM(F70*100/E70) -> 202.85714
A71: สพร. 13 กรุงเทพมหานคร | B71: =SUM(B72) -> 1210 | C71: =SUM(C72) -> 1551 | D71: =SUM(C71*100/B71) -> 128.18182 | E71: =SUM(E72) -> 350 | F71: =SUM(F72) -> 783 | G71: =SUM(F71*100/E71) -> 223.71429
A72: สถาบันพัฒนาฝีมือแรงงาน 13 กรุงเทพมหานคร | B72: 1210 | C72: 1551 | D72: =SUM(C72*100/B72) -> 128.18182 | E72: 350 | F72: 783 | G72: =SUM(F72*100/E72) -> 223.71429
A73: สพร. 14 ปทุมธานี | B73: =SUM(B74:B76) -> 3316 | C73: =SUM(C74:C76) -> 4122 | D73: =SUM(C73*100/B73) -> 124.30639 | E73: =SUM(E74:E76) -> 715 | F73: =SUM(F74:F76) -> 5730 | G73: =SUM(F73*100/E73) -> 801.3986
A74: สถาบันพัฒนาฝีมือแรงงาน 14 ปทุมธานี | B74: 1360 | C74: 1558 | D74: =SUM(C74*100/B74) -> 114.55882 | E74: 240 | F74: 3899 | G74: =SUM(F74*100/E74) -> 1624.5833
A75: สำนักงานพัฒนาฝีมือแรงงานจังหวัดนนทบุรี | B75: 1280 | C75: 1848 | D75: =SUM(C75*100/B75) -> 144.375 | E75: 280 | F75: 1362 | G75: =SUM(F75*100/E75) -> 486.42857
A76: สำนักงานพัฒนาฝีมือแรงงานจังหวัดนครนายก | B76: 676 | C76: 716 | D76: =SUM(C76*100/B76) -> 105.91716 | E76: 195 | F76: 469 | G76: =SUM(F76*100/E76) -> 240.51282
A77: สพร. 15 พระนครศรีอยุธยา | B77: =SUM(B78:B81) -> 3744 | C77: =SUM(C78:C81) -> 4493 | D77: =SUM(C77*100/B77) -> 120.00534 | E77: =SUM(E78:E81) -> 1000 | F77: =SUM(F78:F81) -> 6067 | G77: =SUM(F77*100/E77) -> 606.7
A78: สถาบันพัฒนาฝีมือแรงงาน 15 พระนครศรีอยุธยา | B78: 1260 | C78: 1421 | D78: =SUM(C78*100/B78) -> 112.77778 | E78: 500 | F78: 2335 | G78: =SUM(F78*100/E78) -> 467
A79: สำนักงานพัฒนาฝีมือแรงงานจังหวัดอ่างทอง | B79: 198 | C79: 333 | D79: =SUM(C79*100/B79) -> 168.18182 | E79: 140 | F79: 729 | G79: =SUM(F79*100/E79) -> 520.71429
A80: สำนักงานพัฒนาฝีมือแรงงานจังหวัดสระบุรี | B80: 1558 | C80: 1973 | D80: =SUM(C80*100/B80) -> 126.63671 | E80: 180 | F80: 2272 | G80: =SUM(F80*100/E80) -> 1262.2222
A81: สำนักงานพัฒนาฝีมือแรงงานจังหวัดลพบุรี | B81: 728 | C81: 766 | D81: =SUM(C81*100/B81) -> 105.21978 | E81: 180 | F81: 731 | G81: =SUM(F81*100/E81) -> 406.11111
A82: สพร. 16 นครปฐม | B82: =SUM(B83:B85) -> 2902 | C82: =SUM(C83:C85) -> 5259 | D82: =SUM(C82*100/B82) -> 181.21985 | E82: =SUM(E83:E85) -> 600 | F82: =SUM(F83:F85) -> 3099 | G82: =SUM(F82*100/E82) -> 516.5
A83: สถาบันพัฒนาฝีมือแรงงาน 16 นครปฐม | B83: 1096 | C83: 1889 | D83: =SUM(C83*100/B83) -> 172.35401 | E83: 260 | F83: 809 | G83: =SUM(F83*100/E83) -> 311.15385
A84: สำนักงานพัฒนาฝีมือแรงงานจังหวัดสมุทรสาคร | B84: 1346 | C84: 2581 | D84: =SUM(C84*100/B84) -> 191.75334 | E84: 200 | F84: 1810 | G84: =SUM(F84*100/E84) -> 905
A85: สำนักงานพัฒนาฝีมือแรงงานจังหวัดสมุทรสงคราม | B85: 460 | C85: 789 | D85: =SUM(C85*100/B85) -> 171.52174 | E85: 140 | F85: 480 | G85: =SUM(F85*100/E85) -> 342.85714
A86: สพร. 17 ระยอง | B86: =SUM(B87:B89) -> 2480 | C86: =SUM(C87:C89) -> 2667 | D86: =SUM(C86*100/B86) -> 107.54032 | E86: =SUM(E87:E89) -> 800 | F86: =SUM(F87:F89) -> 4688 | G86: =SUM(F86*100/E86) -> 586
A87: สถาบันพัฒนาฝีมือแรงงาน 17 ระยอง | B87: 1620 | C87: 1671 | D87: =SUM(C87*100/B87) -> 103.14815 | E87: 500 | F87: 3725 | G87: =SUM(F87*100/E87) -> 745
A88: สำนักงานพัฒนาฝีมือแรงงานจังหวัดจันทบุรี | B88: 530 | C88: 648 | D88: =SUM(C88*100/B88) -> 122.26415 | E88: 180 | F88: 702 | G88: =SUM(F88*100/E88) -> 390
A89: สำนักงานพัฒนาฝีมือแรงงานจังหวัดตราด | B89: 330 | C89: 348 | D89: =SUM(C89*100/B89) -> 105.45455 | E89: 120 | F89: 261 | G89: =SUM(F89*100/E89) -> 217.5
A90: สพร. 18 อุดรธานี | B90: =SUM(B91:B95) -> 2284 | C90: =SUM(C91:C95) -> 2585 | D90: =SUM(C90*100/B90) -> 113.17863 | E90: =SUM(E91:E95) -> 1260 | F90: =SUM(F91:F95) -> 3120 | G90: =SUM(F90*100/E90) -> 247.61905
A91: สถาบันพัฒนาฝีมือแรงงาน 18 อุดรธานี | B91: 1092 | C91: 1185 | D91: =SUM(C91*100/B91) -> 108.51648 | E91: 440 | F91: 1269 | G91: =SUM(F91*100/E91) -> 288.40909
A92: สำนักงานพัฒนาฝีมือแรงงานจังหวัดหนองคาย | B92: 20 | C92: 20 | D92: =SUM(C92*100/B92) -> 100 | E92: 220 | F92: 480 | G92: =SUM(F92*100/E92) -> 218.18182
A93: สำนักงานพัฒนาฝีมือแรงงานจังหวัดบึงกาฬ | B93: 200 | C93: 275 | D93: =SUM(C93*100/B93) -> 137.5 | E93: 140 | F93: 329 | G93: =SUM(F93*100/E93) -> 235
A94: สำนักงานพัฒนาฝีมือแรงงานจังหวัดสกลนคร | B94: 412 | C94: 484 | D94: =SUM(C94*100/B94) -> 117.47573 | E94: 270 | F94: 436 | G94: =SUM(F94*100/E94) -> 161.48148
A95: สำนักงานพัฒนาฝีมือแรงงานจังหวัดนครพนม | B95: 560 | C95: 621 | D95: =SUM(C95*100/B95) -> 110.89286 | E95: 190 | F95: 606 | G95: =SUM(F95*100/E95) -> 318.94737
A96: สพร. 19 เชียงใหม่ | B96: =SUM(B97:B98) -> 3184 | C96: =SUM(C97:C98) -> 4182 | D96: =SUM(C96*100/B96) -> 131.34422 | E96: =SUM(E97:E98) -> 504 | F96: =SUM(F97:F98) -> 2423 | G96: =SUM(F96*100/E96) -> 480.75397
A97: สถาบันพัฒนาฝีมือแรงงาน 19 เชียงใหม่ | B97: 2180 | C97: 2644 | D97: =SUM(C97*100/B97) -> 121.2844 | E97: 370 | F97: 1943 | G97: =SUM(F97*100/E97) -> 525.13514
A98: ศูนย์พัฒนาฝีมือแรงงานจังหวัดแม่ฮ่องสอน | B98: 1004 | C98: 1538 | D98: =SUM(C98*100/B98) -> 153.18725 | E98: 134 | F98: 480 | G98: =SUM(F98*100/E98) -> 358.20896
A99: สพร. 20 เชียงราย | B99: =SUM(B100:B102) -> 1220 | C99: =SUM(C100:C102) -> 1469 | D99: =SUM(C99*100/B99) -> 120.40984 | E99: =SUM(E100:E102) -> 670 | F99: =SUM(F100:F102) -> 1809 | G99: =SUM(F99*100/E99) -> 270
A100: สถาบันพัฒนาฝีมือแรงงาน 20 เชียงราย | B100: 540 | C100: 621 | D100: =SUM(C100*100/B100) -> 115 | E100: 240 | F100: 1035 | G100: =SUM(F100*100/E100) -> 431.25
A101: สำนักงานพัฒนาฝีมือแรงงานจังหวัดพะเยา | B101: 440 | C101: 519 | D101: =SUM(C101*100/B101) -> 117.95455 | E101: 170 | F101: 382 | G101: =SUM(F101*100/E101) -> 224.70588
...

Sheet ผลผลิตที่ และโครง 9-10
A1: ผลการดำเนินงานพัฒนาฝีมือแรงงาน ปีงบประมาณ 2560
A2: ตุลาคม 2559 - กันยายน 2560 เป้าหมาย 12 เดือน
A4: หน่วยงาน | B4: ผลผลิตที่ 1 | H4: โครงการ 9 | K4: โครงการ 10
B5: พัฒนาฝีมือแรงงานเพื่อส่งเสริมการประกอบอาชีพ | E5: ส่งเสริมและสนับสนุนให้สถานประกอบกิจการ | H5: ฝึกอบรมแรงงานกลุ่มเป้าหมายเฉพาะ | K5: ฝึกอบรมแรงงานผู้สูงอายุ
E6: ดำเนินการฝึกอบรมฯ ตาม พ.ร.บ ส่งเสริมฯ | H6: เพื่อเพิ่มโอกาสในการประกอบอาชีพ | K6: เพื่อเพิ่มโอกาสในการประกอบอาชีพ
B7: เป้าหมาย | C7: รวมเข้า | D7: ร้อยละ | E7: เป้าหมาย | F7: รวมเข้า | G7: ร้อยละ | H7: เป้าหมาย | I7: รวมเข้า | J7: ร้อยละ | K7: เป้าหมาย | L7: รวมเข้า | M7: ร้อยละ
A8: รวมทั้งสิ้น | B8: =SUM(B9+B12+B17+B21+B26+B31+B37+B43+B48+B54+B58+B62+B65+B67+B71+B76+B80+B84+B90+B93+B97+B101+B105+B106+B107) -> 17020 | C8: =SUM(C9+C12+C17+C21+C26+C31+C37+C43+C48+C54+C58+C62+C65+C67+C71+C76+C80+C84+C90+C93+C97+C101+C105+C106+C107) -> 23791 | D8: =SUM(C8*100/B8) -> 139.78261 | E8: =SUM(E9+E12+E17+E21+E26+E31+E37+E43+E48+E54+E58+E62+E65+E67+E71+E76+E80+E84+E90+E93+E97+E101+E105+E106+E107) -> 3499220 | F8: =SUM(F9+F12+F17+F21+F26+F31+F37+F43+F48+F54+F58+F62+F65+F67+F71+F76+F80+F84+F90+F93+F97+F101+F105+F106+F107) -> 3978493 | G8: =SUM(F8*100/E8) -> 113.69657 | H8: =SUM(H9+H12+H17+H21+H26+H31+H37+H43+H48+H54+H58+H62+H65+H67+H71+H76+H80+H84+H90+H93+H97+H101+H105+H106+H107) -> 6540 | I8: =SUM(I9+I12+I17+I21+I26+I31+I37+I43+I48+I54+I58+I62+I65+I67+I71+I76+I80+I84+I90+I93+I97+I101+I105+I106+I107) -> 14365 | J8: =SUM(I8*100/H8) -> 219.64832 | K8: =SUM(K9+K12+K17+K21+K26+K31+K37+K43+K48+K54+K58+K62+K65+K67+K71+K76+K80+K84+K90+K93+K97+K101+K105+K106+K107) -> 6160 | L8: =SUM(L9+L12+L17+L21+L26+L31+L37+L43+L48+L54+L58+L62+L65+L67+L71+L76+L80+L84+L90+L93+L97+L101+L105+L106+L107) -> 7906 | M8: =SUM(L8*100/K8) -> 128.34416
A9: สพร. 1 สมุทรปราการ | B9: =SUM(B10:B11) -> 380 | C9: =SUM(C10:C11) -> 379 | D9: =SUM(C9*100/B9) -> 99.736842 | E9: =SUM(E10:E11) -> 395000 | F9: =SUM(F10:F11) -> 477398 | G9: =SUM(F9*100/E9) -> 120.86025 | H9: =SUM(H10:H11) -> 160 | I9: =SUM(I10:I11) -> 227 | J9: =SUM(I9*100/H9) -> 141.875 | K9: =SUM(K10:K11) -> 160 | L9: =SUM(L10:L11) -> 188 | M9: =SUM(L9*100/K9) -> 117.5
A10: สถาบันพัฒนาฝีมือแรงงาน 1 สมุทรปราการ | B10: 100 | C10: 99 | D10: =SUM(C10*100/B10) -> 99 | E10: 315000 | F10: 400442 | G10: =SUM(F10*100/E10) -> 127.12444 | H10: 60 | I10: 61 | J10: =SUM(I10*100/H10) -> 101.66667 | K10: 80 | L10: 100 | M10: =SUM(L10*100/K10) -> 125
A11: สำนักงานพัฒนาฝีมือแรงงานจังหวัดฉะเชิงเทรา | B11: 280 | C11: 280 | D11: =SUM(C11*100/B11) -> 100 | E11: 80000 | F11: 76956 | G11: =SUM(F11*100/E11) -> 96.195 | H11: 100 | I11: 166 | J11: =SUM(I11*100/H11) -> 166 | K11: 80 | L11: 88 | M11: =SUM(L11*100/K11) -> 110
A12: สพร. 2 สุพรรณบุรี | B12: =SUM(B13:B16) -> 1240 | C12: =SUM(C13:C16) -> 1491 | D12: =SUM(C12*100/B12) -> 120.24194 | E12: =SUM(E13:E16) -> 14400 | F12: =SUM(F13:F16) -> 17829 | G12: =SUM(F12*100/E12) -> 123.8125 | H12: =SUM(H13:H16) -> 190 | I12: =SUM(I13:I16) -> 302 | J12: =SUM(I12*100/H12) -> 158.94737 | K12: =SUM(K13:K16) -> 320 | L12: =SUM(L13:L16) -> 476 | M12: =SUM(L12*100/K12) -> 148.75
A13: สถาบันพัฒนาฝีมือแรงงาน 2 สุพรรณบุรี | B13: 160 | C13: 312 | D13: =SUM(C13*100/B13) -> 195 | E13: 4700 | F13: 6212 | G13: =SUM(F13*100/E13) -> 132.17021 | H13: 40 | I13: 66 | J13: =SUM(I13*100/H13) -> 165 | K13: 80 | L13: 80 | M13: =SUM(L13*100/K13) -> 100
A14: สำนักงานพัฒนาฝีมือแรงงานจังหวัดสิงห์บุรี | B14: 120 | C14: 134 | D14: =SUM(C14*100/B14) -> 111.66667 | E14: 6000 | F14: 6101 | G14: =SUM(F14*100/E14) -> 101.68333 | H14: 80 | I14: 146 | J14: =SUM(I14*100/H14) -> 182.5 | K14: 80 | L14: 190 | M14: =SUM(L14*100/K14) -> 237.5
A15: สำนักงานพัฒนาฝีมือแรงงานจังหวัดชัยนาท | B15: 340 | C15: 373 | D15: =SUM(C15*100/B15) -> 109.70588 | E15: 2000 | F15: 3752 | G15: =SUM(F15*100/E15) -> 187.6 | H15: 30 | I15: 50 | J15: =SUM(I15*100/H15) -> 166.66667 | K15: 80 | L15: 126 | M15: =SUM(L15*100/K15) -> 157.5
A16: สำนักงานพัฒนาฝีมือแรงงานจังหวัดอุทัยธานี | B16: 620 | C16: 672 | D16: =SUM(C16*100/B16) -> 108.3871 | E16: 1700 | F16: 1764 | G16: =SUM(F16*100/E16) -> 103.76471 | H16: 40 | I16: 40 | J16: =SUM(I16*100/H16) -> 100 | K16: 80 | L16: 80 | M16: =SUM(L16*100/K16) -> 100
A17: สพร. 3 ชลบุรี | B17: =SUM(B18:B20) -> 380 | C17: =SUM(C18:C20) -> 384 | D17: =SUM(C17*100/B17) -> 101.05263 | E17: =SUM(E18:E20) -> 273800 | F17: =SUM(F18:F20) -> 404418 | G17: =SUM(F17*100/E17) -> 147.70562 | H17: =SUM(H18:H20) -> 180 | I17: =SUM(I18:I20) -> 371 | J17: =SUM(I17*100/H17) -> 206.11111 | K17: =SUM(K18:K20) -> 240 | L17: =SUM(L18:L20) -> 260 | M17: =SUM(L17*100/K17) -> 108.33333
A18: สถาบันพัฒนาฝีมือแรงงาน 3 ชลบุรี | B18: 160 | C18: 164 | D18: =SUM(C18*100/B18) -> 102.5 | E18: 224000 | F18: 325774 | G18: =SUM(F18*100/E18) -> 145.43482 | H18: 40 | I18: 85 | J18: =SUM(I18*100/H18) -> 212.5 | K18: 80 | L18: 100 | M18: =SUM(L18*100/K18) -> 125
A19: ศูนย์พัฒนาฝีมือแรงงานจังหวัดปราจีนบุรี | B19: 40 | C19: 40 | D19: =SUM(C19*100/B19) -> 100 | E19: 47000 | F19: 75529 | G19: =SUM(F19*100/E19) -> 160.7 | H19: 20 | I19: 92 | J19: =SUM(I19*100/H19) -> 460 | K19: 80 | L19: 80 | M19: =SUM(L19*100/K19) -> 100
A20: ศูนย์พัฒนาฝีมือแรงงานจังหวัดสระแก้ว | B20: 180 | C20: 180 | D20: =SUM(C20*100/B20) -> 100 | E20: 2800 | F20: 3115 | G20: =SUM(F20*100/E20) -> 111.25 | H20: 120 | I20: 194 | J20: =SUM(I20*100/H20) -> 161.66667 | K20: 80 | L20: 80 | M20: =SUM(L20*100/K20) -> 100
A21: สพร. 4 ราชบุรี | B21: =SUM(B22:B25) -> 928 | C21: =SUM(C22:C25) -> 1555 | D21: =SUM(C21*100/B21) -> 167.56466 | E21: =SUM(E22:E25) -> 43500 | F21: =SUM(F22:F25) -> 78227 | G21: =SUM(F21*100/E21) -> 179.83218 | H21: =SUM(H22:H25) -> 330 | I21: =SUM(I22:I25) -> 906 | J21: =SUM(I21*100/H21) -> 274.54545 | K21: =SUM(K22:K25) -> 340 | L21: =SUM(L22:L25) -> 362 | M21: =SUM(L21*100/K21) -> 106.47059
A22: สถาบันพัฒนาฝีมือแรงงาน 4 ราชบุรี | B22: 488 | C22: 641 | D22: =SUM(C22*100/B22) -> 131.35246 | E22: 20000 | F22: 35338 | G22: =SUM(F22*100/E22) -> 176.69 | H22: 100 | I22: 123 | J22: =SUM(I22*100/H22) -> 123 | K22: 100 | L22: 100 | M22: =SUM(L22*100/K22) -> 100
A23: สำนักงานพัฒนาฝีมือแรงงานจังหวัดเพชรบุรี | B23: 260 | C23: 489 | D23: =SUM(C23*100/B23) -> 188.07692 | E23: 6500 | F23: 9781 | G23: =SUM(F23*100/E23) -> 150.47692 | H23: 100 | I23: 132 | J23: =SUM(I23*100/H23) -> 132 | K23: 80 | L23: 80 | M23: =SUM(L23*100/K23) -> 100
A24: สำนักงานพัฒนาฝีมือแรงงานจังหวัดกาญจนบุรี | B24: 120 | C24: 131 | D24: =SUM(C24*100/B24) -> 109.16667 | E24: 10000 | F24: 14006 | G24: =SUM(F24*100/E24) -> 140.06 | H24: 50 | I24: 70 | J24: =SUM(I24*100/H24) -> 140 | K24: 80 | L24: 102 | M24: =SUM(L24*100/K24) -> 127.5
A25: สำนักงานพัฒนาฝีมือแรงงานจังหวัดประจวบคีรีขันธ์ | B25: 60 | C25: 294 | D25: =SUM(C25*100/B25) -> 490 | E25: 7000 | F25: 19102 | G25: =SUM(F25*100/E25) -> 272.88571 | H25: 80 | I25: 581 | J25: =SUM(I25*100/H25) -> 726.25 | K25: 80 | L25: 80 | M25: =SUM(L25*100/K25) -> 100
A26: สพร. 5 นครราชสีมา | B26: =SUM(B27:B30) -> 1260 | C26: =SUM(C27:C30) -> 1907 | D26: =SUM(C26*100/B26) -> 151.34921 | E26: =SUM(E27:E30) -> 100000 | F26: =SUM(F27:F30) -> 114337 | G26: =SUM(F26*100/E26) -> 114.337 | H26: =SUM(H27:H30) -> 500 | I26: =SUM(I27:I30) -> 1672 | J26: =SUM(I26*100/H26) -> 334.4 | K26: =SUM(K27:K30) -> 300 | L26: =SUM(L27:L30) -> 374 | M26: =SUM(L26*100/K26) -> 124.66667
A27: สถาบันพัฒนาฝีมือแรงงาน 5 นครราชสีมา | B27: 280 | C27: 437 | D27: =SUM(C27*100/B27) -> 156.07143 | E27: 90000 | F27: 100495 | G27: =SUM(F27*100/E27) -> 111.66111 | H27: 200 | I27: 1023 | J27: =SUM(I27*100/H27) -> 511.5 | K27: 120 | L27: 127 | M27: =SUM(L27*100/K27) -> 105.83333
A28: สำนักงานพัฒนาฝีมือแรงงานจังหวัดชัยภูมิ | B28: 320 | C28: 426 | D28: =SUM(C28*100/B28) -> 133.125 | E28: 3000 | F28: 4688 | G28: =SUM(F28*100/E28) -> 156.26667 | H28: 140 | I28: 299 | J28: =SUM(I28*100/H28) -> 213.57143 | K28: 40 | L28: 47 | M28: =SUM(L28*100/K28) -> 117.5
A29: สำนักงานพัฒนาฝีมือแรงงานจังหวัดสุรินทร์ | B29: 300 | C29: 497 | D29: =SUM(C29*100/B29) -> 165.66667 | E29: 2000 | F29: 415 | G29: =SUM(F29*100/E29) -> 20.75 | H29: 80 | I29: 176 | J29: =SUM(I29*100/H29) -> 220 | K29: 40 | L29: 40 | M29: =SUM(L29*100/K29) -> 100
A30: สำนักงานพัฒนาฝีมือแรงงานจังหวัดบุรีรัมย์ | B30: 360 | C30: 547 | D30: =SUM(C30*100/B30) -> 151.94444 | E30: 5000 | F30: 8739 | G30: =SUM(F30*100/E30) -> 174.78 | H30: 80 | I30: 174 | J30: =SUM(I30*100/H30) -> 217.5 | K30: 100 | L30: 160 | M30: =SUM(L30*100/K30) -> 160
A31: สพร. 6 ขอนแก่น | B31: =SUM(B32:B36) -> 960 | C31: =SUM(C32:C36) -> 1508 | D31: =SUM(C31*100/B31) -> 157.08333 | E31: =SUM(E32:E36) -> 14200 | F31: =SUM(F32:F36) -> 47930 | G31: =SUM(F31*100/E31) -> 337.53521 | H31: =SUM(H32:H36) -> 252 | I31: =SUM(I32:I36) -> 788 | J31: =SUM(I31*100/H31) -> 312.69841 | K31: =SUM(K32:K36) -> 420 | L31: =SUM(L32:L36) -> 582 | M31: =SUM(L31*100/K31) -> 138.57143
A32: สถาบันพัฒนาฝีมือแรงงาน 6 ขอนแก่น | B32: 420 | C32: 808 | D32: =SUM(C32*100/B32) -> 192.38095 | E32: 10000 | F32: 38042 | G32: =SUM(F32*100/E32) -> 380.42 | H32: 100 | I32: 389 | J32: =SUM(I32*100/H32) -> 389 | K32: 100 | L32: 118 | M32: =SUM(L32*100/K32) -> 118
A33: สำนักงานพัฒนาฝีมือแรงงานจังหวัดกาฬสินธุ์ | B33: 120 | C33: 135 | D33: =SUM(C33*100/B33) -> 112.5 | E33: 1000 | F33: 2903 | G33: =SUM(F33*100/E33) -> 290.3 | H33: 32 | I33: 144 | J33: =SUM(I33*100/H33) -> 450 | K33: 80 | L33: 181 | M33: =SUM(L33*100/K33) -> 226.25
A34: สำนักงานพัฒนาฝีมือแรงงานจังหวัดมุกดาหาร | B34: 80 | C34: 108 | D34: =SUM(C34*100/B34) -> 135 | E34: 800 | F34: 1941 | G34: =SUM(F34*100/E34) -> 242.625 | H34: 20 | I34: 60 | J34: =SUM(I34*100/H34) -> 300 | K34: 80 | L34: 80 | M34: =SUM(L34*100/K34) -> 100
A35: สำนักงานพัฒนาฝีมือแรงงานจังหวัดหนองบัวลำภู | B35: 160 | C35: 252 | D35: =SUM(C35*100/B35) -> 157.5 | E35: 900 | F35: 2318 | G35: =SUM(F35*100/E35) -> 257.55556 | H35: 60 | I35: 95 | J35: =SUM(I35*100/H35) -> 158.33333 | K35: 80 | L35: 98 | M35: =SUM(L35*100/K35) -> 122.5
A36: สำนักงานพัฒนาฝีมือแรงงานจังหวัดมหาสารคาม | B36: 180 | C36: 205 | D36: =SUM(C36*100/B36) -> 113.88889 | E36: 1500 | F36: 2726 | G36: =SUM(F36*100/E36) -> 181.73333 | H36: 40 | I36: 100 | J36: =SUM(I36*100/H36) -> 250 | K36: 80 | L36: 105 | M36: =SUM(L36*100/K36) -> 131.25
A37: สพร. 7 อุบลราชธานี | B37: =SUM(B38:B42) -> 2060 | C37: =SUM(C38:C42) -> 2345 | D37: =SUM(C37*100/B37) -> 113.83495 | E37: =SUM(E38:E42) -> 9750 | F37: =SUM(F38:F42) -> 22110 | G37: =SUM(F37*100/E37) -> 226.76923 | H37: =SUM(H38:H42) -> 605 | I37: =SUM(I38:I42) -> 1082 | J37: =SUM(I37*100/H37) -> 178.84298 | K37: =SUM(K38:K42) -> 400 | L37: =SUM(L38:L42) -> 563 | M37: =SUM(L37*100/K37) -> 140.75
A38: สถาบันพัฒนาฝีมือแรงงาน 7 อุบลราชธานี | B38: 820 | C38: 883 | D38: =SUM(C38*100/B38) -> 107.68293 | E38: 6000 | F38: 14832 | G38: =SUM(F38*100/E38) -> 247.2 | H38: 225 | I38: 293 | J38: =SUM(I38*100/H38) -> 130.22222 | K38: 80 | L38: 80 | M38: =SUM(L38*100/K38) -> 100
A39: สำนักงานพัฒนาฝีมือแรงงานจังหวัดศรีสะเกษ | B39: 220 | C39: 222 | D39: =SUM(C39*100/B39) -> 100.90909 | E39: 900 | F39: 2108 | G39: =SUM(F39*100/E39) -> 234.22222 | H39: 80 | I39: 147 | J39: =SUM(I39*100/H39) -> 183.75 | K39: 80 | L39: 120 | M39: =SUM(L39*100/K39) -> 150
A40: สำนักงานพัฒนาฝีมือแรงงานจังหวัดอำนาจเจริญ | B40: 220 | C40: 270 | D40: =SUM(C40*100/B40) -> 122.72727 | E40: 50 | F40: 116 | G40: =SUM(F40*100/E40) -> 232 | H40: 60 | I40: 126 | J40: =SUM(I40*100/H40) -> 210 | K40: 80 | L40: 82 | M40: =SUM(L40*100/K40) -> 102.5
A41: สำนักงานพัฒนาฝีมือแรงงานจังหวัดร้อยเอ็ด | B41: 400 | C41: 409 | D41: =SUM(C41*100/B41) -> 102.25 | E41: 2000 | F41: 3776 | G41: =SUM(F41*100/E41) -> 188.8 | H41: 60 | I41: 174 | J41: =SUM(I41*100/H41) -> 290 | K41: 80 | L41: 201 | M41: =SUM(L41*100/K41) -> 251.25
A42: สำนักงานพัฒนาฝีมือแรงงานจังหวัดยโสธร | B42: 400 | C42: 561 | D42: =SUM(C42*100/B42) -> 140.25 | E42: 800 | F42: 1278 | G42: =SUM(F42*100/E42) -> 159.75 | H42: 180 | I42: 342 | J42: =SUM(I42*100/H42) -> 190 | K42: 80 | L42: 80 | M42: =SUM(L42*100/K42) -> 100
A43: สพร. 8 นครสวรรค์ | B43: =SUM(B44:B47) -> 1104 | C43: =SUM(C44:C47) -> 1641 | D43: =SUM(C43*100/B43) -> 148.6413 | E43: =SUM(E44:E47) -> 15000 | F43: =SUM(F44:F47) -> 28582 | G43: =SUM(F43*100/E43) -> 190.54667 | H43: =SUM(H44:H47) -> 475 | I43: =SUM(I44:I47) -> 925 | J43: =SUM(I43*100/H43) -> 194.73684 | K43: =SUM(K44:K47) -> 320 | L43: =SUM(L44:L47) -> 463 | M43: =SUM(L43*100/K43) -> 144.6875
A44: สถาบันพัฒนาฝีมือแรงงาน 8 นครสวรรค์ | B44: 364 | C44: 537 | D44: =SUM(C44*100/B44) -> 147.52747 | E44: 7000 | F44: 14094 | G44: =SUM(F44*100/E44) -> 201.34286 | H44: 280 | I44: 386 | J44: =SUM(I44*100/H44) -> 137.85714 | K44: 80 | L44: 89 | M44: =SUM(L44*100/K44) -> 111.25
A45: สำนักงานพัฒนาฝีมือแรงงานจังหวัดพิจิตร | B45: 460 | C45: 559 | D45: =SUM(C45*100/B45) -> 121.52174 | E45: 1500 | F45: 4002 | G45: =SUM(F45*100/E45) -> 266.8 | H45: 40 | I45: 132 | J45: =SUM(I45*100/H45) -> 330 | K45: 80 | L45: 110 | M45: =SUM(L45*100/K45) -> 137.5
A46: สำนักงานพัฒนาฝีมือแรงงานจังหวัดกำแพงเพชร | B46: 80 | C46: 102 | D46: =SUM(C46*100/B46) -> 127.5 | E46: 2500 | F46: 2848 | G46: =SUM(F46*100/E46) -> 113.92 | H46: 110 | I46: 260 | J46: =SUM(I46*100/H46) -> 236.36364 | K46: 80 | L46: 96 | M46: =SUM(L46*100/K46) -> 120
A47: สำนักงานพัฒนาฝีมือแรงงานจังหวัดตาก | B47: 200 | C47: 443 | D47: =SUM(C47*100/B47) -> 221.5 | E47: 4000 | F47: 7638 | G47: =SUM(F47*100/E47) -> 190.95 | H47: 45 | I47: 147 | J47: =SUM(I47*100/H47) -> 326.66667 | K47: 80 | L47: 168 | M47: =SUM(L47*100/K47) -> 210
A48: สพร. 9 พิษณุโลก | B48: =SUM(B49:B53) -> 1260 | C48: =SUM(C49:C53) -> 1547 | D48: =SUM(C48*100/B48) -> 122.77778 | E48: =SUM(E49:E53) -> 11100 | F48: =SUM(F49:F53) -> 25731 | G48: =SUM(F48*100/E48) -> 231.81081 | H48: =SUM(H49:H53) -> 640 | I48: =SUM(I49:I53) -> 808 | J48: =SUM(I48*100/H48) -> 126.25 | K48: =SUM(K49:K53) -> 440 | L48: =SUM(L49:L53) -> 489 | M48: =SUM(L48*100/K48) -> 111.13636
A49: สถาบันพัฒนาฝีมือแรงงาน 9 พิษณุโลก | B49: 480 | C49: 571 | D49: =SUM(C49*100/B49) -> 118.95833 | E49: 5500 | F49: 11676 | G49: =SUM(F49*100/E49) -> 212.29091 | H49: 240 | I49: 296 | J49: =SUM(I49*100/H49) -> 123.33333 | K49: 80 | L49: 80 | M49: =SUM(L49*100/K49) -> 100
A50: สำนักงานพัฒนาฝีมือแรงงานจังหวัดเลย | B50: 160 | C50: 165 | D50: =SUM(C50*100/B50) -> 103.125 | E50: 700 | F50: 1321 | G50: =SUM(F50*100/E50) -> 188.71429 | H50: 40 | I50: 40 | J50: =SUM(I50*100/H50) -> 100 | K50: 120 | L50: 164 | M50: =SUM(L50*100/K50) -> 136.66667
A51: สำนักงานพัฒนาฝีมือแรงงานจังหวัดเพชรบูรณ์ | B51: 200 | C51: 239 | D51: =SUM(C51*100/B51) -> 119.5 | E51: 2800 | F51: 8828 | G51: =SUM(F51*100/E51) -> 315.28571 | H51: 140 | I51: 174 | J51: =SUM(I51*100/H51) -> 124.28571 | K51: 80 | L51: 85 | M51: =SUM(L51*100/K51) -> 106.25
A52: สำนักงานพัฒนาฝีมือแรงงานจังหวัดอุตรดิตถ์ | B52: 300 | C52: 446 | D52: =SUM(C52*100/B52) -> 148.66667 | E52: 1500 | F52: 2975 | G52: =SUM(F52*100/E52) -> 198.33333 | H52: 80 | I52: 100 | J52: =SUM(I52*100/H52) -> 125 | K52: 80 | L52: 80 | M52: =SUM(L52*100/K52) -> 100
A53: สำนักงานพัฒนาฝีมือแรงงานจังหวัดสุโขทัย | B53: 120 | C53: 126 | D53: =SUM(C53*100/B53) -> 105 | E53: 600 | F53: 931 | G53: =SUM(F53*100/E53) -> 155.16667 | H53: 140 | I53: 198 | J53: =SUM(I53*100/H53) -> 141.42857 | K53: 80 | L53: 80 | M53: =SUM(L53*100/K53) -> 100
A54: สพร. 10 ลำปาง | B54: =SUM(B55:B57) -> 1100 | C54: =SUM(C55:C57) -> 1576 | D54: =SUM(C54*100/B54) -> 143.27273 | E54: =SUM(E55:E57) -> 34000 | F54: =SUM(F55:F57) -> 59553 | G54: =SUM(F54*100/E54) -> 175.15588 | H54: =SUM(H55:H57) -> 455 | I54: =SUM(I55:I57) -> 720 | J54: =SUM(I54*100/H54) -> 158.24176 | K54: =SUM(K55:K57) -> 240 | L54: =SUM(L55:L57) -> 310 | M54: =SUM(L54*100/K54) -> 129.16667
A55: สถาบันพัฒนาฝีมือแรงงาน 10 ลำปาง | B55: 700 | C55: 1058 | D55: =SUM(C55*100/B55) -> 151.14286 | E55: 9000 | F55: 12056 | G55: =SUM(F55*100/E55) -> 133.95556 | H55: 315 | I55: 360 | J55: =SUM(I55*100/H55) -> 114.28571 | K55: 80 | L55: 80 | M55: =SUM(L55*100/K55) -> 100
A56: สำนักงานพัฒนาฝีมือแรงงานจังหวัดลำพูน | B56: 160 | C56: 245 | D56: =SUM(C56*100/B56) -> 153.125 | E56: 24000 | F56: 45553 | G56: =SUM(F56*100/E56) -> 189.80417 | H56: 40 | I56: 137 | J56: =SUM(I56*100/H56) -> 342.5 | K56: 80 | L56: 86 | M56: =SUM(L56*100/K56) -> 107.5
A57: สำนักงานพัฒนาฝีมือแรงงานจังหวัดแพร่ | B57: 240 | C57: 273 | D57: =SUM(C57*100/B57) -> 113.75 | E57: 1000 | F57: 1944 | G57: =SUM(F57*100/E57) -> 194.4 | H57: 100 | I57: 223 | J57: =SUM(I57*100/H57) -> 223 | K57: 80 | L57: 144 | M57: =SUM(L57*100/K57) -> 180
A58: สพร. 11 สุราษฎร์ธานี | B58: =SUM(B59:B61) -> 220 | C58: =SUM(C59:C61) -> 521 | D58: =SUM(C58*100/B58) -> 236.81818 | E58: =SUM(E59:E61) -> 17050 | F58: =SUM(F59:F61) -> 40106 | G58: =SUM(F58*100/E58) -> 235.22581 | H58: =SUM(H59:H61) -> 80 | I58: =SUM(I59:I61) -> 341 | J58: =SUM(I58*100/H58) -> 426.25 | K58: =SUM(K59:K61) -> 240 | L58: =SUM(L59:L61) -> 304 | M58: =SUM(L58*100/K58) -> 126.66667
A59: สถาบันพัฒนาฝีมือแรงงาน 11 สุราษฎร์ธานี | B59: 80 | C59: 109 | D59: =SUM(C59*100/B59) -> 136.25 | E59: 13500 | F59: 28242 | G59: =SUM(F59*100/E59) -> 209.2 | H59: 20 | I59: 20 | J59: =SUM(I59*100/H59) -> 100 | K59: 80 | L59: 87 | M59: =SUM(L59*100/K59) -> 108.75
A60: สำนักงานพัฒนาฝีมือแรงงานจังหวัดชุมพร | B60: 60 | C60: 327 | D60: =SUM(C60*100/B60) -> 545 | E60: 3000 | F60: 10114 | G60: =SUM(F60*100/E60) -> 337.13333 | H60: 40 | I60: 281 | J60: =SUM(I60*100/H60) -> 702.5 | K60: 80 | L60: 117 | M60: =SUM(L60*100/K60) -> 146.25
A61: สำนักงานพัฒนาฝีมือแรงงานจังหวัดระนอง | B61: 80 | C61: 85 | D61: =SUM(C61*100/B61) -> 106.25 | E61: 550 | F61: 1750 | G61: =SUM(F61*100/E61) -> 318.18182 | H61: 20 | I61: 40 | J61: =SUM(I61*100/H61) -> 200 | K61: 80 | L61: 100 | M61: =SUM(L61*100/K61) -> 125
A62: สพร. 12 สงขลา | B62: =SUM(B63:B64) -> 338 | C62: =SUM(C63:C64) -> 409 | D62: =SUM(C62*100/B62) -> 121.00592 | E62: =SUM(E63:E64) -> 50500 | F62: =SUM(F63:F64) -> 76639 | G62: =SUM(F62*100/E62) -> 151.7604 | H62: =SUM(H63:H64) -> 283 | I62: =SUM(I63:I64) -> 326 | J62: =SUM(I62*100/H62) -> 115.19435 | K62: =SUM(K63:K64) -> 160 | L62: =SUM(L63:L64) -> 166 | M62: =SUM(L62*100/K62) -> 103.75
A63: สถาบันพัฒนาฝีมือแรงงาน 12 สงขลา | B63: 226 | C63: 274 | D63: =SUM(C63*100/B63) -> 121.23894 | E63: 50000 | F63: 74588 | G63: =SUM(F63*100/E63) -> 149.176 | H63: 103 | I63: 113 | J63: =SUM(I63*100/H63) -> 109.70874 | K63: 80 | L63: 80 | M63: =SUM(L63*100/K63) -> 100
A64: สำนักงานพัฒนาฝีมือแรงงานจังหวัดสตูล | B64: 112 | C64: 135 | D64: =SUM(C64*100/B64) -> 120.53571 | E64: 500 | F64: 2051 | G64: =SUM(F64*100/E64) -> 410.2 | H64: 180 | I64: 213 | J64: =SUM(I64*100/H64) -> 118.33333 | K64: 80 | L64: 86 | M64: =SUM(L64*100/K64) -> 107.5
A65: สพร. 13 กรุงเทพมหานคร | B65: =SUM(B66) -> 80 | C65: =SUM(C66) -> 151 | D65: =SUM(C65*100/B65) -> 188.75 | E65: =SUM(E66) -> 1667000 | F65: =SUM(F66) -> 1415364 | G65: =SUM(F65*100/E65) -> 84.904859 | H65: =SUM(H66) -> 40 | I65: =SUM(I66) -> 100 | J65: =SUM(I65*100/H65) -> 250 | K65: =SUM(K66) -> 80 | L65: =SUM(L66) -> 176 | M65: =SUM(L65*100/K65) -> 220
A66: สถาบันพัฒนาฝีมือแรงงาน 13 กรุงเทพมหานคร | B66: 80 | C66: 151 | D66: =SUM(C66*100/B66) -> 188.75 | E66: 1667000 | F66: 1415364 | G66: =SUM(F66*100/E66) -> 84.904859 | H66: 40 | I66: 100 | J66: =SUM(I66*100/H66) -> 250 | K66: 80 | L66: 176 | M66: =SUM(L66*100/K66) -> 220
A67: สพร. 14 ปทุมธานี | B67: =SUM(B68:B70) -> 380 | C67: =SUM(C68:C70) -> 468 | D67: =SUM(C67*100/B67) -> 123.15789 | E67: =SUM(E68:E70) -> 252000 | F67: =SUM(F68:F70) -> 290938 | G67: =SUM(F67*100/E67) -> 115.45159 | H67: =SUM(H68:H70) -> 220 | I67: =SUM(I68:I70) -> 501 | J67: =SUM(I67*100/H67) -> 227.72727 | K67: =SUM(K68:K70) -> 260 | L67: =SUM(L68:L70) -> 280 | M67: =SUM(L67*100/K67) -> 107.69231
A68: สถาบันพัฒนาฝีมือแรงงาน 14 ปทุมธานี | B68: 100 | C68: 133 | D68: =SUM(C68*100/B68) -> 133 | E68: 150000 | F68: 175707 | G68: =SUM(F68*100/E68) -> 117.138 | H68: 60 | I68: 63 | J68: =SUM(I68*100/H68) -> 105 | K68: 80 | L68: 100 | M68: =SUM(L68*100/K68) -> 125
A69: สำนักงานพัฒนาฝีมือแรงงานจังหวัดนนทบุรี | B69: 80 | C69: 109 | D69: =SUM(C69*100/B69) -> 136.25 | E69: 100000 | F69: 111124 | G69: =SUM(F69*100/E69) -> 111.124 | H69: 100 | I69: 298 | J69: =SUM(I69*100/H69) -> 298 | K69: 80 | L69: 80 | M69: =SUM(L69*100/K69) -> 100
A70: สำนักงานพัฒนาฝีมือแรงงานจังหวัดนครนายก | B70: 200 | C70: 226 | D70: =SUM(C70*100/B70) -> 113 | E70: 2000 | F70: 4107 | G70: =SUM(F70*100/E70) -> 205.35 | H70: 60 | I70: 140 | J70: =SUM(I70*100/H70) -> 233.33333 | K70: 100 | L70: 100 | M70: =SUM(L70*100/K70) -> 100
A71: สพร. 15 พระนครศรีอยุธยา | B71: =SUM(B72:B75) -> 760 | C71: =SUM(C72:C75) -> 1246 | D71: =SUM(C71*100/B71) -> 163.94737 | E71: =SUM(E72:E75) -> 173900 | F71: =SUM(F72:F75) -> 235355 | G71: =SUM(F71*100/E71) -> 135.33928 | H71: =SUM(H72:H75) -> 470 | I71: =SUM(I72:I75) -> 736 | J71: =SUM(I71*100/H71) -> 156.59574 | K71: =SUM(K72:K75) -> 320 | L71: =SUM(L72:L75) -> 378 | M71: =SUM(L71*100/K71) -> 118.125
A72: สถาบันพัฒนาฝีมือแรงงาน 15 พระนครศรีอยุธยา | B72: 180 | C72: 246 | D72: =SUM(C72*100/B72) -> 136.66667 | E72: 120000 | F72: 168293 | G72: =SUM(F72*100/E72) -> 140.24417 | H72: 200 | I72: 222 | J72: =SUM(I72*100/H72) -> 111 | K72: 80 | L72: 100 | M72: =SUM(L72*100/K72) -> 125
A73: สำนักงานพัฒนาฝีมือแรงงานจังหวัดอ่างทอง | B73: 160 | C73: 184 | D73: =SUM(C73*100/B73) -> 115 | E73: 1900 | F73: 2123 | G73: =SUM(F73*100/E73) -> 111.73684 | H73: 20 | I73: 40 | J73: =SUM(I73*100/H73) -> 200 | K73: 80 | L73: 80 | M73: =SUM(L73*100/K73) -> 100
A74: สำนักงานพัฒนาฝีมือแรงงานจังหวัดสระบุรี | B74: 160 | C74: 168 | D74: =SUM(C74*100/B74) -> 105 | E74: 40000 | F74: 45862 | G74: =SUM(F74*100/E74) -> 114.655 | H74: 80 | I74: 155 | J74: =SUM(I74*100/H74) -> 193.75 | K74: 80 | L74: 90 | M74: =SUM(L74*100/K74) -> 112.5
A75: สำนักงานพัฒนาฝีมือแรงงานจังหวัดลพบุรี | B75: 260 | C75: 648 | D75: =SUM(C75*100/B75) -> 249.23077 | E75: 12000 | F75: 19077 | G75: =SUM(F75*100/E75) -> 158.975 | H75: 170 | I75: 319 | J75: =SUM(I75*100/H75) -> 187.64706 | K75: 80 | L75: 108 | M75: =SUM(L75*100/K75) -> 135
A76: สพร. 16 นครปฐม | B76: =SUM(B77:B79) -> 688 | C76: =SUM(C77:C79) -> 1246 | D76: =SUM(C76*100/B76) -> 181.10465 | E76: =SUM(E77:E79) -> 155650 | F76: =SUM(F77:F79) -> 259238 | G76: =SUM(F76*100/E76) -> 166.55188 | H76: =SUM(H77:H79) -> 180 | I76: =SUM(I77:I79) -> 963 | J76: =SUM(I76*100/H76) -> 535 | K76: =SUM(K77:K79) -> 220 | L76: =SUM(L77:L79) -> 402 | M76: =SUM(L76*100/K76) -> 182.72727
A77: สถาบันพัฒนาฝีมือแรงงาน 16 นครปฐม | B77: 380 | C77: 619 | D77: =SUM(C77*100/B77) -> 162.89474 | E77: 38000 | F77: 66970 | G77: =SUM(F77*100/E77) -> 176.23684 | H77: 140 | I77: 702 | J77: =SUM(I77*100/H77) -> 501.42857 | K77: 60 | L77: 202 | M77: =SUM(L77*100/K77) -> 336.66667
A78: สำนักงานพัฒนาฝีมือแรงงานจังหวัดสมุทรสาคร | B78: 116 | C78: 435 | D78: =SUM(C78*100/B78) -> 375 | E78: 114500 | F78: 187450 | G78: =SUM(F78*100/E78) -> 163.71179 | K78: 60 | L78: 75 | M78: =SUM(L78*100/K78) -> 125
A79: สำนักงานพัฒนาฝีมือแรงงานจังหวัดสมุทรสงคราม | B79: 192 | C79: 192 | D79: =SUM(C79*100/B79) -> 100 | E79: 3150 | F79: 4818 | G79: =SUM(F79*100/E79) -> 152.95238 | H79: 40 | I79: 261 | J79: =SUM(I79*100/H79) -> 652.5 | K79: 100 | L79: 125 | M79: =SUM(L79*100/K79) -> 125
A80: สพร. 17 ระยอง | B80: =SUM(B81:B83) -> 420 | C80: =SUM(C81:C83) -> 597 | D80: =SUM(C80*100/B80) -> 142.14286 | E80: =SUM(E81:E83) -> 185500 | F80: =SUM(F81:F83) -> 236450 | G80: =SUM(F80*100/E80) -> 127.46631 | H80: =SUM(H81:H83) -> 140 | I80: =SUM(I81:I83) -> 385 | J80: =SUM(I80*100/H80) -> 275 | K80: =SUM(K81:K83) -> 240 | L80: =SUM(L81:L83) -> 330 | M80: =SUM(L80*100/K80) -> 137.5
A81: สถาบันพัฒนาฝีมือแรงงาน 17 ระยอง | B81: 300 | C81: 303 | D81: =SUM(C81*100/B81) -> 101 | E81: 180000 | F81: 225035 | G81: =SUM(F81*100/E81) -> 125.01944 | H81: 40 | I81: 50 | J81: =SUM(I81*100/H81) -> 125 | K81: 80 | L81: 81 | M81: =SUM(L81*100/K81) -> 101.25
A82: สำนักงานพัฒนาฝีมือแรงงานจังหวัดจันทบุรี | B82: 100 | C82: 272 | D82: =SUM(C82*100/B82) -> 272 | E82: 4500 | F82: 9614 | G82: =SUM(F82*100/E82) -> 213.64444 | H82: 40 | I82: 245 | J82: =SUM(I82*100/H82) -> 612.5 | K82: 80 | L82: 149 | M82: =SUM(L82*100/K82) -> 186.25
A83: สำนักงานพัฒนาฝีมือแรงงานจังหวัดตราด | B83: 20 | C83: 22 | D83: =SUM(C83*100/B83) -> 110 | E83: 1000 | F83: 1801 | G83: =SUM(F83*100/E83) -> 180.1 | H83: 60 | I83: 90 | J83: =SUM(I83*100/H83) -> 150 | K83: 80 | L83: 100 | M83: =SUM(L83*100/K83) -> 125
A84: สพร. 18 อุดรธานี | B84: =SUM(B85:B89) -> 1020 | C84: =SUM(C85:C89) -> 1102 | D84: =SUM(C84*100/B84) -> 108.03922 | E84: =SUM(E85:E89) -> 7260 | F84: =SUM(F85:F89) -> 13138 | G84: =SUM(F84*100/E84) -> 180.96419 | H84: =SUM(H85:H89) -> 260 | I84: =SUM(I85:I89) -> 781 | J84: =SUM(I84*100/H84) -> 300.38462 | K84: =SUM(K85:K89) -> 340 | L84: =SUM(L85:L89) -> 428 | M84: =SUM(L84*100/K84) -> 125.88235
A85: สถาบันพัฒนาฝีมือแรงงาน 18 อุดรธานี | B85: 300 | C85: 302 | D85: =SUM(C85*100/B85) -> 100.66667 | E85: 5000 | F85: 7584 | G85: =SUM(F85*100/E85) -> 151.68 | H85: 100 | I85: 206 | J85: =SUM(I85*100/H85) -> 206 | K85: 100 | L85: 100 | M85: =SUM(L85*100/K85) -> 100
A86: สำนักงานพัฒนาฝีมือแรงงานจังหวัดหนองคาย | E86: 1500 | F86: 2744 | G86: =SUM(F86*100/E86) -> 182.93333
A87: สำนักงานพัฒนาฝีมือแรงงานจังหวัดบึงกาฬ | B87: 220 | C87: 233 | D87: =SUM(C87*100/B87) -> 105.90909 | E87: 150 | F87: 1143 | G87: =SUM(F87*100/E87) -> 762 | H87: 20 | I87: 27 | J87: =SUM(I87*100/H87) -> 135 | K87: 80 | L87: 82 | M87: =SUM(L87*100/K87) -> 102.5
A88: สำนักงานพัฒนาฝีมือแรงงานจังหวัดสกลนคร | B88: 180 | C88: 189 | D88: =SUM(C88*100/B88) -> 105 | E88: 500 | F88: 1254 | G88: =SUM(F88*100/E88) -> 250.8 | H88: 120 | I88: 250 | J88: =SUM(I88*100/H88) -> 208.33333 | K88: 80 | L88: 80 | M88: =SUM(L88*100/K88) -> 100
A89: สำนักงานพัฒนาฝีมือแรงงานจังหวัดนครพนม | B89: 320 | C89: 378 | D89: =SUM(C89*100/B89) -> 118.125 | E89: 110 | F89: 413 | G89: =SUM(F89*100/E89) -> 375.45455 | H89: 20 | I89: 298 | J89: =SUM(I89*100/H89) -> 1490 | K89: 80 | L89: 166 | M89: =SUM(L89*100/K89) -> 207.5
A90: สพร. 19 เชียงใหม่ | B90: =SUM(B91:B92) -> 300 | C90: =SUM(C91:C92) -> 404 | D90: =SUM(C90*100/B90) -> 134.66667 | E90: =SUM(E91:E92) -> 25000 | F90: =SUM(F91:F92) -> 47918 | G90: =SUM(F90*100/E90) -> 191.672 | H90: =SUM(H91:H92) -> 160 | I90: =SUM(I91:I92) -> 252 | J90: =SUM(I90*100/H90) -> 157.5 | K90: =SUM(K91:K92) -> 160 | L90: =SUM(L91:L92) -> 215 | M90: =SUM(L90*100/K90) -> 134.375
A91: สถาบันพัฒนาฝีมือแรงงาน 19 เชียงใหม่ | B91: 220 | C91: 287 | D91: =SUM(C91*100/B91) -> 130.45455 | E91: 25000 | F91: 47918 | G91: =SUM(F91*100/E91) -> 191.672 | H91: 100 | I91: 144 | J91: =SUM(I91*100/H91) -> 144 | K91: 80 | L91: 80 | M91: =SUM(L91*100/K91) -> 100
A92: ศูนย์พัฒนาฝีมือแรงงานจังหวัดแม่ฮ่องสอน | B92: 80 | C92: 117 | D92: =SUM(C92*100/B92) -> 146.25 | H92: 60 | I92: 108 | J92: =SUM(I92*100/H92) -> 180 | K92: 80 | L92: 135 | M92: =SUM(L92*100/K92) -> 168.75
A93: สพร. 20 เชียงราย | B93: =SUM(B94:B96) -> 500 | C93: =SUM(C94:C96) -> 887 | D93: =SUM(C93*100/B93) -> 177.4 | E93: =SUM(E94:E96) -> 2710 | F93: =SUM(F94:F96) -> 10002 | G93: =SUM(F93*100/E93) -> 369.07749 | H93: =SUM(H94:H96) -> 260 | I93: =SUM(I94:I96) -> 535 | J93: =SUM(I93*100/H93) -> 205.76923 | K93: =SUM(K94:K96) -> 240 | L93: =SUM(L94:L96) -> 286 | M93: =SUM(L93*100/K93) -> 119.16667
A94: สถาบันพัฒนาฝีมือแรงงาน 20 เชียงราย | B94: 160 | C94: 241 | D94: =SUM(C94*100/B94) -> 150.625 | E94: 2000 | F94: 8748 | G94: =SUM(F94*100/E94) -> 437.4 | H94: 40 | I94: 65 | J94: =SUM(I94*100/H94) -> 162.5 | K94: 80 | L94: 86 | M94: =SUM(L94*100/K94) -> 107.5
A95: สำนักงานพัฒนาฝีมือแรงงานจังหวัดพะเยา | B95: 160 | C95: 189 | D95: =SUM(C95*100/B95) -> 118.125 | E95: 610 | F95: 1129 | G95: =SUM(F95*100/E95) -> 185.08197 | H95: 80 | I95: 152 | J95: =SUM(I95*100/H95) -> 190 | K95: 80 | L95: 80 | M95: =SUM(L95*100/K95) -> 100
A96: สำนักงานพัฒนาฝีมือแรงงานจังหวัดน่าน | B96: 180 | C96: 457 | D96: =SUM(C96*100/B96) -> 253.88889 | E96: 100 | F96: 125 | G96: =SUM(F96*100/E96) -> 125 | H96: 140 | I96: 318 | J96: =SUM(I96*100/H96) -> 227.14286 | K96: 80 | L96: 120 | M96: =SUM(L96*100/K96) -> 150
A97: สพร. 21 ภูเก็ต | B97: =SUM(B98:B100) -> 680 | C97: =SUM(C98:C100) -> 1067 | D97: =SUM(C97*100/B97) -> 156.91176 | E97: =SUM(E98:E100) -> 38000 | F97: =SUM(F98:F100) -> 50882 | G97: =SUM(F97*100/E97) -> 133.9 | H97: =SUM(H98:H100) -> 320 | I97: =SUM(I98:I100) -> 739 | J97: =SUM(I97*100/H97) -> 230.9375 | K97: =SUM(K98:K100) -> 240 | L97: =SUM(L98:L100) -> 311 | M97: =SUM(L97*100/K97) -> 129.58333
A98: สถาบันพัฒนาฝีมือแรงงาน 21 ภูเก็ต | B98: 280 | C98: 474 | D98: =SUM(C98*100/B98) -> 169.28571 | E98: 30000 | F98: 37493 | G98: =SUM(F98*100/E98) -> 124.97667 | H98: 200 | I98: 369 | J98: =SUM(I98*100/H98) -> 184.5 | K98: 80 | L98: 90 | M98: =SUM(L98*100/K98) -> 112.5
A99: สำนักงานพัฒนาฝีมือแรงงานจังหวัดพังงา | B99: 120 | C99: 196 | D99: =SUM(C99*100/B99) -> 163.33333 | E99: 2500 | F99: 4422 | G99: =SUM(F99*100/E99) -> 176.88 | H99: 60 | I99: 70 | J99: =SUM(I99*100/H99) -> 116.66667 | K99: 80 | L99: 80 | M99: =SUM(L99*100/K99) -> 100
A100: สำนักงานพัฒนาฝีมือแรงงานจังหวัดกระบี่ | B100: 280 | C100: 397 | D100: =SUM(C100*100/B100) -> 141.78571 | E100: 5500 | F100: 8967 | G100: =SUM(F100*100/E100) -> 163.03636 | H100: 60 | I100: 300 | J100: =SUM(I100*100/H100) -> 500 | K100: 80 | L100: 141 | M100: =SUM(L100*100/K100) -> 176.25
A101: สพร. 22 นครศรีธรรมราช | B101: =SUM(B102:B104) -> 468 | C101: =SUM(C102:C104) -> 736 | D101: =SUM(C101*100/B101) -> 157.26496 | E101: =SUM(E102:E104) -> 9500 | F101: =SUM(F102:F104) -> 18531 | G101: =SUM(F101*100/E101) -> 195.06316 | H101: =SUM(H102:H104) -> 220 | I101: =SUM(I102:I104) -> 599 | J101: =SUM(I101*100/H101) -> 272.27273 | K101: =SUM(K102:K104) -> 240 | L101: =SUM(L102:L104) -> 283 | M101: =SUM(L101*100/K101) -> 117.91667
...

Sheet สรุป
A1: สรุปผลการดำเนินงานพัฒนาฝีมือแรงงานในภาพรวมทุกผลผลิต/กิจกรรม/โครงการ ปีงบประมาณ 2560
A2: ตุลาคม 2559 - กันยายน 2560
A3: เป้าหมาย 12 เดือน
A5: หน่วยงาน | B5: รวมทั้งสิ้น
B8: เป้าหมาย | C8: ผลงาน | D8: ร้อยละ
A9: รวมทั้งสิ้น | B9: =SUM('โครง 1-6'!B8+'โครง 1-6'!E8+'โครง 1-6'!H8+'โครง 1-6'!K8+'โครง 1-6'!N8+'โครง 1-6'!Q8+'โครง 8'!B9+'โครง 8'!E9+'ผลผลิตที่ และโครง 9-10'!B8+'ผลผลิตที่ และโครง 9-10'!E8+'ผลผลิตที่ และโครง 9-10'!H8+'ผลผลิตที่ และโครง 9-10'!K8) -> 3684880 | C9: =SUM('โครง 1-6'!C8+'โครง 1-6'!F8+'โครง 1-6'!I8+'โครง 1-6'!L8+'โครง 1-6'!O8+'โครง 1-6'!R8+'โครง 8'!C9+'โครง 8'!F9+'ผลผลิตที่ และโครง 9-10'!C8+'ผลผลิตที่ และโครง 9-10'!F8+'ผลผลิตที่ และโครง 9-10'!I8+'ผลผลิตที่ และโครง 9-10'!L8) -> 4265819 | D9: =SUM(C9*100/B9) -> 115.76548
A10: กลุ่มงานพัฒนาวิทยากรต้นแบบ | B10: =SUM('โครง 8'!B10) -> 700 | C10: =SUM('โครง 8'!C10) -> 812 | D10: =SUM(C10*100/B10) -> 116
A11: สถาบันยานยนต์ | B11: =SUM('โครง 8'!B11) -> 3000 | C11: =SUM('โครง 8'!C11) -> 3224 | D11: =SUM(C11*100/B11) -> 107.46667
A12: สถาบันพัฒนาทรัพยากรมนุษย์ | B12: =SUM('โครง 8'!B12+'โครง 8'!E12) -> 1000 | C12: =SUM('โครง 8'!C12+'โครง 8'!F12) -> 1287 | D12: =SUM(C12*100/B12) -> 128.7
A13: สถาบันพัฒนาฝีมือแรงงานนานาชาติเชียงแสน | B13: =SUM('โครง 1-6'!N9+'โครง 8'!E13) -> 2100 | C13: =SUM('โครง 1-6'!O9+'โครง 8'!F13) -> 2429 | D13: =SUM(C13*100/B13) -> 115.66667
A14: สำนักมาตรฐานและทดสอบฝีมือแรงงาน | B14: =SUM('โครง 8'!E14) -> 100 | C14: =SUM('โครง 8'!F14) -> 177 | D14: =SUM(C14*100/B14) -> 177
A15: สพร. 1 สมุทรปราการ | B15: =SUM('โครง 1-6'!B10+'โครง 1-6'!K10+'โครง 8'!B15+'โครง 8'!E15+'ผลผลิตที่ และโครง 9-10'!B9+'ผลผลิตที่ และโครง 9-10'!E9+'ผลผลิตที่ และโครง 9-10'!H9+'ผลผลิตที่ และโครง 9-10'!K9) -> 402410 | C15: =SUM(C16:C17) -> 491545 | D15: =SUM(C15*100/B15) -> 122.15029
A16: สถาบันพัฒนาฝีมือแรงงาน 1 สมุทรปราการ | B16: =SUM('โครง 1-6'!B11+'โครง 1-6'!K11+'โครง 8'!B16+'โครง 8'!E16+'ผลผลิตที่ และโครง 9-10'!B10+'ผลผลิตที่ และโครง 9-10'!E10+'ผลผลิตที่ และโครง 9-10'!H10+'ผลผลิตที่ และโครง 9-10'!K10) -> 320000 | C16: =SUM('โครง 1-6'!C11+'โครง 1-6'!L11+'โครง 1-6'!R11+'โครง 8'!C16+'โครง 8'!F16+'ผลผลิตที่ และโครง 9-10'!C10+'ผลผลิตที่ และโครง 9-10'!F10+'ผลผลิตที่ และโครง 9-10'!I10+'ผลผลิตที่ และโครง 9-10'!L10) -> 409366 | D16: =SUM(C16*100/B16) -> 127.92687
A17: สำนักงานพัฒนาฝีมือแรงงานจังหวัดฉะเชิงเทรา | B17: =SUM('โครง 1-6'!B12+'โครง 1-6'!K12+'โครง 8'!B17+'โครง 8'!E17+'ผลผลิตที่ และโครง 9-10'!B11+'ผลผลิตที่ และโครง 9-10'!E11+'ผลผลิตที่ และโครง 9-10'!H11+'ผลผลิตที่ และโครง 9-10'!K11) -> 82410 | C17: =SUM('โครง 1-6'!C12+'โครง 1-6'!L12+'โครง 1-6'!R12+'โครง 8'!C17+'โครง 8'!F17+'ผลผลิตที่ และโครง 9-10'!C11+'ผลผลิตที่ และโครง 9-10'!F11+'ผลผลิตที่ และโครง 9-10'!I11+'ผลผลิตที่ และโครง 9-10'!L11) -> 82179 | D17: =SUM(C17*100/B17) -> 99.719694
A18: สพร. 2 สุพรรณบุรี | B18: =SUM('โครง 1-6'!B13+'โครง 1-6'!K13+'โครง 8'!B18+'โครง 8'!E18+'ผลผลิตที่ และโครง 9-10'!B12+'ผลผลิตที่ และโครง 9-10'!E12+'ผลผลิตที่ และโครง 9-10'!H12+'ผลผลิตที่ และโครง 9-10'!K12) -> 21522 | C18: =SUM('โครง 1-6'!C13+'โครง 1-6'!L13+'โครง 1-6'!R13+'โครง 8'!C18+'โครง 8'!F18+'ผลผลิตที่ และโครง 9-10'!C12+'ผลผลิตที่ และโครง 9-10'!F12+'ผลผลิตที่ และโครง 9-10'!I12+'ผลผลิตที่ และโครง 9-10'!L12) -> 28537 | D18: =SUM(C18*100/B18) -> 132.59455
A19: สถาบันพัฒนาฝีมือแรงงาน 2 สุพรรณบุรี | B19: =SUM('โครง 1-6'!B14+'โครง 1-6'!K14+'โครง 8'!B19+'โครง 8'!E19+'ผลผลิตที่ และโครง 9-10'!B13+'ผลผลิตที่ และโครง 9-10'!E13+'ผลผลิตที่ และโครง 9-10'!H13+'ผลผลิตที่ และโครง 9-10'!K13) -> 7948 | C19: =SUM('โครง 1-6'!C14+'โครง 1-6'!L14+'โครง 1-6'!R14+'โครง 8'!C19+'โครง 8'!F19+'ผลผลิตที่ และโครง 9-10'!C13+'ผลผลิตที่ และโครง 9-10'!F13+'ผลผลิตที่ และโครง 9-10'!I13+'ผลผลิตที่ และโครง 9-10'!L13) -> 11030 | D19: =SUM(C19*100/B19) -> 138.77705
A20: สำนักงานพัฒนาฝีมือแรงงานจังหวัดสิงห์บุรี | B20: =SUM('โครง 1-6'!B15+'โครง 1-6'!K15+'โครง 8'!B20+'โครง 8'!E20+'ผลผลิตที่ และโครง 9-10'!B14+'ผลผลิตที่ และโครง 9-10'!E14+'ผลผลิตที่ และโครง 9-10'!H14+'ผลผลิตที่ และโครง 9-10'!K14) -> 7428 | C20: =SUM('โครง 1-6'!C15+'โครง 1-6'!L15+'โครง 1-6'!R15+'โครง 8'!C20+'โครง 8'!F20+'ผลผลิตที่ และโครง 9-10'!C14+'ผลผลิตที่ และโครง 9-10'!F14+'ผลผลิตที่ และโครง 9-10'!I14+'ผลผลิตที่ และโครง 9-10'!L14) -> 8557 | D20: =SUM(C20*100/B20) -> 115.19925
A21: สำนักงานพัฒนาฝีมือแรงงานจังหวัดชัยนาท | B21: =SUM('โครง 1-6'!B16+'โครง 1-6'!K16+'โครง 8'!B21+'โครง 8'!E21+'ผลผลิตที่ และโครง 9-10'!B15+'ผลผลิตที่ และโครง 9-10'!E15+'ผลผลิตที่ และโครง 9-10'!H15+'ผลผลิตที่ และโครง 9-10'!K15) -> 3126 | C21: =SUM('โครง 1-6'!C16+'โครง 1-6'!L16+'โครง 1-6'!R16+'โครง 8'!C21+'โครง 8'!F21+'ผลผลิตที่ และโครง 9-10'!C15+'ผลผลิตที่ และโครง 9-10'!F15+'ผลผลิตที่ และโครง 9-10'!I15+'ผลผลิตที่ และโครง 9-10'!L15) -> 5345 | D21: =SUM(C21*100/B21) -> 170.98528
A22: สำนักงานพัฒนาฝีมือแรงงานจังหวัดอุทัยธานี | B22: =SUM('โครง 1-6'!B17+'โครง 1-6'!K17+'โครง 8'!B22+'โครง 8'!E22+'ผลผลิตที่ และโครง 9-10'!B16+'ผลผลิตที่ และโครง 9-10'!E16+'ผลผลิตที่ และโครง 9-10'!H16+'ผลผลิตที่ และโครง 9-10'!K16) -> 3020 | C22: =SUM('โครง 1-6'!C17+'โครง 1-6'!L17+'โครง 1-6'!R17+'โครง 8'!C22+'โครง 8'!F22+'ผลผลิตที่ และโครง 9-10'!C16+'ผลผลิตที่ และโครง 9-10'!F16+'ผลผลิตที่ และโครง 9-10'!I16+'ผลผลิตที่ และโครง 9-10'!L16) -> 3605 | D22: =SUM(C22*100/B22) -> 119.37086
A23: สพร. 3 ชลบุรี | B23: =SUM('โครง 1-6'!B18+'โครง 1-6'!H18+'โครง 1-6'!K18+'โครง 8'!B23+'โครง 8'!E23+'ผลผลิตที่ และโครง 9-10'!B17+'ผลผลิตที่ และโครง 9-10'!E17+'ผลผลิตที่ และโครง 9-10'!H17+'ผลผลิตที่ และโครง 9-10'!K17) -> 285650 | C23: =SUM('โครง 1-6'!C18+'โครง 1-6'!I18+'โครง 1-6'!L18+'โครง 1-6'!R18+'โครง 8'!C23+'โครง 8'!F23+'ผลผลิตที่ และโครง 9-10'!C17+'ผลผลิตที่ และโครง 9-10'!F17+'ผลผลิตที่ และโครง 9-10'!I17+'ผลผลิตที่ และโครง 9-10'!L17) -> 423287 | D23: =SUM(C23*100/B23) -> 148.18379
A24: สถาบันพัฒนาฝีมือแรงงาน 3 ชลบุรี | B24: =SUM('โครง 1-6'!B19+'โครง 1-6'!H19+'โครง 1-6'!K19+'โครง 8'!B24+'โครง 8'!E24+'ผลผลิตที่ และโครง 9-10'!B18+'ผลผลิตที่ และโครง 9-10'!E18+'ผลผลิตที่ และโครง 9-10'!H18+'ผลผลิตที่ และโครง 9-10'!K18) -> 230715 | C24: =SUM('โครง 1-6'!C19+'โครง 1-6'!I19+'โครง 1-6'!L19+'โครง 1-6'!R19+'โครง 8'!C24+'โครง 8'!F24+'ผลผลิตที่ และโครง 9-10'!C18+'ผลผลิตที่ และโครง 9-10'!F18+'ผลผลิตที่ และโครง 9-10'!I18+'ผลผลิตที่ และโครง 9-10'!L18) -> 336462 | D24: =SUM(C24*100/B24) -> 145.83447
A25: ศูนย์พัฒนาฝีมือแรงงานจังหวัดปราจีนบุรี | B25: =SUM('โครง 1-6'!B20+'โครง 1-6'!H20+'โครง 1-6'!K20+'โครง 8'!B25+'โครง 8'!E25+'ผลผลิตที่ และโครง 9-10'!B19+'ผลผลิตที่ และโครง 9-10'!E19+'ผลผลิตที่ และโครง 9-10'!H19+'ผลผลิตที่ และโครง 9-10'!K19) -> 49020 | C25: =SUM('โครง 1-6'!C20+'โครง 1-6'!I20+'โครง 1-6'!L20+'โครง 1-6'!R20+'โครง 8'!C25+'โครง 8'!F25+'ผลผลิตที่ และโครง 9-10'!C19+'ผลผลิตที่ และโครง 9-10'!F19+'ผลผลิตที่ และโครง 9-10'!I19+'ผลผลิตที่ และโครง 9-10'!L19) -> 78756 | D25: =SUM(C25*100/B25) -> 160.66095
A26: ศูนย์พัฒนาฝีมือแรงงานจังหวัดสระแก้ว | B26: =SUM('โครง 1-6'!B21+'โครง 1-6'!H21+'โครง 1-6'!K21+'โครง 8'!B26+'โครง 8'!E26+'ผลผลิตที่ และโครง 9-10'!B20+'ผลผลิตที่ และโครง 9-10'!E20+'ผลผลิตที่ และโครง 9-10'!H20+'ผลผลิตที่ และโครง 9-10'!K20) -> 5915 | C26: =SUM('โครง 1-6'!C21+'โครง 1-6'!I21+'โครง 1-6'!L21+'โครง 1-6'!R21+'โครง 8'!C26+'โครง 8'!F26+'ผลผลิตที่ และโครง 9-10'!C20+'ผลผลิตที่ และโครง 9-10'!F20+'ผลผลิตที่ และโครง 9-10'!I20+'ผลผลิตที่ และโครง 9-10'!L20) -> 8069 | D26: =SUM(C26*100/B26) -> 136.41589
A27: สพร. 4 ราชบุรี | B27: =SUM('โครง 1-6'!B22+'โครง 1-6'!H22+'โครง 1-6'!K22+'โครง 8'!B27+'โครง 8'!E27+'ผลผลิตที่ และโครง 9-10'!B21+'ผลผลิตที่ และโครง 9-10'!E21+'ผลผลิตที่ และโครง 9-10'!H21+'ผลผลิตที่ และโครง 9-10'!K21) -> 54316 | C27: =SUM('โครง 1-6'!C22+'โครง 1-6'!I22+'โครง 1-6'!L22+'โครง 1-6'!R22+'โครง 8'!C27+'โครง 8'!F27+'ผลผลิตที่ และโครง 9-10'!C21+'ผลผลิตที่ และโครง 9-10'!F21+'ผลผลิตที่ และโครง 9-10'!I21+'ผลผลิตที่ และโครง 9-10'!L21) -> 94732 | D27: =SUM(C27*100/B27) -> 174.40901
A28: สถาบันพัฒนาฝีมือแรงงาน 4 ราชบุรี | B28: =SUM('โครง 1-6'!B23+'โครง 1-6'!H23+'โครง 1-6'!K23+'โครง 8'!B28+'โครง 8'!E28+'ผลผลิตที่ และโครง 9-10'!B22+'ผลผลิตที่ และโครง 9-10'!E22+'ผลผลิตที่ และโครง 9-10'!H22+'ผลผลิตที่ และโครง 9-10'!K22) -> 24006 | C28: =SUM('โครง 1-6'!C23+'โครง 1-6'!I23+'โครง 1-6'!L23+'โครง 1-6'!R23+'โครง 8'!C28+'โครง 8'!F28+'ผลผลิตที่ และโครง 9-10'!C22+'ผลผลิตที่ และโครง 9-10'!F22+'ผลผลิตที่ และโครง 9-10'!I22+'ผลผลิตที่ และโครง 9-10'!L22) -> 40600 | D28: =SUM(C28*100/B28) -> 169.12439
A29: สำนักงานพัฒนาฝีมือแรงงานจังหวัดเพชรบุรี | B29: =SUM('โครง 1-6'!B24+'โครง 1-6'!H24+'โครง 1-6'!K24+'โครง 8'!B29+'โครง 8'!E29+'ผลผลิตที่ และโครง 9-10'!B23+'ผลผลิตที่ และโครง 9-10'!E23+'ผลผลิตที่ และโครง 9-10'!H23+'ผลผลิตที่ และโครง 9-10'!K23) -> 8570 | C29: =SUM('โครง 1-6'!C24+'โครง 1-6'!I24+'โครง 1-6'!L24+'โครง 1-6'!R24+'โครง 8'!C29+'โครง 8'!F29+'ผลผลิตที่ และโครง 9-10'!C23+'ผลผลิตที่ และโครง 9-10'!F23+'ผลผลิตที่ และโครง 9-10'!I23+'ผลผลิตที่ และโครง 9-10'!L23) -> 12860 | D29: =SUM(C29*100/B29) -> 150.05834
A30: สำนักงานพัฒนาฝีมือแรงงานจังหวัดกาญจนบุรี | B30: =SUM('โครง 1-6'!B25+'โครง 1-6'!H25+'โครง 1-6'!K25+'โครง 8'!B30+'โครง 8'!E30+'ผลผลิตที่ และโครง 9-10'!B24+'ผลผลิตที่ และโครง 9-10'!E24+'ผลผลิตที่ และโครง 9-10'!H24+'ผลผลิตที่ และโครง 9-10'!K24) -> 13170 | C30: =SUM('โครง 1-6'!C25+'โครง 1-6'!I25+'โครง 1-6'!L25+'โครง 1-6'!R25+'โครง 8'!C30+'โครง 8'!F30+'ผลผลิตที่ และโครง 9-10'!C24+'ผลผลิตที่ และโครง 9-10'!F24+'ผลผลิตที่ และโครง 9-10'!I24+'ผลผลิตที่ และโครง 9-10'!L24) -> 19060 | D30: =SUM(C30*100/B30) -> 144.72285
A31: สำนักงานพัฒนาฝีมือแรงงานจังหวัดประจวบคีรีขันธ์ | B31: =SUM('โครง 1-6'!B26+'โครง 1-6'!H26+'โครง 1-6'!K26+'โครง 8'!B31+'โครง 8'!E31+'ผลผลิตที่ และโครง 9-10'!B25+'ผลผลิตที่ และโครง 9-10'!E25+'ผลผลิตที่ และโครง 9-10'!H25+'ผลผลิตที่ และโครง 9-10'!K25) -> 8570 | C31: =SUM('โครง 1-6'!C26+'โครง 1-6'!I26+'โครง 1-6'!L26+'โครง 1-6'!R26+'โครง 8'!C31+'โครง 8'!F31+'ผลผลิตที่ และโครง 9-10'!C25+'ผลผลิตที่ และโครง 9-10'!F25+'ผลผลิตที่ และโครง 9-10'!I25+'ผลผลิตที่ และโครง 9-10'!L25) -> 22212 | D31: =SUM(C31*100/B31) -> 259.1832
A32: สพร. 5 นครราชสีมา | B32: =SUM('โครง 1-6'!B27+'โครง 1-6'!K27+'โครง 8'!B32+'โครง 8'!E32+'ผลผลิตที่ และโครง 9-10'!B26+'ผลผลิตที่ และโครง 9-10'!E26+'ผลผลิตที่ และโครง 9-10'!H26+'ผลผลิตที่ และโครง 9-10'!K26) -> 109629 | C32: =SUM('โครง 1-6'!C27+'โครง 1-6'!L27+'โครง 1-6'!R27+'โครง 8'!C32+'โครง 8'!F32+'ผลผลิตที่ และโครง 9-10'!C26+'ผลผลิตที่ และโครง 9-10'!F26+'ผลผลิตที่ และโครง 9-10'!I26+'ผลผลิตที่ และโครง 9-10'!L26) -> 130773 | D32: =SUM(C32*100/B32) -> 119.28687
A33: สถาบันพัฒนาฝีมือแรงงาน 5 นครราชสีมา | B33: =SUM('โครง 1-6'!B28+'โครง 1-6'!K28+'โครง 8'!B33+'โครง 8'!E33+'ผลผลิตที่ และโครง 9-10'!B27+'ผลผลิตที่ และโครง 9-10'!E27+'ผลผลิตที่ และโครง 9-10'!H27+'ผลผลิตที่ และโครง 9-10'!K27) -> 93999 | C33: =SUM('โครง 1-6'!C28+'โครง 1-6'!L28+'โครง 1-6'!R28+'โครง 8'!C33+'โครง 8'!F33+'ผลผลิตที่ และโครง 9-10'!C27+'ผลผลิตที่ และโครง 9-10'!F27+'ผลผลิตที่ และโครง 9-10'!I27+'ผลผลิตที่ และโครง 9-10'!L27) -> 107501 | D33: =SUM(C33*100/B33) -> 114.36398
A34: สำนักงานพัฒนาฝีมือแรงงานจังหวัดชัยภูมิ | B34: =SUM('โครง 1-6'!B29+'โครง 1-6'!K29+'โครง 8'!B34+'โครง 8'!E34+'ผลผลิตที่ และโครง 9-10'!B28+'ผลผลิตที่ และโครง 9-10'!E28+'ผลผลิตที่ และโครง 9-10'!H28+'ผลผลิตที่ และโครง 9-10'!K28) -> 4770 | C34: =SUM('โครง 1-6'!C29+'โครง 1-6'!L29+'โครง 1-6'!R29+'โครง 8'!C34+'โครง 8'!F34+'ผลผลิตที่ และโครง 9-10'!C28+'ผลผลิตที่ และโครง 9-10'!F28+'ผลผลิตที่ และโครง 9-10'!I28+'ผลผลิตที่ และโครง 9-10'!L28) -> 7939 | D34: =SUM(C34*100/B34) -> 166.43606
A35: สำนักงานพัฒนาฝีมือแรงงานจังหวัดสุรินทร์ | B35: =SUM('โครง 1-6'!B30+'โครง 1-6'!K30+'โครง 8'!B35+'โครง 8'!E35+'ผลผลิตที่ และโครง 9-10'!B29+'ผลผลิตที่ และโครง 9-10'!E29+'ผลผลิตที่ และโครง 9-10'!H29+'ผลผลิตที่ และโครง 9-10'!K29) -> 3610 | C35: =SUM('โครง 1-6'!C30+'โครง 1-6'!L30+'โครง 1-6'!R30+'โครง 8'!C35+'โครง 8'!F35+'ผลผลิตที่ และโครง 9-10'!C29+'ผลผลิตที่ และโครง 9-10'!F29+'ผลผลิตที่ และโครง 9-10'!I29+'ผลผลิตที่ และโครง 9-10'!L29) -> 3043 | D35: =SUM(C35*100/B35) -> 84.293629
A36: สำนักงานพัฒนาฝีมือแรงงานจังหวัดบุรีรัมย์ | B36: =SUM('โครง 1-6'!B31+'โครง 1-6'!K31+'โครง 8'!B36+'โครง 8'!E36+'ผลผลิตที่ และโครง 9-10'!B30+'ผลผลิตที่ และโครง 9-10'!E30+'ผลผลิตที่ และโครง 9-10'!H30+'ผลผลิตที่ และโครง 9-10'!K30) -> 7250 | C36: =SUM('โครง 1-6'!C31+'โครง 1-6'!L31+'โครง 1-6'!R31+'โครง 8'!C36+'โครง 8'!F36+'ผลผลิตที่ และโครง 9-10'!C30+'ผลผลิตที่ และโครง 9-10'!F30+'ผลผลิตที่ และโครง 9-10'!I30+'ผลผลิตที่ และโครง 9-10'!L30) -> 12290 | D36: =SUM(C36*100/B36) -> 169.51724
A37: สพร. 6 ขอนแก่น | B37: =SUM('โครง 1-6'!B32+'โครง 1-6'!H32+'โครง 1-6'!K32+'โครง 8'!B37+'โครง 8'!E37+'ผลผลิตที่ และโครง 9-10'!B31+'ผลผลิตที่ และโครง 9-10'!E31+'ผลผลิตที่ และโครง 9-10'!H31+'ผลผลิตที่ และโครง 9-10'!K31) -> 25590 | C37: =SUM('โครง 1-6'!C32+'โครง 1-6'!I32+'โครง 1-6'!L32+'โครง 1-6'!R32+'โครง 8'!C37+'โครง 8'!F37+'ผลผลิตที่ และโครง 9-10'!C31+'ผลผลิตที่ และโครง 9-10'!F31+'ผลผลิตที่ และโครง 9-10'!I31+'ผลผลิตที่ และโครง 9-10'!L31) -> 64947 | D37: =SUM(C37*100/B37) -> 253.79836
A38: สถาบันพัฒนาฝีมือแรงงาน 6 ขอนแก่น | B38: =SUM('โครง 1-6'!B33+'โครง 1-6'!H33+'โครง 1-6'!K33+'โครง 8'!B38+'โครง 8'!E38+'ผลผลิตที่ และโครง 9-10'!B32+'ผลผลิตที่ และโครง 9-10'!E32+'ผลผลิตที่ และโครง 9-10'!H32+'ผลผลิตที่ และโครง 9-10'!K32) -> 14580 | C38: =SUM('โครง 1-6'!C33+'โครง 1-6'!I33+'โครง 1-6'!L33+'โครง 1-6'!R33+'โครง 8'!C38+'โครง 8'!F38+'ผลผลิตที่ และโครง 9-10'!C32+'ผลผลิตที่ และโครง 9-10'!F32+'ผลผลิตที่ และโครง 9-10'!I32+'ผลผลิตที่ และโครง 9-10'!L32) -> 45333 | D38: =SUM(C38*100/B38) -> 310.92593
A39: สำนักงานพัฒนาฝีมือแรงงานจังหวัดกาฬสินธุ์ | B39: =SUM('โครง 1-6'!B34+'โครง 1-6'!H34+'โครง 1-6'!K34+'โครง 8'!B39+'โครง 8'!E39+'ผลผลิตที่ และโครง 9-10'!B33+'ผลผลิตที่ และโครง 9-10'!E33+'ผลผลิตที่ และโครง 9-10'!H33+'ผลผลิตที่ และโครง 9-10'!K33) -> 2276 | C39: =SUM('โครง 1-6'!C34+'โครง 1-6'!I34+'โครง 1-6'!L34+'โครง 1-6'!R34+'โครง 8'!C39+'โครง 8'!F39+'ผลผลิตที่ และโครง 9-10'!C33+'ผลผลิตที่ และโครง 9-10'!F33+'ผลผลิตที่ และโครง 9-10'!I33+'ผลผลิตที่ และโครง 9-10'!L33) -> 5204 | D39: =SUM(C39*100/B39) -> 228.64675
A40: สำนักงานพัฒนาฝีมือแรงงานจังหวัดมุกดาหาร | B40: =SUM('โครง 1-6'!B35+'โครง 1-6'!H35+'โครง 1-6'!K35+'โครง 8'!B40+'โครง 8'!E40+'ผลผลิตที่ และโครง 9-10'!B34+'ผลผลิตที่ และโครง 9-10'!E34+'ผลผลิตที่ และโครง 9-10'!H34+'ผลผลิตที่ และโครง 9-10'!K34) -> 3500 | C40: =SUM('โครง 1-6'!C35+'โครง 1-6'!I35+'โครง 1-6'!L35+'โครง 1-6'!R35+'โครง 8'!C40+'โครง 8'!F40+'ผลผลิตที่ และโครง 9-10'!C34+'ผลผลิตที่ และโครง 9-10'!F34+'ผลผลิตที่ และโครง 9-10'!I34+'ผลผลิตที่ และโครง 9-10'!L34) -> 5519 | D40: =SUM(C40*100/B40) -> 157.68571
A41: สำนักงานพัฒนาฝีมือแรงงานจังหวัดหนองบัวลำภู | B41: =SUM('โครง 1-6'!B36+'โครง 1-6'!H36+'โครง 1-6'!K36+'โครง 8'!B41+'โครง 8'!E41+'ผลผลิตที่ และโครง 9-10'!B35+'ผลผลิตที่ และโครง 9-10'!E35+'ผลผลิตที่ และโครง 9-10'!H35+'ผลผลิตที่ และโครง 9-10'!K35) -> 2184 | C41: =SUM('โครง 1-6'!C36+'โครง 1-6'!I36+'โครง 1-6'!L36+'โครง 1-6'!R36+'โครง 8'!C41+'โครง 8'!F41+'ผลผลิตที่ และโครง 9-10'!C35+'ผลผลิตที่ และโครง 9-10'!F35+'ผลผลิตที่ และโครง 9-10'!I35+'ผลผลิตที่ และโครง 9-10'!L35) -> 4089 | D41: =SUM(C41*100/B41) -> 187.22527
A42: สำนักงานพัฒนาฝีมือแรงงานจังหวัดมหาสารคาม | B42: =SUM('โครง 1-6'!B37+'โครง 1-6'!H37+'โครง 1-6'!K37+'โครง 8'!B42+'โครง 8'!E42+'ผลผลิตที่ และโครง 9-10'!B36+'ผลผลิตที่ และโครง 9-10'!E36+'ผลผลิตที่ และโครง 9-10'!H36+'ผลผลิตที่ และโครง 9-10'!K36) -> 3050 | C42: =SUM('โครง 1-6'!C37+'โครง 1-6'!I37+'โครง 1-6'!L37+'โครง 1-6'!R37+'โครง 8'!C42+'โครง 8'!F42+'ผลผลิตที่ และโครง 9-10'!C36+'ผลผลิตที่ และโครง 9-10'!F36+'ผลผลิตที่ และโครง 9-10'!I36+'ผลผลิตที่ และโครง 9-10'!L36) -> 4802 | D42: =SUM(C42*100/B42) -> 157.44262
A43: สพร. 7 อุบลราชธานี | B43: =SUM('โครง 1-6'!B38+'โครง 1-6'!K38+'โครง 8'!B43+'โครง 8'!E43+'ผลผลิตที่ และโครง 9-10'!B37+'ผลผลิตที่ และโครง 9-10'!E37+'ผลผลิตที่ และโครง 9-10'!H37+'ผลผลิตที่ และโครง 9-10'!K37) -> 20925 | C43: =SUM('โครง 1-6'!C38+'โครง 1-6'!L38+'โครง 1-6'!R38+'โครง 8'!C43+'โครง 8'!F43+'ผลผลิตที่ และโครง 9-10'!C37+'ผลผลิตที่ และโครง 9-10'!F37+'ผลผลิตที่ และโครง 9-10'!I37+'ผลผลิตที่ และโครง 9-10'!L37) -> 36490 | D43: =SUM(C43*100/B43) -> 174.38471
A44: สถาบันพัฒนาฝีมือแรงงาน 7 อุบลราชธานี | B44: =SUM('โครง 1-6'!B39+'โครง 1-6'!K39+'โครง 8'!B44+'โครง 8'!E44+'ผลผลิตที่ และโครง 9-10'!B38+'ผลผลิตที่ และโครง 9-10'!E38+'ผลผลิตที่ และโครง 9-10'!H38+'ผลผลิตที่ และโครง 9-10'!K38) -> 10835 | C44: =SUM('โครง 1-6'!C39+'โครง 1-6'!L39+'โครง 1-6'!R39+'โครง 8'!C44+'โครง 8'!F44+'ผลผลิตที่ และโครง 9-10'!C38+'ผลผลิตที่ และโครง 9-10'!F38+'ผลผลิตที่ และโครง 9-10'!I38+'ผลผลิตที่ และโครง 9-10'!L38) -> 20585 | D44: =SUM(C44*100/B44) -> 189.98616
A45: สำนักงานพัฒนาฝีมือแรงงานจังหวัดศรีสะเกษ | B45: =SUM('โครง 1-6'!B40+'โครง 1-6'!K40+'โครง 8'!B45+'โครง 8'!E45+'ผลผลิตที่ และโครง 9-10'!B39+'ผลผลิตที่ และโครง 9-10'!E39+'ผลผลิตที่ และโครง 9-10'!H39+'ผลผลิตที่ และโครง 9-10'!K39) -> 2050 | C45: =SUM('โครง 1-6'!C40+'โครง 1-6'!L40+'โครง 1-6'!R40+'โครง 8'!C45+'โครง 8'!F45+'ผลผลิตที่ และโครง 9-10'!C39+'ผลผลิตที่ และโครง 9-10'!F39+'ผลผลิตที่ และโครง 9-10'!I39+'ผลผลิตที่ และโครง 9-10'!L39) -> 3533 | D45: =SUM(C45*100/B45) -> 172.34146
A46: สำนักงานพัฒนาฝีมือแรงงานจังหวัดอำนาจเจริญ | B46: =SUM('โครง 1-6'!B41+'โครง 1-6'!K41+'โครง 8'!B46+'โครง 8'!E46+'ผลผลิตที่ และโครง 9-10'!B40+'ผลผลิตที่ และโครง 9-10'!E40+'ผลผลิตที่ และโครง 9-10'!H40+'ผลผลิตที่ และโครง 9-10'!K40) -> 1360 | C46: =SUM('โครง 1-6'!C41+'โครง 1-6'!L41+'โครง 1-6'!R41+'โครง 8'!C46+'โครง 8'!F46+'ผลผลิตที่ และโครง 9-10'!C40+'ผลผลิตที่ และโครง 9-10'!F40+'ผลผลิตที่ และโครง 9-10'!I40+'ผลผลิตที่ และโครง 9-10'!L40) -> 1884 | D46: =SUM(C46*100/B46) -> 138.52941
A47: สำนักงานพัฒนาฝีมือแรงงานจังหวัดร้อยเอ็ด | B47: =SUM('โครง 1-6'!B42+'โครง 1-6'!K42+'โครง 8'!B47+'โครง 8'!E47+'ผลผลิตที่ และโครง 9-10'!B41+'ผลผลิตที่ และโครง 9-10'!E41+'ผลผลิตที่ และโครง 9-10'!H41+'ผลผลิตที่ และโครง 9-10'!K41) -> 4110 | C47: =SUM('โครง 1-6'!C42+'โครง 1-6'!L42+'โครง 1-6'!R42+'โครง 8'!C47+'โครง 8'!F47+'ผลผลิตที่ และโครง 9-10'!C41+'ผลผลิตที่ และโครง 9-10'!F41+'ผลผลิตที่ และโครง 9-10'!I41+'ผลผลิตที่ และโครง 9-10'!L41) -> 6761 | D47: =SUM(C47*100/B47) -> 164.50122
A48: สำนักงานพัฒนาฝีมือแรงงานจังหวัดยโสธร | B48: =SUM('โครง 1-6'!B43+'โครง 1-6'!K43+'โครง 8'!B48+'โครง 8'!E48+'ผลผลิตที่ และโครง 9-10'!B42+'ผลผลิตที่ และโครง 9-10'!E42+'ผลผลิตที่ และโครง 9-10'!H42+'ผลผลิตที่ และโครง 9-10'!K42) -> 2570 | C48: =SUM('โครง 1-6'!C43+'โครง 1-6'!L43+'โครง 1-6'!R43+'โครง 8'!C48+'โครง 8'!F48+'ผลผลิตที่ และโครง 9-10'!C42+'ผลผลิตที่ และโครง 9-10'!F42+'ผลผลิตที่ และโครง 9-10'!I42+'ผลผลิตที่ และโครง 9-10'!L42) -> 3727 | D48: =SUM(C48*100/B48) -> 145.01946
A49: สพร. 8 นครสวรรค์ | B49: =SUM('โครง 1-6'!B49+'โครง 1-6'!K49+'โครง 8'!B49+'โครง 8'!E49+'ผลผลิตที่ และโครง 9-10'!B43+'ผลผลิตที่ และโครง 9-10'!E43+'ผลผลิตที่ และโครง 9-10'!H43+'ผลผลิตที่ และโครง 9-10'!K43) -> 23163 | C49: =SUM('โครง 1-6'!C44+'โครง 1-6'!I44+'โครง 1-6'!L44+'โครง 1-6'!R44+'โครง 8'!C49+'โครง 8'!F49+'ผลผลิตที่ และโครง 9-10'!C43+'ผลผลิตที่ และโครง 9-10'!F43+'ผลผลิตที่ และโครง 9-10'!I43+'ผลผลิตที่ และโครง 9-10'!L43) -> 41132 | D49: =SUM(C49*100/B49) -> 177.57631
A50: สถาบันพัฒนาฝีมือแรงงาน 8 นครสวรรค์ | B50: =SUM('โครง 1-6'!B50+'โครง 1-6'!K50+'โครง 8'!B50+'โครง 8'!E50+'ผลผลิตที่ และโครง 9-10'!B44+'ผลผลิตที่ และโครง 9-10'!E44+'ผลผลิตที่ และโครง 9-10'!H44+'ผลผลิตที่ และโครง 9-10'!K44) -> 10433 | C50: =SUM('โครง 1-6'!C45+'โครง 1-6'!I45+'โครง 1-6'!L45+'โครง 1-6'!R45+'โครง 8'!C50+'โครง 8'!F50+'ผลผลิตที่ และโครง 9-10'!C44+'ผลผลิตที่ และโครง 9-10'!F44+'ผลผลิตที่ และโครง 9-10'!I44+'ผลผลิตที่ และโครง 9-10'!L44) -> 18540 | D50: =SUM(C50*100/B50) -> 177.70536
A51: สำนักงานพัฒนาฝีมือแรงงานจังหวัดพิจิตร | B51: =SUM('โครง 1-6'!B51+'โครง 1-6'!K51+'โครง 8'!B51+'โครง 8'!E51+'ผลผลิตที่ และโครง 9-10'!B45+'ผลผลิตที่ และโครง 9-10'!E45+'ผลผลิตที่ และโครง 9-10'!H45+'ผลผลิตที่ และโครง 9-10'!K45) -> 3550 | C51: =SUM('โครง 1-6'!C46+'โครง 1-6'!I46+'โครง 1-6'!L46+'โครง 1-6'!R46+'โครง 8'!C51+'โครง 8'!F51+'ผลผลิตที่ และโครง 9-10'!C45+'ผลผลิตที่ และโครง 9-10'!F45+'ผลผลิตที่ และโครง 9-10'!I45+'ผลผลิตที่ และโครง 9-10'!L45) -> 6325 | D51: =SUM(C51*100/B51) -> 178.16901
A52: สำนักงานพัฒนาฝีมือแรงงานจังหวัดกำแพงเพชร | B52: =SUM('โครง 1-6'!B52+'โครง 1-6'!K52+'โครง 8'!B52+'โครง 8'!E52+'ผลผลิตที่ และโครง 9-10'!B46+'ผลผลิตที่ และโครง 9-10'!E46+'ผลผลิตที่ และโครง 9-10'!H46+'ผลผลิตที่ และโครง 9-10'!K46) -> 3868 | C52: =SUM('โครง 1-6'!C47+'โครง 1-6'!I47+'โครง 1-6'!L47+'โครง 1-6'!R47+'โครง 8'!C52+'โครง 8'!F52+'ผลผลิตที่ และโครง 9-10'!C46+'ผลผลิตที่ และโครง 9-10'!F46+'ผลผลิตที่ และโครง 9-10'!I46+'ผลผลิตที่ และโครง 9-10'!L46) -> 4992 | D52: =SUM(C52*100/B52) -> 129.05895
A53: สำนักงานพัฒนาฝีมือแรงงานจังหวัดตาก | B53: =SUM('โครง 1-6'!B53+'โครง 1-6'!K53+'โครง 8'!B53+'โครง 8'!E53+'ผลผลิตที่ และโครง 9-10'!B47+'ผลผลิตที่ และโครง 9-10'!E47+'ผลผลิตที่ และโครง 9-10'!H47+'ผลผลิตที่ และโครง 9-10'!K47) -> 5092 | C53: =SUM('โครง 1-6'!C48+'โครง 1-6'!I48+'โครง 1-6'!L48+'โครง 1-6'!R48+'โครง 8'!C53+'โครง 8'!F53+'ผลผลิตที่ และโครง 9-10'!C47+'ผลผลิตที่ และโครง 9-10'!F47+'ผลผลิตที่ และโครง 9-10'!I47+'ผลผลิตที่ และโครง 9-10'!L47) -> 11275 | D53: =SUM(C53*100/B53) -> 221.42577
A54: สพร. 9 พิษณุโลก | B54: =SUM('โครง 1-6'!B49+'โครง 1-6'!K49+'โครง 8'!B54+'โครง 8'!E54+'ผลผลิตที่ และโครง 9-10'!B48+'ผลผลิตที่ และโครง 9-10'!E48+'ผลผลิตที่ และโครง 9-10'!H48+'ผลผลิตที่ และโครง 9-10'!K48) -> 19368 | C54: =SUM('โครง 1-6'!C49+'โครง 1-6'!L49+'โครง 1-6'!R49+'โครง 8'!C54+'โครง 8'!F54+'ผลผลิตที่ และโครง 9-10'!C48+'ผลผลิตที่ และโครง 9-10'!F48+'ผลผลิตที่ และโครง 9-10'!I48+'ผลผลิตที่ และโครง 9-10'!L48) -> 38393 | D54: =SUM(C54*100/B54) -> 198.22904
A55: สถาบันพัฒนาฝีมือแรงงาน 9 พิษณุโลก | B55: =SUM('โครง 1-6'!B50+'โครง 1-6'!K50+'โครง 8'!B55+'โครง 8'!E55+'ผลผลิตที่ และโครง 9-10'!B49+'ผลผลิตที่ และโครง 9-10'!E49+'ผลผลิตที่ และโครง 9-10'!H49+'ผลผลิตที่ และโครง 9-10'!K49) -> 8560 | C55: =SUM('โครง 1-6'!C50+'โครง 1-6'!L50+'โครง 1-6'!R50+'โครง 8'!C55+'โครง 8'!F55+'ผลผลิตที่ และโครง 9-10'!C49+'ผลผลิตที่ และโครง 9-10'!F49+'ผลผลิตที่ และโครง 9-10'!I49+'ผลผลิตที่ และโครง 9-10'!L49) -> 16306 | D55: =SUM(C55*100/B55) -> 190.49065
A56: สำนักงานพัฒนาฝีมือแรงงานจังหวัดเลย | B56: =SUM('โครง 1-6'!B51+'โครง 1-6'!K51+'โครง 8'!B56+'โครง 8'!E56+'ผลผลิตที่ และโครง 9-10'!B50+'ผลผลิตที่ และโครง 9-10'!E50+'ผลผลิตที่ และโครง 9-10'!H50+'ผลผลิตที่ และโครง 9-10'!K50) -> 2608 | C56: =SUM('โครง 1-6'!C51+'โครง 1-6'!L51+'โครง 1-6'!R51+'โครง 8'!C56+'โครง 8'!F56+'ผลผลิตที่ และโครง 9-10'!C50+'ผลผลิตที่ และโครง 9-10'!F50+'ผลผลิตที่ และโครง 9-10'!I50+'ผลผลิตที่ และโครง 9-10'!L50) -> 3625 | D56: =SUM(C56*100/B56) -> 138.9954
A57: สำนักงานพัฒนาฝีมือแรงงานจังหวัดเพชรบูรณ์ | B57: =SUM('โครง 1-6'!B52+'โครง 1-6'!K52+'โครง 8'!B57+'โครง 8'!E57+'ผลผลิตที่ และโครง 9-10'!B51+'ผลผลิตที่ และโครง 9-10'!E51+'ผลผลิตที่ และโครง 9-10'!H51+'ผลผลิตที่ และโครง 9-10'!K51) -> 4030 | C57: =SUM('โครง 1-6'!C52+'โครง 1-6'!L52+'โครง 1-6'!R52+'โครง 8'!C57+'โครง 8'!F57+'ผลผลิตที่ และโครง 9-10'!C51+'ผลผลิตที่ และโครง 9-10'!F51+'ผลผลิตที่ และโครง 9-10'!I51+'ผลผลิตที่ และโครง 9-10'!L51) -> 10985 | D57: =SUM(C57*100/B57) -> 272.58065
A58: สำนักงานพัฒนาฝีมือแรงงานจังหวัดอุตรดิตถ์ | B58: =SUM('โครง 1-6'!B53+'โครง 1-6'!K53+'โครง 8'!B58+'โครง 8'!E58+'ผลผลิตที่ และโครง 9-10'!B52+'ผลผลิตที่ และโครง 9-10'!E52+'ผลผลิตที่ และโครง 9-10'!H52+'ผลผลิตที่ และโครง 9-10'!K52) -> 2620 | C58: =SUM('โครง 1-6'!C53+'โครง 1-6'!L53+'โครง 1-6'!R53+'โครง 8'!C58+'โครง 8'!F58+'ผลผลิตที่ และโครง 9-10'!C52+'ผลผลิตที่ และโครง 9-10'!F52+'ผลผลิตที่ และโครง 9-10'!I52+'ผลผลิตที่ และโครง 9-10'!L52) -> 4969 | D58: =SUM(C58*100/B58) -> 189.65649
A59: สำนักงานพัฒนาฝีมือแรงงานจังหวัดสุโขทัย | B59: =SUM('โครง 1-6'!B54+'โครง 1-6'!K54+'โครง 8'!B59+'โครง 8'!E59+'ผลผลิตที่ และโครง 9-10'!B53+'ผลผลิตที่ และโครง 9-10'!E53+'ผลผลิตที่ และโครง 9-10'!H53+'ผลผลิตที่ และโครง 9-10'!K53) -> 1550 | C59: =SUM('โครง 1-6'!C54+'โครง 1-6'!L54+'โครง 1-6'!R54+'โครง 8'!C59+'โครง 8'!F59+'ผลผลิตที่ และโครง 9-10'!C53+'ผลผลิตที่ และโครง 9-10'!F53+'ผลผลิตที่ และโครง 9-10'!I53+'ผลผลิตที่ และโครง 9-10'!L53) -> 2508 | D59: =SUM(C59*100/B59) -> 161.80645
A60: สพร. 10 ลำปาง | B60: =SUM('โครง 1-6'!B55+'โครง 1-6'!K55+'โครง 8'!B60+'โครง 8'!E60+'ผลผลิตที่ และโครง 9-10'!B54+'ผลผลิตที่ และโครง 9-10'!E54+'ผลผลิตที่ และโครง 9-10'!H54+'ผลผลิตที่ และโครง 9-10'!K54) -> 40352 | C60: =SUM('โครง 1-6'!C55+'โครง 1-6'!L55+'โครง 1-6'!R55+'โครง 8'!C60+'โครง 8'!F60+'ผลผลิตที่ และโครง 9-10'!C54+'ผลผลิตที่ และโครง 9-10'!F54+'ผลผลิตที่ และโครง 9-10'!I54+'ผลผลิตที่ และโครง 9-10'!L54) -> 70300 | D60: =SUM(C60*100/B60) -> 174.21689
A61: สถาบันพัฒนาฝีมือแรงงาน 10 ลำปาง | B61: =SUM('โครง 1-6'!B56+'โครง 1-6'!K56+'โครง 8'!B61+'โครง 8'!E61+'ผลผลิตที่ และโครง 9-10'!B55+'ผลผลิตที่ และโครง 9-10'!E55+'ผลผลิตที่ และโครง 9-10'!H55+'ผลผลิตที่ และโครง 9-10'!K55) -> 12862 | C61: =SUM('โครง 1-6'!C56+'โครง 1-6'!L56+'โครง 1-6'!R56+'โครง 8'!C61+'โครง 8'!F61+'ผลผลิตที่ และโครง 9-10'!C55+'ผลผลิตที่ และโครง 9-10'!F55+'ผลผลิตที่ และโครง 9-10'!I55+'ผลผลิตที่ และโครง 9-10'!L55) -> 17584 | D61: =SUM(C61*100/B61) -> 136.7128
A62: สำนักงานพัฒนาฝีมือแรงงานจังหวัดลำพูน | B62: =SUM('โครง 1-6'!B57+'โครง 1-6'!K57+'โครง 8'!B62+'โครง 8'!E62+'ผลผลิตที่ และโครง 9-10'!B56+'ผลผลิตที่ และโครง 9-10'!E56+'ผลผลิตที่ และโครง 9-10'!H56+'ผลผลิตที่ และโครง 9-10'!K56) -> 25570 | C62: =SUM('โครง 1-6'!C57+'โครง 1-6'!L57+'โครง 1-6'!R57+'โครง 8'!C62+'โครง 8'!F62+'ผลผลิตที่ และโครง 9-10'!C56+'ผลผลิตที่ และโครง 9-10'!F56+'ผลผลิตที่ และโครง 9-10'!I56+'ผลผลิตที่ และโครง 9-10'!L56) -> 49166 | D62: =SUM(C62*100/B62) -> 192.28002
A63: สำนักงานพัฒนาฝีมือแรงงานจังหวัดแพร่ | B63: =SUM('โครง 1-6'!B58+'โครง 1-6'!K58+'โครง 8'!B63+'โครง 8'!E63+'ผลผลิตที่ และโครง 9-10'!B57+'ผลผลิตที่ และโครง 9-10'!E57+'ผลผลิตที่ และโครง 9-10'!H57+'ผลผลิตที่ และโครง 9-10'!K57) -> 1920 | C63: =SUM('โครง 1-6'!C58+'โครง 1-6'!L58+'โครง 1-6'!R58+'โครง 8'!C63+'โครง 8'!F63+'ผลผลิตที่ และโครง 9-10'!C57+'ผลผลิตที่ และโครง 9-10'!F57+'ผลผลิตที่ และโครง 9-10'!I57+'ผลผลิตที่ และโครง 9-10'!L57) -> 3550 | D63: =SUM(C63*100/B63) -> 184.89583
A64: สพร. 11 สุราษฎร์ธานี | B64: =SUM('โครง 1-6'!B59+'โครง 1-6'!K59+'โครง 8'!B64+'โครง 8'!E64+'ผลผลิตที่ และโครง 9-10'!B58+'ผลผลิตที่ และโครง 9-10'!E58+'ผลผลิตที่ และโครง 9-10'!H58+'ผลผลิตที่ และโครง 9-10'!K58) -> 21498 | C64: =SUM('โครง 1-6'!C59+'โครง 1-6'!L59+'โครง 1-6'!R59+'โครง 8'!C64+'โครง 8'!F64+'ผลผลิตที่ และโครง 9-10'!C58+'ผลผลิตที่ และโครง 9-10'!F58+'ผลผลิตที่ และโครง 9-10'!I58+'ผลผลิตที่ และโครง 9-10'!L58) -> 49549 | D64: =SUM(C64*100/B64) -> 230.48191
A65: สถาบันพัฒนาฝีมือแรงงาน 11 สุราษฎร์ธานี | B65: =SUM('โครง 1-6'!B60+'โครง 1-6'!K60+'โครง 8'!B65+'โครง 8'!E65+'ผลผลิตที่ และโครง 9-10'!B59+'ผลผลิตที่ และโครง 9-10'!E59+'ผลผลิตที่ และโครง 9-10'!H59+'ผลผลิตที่ และโครง 9-10'!K59) -> 16240 | C65: =SUM('โครง 1-6'!C60+'โครง 1-6'!L60+'โครง 1-6'!R60+'โครง 8'!C65+'โครง 8'!F65+'ผลผลิตที่ และโครง 9-10'!C59+'ผลผลิตที่ และโครง 9-10'!F59+'ผลผลิตที่ และโครง 9-10'!I59+'ผลผลิตที่ และโครง 9-10'!L59) -> 34096 | D65: =SUM(C65*100/B65) -> 209.95074
... A67: สำนักงานพัฒนาฝีมือแรงงานจังหวัดระนอง | B67: =SUM('โครง 1-6'!B62+'โครง 1-6'!K62+'โครง 8'!B67+'โครง 8'!E67+'ผลผลิตที่ และโครง 9-10'!B61+'ผลผลิตที่ และโครง 9-10'!E61+'ผลผลิตที่ และโครง 9-10'!H61+'ผลผลิตที่ และโครง 9-10'!K61) -> 1264 | C67: =SUM('โครง 1-6'!C62+'โครง 1-6'!L62+'โครง 1-6'!R62+'โครง 8'!C67+'โครง 8'!F67+'ผลผลิตที่ และโครง 9-10'!C61+'ผลผลิตที่ และโครง 9-10'!F61+'ผลผลิตที่ และโครง 9-10'!I61+'ผลผลิตที่ และโครง 9-10'!L61) -> 2745 | D67: =SUM(C67*100/B67) -> 217.16772
A68: สพร. 12 สงขลา | B68: =SUM('โครง 1-6'!B63+'โครง 1-6'!E63+'โครง 1-6'!H63+'โครง 1-6'!K63+'โครง 8'!B68+'โครง 8'!E68+'ผลผลิตที่ และโครง 9-10'!B62+'ผลผลิตที่ และโครง 9-10'!E62+'ผลผลิตที่ และโครง 9-10'!H62+'ผลผลิตที่ และโครง 9-10'!K62) -> 57251 | C68: =SUM('โครง 1-6'!F63+'โครง 1-6'!I63+'โครง 1-6'!L63+'โครง 1-6'!R63+'โครง 8'!C68+'โครง 8'!F68+'ผลผลิตที่ และโครง 9-10'!C62+'ผลผลิตที่ และโครง 9-10'!F62+'ผลผลิตที่ และโครง 9-10'!I62+'ผลผลิตที่ และโครง 9-10'!L62) -> 86056 | D68: =SUM(C68*100/B68) -> 150.31353
A69: สถาบันพัฒนาฝีมือแรงงาน 12 สงขลา | B69: =SUM('โครง 1-6'!B64+'โครง 1-6'!E64+'โครง 1-6'!H64+'โครง 1-6'!K64+'โครง 8'!B69+'โครง 8'!E69+'ผลผลิตที่ และโครง 9-10'!B63+'ผลผลิตที่ และโครง 9-10'!E63+'ผลผลิตที่ และโครง 9-10'!H63+'ผลผลิตที่ และโครง 9-10'!K63) -> 55169 | C69: =SUM('โครง 1-6'!F64+'โครง 1-6'!I64+'โครง 1-6'!L64+'โครง 1-6'!R64+'โครง 8'!C69+'โครง 8'!F69+'ผลผลิตที่ และโครง 9-10'!C63+'ผลผลิตที่ และโครง 9-10'!F63+'ผลผลิตที่ และโครง 9-10'!I63+'ผลผลิตที่ และโครง 9-10'!L63) -> 82011 | D69: =SUM(C69*100/B69) -> 148.65414
A70: สำนักงานพัฒนาฝีมือแรงงานจังหวัดสตูล | B70: =SUM('โครง 1-6'!B65+'โครง 1-6'!E65+'โครง 1-6'!H65+'โครง 1-6'!K65+'โครง 8'!B70+'โครง 8'!E70+'ผลผลิตที่ และโครง 9-10'!B64+'ผลผลิตที่ และโครง 9-10'!E64+'ผลผลิตที่ และโครง 9-10'!H64+'ผลผลิตที่ และโครง 9-10'!K64) -> 2082 | C70: =SUM('โครง 1-6'!F65+'โครง 1-6'!I65+'โครง 1-6'!L65+'โครง 1-6'!R65+'โครง 8'!C70+'โครง 8'!F70+'ผลผลิตที่ และโครง 9-10'!C64+'ผลผลิตที่ และโครง 9-10'!F64+'ผลผลิตที่ และโครง 9-10'!I64+'ผลผลิตที่ และโครง 9-10'!L64) -> 4045 | D70: =SUM(C70*100/B70) -> 194.28434
A71: สพร. 13 กรุงเทพมหานคร | B71: =SUM(B72) -> 1669000 | C71: =SUM('โครง 1-6'!C66+'โครง 1-6'!L66+'โครง 1-6'!R66+'โครง 8'!C71+'โครง 8'!F71+'ผลผลิตที่ และโครง 9-10'!C65+'ผลผลิตที่ และโครง 9-10'!F65+'ผลผลิตที่ และโครง 9-10'!I65+'ผลผลิตที่ และโครง 9-10'!L65) -> 1418456 | D71: =SUM(C71*100/B71) -> 84.988376
A72: สถาบันพัฒนาฝีมือแรงงาน 13 กรุงเทพมหานคร | B72: 1669000 | C72: =SUM('โครง 1-6'!C67+'โครง 1-6'!L67+'โครง 1-6'!R67+'โครง 8'!C72+'โครง 8'!F72+'ผลผลิตที่ และโครง 9-10'!C66+'ผลผลิตที่ และโครง 9-10'!F66+'ผลผลิตที่ และโครง 9-10'!I66+'ผลผลิตที่ และโครง 9-10'!L66) -> 1418456 | D72: =SUM(C72*100/B72) -> 84.988376
A73: สพร. 14 ปทุมธานี | B73: =SUM('โครง 1-6'!B68+'โครง 1-6'!K68+'โครง 8'!B73+'โครง 8'!E73+'ผลผลิตที่ และโครง 9-10'!B67+'ผลผลิตที่ และโครง 9-10'!E67+'ผลผลิตที่ และโครง 9-10'!H67+'ผลผลิตที่ และโครง 9-10'!K67) -> 257851 | C73: =SUM('โครง 1-6'!C68+'โครง 1-6'!L68+'โครง 1-6'!R68+'โครง 8'!C73+'โครง 8'!F73+'ผลผลิตที่ และโครง 9-10'!C67+'ผลผลิตที่ และโครง 9-10'!F67+'ผลผลิตที่ และโครง 9-10'!I67+'ผลผลิตที่ และโครง 9-10'!L67) -> 304443 | D73: =SUM(C73*100/B73) -> 118.06935
A74: สถาบันพัฒนาฝีมือแรงงาน 14 ปทุมธานี | B74: =SUM('โครง 1-6'!B69+'โครง 1-6'!K69+'โครง 8'!B74+'โครง 8'!E74+'ผลผลิตที่ และโครง 9-10'!B68+'ผลผลิตที่ และโครง 9-10'!E68+'ผลผลิตที่ และโครง 9-10'!H68+'ผลผลิตที่ และโครง 9-10'!K68) -> 151960 | C74: =SUM('โครง 1-6'!C69+'โครง 1-6'!L69+'โครง 1-6'!R69+'โครง 8'!C74+'โครง 8'!F74+'ผลผลิตที่ และโครง 9-10'!C68+'ผลผลิตที่ และโครง 9-10'!F68+'ผลผลิตที่ และโครง 9-10'!I68+'ผลผลิตที่ และโครง 9-10'!L68) -> 182279 | D74: =SUM(C74*100/B74) -> 119.95196
A75: สำนักงานพัฒนาฝีมือแรงงานจังหวัดนนทบุรี | B75: =SUM('โครง 1-6'!B70+'โครง 1-6'!K70+'โครง 8'!B75+'โครง 8'!E75+'ผลผลิตที่ และโครง 9-10'!B69+'ผลผลิตที่ และโครง 9-10'!E69+'ผลผลิตที่ และโครง 9-10'!H69+'ผลผลิตที่ และโครง 9-10'!K69) -> 102580 | C75: =SUM('โครง 1-6'!C70+'โครง 1-6'!L70+'โครง 1-6'!R70+'โครง 8'!C75+'โครง 8'!F75+'ผลผลิตที่ และโครง 9-10'!C69+'ผลผลิตที่ และโครง 9-10'!F69+'ผลผลิตที่ และโครง 9-10'!I69+'ผลผลิตที่ และโครง 9-10'!L69) -> 116180 | D75: =SUM(C75*100/B75) -> 113.25795
A76: สำนักงานพัฒนาฝีมือแรงงานจังหวัดนครนายก | B76: =SUM('โครง 1-6'!B71+'โครง 1-6'!K71+'โครง 8'!B76+'โครง 8'!E76+'ผลผลิตที่ และโครง 9-10'!B70+'ผลผลิตที่ และโครง 9-10'!E70+'ผลผลิตที่ และโครง 9-10'!H70+'ผลผลิตที่ และโครง 9-10'!K70) -> 3311 | C76: =SUM('โครง 1-6'!C71+'โครง 1-6'!L71+'โครง 1-6'!R71+'โครง 8'!C76+'โครง 8'!F76+'ผลผลิตที่ และโครง 9-10'!C70+'ผลผลิตที่ และโครง 9-10'!F70+'ผลผลิตที่ และโครง 9-10'!I70+'ผลผลิตที่ และโครง 9-10'!L70) -> 5984 | D76: =SUM(C76*100/B76) -> 180.7309
A77: สพร. 15 พระนครศรีอยุธยา | B77: =SUM('โครง 1-6'!B72+'โครง 1-6'!K72+'โครง 8'!B77+'โครง 8'!E77+'ผลผลิตที่ และโครง 9-10'!B71+'ผลผลิตที่ และโครง 9-10'!E71+'ผลผลิตที่ และโครง 9-10'!H71+'ผลผลิตที่ และโครง 9-10'!K71) -> 180934 | C77: =SUM('โครง 1-6'!C72+'โครง 1-6'!L72+'โครง 1-6'!R72+'โครง 8'!C77+'โครง 8'!F77+'ผลผลิตที่ และโครง 9-10'!C71+'ผลผลิตที่ และโครง 9-10'!F71+'ผลผลิตที่ และโครง 9-10'!I71+'ผลผลิตที่ และโครง 9-10'!L71) -> 249867 | D77: =SUM(C77*100/B77) -> 138.09842
A78: สถาบันพัฒนาฝีมือแรงงาน 15 พระนครศรีอยุธยา | B78: =SUM('โครง 1-6'!B73+'โครง 1-6'!K73+'โครง 8'!B78+'โครง 8'!E78+'ผลผลิตที่ และโครง 9-10'!B72+'ผลผลิตที่ และโครง 9-10'!E72+'ผลผลิตที่ และโครง 9-10'!H72+'ผลผลิตที่ และโครง 9-10'!K72) -> 122420 | C78: =SUM('โครง 1-6'!C73+'โครง 1-6'!L73+'โครง 1-6'!R73+'โครง 8'!C78+'โครง 8'!F78+'ผลผลิตที่ และโครง 9-10'!C72+'ผลผลิตที่ และโครง 9-10'!F72+'ผลผลิตที่ และโครง 9-10'!I72+'ผลผลิตที่ และโครง 9-10'!L72) -> 173266 | D78: =SUM(C78*100/B78) -> 141.53406
A79: สำนักงานพัฒนาฝีมือแรงงานจังหวัดอ่างทอง | B79: =SUM('โครง 1-6'!B74+'โครง 1-6'!K74+'โครง 8'!B79+'โครง 8'!E79+'ผลผลิตที่ และโครง 9-10'!B73+'ผลผลิตที่ และโครง 9-10'!E73+'ผลผลิตที่ และโครง 9-10'!H73+'ผลผลิตที่ และโครง 9-10'!K73) -> 2598 | C79: =SUM('โครง 1-6'!C74+'โครง 1-6'!L74+'โครง 1-6'!R74+'โครง 8'!C79+'โครง 8'!F79+'ผลผลิตที่ และโครง 9-10'!C73+'ผลผลิตที่ และโครง 9-10'!F73+'ผลผลิตที่ และโครง 9-10'!I73+'ผลผลิตที่ และโครง 9-10'!L73) -> 3740 | D79: =SUM(C79*100/B79) -> 143.95689
A80: สำนักงานพัฒนาฝีมือแรงงานจังหวัดสระบุรี | B80: =SUM('โครง 1-6'!B75+'โครง 1-6'!K75+'โครง 8'!B80+'โครง 8'!E80+'ผลผลิตที่ และโครง 9-10'!B74+'ผลผลิตที่ และโครง 9-10'!E74+'ผลผลิตที่ และโครง 9-10'!H74+'ผลผลิตที่ และโครง 9-10'!K74) -> 42498 | C80: =SUM('โครง 1-6'!C75+'โครง 1-6'!L75+'โครง 1-6'!R75+'โครง 8'!C80+'โครง 8'!F80+'ผลผลิตที่ และโครง 9-10'!C74+'ผลผลิตที่ และโครง 9-10'!F74+'ผลผลิตที่ และโครง 9-10'!I74+'ผลผลิตที่ และโครง 9-10'!L74) -> 51161 | D80: =SUM(C80*100/B80) -> 120.38449
A81: สำนักงานพัฒนาฝีมือแรงงานจังหวัดลพบุรี | B81: =SUM('โครง 1-6'!B76+'โครง 1-6'!K76+'โครง 8'!B81+'โครง 8'!E81+'ผลผลิตที่ และโครง 9-10'!B75+'ผลผลิตที่ และโครง 9-10'!E75+'ผลผลิตที่ และโครง 9-10'!H75+'ผลผลิตที่ และโครง 9-10'!K75) -> 13418 | C81: =SUM('โครง 1-6'!C76+'โครง 1-6'!L76+'โครง 1-6'!R76+'โครง 8'!C81+'โครง 8'!F81+'ผลผลิตที่ และโครง 9-10'!C75+'ผลผลิตที่ และโครง 9-10'!F75+'ผลผลิตที่ และโครง 9-10'!I75+'ผลผลิตที่ และโครง 9-10'!L75) -> 21700 | D81: =SUM(C81*100/B81) -> 161.72306
A82: สพร. 16 นครปฐม | B82: =SUM('โครง 1-6'!B77+'โครง 1-6'!K77+'โครง 8'!B82+'โครง 8'!E82+'ผลผลิตที่ และโครง 9-10'!B76+'ผลผลิตที่ และโครง 9-10'!E76+'ผลผลิตที่ และโครง 9-10'!H76+'ผลผลิตที่ และโครง 9-10'!K76) -> 161660 | C82: =SUM('โครง 1-6'!L77+'โครง 1-6'!R77+'โครง 8'!C82+'โครง 8'!F82+'ผลผลิตที่ และโครง 9-10'!C76+'ผลผลิตที่ และโครง 9-10'!F76+'ผลผลิตที่ และโครง 9-10'!I76+'ผลผลิตที่ และโครง 9-10'!L76) -> 273349 | D82: =SUM(C82*100/B82) -> 169.08883
A83: สถาบันพัฒนาฝีมือแรงงาน 16 นครปฐม | B83: =SUM('โครง 1-6'!B78+'โครง 1-6'!K78+'โครง 8'!B83+'โครง 8'!E83+'ผลผลิตที่ และโครง 9-10'!B77+'ผลผลิตที่ และโครง 9-10'!E77+'ผลผลิตที่ และโครง 9-10'!H77+'ผลผลิตที่ และโครง 9-10'!K77) -> 40936 | C83: =SUM('โครง 1-6'!L78+'โครง 1-6'!R78+'โครง 8'!C83+'โครง 8'!F83+'ผลผลิตที่ และโครง 9-10'!C77+'ผลผลิตที่ และโครง 9-10'!F77+'ผลผลิตที่ และโครง 9-10'!I77+'ผลผลิตที่ และโครง 9-10'!L77) -> 73259 | D83: =SUM(C83*100/B83) -> 178.95984
A84: สำนักงานพัฒนาฝีมือแรงงานจังหวัดสมุทรสาคร | B84: =SUM('โครง 1-6'!B79+'โครง 1-6'!K79+'โครง 8'!B84+'โครง 8'!E84+'ผลผลิตที่ และโครง 9-10'!B78+'ผลผลิตที่ และโครง 9-10'!E78+'ผลผลิตที่ และโครง 9-10'!H78+'ผลผลิตที่ และโครง 9-10'!K78) -> 116602 | C84: =SUM('โครง 1-6'!L79+'โครง 1-6'!R79+'โครง 8'!C84+'โครง 8'!F84+'ผลผลิตที่ และโครง 9-10'!C78+'ผลผลิตที่ และโครง 9-10'!F78+'ผลผลิตที่ และโครง 9-10'!I78+'ผลผลิตที่ และโครง 9-10'!L78) -> 193280 | D84: =SUM(C84*100/B84) -> 165.76045
A85: สำนักงานพัฒนาฝีมือแรงงานจังหวัดสมุทรสงคราม | B85: =SUM('โครง 1-6'!B80+'โครง 1-6'!K80+'โครง 8'!B85+'โครง 8'!E85+'ผลผลิตที่ และโครง 9-10'!B79+'ผลผลิตที่ และโครง 9-10'!E79+'ผลผลิตที่ และโครง 9-10'!H79+'ผลผลิตที่ และโครง 9-10'!K79) -> 4122 | C85: =SUM('โครง 1-6'!L80+'โครง 1-6'!R80+'โครง 8'!C85+'โครง 8'!F85+'ผลผลิตที่ และโครง 9-10'!C79+'ผลผลิตที่ และโครง 9-10'!F79+'ผลผลิตที่ และโครง 9-10'!I79+'ผลผลิตที่ และโครง 9-10'!L79) -> 6810 | D85: =SUM(C85*100/B85) -> 165.21106
A86: สพร. 17 ระยอง | B86: =SUM('โครง 1-6'!B81+'โครง 1-6'!H81+'โครง 1-6'!K81+'โครง 8'!B86+'โครง 8'!E86+'ผลผลิตที่ และโครง 9-10'!B80+'ผลผลิตที่ และโครง 9-10'!E80+'ผลผลิตที่ และโครง 9-10'!H80+'ผลผลิตที่ และโครง 9-10'!K80) -> 191820 | C86: =SUM('โครง 1-6'!C81+'โครง 1-6'!I81+'โครง 1-6'!L81+'โครง 1-6'!R81+'โครง 8'!C86+'โครง 8'!F86+'ผลผลิตที่ และโครง 9-10'!C80+'ผลผลิตที่ และโครง 9-10'!F80+'ผลผลิตที่ และโครง 9-10'!I80+'ผลผลิตที่ และโครง 9-10'!L80) -> 248619 | D86: =SUM(C86*100/B86) -> 129.61057
A87: สถาบันพัฒนาฝีมือแรงงาน 17 ระยอง | B87: =SUM('โครง 1-6'!B82+'โครง 1-6'!H82+'โครง 1-6'!K82+'โครง 8'!B87+'โครง 8'!E87+'ผลผลิตที่ และโครง 9-10'!B81+'ผลผลิตที่ และโครง 9-10'!E81+'ผลผลิตที่ และโครง 9-10'!H81+'ผลผลิตที่ และโครง 9-10'!K81) -> 182940 | C87: =SUM('โครง 1-6'!C82+'โครง 1-6'!I82+'โครง 1-6'!L82+'โครง 1-6'!R82+'โครง 8'!C87+'โครง 8'!F87+'ผลผลิตที่ และโครง 9-10'!C81+'ผลผลิตที่ และโครง 9-10'!F81+'ผลผลิตที่ และโครง 9-10'!I81+'ผลผลิตที่ และโครง 9-10'!L81) -> 232155 | D87: =SUM(C87*100/B87) -> 126.90226
A88: สำนักงานพัฒนาฝีมือแรงงานจังหวัดจันทบุรี | B88: =SUM('โครง 1-6'!B83+'โครง 1-6'!H83+'โครง 1-6'!K83+'โครง 8'!B88+'โครง 8'!E88+'ผลผลิตที่ และโครง 9-10'!B82+'ผลผลิตที่ และโครง 9-10'!E82+'ผลผลิตที่ และโครง 9-10'!H82+'ผลผลิตที่ และโครง 9-10'!K82) -> 5510 | C88: =SUM('โครง 1-6'!C83+'โครง 1-6'!I83+'โครง 1-6'!L83+'โครง 1-6'!R83+'โครง 8'!C88+'โครง 8'!F88+'ผลผลิตที่ และโครง 9-10'!C82+'ผลผลิตที่ และโครง 9-10'!F82+'ผลผลิตที่ และโครง 9-10'!I82+'ผลผลิตที่ และโครง 9-10'!L82) -> 11837 | D88: =SUM(C88*100/B88) -> 214.82759
A89: สำนักงานพัฒนาฝีมือแรงงานจังหวัดตราด | B89: =SUM('โครง 1-6'!B84+'โครง 1-6'!H84+'โครง 1-6'!K84+'โครง 8'!B89+'โครง 8'!E89+'ผลผลิตที่ และโครง 9-10'!B83+'ผลผลิตที่ และโครง 9-10'!E83+'ผลผลิตที่ และโครง 9-10'!H83+'ผลผลิตที่ และโครง 9-10'!K83) -> 3370 | C89: =SUM('โครง 1-6'!C84+'โครง 1-6'!I84+'โครง 1-6'!L84+'โครง 1-6'!R84+'โครง 8'!C89+'โครง 8'!F89+'ผลผลิตที่ และโครง 9-10'!C83+'ผลผลิตที่ และโครง 9-10'!F83+'ผลผลิตที่ และโครง 9-10'!I83+'ผลผลิตที่ และโครง 9-10'!L83) -> 4627 | D89: =SUM(C89*100/B89) -> 137.2997
A90: สพร. 18 อุดรธานี | B90: =SUM('โครง 1-6'!B85+'โครง 1-6'!H85+'โครง 1-6'!K85+'โครง 8'!B90+'โครง 8'!E90+'ผลผลิตที่ และโครง 9-10'!B84+'ผลผลิตที่ และโครง 9-10'!E84+'ผลผลิตที่ และโครง 9-10'!H84+'ผลผลิตที่ และโครง 9-10'!K84) -> 16704 | C90: =SUM('โครง 1-6'!C85+'โครง 1-6'!I85+'โครง 1-6'!L85+'โครง 1-6'!R85+'โครง 8'!C90+'โครง 8'!F90+'ผลผลิตที่ และโครง 9-10'!C84+'ผลผลิตที่ และโครง 9-10'!F84+'ผลผลิตที่ และโครง 9-10'!I84+'ผลผลิตที่ และโครง 9-10'!L84) -> 26741 | D90: =SUM(C90*100/B90) -> 160.0874
A91: สถาบันพัฒนาฝีมือแรงงาน 18 อุดรธานี | B91: =SUM('โครง 1-6'!B86+'โครง 1-6'!H86+'โครง 1-6'!K86+'โครง 8'!B91+'โครง 8'!E91+'ผลผลิตที่ และโครง 9-10'!B85+'ผลผลิตที่ และโครง 9-10'!E85+'ผลผลิตที่ และโครง 9-10'!H85+'ผลผลิตที่ และโครง 9-10'!K85) -> 7532 | C91: =SUM('โครง 1-6'!C86+'โครง 1-6'!I86+'โครง 1-6'!L86+'โครง 1-6'!R86+'โครง 8'!C91+'โครง 8'!F91+'ผลผลิตที่ และโครง 9-10'!C85+'ผลผลิตที่ และโครง 9-10'!F85+'ผลผลิตที่ และโครง 9-10'!I85+'ผลผลิตที่ และโครง 9-10'!L85) -> 11364 | D91: =SUM(C91*100/B91) -> 150.87626
A92: สำนักงานพัฒนาฝีมือแรงงานจังหวัดหนองคาย | B92: =SUM('โครง 1-6'!B87+'โครง 1-6'!H87+'โครง 1-6'!K87+'โครง 8'!B92+'โครง 8'!E92+'ผลผลิตที่ และโครง 9-10'!B86+'ผลผลิตที่ และโครง 9-10'!E86+'ผลผลิตที่ และโครง 9-10'!H86+'ผลผลิตที่ และโครง 9-10'!K86) -> 3620 | C92: =SUM('โครง 1-6'!C87+'โครง 1-6'!I87+'โครง 1-6'!L87+'โครง 1-6'!R87+'โครง 8'!C92+'โครง 8'!F92+'ผลผลิตที่ และโครง 9-10'!C86+'ผลผลิตที่ และโครง 9-10'!F86+'ผลผลิตที่ และโครง 9-10'!I86+'ผลผลิตที่ และโครง 9-10'!L86) -> 5565 | D92: =SUM(C92*100/B92) -> 153.72928
A93: สำนักงานพัฒนาฝีมือแรงงานจังหวัดบึงกาฬ | B93: =SUM('โครง 1-6'!B88+'โครง 1-6'!H88+'โครง 1-6'!K88+'โครง 8'!B93+'โครง 8'!E93+'ผลผลิตที่ และโครง 9-10'!B87+'ผลผลิตที่ และโครง 9-10'!E87+'ผลผลิตที่ และโครง 9-10'!H87+'ผลผลิตที่ และโครง 9-10'!K87) -> 910 | C93: =SUM('โครง 1-6'!C88+'โครง 1-6'!I88+'โครง 1-6'!L88+'โครง 1-6'!R88+'โครง 8'!C93+'โครง 8'!F93+'ผลผลิตที่ และโครง 9-10'!C87+'ผลผลิตที่ และโครง 9-10'!F87+'ผลผลิตที่ และโครง 9-10'!I87+'ผลผลิตที่ และโครง 9-10'!L87) -> 2336 | D93: =SUM(C93*100/B93) -> 256.7033
A94: สำนักงานพัฒนาฝีมือแรงงานจังหวัดสกลนคร | B94: =SUM('โครง 1-6'!B89+'โครง 1-6'!H89+'โครง 1-6'!K89+'โครง 8'!B94+'โครง 8'!E94+'ผลผลิตที่ และโครง 9-10'!B88+'ผลผลิตที่ และโครง 9-10'!E88+'ผลผลิตที่ และโครง 9-10'!H88+'ผลผลิตที่ และโครง 9-10'!K88) -> 1822 | C94: =SUM('โครง 1-6'!C89+'โครง 1-6'!I89+'โครง 1-6'!L89+'โครง 1-6'!R89+'โครง 8'!C94+'โครง 8'!F94+'ผลผลิตที่ และโครง 9-10'!C88+'ผลผลิตที่ และโครง 9-10'!F88+'ผลผลิตที่ และโครง 9-10'!I88+'ผลผลิตที่ และโครง 9-10'!L88) -> 3027 | D94: =SUM(C94*100/B94) -> 166.13611
A95: สำนักงานพัฒนาฝีมือแรงงานจังหวัดนครพนม | B95: =SUM('โครง 1-6'!B90+'โครง 1-6'!H90+'โครง 1-6'!K90+'โครง 8'!B95+'โครง 8'!E95+'ผลผลิตที่ และโครง 9-10'!B89+'ผลผลิตที่ และโครง 9-10'!E89+'ผลผลิตที่ และโครง 9-10'!H89+'ผลผลิตที่ และโครง 9-10'!K89) -> 2820 | C95: =SUM('โครง 1-6'!C90+'โครง 1-6'!I90+'โครง 1-6'!L90+'โครง 1-6'!R90+'โครง 8'!C95+'โครง 8'!F95+'ผลผลิตที่ และโครง 9-10'!C89+'ผลผลิตที่ และโครง 9-10'!F89+'ผลผลิตที่ และโครง 9-10'!I89+'ผลผลิตที่ และโครง 9-10'!L89) -> 4449 | D95: =SUM(C95*100/B95) -> 157.76596
A96: สพร. 19 เชียงใหม่ | B96: =SUM('โครง 1-6'!B91+'โครง 1-6'!K91+'โครง 8'!B96+'โครง 8'!E96+'ผลผลิตที่ และโครง 9-10'!B90+'ผลผลิตที่ และโครง 9-10'!E90+'ผลผลิตที่ และโครง 9-10'!H90+'ผลผลิตที่ และโครง 9-10'!K90) -> 29903 | C96: =SUM('โครง 1-6'!C91+'โครง 1-6'!L91+'โครง 1-6'!R91+'โครง 8'!C96+'โครง 8'!F96+'ผลผลิตที่ และโครง 9-10'!C90+'ผลผลิตที่ และโครง 9-10'!F90+'ผลผลิตที่ และโครง 9-10'!I90+'ผลผลิตที่ และโครง 9-10'!L90) -> 56440 | D96: =SUM(C96*100/B96) -> 188.7436
A97: สถาบันพัฒนาฝีมือแรงงาน 19 เชียงใหม่ | B97: =SUM('โครง 1-6'!B92+'โครง 1-6'!K92+'โครง 8'!B97+'โครง 8'!E97+'ผลผลิตที่ และโครง 9-10'!B91+'ผลผลิตที่ และโครง 9-10'!E91+'ผลผลิตที่ และโครง 9-10'!H91+'ผลผลิตที่ และโครง 9-10'!K91) -> 28150 | C97: =SUM('โครง 1-6'!C92+'โครง 1-6'!L92+'โครง 1-6'!R92+'โครง 8'!C97+'โครง 8'!F97+'ผลผลิตที่ และโครง 9-10'!C91+'ผลผลิตที่ และโครง 9-10'!F91+'ผลผลิตที่ และโครง 9-10'!I91+'ผลผลิตที่ และโครง 9-10'!L91) -> 53438 | D97: =SUM(C97*100/B97) -> 189.83304
A98: ศูนย์พัฒนาฝีมือแรงงานจังหวัดแม่ฮ่องสอน | B98: =SUM('โครง 1-6'!B93+'โครง 1-6'!K93+'โครง 8'!B98+'โครง 8'!E98+'ผลผลิตที่ และโครง 9-10'!B92+'ผลผลิตที่ และโครง 9-10'!E92+'ผลผลิตที่ และโครง 9-10'!H92+'ผลผลิตที่ และโครง 9-10'!K92) -> 1753 | C98: =SUM('โครง 1-6'!C93+'โครง 1-6'!L93+'โครง 1-6'!R93+'โครง 8'!C98+'โครง 8'!F98+'ผลผลิตที่ และโครง 9-10'!C92+'ผลผลิตที่ และโครง 9-10'!F92+'ผลผลิตที่ และโครง 9-10'!I92+'ผลผลิตที่ และโครง 9-10'!L92) -> 3002 | D98: =SUM(C98*100/B98) -> 171.24929
A99: สพร. 20 เชียงราย | B99: =SUM('โครง 1-6'!B94+'โครง 1-6'!H94+'โครง 1-6'!K94+'โครง 1-6'!B94+'โครง 1-6'!H94+'โครง 1-6'!K94+'โครง 8'!B99+'โครง 8'!E99+'ผลผลิตที่ และโครง 9-10'!B93+'ผลผลิตที่ และโครง 9-10'!E93+'ผลผลิตที่ และโครง 9-10'!H93+'ผลผลิตที่ และโครง 9-10'!K93) -> 10220 | C99: =SUM('โครง 1-6'!C94+'โครง 1-6'!I94+'โครง 1-6'!L94+'โครง 1-6'!R94+'โครง 8'!C99+'โครง 8'!F99+'ผลผลิตที่ และโครง 9-10'!C93+'ผลผลิตที่ และโครง 9-10'!F93+'ผลผลิตที่ และโครง 9-10'!I93+'ผลผลิตที่ และโครง 9-10'!L93) -> 18029 | D99: =SUM(C99*100/B99) -> 176.409
A100: สถาบันพัฒนาฝีมือแรงงาน 20 เชียงราย | B100: =SUM('โครง 1-6'!B95+'โครง 1-6'!H95+'โครง 1-6'!K95+'โครง 1-6'!B95+'โครง 1-6'!H95+'โครง 1-6'!K95+'โครง 8'!B100+'โครง 8'!E100+'ผลผลิตที่ และโครง 9-10'!B94+'ผลผลิตที่ และโครง 9-10'!E94+'ผลผลิตที่ และโครง 9-10'!H94+'ผลผลิตที่ และโครง 9-10'!K94) -> 6520 | C100: =SUM('โครง 1-6'!C95+'โครง 1-6'!I95+'โครง 1-6'!L95+'โครง 1-6'!R95+'โครง 8'!C100+'โครง 8'!F100+'ผลผลิตที่ และโครง 9-10'!C94+'ผลผลิตที่ และโครง 9-10'!F94+'ผลผลิตที่ และโครง 9-10'!I94+'ผลผลิตที่ และโครง 9-10'!L94) -> 13067 | D100: =SUM(C100*100/B100) -> 200.41411
A101: สำนักงานพัฒนาฝีมือแรงงานจังหวัดพะเยา | B101: =SUM('โครง 1-6'!B96+'โครง 1-6'!H96+'โครง 1-6'!K96+'โครง 1-6'!B96+'โครง 1-6'!H96+'โครง 1-6'!K96+'โครง 8'!B101+'โครง 8'!E101+'ผลผลิตที่ และโครง 9-10'!B95+'ผลผลิตที่ และโครง 9-10'!E95+'ผลผลิตที่ และโครง 9-10'!H95+'ผลผลิตที่ และโครง 9-10'!K95) -> 2300 | C101: =SUM('โครง 1-6'!C96+'โครง 1-6'!I96+'โครง 1-6'!L96+'โครง 1-6'!R96+'โครง 8'!C101+'โครง 8'!F101+'ผลผลิตที่ และโครง 9-10'!C95+'ผลผลิตที่ และโครง 9-10'!F95+'ผลผลิตที่ และโครง 9-10'!I95+'ผลผลิตที่ และโครง 9-10'!L95) -> 2936 | D101: =SUM(C101*100/B101) -> 127.65217
A102: สำนักงานพัฒนาฝีมือแรงงานจังหวัดน่าน | B102: =SUM('โครง 1-6'!B97+'โครง 1-6'!H97+'โครง 1-6'!K97+'โครง 1-6'!B97+'โครง 1-6'!H97+'โครง 1-6'!K97+'โครง 8'!B102+'โครง 8'!E102+'ผลผลิตที่ และโครง 9-10'!B96+'ผลผลิตที่ และโครง 9-10'!E96+'ผลผลิตที่ และโครง 9-10'!H96+'ผลผลิตที่ และโครง 9-10'!K96) -> 1400 | C102: =SUM('โครง 1-6'!C97+'โครง 1-6'!I97+'โครง 1-6'!L97+'โครง 1-6'!R97+'โครง 8'!C102+'โครง 8'!F102+'ผลผลิตที่ และโครง 9-10'!C96+'ผลผลิตที่ และโครง 9-10'!F96+'ผลผลิตที่ และโครง 9-10'!I96+'ผลผลิตที่ และโครง 9-10'!L96) -> 2026 | D102: =SUM(C102*100/B102) -> 144.71429
A103: สพร. 21 ภูเก็ต | B103: =SUM('โครง 1-6'!B98+'โครง 1-6'!K98+'โครง 8'!B103+'โครง 8'!E103+'ผลผลิตที่ และโครง 9-10'!B97+'ผลผลิตที่ และโครง 9-10'!E97+'ผลผลิตที่ และโครง 9-10'!H97+'ผลผลิตที่ และโครง 9-10'!K97) -> 46732 | C103: =SUM('โครง 1-6'!C98+'โครง 1-6'!L98+'โครง 1-6'!R98+'โครง 8'!C103+'โครง 8'!F103+'ผลผลิตที่ และโครง 9-10'!C97+'ผลผลิตที่ และโครง 9-10'!F97+'ผลผลิตที่ และโครง 9-10'!I97+'ผลผลิตที่ และโครง 9-10'!L97) -> 65937 | D103: =SUM(C103*100/B103) -> 141.09604
A104: สถาบันพัฒนาฝีมือแรงงาน 21 ภูเก็ต | B104: =SUM('โครง 1-6'!B99+'โครง 1-6'!K99+'โครง 8'!B104+'โครง 8'!E104+'ผลผลิตที่ และโครง 9-10'!B98+'ผลผลิตที่ และโครง 9-10'!E98+'ผลผลิตที่ และโครง 9-10'!H98+'ผลผลิตที่ และโครง 9-10'!K98) -> 34294 | C104: =SUM('โครง 1-6'!C99+'โครง 1-6'!L99+'โครง 1-6'!R99+'โครง 8'!C104+'โครง 8'!F104+'ผลผลิตที่ และโครง 9-10'!C98+'ผลผลิตที่ และโครง 9-10'!F98+'ผลผลิตที่ และโครง 9-10'!I98+'ผลผลิตที่ และโครง 9-10'!L98) -> 45963 | D104: =SUM(C104*100/B104) -> 134.02636
...

Sheet Sheet2

Sheet Sheet11
A1: รวม สพร.1 | C1: ศพจ. | D1: ตาก | E1: สพร. 18 | F1: อุดรธานี
A2: สพร. | B2: 1 สมุทรปราการ | C2: รวม สพร. 9 | E2: ศพจ. | F2: หนองคาย
A3: ศพจ. | B3: ฉะเชิงเทรา | C3: สพร. 9 | D3: พิษณุโลก | E3: ศพจ. | F3: บึงกาฬ
A4: รวม สพร. 2 | C4: ศพจ. | D4: เลย | E4: ศพจ. | F4: สกลนคร
A5: สพร.2 | B5: สุพรรณบุรี | C5: ศพจ. | D5: เพชรบูรณ์ | E5: ศพจ. | F5: นครพนม
A6: ศพจ. | B6: สิงห์บุรี | C6: ศพจ. | D6: อุตรดิตถ์ | E6: รวม สพร. 19
A7: ศพจ. | B7: ชัยนาท | C7: ศพจ. | D7: สุโขทัย | E7: สพร. 19 | F7: เชียงใหม่
A8: ศพจ. | B8: อุทัยธานี | C8: รวม สพร. 10 | E8: ศพจ. | F8: แม่ฮ่องสอน
A9: รวม สพร. 3 | C9: สพร. 10 | D9: ลำปาง | E9: รวม สพร. 20
A10: สพร.3 | B10: ชลบุรี | C10: ศพจ. | D10: ลำพูน | E10: สพร. 20 | F10: เชียงราย
A11: ศพจ. | B11: ปราจีนบุรี | C11: ศพจ. | D11: แพร่ | E11: ศพจ. | F11: พะเยา
A12: ศพจ. | B12: สระแก้ว | C12: รวม สพร. 11 | E12: ศพจ. | F12: น่าน
A13: รวม สพร. 4 | C13: สพร. 11 | D13: สุราษฎร์ธานี | E13: รวม สพร. 21
A14: สพร.4 | B14: ราชบุรี | C14: ศพจ. | D14: ชุมพร | E14: สพร. 21 | F14: ภูเก็ต
A15: ศพจ. | B15: เพชรบุรี | C15: ศพจ. | D15: ระนอง | E15: ศพจ. | F15: พังงา
A16: ศพจ. | B16: กาญจนบุรี | C16: รวม สพร. 12 | E16: ศพจ. | F16: กระบี่
A17: ศพจ. | B17: ประจวบคีรีขันธ์ | C17: สพร. 12 | D17: สงขลา | E17: รวม สพร. 22
A18: รวม สพร. 5 | C18: ศพจ. | D18: สตูล | E18: สพร. 22 | F18: นครศรีธรรมราช
A19: สพร.5 | B19: นครราชสีมา | C19: รวม สพร. 13 | E19: ศพจ. | F19: พัทลุง
A20: ศพจ. | B20: ชัยภูมิ | C20: สพร. 13 | D20: กรุงเทพฯ | E20: ศพจ. | F20: ตรัง
A21: ศพจ. | B21: สุรินทร์ | C21: รวม สพร.14 | E21: สพร. 23 ปัตตานี
A22: ศพจ. | B22: บุรีรัมย์ | C22: สพร. 14 | D22: ปทุมธานี | E22: สพร. 24 ยะลา
A23: รวม สพร. 6 | C23: ศพจ. | D23: นนทบุรี | E23: สพร. 25 นราธิวาส
A24: สพร.6 | B24: ขอนแก่น | C24: ศพจ. | D24: นครนายก
A25: ศพจ. | B25: กาฬสินธุ์ | C25: รวม สพร. 15
A26: ศพจ. | B26: มุกดาหาร | C26: สพร. 15 | D26: พระนครศรีอยุธยา
A27: ศพจ. | B27: หนองบัวลำภู | C27: ศพจ. | D27: อ่างทอง
A28: ศพจ. | B28: มหาสารคาม | C28: ศพจ. | D28: สระบุรี
A29: รวม สพร.7 | C29: ศพจ. | D29: ลพบุรี
A30: สพร.7 | B30: อุบลราชธานี | C30: รวม สพร. 16
A31: ศพจ. | B31: ศรีสะเกษ | C31: สพร. 16 | D31: นครปฐม
A32: ศพจ. | B32: อำนาจเจริญ | C32: ศพจ. | D32: สมุทรสาคร
A33: ศพจ. | B33: ร้อยเอ็ด | C33: ศพจ. | D33: สมุทรสงคราม
A34: ศพจ. | B34: ยโสธร | C34: รวม สพร. 17
A35: รวม สพร. 8 | C35: สพร. 17 | D35: ระยอง
A36: สพร.8 | B36: นครสวรรค์ | C36: ศพจ. | D36: จันทบุรี
A37: ศพจ. | B37: พิจิตร | C37: ศพจ. | D37: ตราด
A38: ศพจ. | B38: กำแพงเพชร | C38: รวม สพร. 18
