Workbook

Sheet โครง 1-6
A1: ผลการดำเนินงานพัฒนาฝีมือแรงงาน ปีงบประมาณ 2560
A2: ตุลาคม 2559 - กันยายน 2560 เป้าหมาย 12 เดือน
A4: หน่วยงาน | B4: โครงการ 1 | E4: โครงการ 2 | H4: โครงการ 3 | K4: โครงการ 5 | N4: โครงการ 6 | Q4: โครงการ 7
B5: พัฒนาฝีมือแรงงานร่วมเทิดทูน | E5: ฝึกอบรมฝีมือแรงงาน | H5: ฝึกอบรมฝีมือแรงงาน | K5: ฝึกอบรมฝีมือแรงงานรองรับ | N5: ฝึกอบรมฝีมือแรงงานนานาชาติ | Q5: เพิ่มผลิตภาพแรงงานไทย
B6: สถาบันพระมหากษัตริย์ | E6: ในพื้นที่ชายแดนภาคใต้ | H6: ในพื้นที่เขตเศรษฐกิจพิเศษ | K6: ระบบขนส่งด้านโลจิสติกส์ และก่อสร้าง
B7: เป้าหมาย | C7: รวมเข้า | D7: ร้อยละ | E7: เป้าหมาย | F7: รวมเข้า | G7: ร้อยละ | H7: เป้าหมาย | I7: รวมเข้า | J7: ร้อยละ | K7: เป้าหมาย | L7: รวมเข้า | M7: ร้อยละ | N7: เป้าหมาย | O7: รวมเข้า | P7: ร้อยละ | Q7: เป้าหมาย | R7: รวมเข้า | S7: ร้อยละ
A8: รวมทั้งสิ้น | B8: =SUM(B10+B13+B18+B22+B27+B32+B38+B44+B49+B55+B59+B63+B66+B68+B72+B77+B81+B85+B91+B94+B98+B102+B106+B107+B108) -> 5000 | C8: =SUM(C10+C13+C18+C22+C27+C32+C38+C44+C49+C55+C59+C63+C66+C68+C72+C77+C81+C85+C91+C94+C98+C102+C106+C107+C108) -> 6319 | D8: =SUM(C8*100/B8) -> 126.38 | E8: =SUM(E63+E106+E107+E108) -> 800 | F8: =SUM(F63+F106+F107+F108) -> 867 | G8: =SUM(F8*100/E8) -> 108.375 | H8: =SUM(H10+H13+H18+H22+H27+H32+H38+H44+H49+H55+H59+H63+H66+H68+H72+H77+H81+H85+H91+H94+H98+H102+H106+H107+H108) -> 16000 | I8: =SUM(I10+I13+I18+I22+I27+I32+I38+I44+I49+I55+I59+I63+I66+I68+I72+I77+I81+I85+I91+I94+I98+I102+I106+I107+I108) -> 19559 | J8: =SUM(I8*100/H8) -> 122.24375 | K8: =SUM(K10+K13+K18+K22+K27+K32+K38+K44+K49+K55+K59+K63+K66+K68+K72+K77+K81+K85+K91+K94+K98+K102+K106+K107+K108) -> 17840 | L8: =SUM(L10+L13+L18+L22+L27+L32+L38+L44+L49+L55+L59+L63+L66+L68+L72+L77+L81+L85+L91+L94+L98+L102+L106+L107+L108) -> 20958 | M8: =SUM(L8*100/K8) -> 117.47758 | N8: =SUM(N9) -> 2000 | O8: =SUM(O9) -> 2429 | P8: =SUM(O8*100/N8) -> 121.45 | Q8: 10000 | R8: =SUM(R10+R13+R18+R22+R27+R32+R38+R44+R49+R55+R59+R63+R66+R68+R72+R77+R81+R85+R91+R94+R98+R102+R106+R107+R108) -> 13750 | S8: =SUM(R8*100/Q8) -> 137.5
A9: สพน.เชียงแสน | N9: 2000 | O9: 2429 | P9: =SUM(O9*100/N9) -> 121.45
A10: สพร. 1 สมุทรปราการ | B10: 200 | C10: =SUM(C11:C12) -> 281 | D10: =SUM(C10*100/B10) -> 140.5 | K10: =SUM(K11:K12) -> 880 | L10: =SUM(L11:L12) -> 976 | M10: =SUM(L10*100/K10) -> 110.90909 | Q10: =SUM(Q11:Q12) -> 0 | R10: =SUM(R11:R12) -> 1774
A11: สถาบันพัฒนาฝีมือแรงงาน 1 สมุทรปราการ | B11: 160 | C11: 240 | D11: =SUM(C11*100/B11) -> 150 | K11: 680 | L11: 761 | M11: =SUM(L11*100/K11) -> 111.91176 | R11: 1088
A12: สำนักงานพัฒนาฝีมือแรงงานจังหวัดฉะเชิงเทรา | B12: 40 | C12: 41 | D12: =SUM(C12*100/B12) -> 102.5 | K12: 200 | L12: 215 | M12: =SUM(L12*100/K12) -> 107.5 | R12: 686
A13: สพร. 2 สุพรรณบุรี | B13: 260 | C13: =SUM(C14:C17) -> 392 | D13: =SUM(C13*100/B13) -> 150.76923 | K13: =SUM(K14:K17) -> 860 | L13: =SUM(L14:L17) -> 1013 | M13: =SUM(L13*100/K13) -> 117.7907 | Q13: =SUM(Q14:Q17) -> 0 | R13: =SUM(R14:R17) -> 501
A14: สถาบันพัฒนาฝีมือแรงงาน 2 สุพรรณบุรี | B14: 20 | C14: 20 | D14: =SUM(C14*100/B14) -> 100 | K14: 600 | L14: 702 | M14: =SUM(L14*100/K14) -> 117 | R14: 228
A15: สำนักงานพัฒนาฝีมือแรงงานจังหวัดสิงห์บุรี | B15: 40 | C15: 164 | D15: =SUM(C15*100/B15) -> 410 | K15: 140 | L15: 147 | M15: =SUM(L15*100/K15) -> 105 | R15: 140
A16: สำนักงานพัฒนาฝีมือแรงงานจังหวัดชัยนาท | B16: 40 | C16: 40 | D16: =SUM(C16*100/B16) -> 100 | K16: 60 | L16: 104 | M16: =SUM(L16*100/K16) -> 173.33333 | R16: 63
A17: สำนักงานพัฒนาฝีมือแรงงานจังหวัดอุทัยธานี | B17: 160 | C17: 168 | D17: =SUM(C17*100/B17) -> 105 | K17: 60 | L17: 60 | M17: =SUM(L17*100/K17) -> 100 | R17: 70
A18: สพร. 3 ชลบุรี | B18: 120 | C18: =SUM(C19:C21) -> 209 | D18: =SUM(C18*100/B18) -> 174.16667 | H18: =SUM(H19:H21) -> 2100 | I18: =SUM(I19:I21) -> 2671 | J18: =SUM(I18*100/H18) -> 127.19048 | K18: =SUM(K19:K21) -> 980 | L18: =SUM(L19:L21) -> 1224 | M18: =SUM(L18*100/K18) -> 124.89796 | Q18: =SUM(Q19:Q21) -> 0 | R18: =SUM(R19:R21) -> 905
A19: สถาบันพัฒนาฝีมือแรงงาน 3 ชลบุรี | B19: 80 | C19: 169 | D19: =SUM(C19*100/B19) -> 211.25 | K19: 640 | L19: 884 | M19: =SUM(L19*100/K19) -> 138.125 | R19: 685
A20: ศูนย์พัฒนาฝีมือแรงงานจังหวัดปราจีนบุรี | B20: 20 | C20: 20 | D20: =SUM(C20*100/B20) -> 100 | K20: 260 | L20: 260 | M20: =SUM(L20*100/K20) -> 100 | R20: 150
A21: ศูนย์พัฒนาฝีมือแรงงานจังหวัดสระแก้ว | B21: 20 | C21: 20 | D21: =SUM(C21*100/B21) -> 100 | H21: 2100 | I21: 2671 | J21: =SUM(I21*100/H21) -> 127.19048 | K21: 80 | L21: 80 | M21: =SUM(L21*100/K21) -> 100 | R21: 70
A22: สพร. 4 ราชบุรี | B22: 280 | C22: =SUM(C23:C26) -> 320 | D22: =SUM(C22*100/B22) -> 114.28571 | H22: =SUM(H23:H26) -> 1660 | I22: =SUM(I23:I26) -> 2320 | J22: =SUM(I22*100/H22) -> 139.75904 | K22: =SUM(K23:K26) -> 1080 | L22: =SUM(L23:L26) -> 1175 | M22: =SUM(L22*100/K22) -> 108.7963 | Q22: =SUM(Q23:Q26) -> 0 | R22: =SUM(R23:R26) -> 522
A23: สถาบันพัฒนาฝีมือแรงงาน 4 ราชบุรี | B23: 100 | C23: 100 | D23: =SUM(C23*100/B23) -> 100 | K23: 780 | L23: 829 | M23: =SUM(L23*100/K23) -> 106.28205 | R23: 254
A24: สำนักงานพัฒนาฝีมือแรงงานจังหวัดเพชรบุรี | B24: 60 | C24: 80 | D24: =SUM(C24*100/B24) -> 133.33333 | K24: 140 | L24: 156 | M24: =SUM(L24*100/K24) -> 111.42857 | R24: 77
A25: สำนักงานพัฒนาฝีมือแรงงานจังหวัดกาญจนบุรี | B25: 120 | C25: 140 | D25: =SUM(C25*100/B25) -> 116.66667 | H25: 1660 | I25: 2320 | J25: =SUM(I25*100/H25) -> 139.75904 | K25: 160 | L25: 190 | M25: =SUM(L25*100/K25) -> 118.75 | R25: 126
A26: สำนักงานพัฒนาฝีมือแรงงานจังหวัดประจวบคีรีขันธ์ | R26: 65
A27: สพร. 5 นครราชสีมา | B27: 320 | C27: =SUM(C28:C31) -> 320 | D27: =SUM(C27*100/B27) -> 100 | H27: =SUM(H28:H31) -> 0 | I27: =SUM(I28:I31) -> 0 | K27: =SUM(K28:K31) -> 1580 | L27: =SUM(L28:L31) -> 1717 | M27: =SUM(L27*100/K27) -> 108.67089 | Q27: =SUM(Q28:Q31) -> 0 | R27: =SUM(R28:R31) -> 610
A28: สถาบันพัฒนาฝีมือแรงงาน 5 นครราชสีมา | B28: 120 | C28: 120 | D28: =SUM(C28*100/B28) -> 100 | K28: 660 | L28: 703 | M28: =SUM(L28*100/K28) -> 106.51515 | R28: 353
A29: สำนักงานพัฒนาฝีมือแรงงานจังหวัดชัยภูมิ | B29: 80 | C29: 80 | D29: =SUM(C29*100/B29) -> 100 | K29: 320 | L29: 367 | M29: =SUM(L29*100/K29) -> 114.6875 | R29: 64
A30: สำนักงานพัฒนาฝีมือแรงงานจังหวัดสุรินทร์ | B30: 40 | C30: 40 | D30: =SUM(C30*100/B30) -> 100 | K30: 240 | L30: 246 | M30: =SUM(L30*100/K30) -> 102.5 | R30: 60
A31: สำนักงานพัฒนาฝีมือแรงงานจังหวัดบุรีรัมย์ | B31: 80 | C31: 80 | D31: =SUM(C31*100/B31) -> 100 | K31: 360 | L31: 401 | M31: =SUM(L31*100/K31) -> 111.38889 | R31: 133
A32: สพร. 6 ขอนแก่น | B32: 300 | C32: =SUM(C33:C37) -> 321 | D32: =SUM(C32*100/B32) -> 107 | H32: =SUM(H33:H37) -> 1460 | I32: =SUM(I33:I37) -> 1855 | J32: =SUM(I32*100/H32) -> 127.05479 | K32: =SUM(K33:K37) -> 1500 | L32: =SUM(L33:L37) -> 1583 | M32: =SUM(L32*100/K32) -> 105.53333 | Q32: =SUM(Q33:Q37) -> 0 | R32: =SUM(R33:R37) -> 846
A33: สถาบันพัฒนาฝีมือแรงงาน 6 ขอนแก่น | B33: 120 | C33: 121 | D33: =SUM(C33*100/B33) -> 100.83333 | K33: 440 | L33: 467 | M33: =SUM(L33*100/K33) -> 106.13636 | R33: 430
A34: สำนักงานพัฒนาฝีมือแรงงานจังหวัดกาฬสินธุ์ | B34: 20 | C34: 25 | D34: =SUM(C34*100/B34) -> 125 | K34: 200 | L34: 229 | M34: =SUM(L34*100/K34) -> 114.5 | R34: 80
A35: สำนักงานพัฒนาฝีมือแรงงานจังหวัดมุกดาหาร | B35: 40 | C35: 40 | D35: =SUM(C35*100/B35) -> 100 | H35: 1460 | I35: 1855 | J35: =SUM(I35*100/H35) -> 127.05479 | K35: 500 | L35: 517 | M35: =SUM(L35*100/K35) -> 103.4 | R35: 120
A36: สำนักงานพัฒนาฝีมือแรงงานจังหวัดหนองบัวลำภู | B36: 40 | C36: 55 | D36: =SUM(C36*100/B36) -> 137.5 | K36: 200 | L36: 201 | M36: =SUM(L36*100/K36) -> 100.5 | R36: 120
A37: สำนักงานพัฒนาฝีมือแรงงานจังหวัดมหาสารคาม | B37: 80 | C37: 80 | D37: =SUM(C37*100/B37) -> 100 | K37: 160 | L37: 169 | M37: =SUM(L37*100/K37) -> 105.625 | R37: 96
A38: สพร. 7 อุบลราชธานี | B38: 280 | C38: =SUM(C39:C43) -> 284 | D38: =SUM(C38*100/B38) -> 101.42857 | K38: =SUM(K39:K43) -> 1520 | L38: =SUM(L39:L43) -> 1856 | M38: =SUM(L38*100/K38) -> 122.10526 | Q38: =SUM(Q39:Q43) -> 0 | R38: =SUM(R39:R43) -> 260
A39: สถาบันพัฒนาฝีมือแรงงาน 7 อุบลราชธานี | B39: 100 | C39: 100 | D39: =SUM(C39*100/B39) -> 100 | K39: 600 | L39: 606 | M39: =SUM(L39*100/K39) -> 101 | R39: 109
A40: สำนักงานพัฒนาฝีมือแรงงานจังหวัดศรีสะเกษ | B40: 40 | C40: 42 | D40: =SUM(C40*100/B40) -> 105 | K40: 40 | L40: 40 | M40: =SUM(L40*100/K40) -> 100 | R40: 31
A41: สำนักงานพัฒนาฝีมือแรงงานจังหวัดอำนาจเจริญ | B41: 40 | C41: 40 | D41: =SUM(C41*100/B41) -> 100 | K41: 240 | L41: 272 | M41: =SUM(L41*100/K41) -> 113.33333 | R41: 61
...

Sheet โครง 8
A1: ผลการดำเนินงานพัฒนาฝีมือแรงงาน ปีงบประมาณ 2560
A2: ตุลาคม 2559 - กันยายน 2560 เป้าหมาย 12 เดือน
A4: หน่วยงาน | B4: โครงการ 8
B5: โครงการพัฒนาศักยภาพแรงงานรองรับภาคอุตสาหกรรมและบริการเพื่อการแข่งขัน
B6: ฝึกอบรมฝีมือแรงงานรองรับ | E6: ทดสอบมาตรฐานฝีมือแรงงาน
B7: ภาคอุตสาหกรรมและบริการ
B8: เป้าหมาย | C8: รวมเข้า | D8: ร้อยละ | E8: เป้าหมาย | F8: รวมเข้า | G8: ร้อยละ
A9: รวมทั้งสิ้น | B9: =SUM(B10+B11+B12+B13+B14+B15+B18+B23+B27+B32+B37+B43+B49+B54+B60+B64+B68+B71+B73+B77+B82+B86+B90+B96+B99+B103+B107+B111+B112+B113) -> 80100 | C9: =SUM(C10+C11+C12+C13+C14+C15+C18+C23+C27+C32+C37+C43+C49+C54+C60+C64+C68+C71+C73+C77+C82+C86+C90+C96+C99+C103+C107+C111+C112+C113) -> 100038 | D9: =SUM(C9*100/B9) -> 124.89139 | E9: =SUM(E12+E13+E14+E15+E18+E23+E27+E32+E37+E43+E49+E54+E60+E64+E68+E71+E73+E77+E82+E86+E90+E96+E99+E103+E107+E111+E112+E113) -> 24200 | F9: =SUM(F12+F13+F14+F15+F18+F23+F27+F32+F37+F43+F49+F54+F60+F64+F68+F71+F73+F77+F82+F86+F90+F96+F99+F103+F107+F111+F112+F113) -> 77344 | G9: =SUM(F9*100/E9) -> 319.60331
A10: กลุ่มงานพัฒนาวิทยากรต้นแบบ | B10: 700 | C10: 812 | D10: =SUM(C10*100/B10) -> 116
A11: สถาบันยานยนต์ | B11: 3000 | C11: 3224 | D11: =SUM(C11*100/B11) -> 107.46667
A12: สถาบันพัฒนาทรัพยากรมนุษย์ | B12: 740 | C12: 901 | D12: =SUM(C12*100/B12) -> 121.75676 | E12: 260 | F12: 386 | G12: =SUM(F12*100/E12) -> 148.46154
A13: สพน.เชียงแสน | B13: 0 | E13: 100 | F13: 0 | G13: =SUM(F13*100/E13) -> 0
A14: สำนักมาตรฐานและทดสอบฝีมือแรงงาน | B14: 0 | E14: 100 | F14: 177 | G14: =SUM(F14*100/E14) -> 177
A15: สพร. 1 สมุทรปราการ | B15: =SUM(B16:B17) -> 4380 | C15: =SUM(C16:C17) -> 4842 | D15: =SUM(C15*100/B15) -> 110.54795 | E15: =SUM(E16:E17) -> 1250 | F15: =SUM(F16:F17) -> 5480 | G15: =SUM(F15*100/E15) -> 438.4
A16: สถาบันพัฒนาฝีมือแรงงาน 1 สมุทรปราการ | B16: 2930 | C16: 3208 | D16: =SUM(C16*100/B16) -> 109.48805 | E16: 990 | F16: 3367 | G16: =SUM(F16*100/E16) -> 340.10101
A17: สำนักงานพัฒนาฝีมือแรงงานจังหวัดฉะเชิงเทรา | B17: 1450 | C17: 1634 | D17: =SUM(C17*100/B17) -> 112.68966 | E17: 260 | F17: 2113 | G17: =SUM(F17*100/E17) -> 812.69231
A18: สพร. 2 สุพรรณบุรี | B18: =SUM(B19:B22) -> 2992 | C18: =SUM(C19:C22) -> 4033 | D18: =SUM(C18*100/B18) -> 134.79278 | E18: =SUM(E19:E22) -> 1260 | F18: =SUM(F19:F22) -> 2500 | G18: =SUM(F18*100/E18) -> 198.4127
A19: สถาบันพัฒนาฝีมือแรงงาน 2 สุพรรณบุรี | B19: 1678 | C19: 2413 | D19: =SUM(C19*100/B19) -> 143.80215 | E19: 670 | F19: 997 | G19: =SUM(F19*100/E19) -> 148.80597
A20: สำนักงานพัฒนาฝีมือแรงงานจังหวัดสิงห์บุรี | B20: 778 | C20: 963 | D20: =SUM(C20*100/B20) -> 123.77892 | E20: 190 | F20: 572 | G20: =SUM(F20*100/E20) -> 301.05263
A21: สำนักงานพัฒนาฝีมือแรงงานจังหวัดชัยนาท | B21: 356 | C21: 440 | D21: =SUM(C21*100/B21) -> 123.59551 | E21: 220 | F21: 397 | G21: =SUM(F21*100/E21) -> 180.45455
A22: สำนักงานพัฒนาฝีมือแรงงานจังหวัดอุทัยธานี | B22: 180 | C22: 217 | D22: =SUM(C22*100/B22) -> 120.55556 | E22: 180 | F22: 534 | G22: =SUM(F22*100/E22) -> 296.66667
A23: สพร. 3 ชลบุรี | B23: =SUM(B24:B26) -> 6150 | C23: =SUM(C24:C26) -> 6979 | D23: =SUM(C23*100/B23) -> 113.47967 | E23: =SUM(E24:E26) -> 1700 | F23: =SUM(F24:F26) -> 5866 | G23: =SUM(F23*100/E23) -> 345.05882
A24: สถาบันพัฒนาฝีมือแรงงาน 3 ชลบุรี | B24: 4535 | C24: 5180 | D24: =SUM(C24*100/B24) -> 114.22271 | E24: 1180 | F24: 3421 | G24: =SUM(F24*100/E24) -> 289.91525
A25: ศูนย์พัฒนาฝีมือแรงงานจังหวัดปราจีนบุรี | B25: 1280 | C25: 1349 | D25: =SUM(C25*100/B25) -> 105.39062 | E25: 320 | F25: 1236 | G25: =SUM(F25*100/E25) -> 386.25
A26: ศูนย์พัฒนาฝีมือแรงงานจังหวัดสระแก้ว | B26: 335 | C26: 450 | D26: =SUM(C26*100/B26) -> 134.32836 | E26: 200 | F26: 1209 | G26: =SUM(F26*100/E26) -> 604.5
A27: สพร. 4 ราชบุรี | B27: =SUM(B28:B31) -> 4898 | C27: =SUM(C28:C31) -> 6044 | D27: =SUM(C27*100/B27) -> 123.39731 | E27: =SUM(E28:E31) -> 1300 | F27: =SUM(F28:F31) -> 3301 | G27: =SUM(F27*100/E27) -> 253.92308
A28: สถาบันพัฒนาฝีมือแรงงาน 4 ราชบุรี | B28: 1878 | C28: 1972 | D28: =SUM(C28*100/B28) -> 105.00532 | E28: 560 | F28: 1243 | G28: =SUM(F28*100/E28) -> 221.96429
A29: สำนักงานพัฒนาฝีมือแรงงานจังหวัดเพชรบุรี | B29: 1250 | C29: 1602 | D29: =SUM(C29*100/B29) -> 128.16 | E29: 180 | F29: 463 | G29: =SUM(F29*100/E29) -> 257.22222
A30: สำนักงานพัฒนาฝีมือแรงงานจังหวัดกาญจนบุรี | B30: 620 | C30: 976 | D30: =SUM(C30*100/B30) -> 157.41935 | E30: 360 | F30: 999 | G30: =SUM(F30*100/E30) -> 277.5
A31: สำนักงานพัฒนาฝีมือแรงงานจังหวัดประจวบคีรีขันธ์ | B31: 1150 | C31: 1494 | D31: =SUM(C31*100/B31) -> 129.91304 | E31: 200 | F31: 596 | G31: =SUM(F31*100/E31) -> 298
A32: สพร. 5 นครราชสีมา | B32: =SUM(B33:B36) -> 4224 | C32: =SUM(C33:C36) -> 5559 | D32: =SUM(C32*100/B32) -> 131.60511 | E32: =SUM(E33:E36) -> 1445 | F32: =SUM(F33:F36) -> 4277 | G32: =SUM(F32*100/E32) -> 295.98616
A33: สถาบันพัฒนาฝีมือแรงงาน 5 นครราชสีมา | B33: 1964 | C33: 2588 | D33: =SUM(C33*100/B33) -> 131.77189 | E33: 655 | F33: 1655 | G33: =SUM(F33*100/E33) -> 252.67176
A34: สำนักงานพัฒนาฝีมือแรงงานจังหวัดชัยภูมิ | B34: 560 | C34: 948 | D34: =SUM(C34*100/B34) -> 169.28571 | E34: 310 | F34: 1020 | G34: =SUM(F34*100/E34) -> 329.03226
A35: สำนักงานพัฒนาฝีมือแรงงานจังหวัดสุรินทร์ | B35: 680 | C35: 908 | D35: =SUM(C35*100/B35) -> 133.52941 | E35: 230 | F35: 661 | G35: =SUM(F35*100/E35) -> 287.3913
A36: สำนักงานพัฒนาฝีมือแรงงานจังหวัดบุรีรัมย์ | B36: 1020 | C36: 1115 | D36: =SUM(C36*100/B36) -> 109.31373 | E36: 250 | F36: 941 | G36: =SUM(F36*100/E36) -> 376.4
A37: สพร. 6 ขอนแก่น | B37: =SUM(B38:B42) -> 4808 | C37: =SUM(C38:C42) -> 5374 | D37: =SUM(C37*100/B37) -> 111.77205 | E37: =SUM(E38:E42) -> 1690 | F37: =SUM(F38:F42) -> 4160 | G37: =SUM(F37*100/E37) -> 246.15385
A38: สถาบันพัฒนาฝีมือแรงงาน 6 ขอนแก่น | B38: 2900 | C38: 3174 | D38: =SUM(C38*100/B38) -> 109.44828 | E38: 500 | F38: 1784 | G38: =SUM(F38*100/E38) -> 356.8
A39: สำนักงานพัฒนาฝีมือแรงงานจังหวัดกาฬสินธุ์ | B39: 404 | C39: 485 | D39: =SUM(C39*100/B39) -> 120.0495 | E39: 420 | F39: 1022 | G39: =SUM(F39*100/E39) -> 243.33333
A40: สำนักงานพัฒนาฝีมือแรงงานจังหวัดมุกดาหาร | B40: 320 | C40: 386 | D40: =SUM(C40*100/B40) -> 120.625 | E40: 200 | F40: 412 | G40: =SUM(F40*100/E40) -> 206
A41: สำนักงานพัฒนาฝีมือแรงงานจังหวัดหนองบัวลำภู | B41: 484 | C41: 520 | D41: =SUM(C41*100/B41) -> 107.43802 | E41: 260 | F41: 430 | G41: =SUM(F41*100/E41) -> 165.38462
...

Sheet ผลผลิตที่ และโครง 9-10
A1: ผลการดำเนินงานพัฒนาฝีมือแรงงาน ปีงบประมาณ 2560
A2: ตุลาคม 2559 - กันยายน 2560 เป้าหมาย 12 เดือน
A4: หน่วยงาน | B4: ผลผลิตที่ 1 | H4: โครงการ 9 | K4: โครงการ 10
B5: พัฒนาฝีมือแรงงานเพื่อส่งเสริมการประกอบอาชีพ | E5: ส่งเสริมและสนับสนุนให้สถานประกอบกิจการ | H5: ฝึกอบรมแรงงานกลุ่มเป้าหมายเฉพาะ | K5: ฝึกอบรมแรงงานผู้สูงอายุ
E6: ดำเนินการฝึกอบรมฯ ตาม พ.ร.บ ส่งเสริมฯ | H6: เพื่อเพิ่มโอกาสในการประกอบอาชีพ | K6: เพื่อเพิ่มโอกาสในการประกอบอาชีพ
B7: เป้าหมาย | C7: รวมเข้า | D7: ร้อยละ | E7: เป้าหมาย | F7: รวมเข้า | G7: ร้อยละ | H7: เป้าหมาย | I7: รวมเข้า | J7: ร้อยละ | K7: เป้าหมาย | L7: รวมเข้า | M7: ร้อยละ
A8: รวมทั้งสิ้น | B8: =SUM(B9+B12+B17+B21+B26+B31+B37+B43+B48+B54+B58+B62+B65+B67+B71+B76+B80+B84+B90+B93+B97+B101+B105+B106+B107) -> 17020 | C8: =SUM(C9+C12+C17+C21+C26+C31+C37+C43+C48+C54+C58+C62+C65+C67+C71+C76+C80+C84+C90+C93+C97+C101+C105+C106+C107) -> 23791 | D8: =SUM(C8*100/B8) -> 139.78261 | E8: =SUM(E9+E12+E17+E21+E26+E31+E37+E43+E48+E54+E58+E62+E65+E67+E71+E76+E80+E84+E90+E93+E97+E101+E105+E106+E107) -> 3499220 | F8: =SUM(F9+F12+F17+F21+F26+F31+F37+F43+F48+F54+F58+F62+F65+F67+F71+F76+F80+F84+F90+F93+F97+F101+F105+F106+F107) -> 3978493 | G8: =SUM(F8*100/E8) -> 113.69657 | H8: =SUM(H9+H12+H17+H21+H26+H31+H37+H43+H48+H54+H58+H62+H65+H67+H71+H76+H80+H84+H90+H93+H97+H101+H105+H106+H107) -> 6540 | I8: =SUM(I9+I12+I17+I21+I26+I31+I37+I43+I48+I54+I58+I62+I65+I67+I71+I76+I80+I84+I90+I93+I97+I101+I105+I106+I107) -> 14365 | J8: =SUM(I8*100/H8) -> 219.64832 | K8: =SUM(K9+K12+K17+K21+K26+K31+K37+K43+K48+K54+K58+K62+K65+K67+K71+K76+K80+K84+K90+K93+K97+K101+K105+K106+K107) -> 6160 | L8: =SUM(L9+L12+L17+L21+L26+L31+L37+L43+L48+L54+L58+L62+L65+L67+L71+L76+L80+L84+L90+L93+L97+L101+L105+L106+L107) -> 7906 | M8: =SUM(L8*100/K8) -> 128.34416
A9: สพร. 1 สมุทรปราการ | B9: =SUM(B10:B11) -> 380 | C9: =SUM(C10:C11) -> 379 | D9: =SUM(C9*100/B9) -> 99.736842 | E9: =SUM(E10:E11) -> 395000 | F9: =SUM(F10:F11) -> 477398 | G9: =SUM(F9*100/E9) -> 120.86025 | H9: =SUM(H10:H11) -> 160 | I9: =SUM(I10:I11) -> 227 | J9: =SUM(I9*100/H9) -> 141.875 | K9: =SUM(K10:K11) -> 160 | L9: =SUM(L10:L11) -> 188 | M9: =SUM(L9*100/K9) -> 117.5
A10: สถาบันพัฒนาฝีมือแรงงาน 1 สมุทรปราการ | B10: 100 | C10: 99 | D10: =SUM(C10*100/B10) -> 99 | E10: 315000 | F10: 400442 | G10: =SUM(F10*100/E10) -> 127.12444 | H10: 60 | I10: 61 | J10: =SUM(I10*100/H10) -> 101.66667 | K10: 80 | L10: 100 | M10: =SUM(L10*100/K10) -> 125
A11: สำนักงานพัฒนาฝีมือแรงงานจังหวัดฉะเชิงเทรา | B11: 280 | C11: 280 | D11: =SUM(C11*100/B11) -> 100 | E11: 80000 | F11: 76956 | G11: =SUM(F11*100/E11) -> 96.195 | H11: 100 | I11: 166 | J11: =SUM(I11*100/H11) -> 166 | K11: 80 | L11: 88 | M11: =SUM(L11*100/K11) -> 110
A12: สพร. 2 สุพรรณบุรี | B12: =SUM(B13:B16) -> 1240 | C12: =SUM(C13:C16) -> 1491 | D12: =SUM(C12*100/B12) -> 120.24194 | E12: =SUM(E13:E16) -> 14400 | F12: =SUM(F13:F16) -> 17829 | G12: =SUM(F12*100/E12) -> 123.8125 | H12: =SUM(H13:H16) -> 190 | I12: =SUM(I13:I16) -> 302 | J12: =SUM(I12*100/H12) -> 158.94737 | K12: =SUM(K13:K16) -> 320 | L12: =SUM(L13:L16) -> 476 | M12: =SUM(L12*100/K12) -> 148.75
A13: สถาบันพัฒนาฝีมือแรงงาน 2 สุพรรณบุรี | B13: 160 | C13: 312 | D13: =SUM(C13*100/B13) -> 195 | E13: 4700 | F13: 6212 | G13: =SUM(F13*100/E13) -> 132.17021 | H13: 40 | I13: 66 | J13: =SUM(I13*100/H13) -> 165 | K13: 80 | L13: 80 | M13: =SUM(L13*100/K13) -> 100
A14: สำนักงานพัฒนาฝีมือแรงงานจังหวัดสิงห์บุรี | B14: 120 | C14: 134 | D14: =SUM(C14*100/B14) -> 111.66667 | E14: 6000 | F14: 6101 | G14: =SUM(F14*100/E14) -> 101.68333 | H14: 80 | I14: 146 | J14: =SUM(I14*100/H14) -> 182.5 | K14: 80 | L14: 190 | M14: =SUM(L14*100/K14) -> 237.5
A15: สำนักงานพัฒนาฝีมือแรงงานจังหวัดชัยนาท | B15: 340 | C15: 373 | D15: =SUM(C15*100/B15) -> 109.70588 | E15: 2000 | F15: 3752 | G15: =SUM(F15*100/E15) -> 187.6 | H15: 30 | I15: 50 | J15: =SUM(I15*100/H15) -> 166.66667 | K15: 80 | L15: 126 | M15: =SUM(L15*100/K15) -> 157.5
A16: สำนักงานพัฒนาฝีมือแรงงานจังหวัดอุทัยธานี | B16: 620 | C16: 672 | D16: =SUM(C16*100/B16) -> 108.3871 | E16: 1700 | F16: 1764 | G16: =SUM(F16*100/E16) -> 103.76471 | H16: 40 | I16: 40 | J16: =SUM(I16*100/H16) -> 100 | K16: 80 | L16: 80 | M16: =SUM(L16*100/K16) -> 100
A17: สพร. 3 ชลบุรี | B17: =SUM(B18:B20) -> 380 | C17: =SUM(C18:C20) -> 384 | D17: =SUM(C17*100/B17) -> 101.05263 | E17: =SUM(E18:E20) -> 273800 | F17: =SUM(F18:F20) -> 404418 | G17: =SUM(F17*100/E17) -> 147.70562 | H17: =SUM(H18:H20) -> 180 | I17: =SUM(I18:I20) -> 371 | J17: =SUM(I17*100/H17) -> 206.11111 | K17: =SUM(K18:K20) -> 240 | L17: =SUM(L18:L20) -> 260 | M17: =SUM(L17*100/K17) -> 108.33333
A18: สถาบันพัฒนาฝีมือแรงงาน 3 ชลบุรี | B18: 160 | C18: 164 | D18: =SUM(C18*100/B18) -> 102.5 | E18: 224000 | F18: 325774 | G18: =SUM(F18*100/E18) -> 145.43482 | H18: 40 | I18: 85 | J18: =SUM(I18*100/H18) -> 212.5 | K18: 80 | L18: 100 | M18: =SUM(L18*100/K18) -> 125
A19: ศูนย์พัฒนาฝีมือแรงงานจังหวัดปราจีนบุรี | B19: 40 | C19: 40 | D19: =SUM(C19*100/B19) -> 100 | E19: 47000 | F19: 75529 | G19: =SUM(F19*100/E19) -> 160.7 | H19: 20 | I19: 92 | J19: =SUM(I19*100/H19) -> 460 | K19: 80 | L19: 80 | M19: =SUM(L19*100/K19) -> 100
A20: ศูนย์พัฒนาฝีมือแรงงานจังหวัดสระแก้ว | B20: 180 | C20: 180 | D20: =SUM(C20*100/B20) -> 100 | E20: 2800 | F20: 3115 | G20: =SUM(F20*100/E20) -> 111.25 | H20: 120 | I20: 194 | J20: =SUM(I20*100/H20) -> 161.66667 | K20: 80 | L20: 80 | M20: =SUM(L20*100/K20) -> 100
A21: สพร. 4 ราชบุรี | B21: =SUM(B22:B25) -> 928 | C21: =SUM(C22:C25) -> 1555 | D21: =SUM(C21*100/B21) -> 167.56466 | E21: =SUM(E22:E25) -> 43500 | F21: =SUM(F22:F25) -> 78227 | G21: =SUM(F21*100/E21) -> 179.83218 | H21: =SUM(H22:H25) -> 330 | I21: =SUM(I22:I25) -> 906 | J21: =SUM(I21*100/H21) -> 274.54545 | K21: =SUM(K22:K25) -> 340 | L21: =SUM(L22:L25) -> 362 | M21: =SUM(L21*100/K21) -> 106.47059
A22: สถาบันพัฒนาฝีมือแรงงาน 4 ราชบุรี | B22: 488 | C22: 641 | D22: =SUM(C22*100/B22) -> 131.35246 | E22: 20000 | F22: 35338 | G22: =SUM(F22*100/E22) -> 176.69 | H22: 100 | I22: 123 | J22: =SUM(I22*100/H22) -> 123 | K22: 100 | L22: 100 | M22: =SUM(L22*100/K22) -> 100
A23: สำนักงานพัฒนาฝีมือแรงงานจังหวัดเพชรบุรี | B23: 260 | C23: 489 | D23: =SUM(C23*100/B23) -> 188.07692 | E23: 6500 | F23: 9781 | G23: =SUM(F23*100/E23) -> 150.47692 | H23: 100 | I23: 132 | J23: =SUM(I23*100/H23) -> 132 | K23: 80 | L23: 80 | M23: =SUM(L23*100/K23) -> 100
A24: สำนักงานพัฒนาฝีมือแรงงานจังหวัดกาญจนบุรี | B24: 120 | C24: 131 | D24: =SUM(C24*100/B24) -> 109.16667 | E24: 10000 | F24: 14006 | G24: =SUM(F24*100/E24) -> 140.06 | H24: 50 | I24: 70 | J24: =SUM(I24*100/H24) -> 140 | K24: 80 | L24: 102 | M24: =SUM(L24*100/K24) -> 127.5
A25: สำนักงานพัฒนาฝีมือแรงงานจังหวัดประจวบคีรีขันธ์ | B25: 60 | C25: 294 | D25: =SUM(C25*100/B25) -> 490 | E25: 7000 | F25: 19102 | G25: =SUM(F25*100/E25) -> 272.88571 | H25: 80 | I25: 581 | J25: =SUM(I25*100/H25) -> 726.25 | K25: 80 | L25: 80 | M25: =SUM(L25*100/K25) -> 100
A26: สพร. 5 นครราชสีมา | B26: =SUM(B27:B30) -> 1260 | C26: =SUM(C27:C30) -> 1907 | D26: =SUM(C26*100/B26) -> 151.34921 | E26: =SUM(E27:E30) -> 100000 | F26: =SUM(F27:F30) -> 114337 | G26: =SUM(F26*100/E26) -> 114.337 | H26: =SUM(H27:H30) -> 500 | I26: =SUM(I27:I30) -> 1672 | J26: =SUM(I26*100/H26) -> 334.4 | K26: =SUM(K27:K30) -> 300 | L26: =SUM(L27:L30) -> 374 | M26: =SUM(L26*100/K26) -> 124.66667
A27: สถาบันพัฒนาฝีมือแรงงาน 5 นครราชสีมา | B27: 280 | C27: 437 | D27: =SUM(C27*100/B27) -> 156.07143 | E27: 90000 | F27: 100495 | G27: =SUM(F27*100/E27) -> 111.66111 | H27: 200 | I27: 1023 | J27: =SUM(I27*100/H27) -> 511.5 | K27: 120 | L27: 127 | M27: =SUM(L27*100/K27) -> 105.83333
A28: สำนักงานพัฒนาฝีมือแรงงานจังหวัดชัยภูมิ | B28: 320 | C28: 426 | D28: =SUM(C28*100/B28) -> 133.125 | E28: 3000 | F28: 4688 | G28: =SUM(F28*100/E28) -> 156.26667 | H28: 140 | I28: 299 | J28: =SUM(I28*100/H28) -> 213.57143 | K28: 40 | L28: 47 | M28: =SUM(L28*100/K28) -> 117.5
A29: สำนักงานพัฒนาฝีมือแรงงานจังหวัดสุรินทร์ | B29: 300 | C29: 497 | D29: =SUM(C29*100/B29) -> 165.66667 | E29: 2000 | F29: 415 | G29: =SUM(F29*100/E29) -> 20.75 | H29: 80 | I29: 176 | J29: =SUM(I29*100/H29) -> 220 | K29: 40 | L29: 40 | M29: =SUM(L29*100/K29) -> 100
A30: สำนักงานพัฒนาฝีมือแรงงานจังหวัดบุรีรัมย์ | B30: 360 | C30: 547 | D30: =SUM(C30*100/B30) -> 151.94444 | E30: 5000 | F30: 8739 | G30: =SUM(F30*100/E30) -> 174.78 | H30: 80 | I30: 174 | J30: =SUM(I30*100/H30) -> 217.5 | K30: 100 | L30: 160 | M30: =SUM(L30*100/K30) -> 160
A31: สพร. 6 ขอนแก่น | B31: =SUM(B32:B36) -> 960 | C31: =SUM(C32:C36) -> 1508 | D31: =SUM(C31*100/B31) -> 157.08333 | E31: =SUM(E32:E36) -> 14200 | F31: =SUM(F32:F36) -> 47930 | G31: =SUM(F31*100/E31) -> 337.53521 | H31: =SUM(H32:H36) -> 252 | I31: =SUM(I32:I36) -> 788 | J31: =SUM(I31*100/H31) -> 312.69841 | K31: =SUM(K32:K36) -> 420 | L31: =SUM(L32:L36) -> 582 | M31: =SUM(L31*100/K31) -> 138.57143
A32: สถาบันพัฒนาฝีมือแรงงาน 6 ขอนแก่น | B32: 420 | C32: 808 | D32: =SUM(C32*100/B32) -> 192.38095 | E32: 10000 | F32: 38042 | G32: =SUM(F32*100/E32) -> 380.42 | H32: 100 | I32: 389 | J32: =SUM(I32*100/H32) -> 389 | K32: 100 | L32: 118 | M32: =SUM(L32*100/K32) -> 118
A33: สำนักงานพัฒนาฝีมือแรงงานจังหวัดกาฬสินธุ์ | B33: 120 | C33: 135 | D33: =SUM(C33*100/B33) -> 112.5 | E33: 1000 | F33: 2903 | G33: =SUM(F33*100/E33) -> 290.3 | H33: 32 | I33: 144 | J33: =SUM(I33*100/H33) -> 450 | K33: 80 | L33: 181 | M33: =SUM(L33*100/K33) -> 226.25
A34: สำนักงานพัฒนาฝีมือแรงงานจังหวัดมุกดาหาร | B34: 80 | C34: 108 | D34: =SUM(C34*100/B34) -> 135 | E34: 800 | F34: 1941 | G34: =SUM(F34*100/E34) -> 242.625 | H34: 20 | I34: 60 | J34: =SUM(I34*100/H34) -> 300 | K34: 80 | L34: 80 | M34: =SUM(L34*100/K34) -> 100
A35: สำนักงานพัฒนาฝีมือแรงงานจังหวัดหนองบัวลำภู | B35: 160 | C35: 252 | D35: =SUM(C35*100/B35) -> 157.5 | E35: 900 | F35: 2318 | G35: =SUM(F35*100/E35) -> 257.55556 | H35: 60 | I35: 95 | J35: =SUM(I35*100/H35) -> 158.33333 | K35: 80 | L35: 98 | M35: =SUM(L35*100/K35) -> 122.5
A36: สำนักงานพัฒนาฝีมือแรงงานจังหวัดมหาสารคาม | B36: 180 | C36: 205 | D36: =SUM(C36*100/B36) -> 113.88889 | E36: 1500 | F36: 2726 | G36: =SUM(F36*100/E36) -> 181.73333 | H36: 40 | I36: 100 | J36: =SUM(I36*100/H36) -> 250 | K36: 80 | L36: 105 | M36: =SUM(L36*100/K36) -> 131.25
A37: สพร. 7 อุบลราชธานี | B37: =SUM(B38:B42) -> 2060 | C37: =SUM(C38:C42) -> 2345 | D37: =SUM(C37*100/B37) -> 113.83495 | E37: =SUM(E38:E42) -> 9750 | F37: =SUM(F38:F42) -> 22110 | G37: =SUM(F37*100/E37) -> 226.76923 | H37: =SUM(H38:H42) -> 605 | I37: =SUM(I38:I42) -> 1082 | J37: =SUM(I37*100/H37) -> 178.84298 | K37: =SUM(K38:K42) -> 400 | L37: =SUM(L38:L42) -> 563 | M37: =SUM(L37*100/K37) -> 140.75
A38: สถาบันพัฒนาฝีมือแรงงาน 7 อุบลราชธานี | B38: 820 | C38: 883 | D38: =SUM(C38*100/B38) -> 107.68293 | E38: 6000 | F38: 14832 | G38: =SUM(F38*100/E38) -> 247.2 | H38: 225 | I38: 293 | J38: =SUM(I38*100/H38) -> 130.22222 | K38: 80 | L38: 80 | M38: =SUM(L38*100/K38) -> 100
A39: สำนักงานพัฒนาฝีมือแรงงานจังหวัดศรีสะเกษ | B39: 220 | C39: 222 | D39: =SUM(C39*100/B39) -> 100.90909 | E39: 900 | F39: 2108 | G39: =SUM(F39*100/E39) -> 234.22222 | H39: 80 | I39: 147 | J39: =SUM(I39*100/H39) -> 183.75 | K39: 80 | L39: 120 | M39: =SUM(L39*100/K39) -> 150
A40: สำนักงานพัฒนาฝีมือแรงงานจังหวัดอำนาจเจริญ | B40: 220 | C40: 270 | D40: =SUM(C40*100/B40) -> 122.72727 | E40: 50 | F40: 116 | G40: =SUM(F40*100/E40) -> 232 | H40: 60 | I40: 126 | J40: =SUM(I40*100/H40) -> 210 | K40: 80 | L40: 82 | M40: =SUM(L40*100/K40) -> 102.5
A41: สำนักงานพัฒนาฝีมือแรงงานจังหวัดร้อยเอ็ด | B41: 400 | C41: 409 | D41: =SUM(C41*100/B41) -> 102.25 | E41: 2000 | F41: 3776 | G41: =SUM(F41*100/E41) -> 188.8 | H41: 60 | I41: 174 | J41: =SUM(I41*100/H41) -> 290 | K41: 80 | L41: 201 | M41: =SUM(L41*100/K41) -> 251.25
...

Sheet สรุป
A1: สรุปผลการดำเนินงานพัฒนาฝีมือแรงงานในภาพรวมทุกผลผลิต/กิจกรรม/โครงการ ปีงบประมาณ 2560
A2: ตุลาคม 2559 - กันยายน 2560
A3: เป้าหมาย 12 เดือน
A5: หน่วยงาน | B5: รวมทั้งสิ้น
B8: เป้าหมาย | C8: ผลงาน | D8: ร้อยละ
A9: รวมทั้งสิ้น | B9: =SUM('โครง 1-6'!B8+'โครง 1-6'!E8+'โครง 1-6'!H8+'โครง 1-6'!K8+'โครง 1-6'!N8+'โครง 1-6'!Q8+'โครง 8'!B9+'โครง 8'!E9+'ผลผลิตที่ และโครง 9-10'!B8+'ผลผลิตที่ และโครง 9-10'!E8+'ผลผลิตที่ และโครง 9-10'!H8+'ผลผลิตที่ และโครง 9-10'!K8) -> 3684880 | C9: =SUM('โครง 1-6'!C8+'โครง 1-6'!F8+'โครง 1-6'!I8+'โครง 1-6'!L8+'โครง 1-6'!O8+'โครง 1-6'!R8+'โครง 8'!C9+'โครง 8'!F9+'ผลผลิตที่ และโครง 9-10'!C8+'ผลผลิตที่ และโครง 9-10'!F8+'ผลผลิตที่ และโครง 9-10'!I8+'ผลผลิตที่ และโครง 9-10'!L8) -> 4265819 | D9: =SUM(C9*100/B9) -> 115.76548
A10: กลุ่มงานพัฒนาวิทยากรต้นแบบ | B10: =SUM('โครง 8'!B10) -> 700 | C10: =SUM('โครง 8'!C10) -> 812 | D10: =SUM(C10*100/B10) -> 116
A11: สถาบันยานยนต์ | B11: =SUM('โครง 8'!B11) -> 3000 | C11: =SUM('โครง 8'!C11) -> 3224 | D11: =SUM(C11*100/B11) -> 107.46667
A12: สถาบันพัฒนาทรัพยากรมนุษย์ | B12: =SUM('โครง 8'!B12+'โครง 8'!E12) -> 1000 | C12: =SUM('โครง 8'!C12+'โครง 8'!F12) -> 1287 | D12: =SUM(C12*100/B12) -> 128.7
A13: สถาบันพัฒนาฝีมือแรงงานนานาชาติเชียงแสน | B13: =SUM('โครง 1-6'!N9+'โครง 8'!E13) -> 2100 | C13: =SUM('โครง 1-6'!O9+'โครง 8'!F13) -> 2429 | D13: =SUM(C13*100/B13) -> 115.66667
A14: สำนักมาตรฐานและทดสอบฝีมือแรงงาน | B14: =SUM('โครง 8'!E14) -> 100 | C14: =SUM('โครง 8'!F14) -> 177 | D14: =SUM(C14*100/B14) -> 177
A15: สพร. 1 สมุทรปราการ | B15: =SUM('โครง 1-6'!B10+'โครง 1-6'!K10+'โครง 8'!B15+'โครง 8'!E15+'ผลผลิตที่ และโครง 9-10'!B9+'ผลผลิตที่ และโครง 9-10'!E9+'ผลผลิตที่ และโครง 9-10'!H9+'ผลผลิตที่ และโครง 9-10'!K9) -> 402410 | C15: =SUM(C16:C17) -> 491545 | D15: =SUM(C15*100/B15) -> 122.15029
A16: สถาบันพัฒนาฝีมือแรงงาน 1 สมุทรปราการ | B16: =SUM('โครง 1-6'!B11+'โครง 1-6'!K11+'โครง 8'!B16+'โครง 8'!E16+'ผลผลิตที่ และโครง 9-10'!B10+'ผลผลิตที่ และโครง 9-10'!E10+'ผลผลิตที่ และโครง 9-10'!H10+'ผลผลิตที่ และโครง 9-10'!K10) -> 320000 | C16: =SUM('โครง 1-6'!C11+'โครง 1-6'!L11+'โครง 1-6'!R11+'โครง 8'!C16+'โครง 8'!F16+'ผลผลิตที่ และโครง 9-10'!C10+'ผลผลิตที่ และโครง 9-10'!F10+'ผลผลิตที่ และโครง 9-10'!I10+'ผลผลิตที่ และโครง 9-10'!L10) -> 409366 | D16: =SUM(C16*100/B16) -> 127.92687
A17: สำนักงานพัฒนาฝีมือแรงงานจังหวัดฉะเชิงเทรา | B17: =SUM('โครง 1-6'!B12+'โครง 1-6'!K12+'โครง 8'!B17+'โครง 8'!E17+'ผลผลิตที่ และโครง 9-10'!B11+'ผลผลิตที่ และโครง 9-10'!E11+'ผลผลิตที่ และโครง 9-10'!H11+'ผลผลิตที่ และโครง 9-10'!K11) -> 82410 | C17: =SUM('โครง 1-6'!C12+'โครง 1-6'!L12+'โครง 1-6'!R12+'โครง 8'!C17+'โครง 8'!F17+'ผลผลิตที่ และโครง 9-10'!C11+'ผลผลิตที่ และโครง 9-10'!F11+'ผลผลิตที่ และโครง 9-10'!I11+'ผลผลิตที่ และโครง 9-10'!L11) -> 82179 | D17: =SUM(C17*100/B17) -> 99.719694
A18: สพร. 2 สุพรรณบุรี | B18: =SUM('โครง 1-6'!B13+'โครง 1-6'!K13+'โครง 8'!B18+'โครง 8'!E18+'ผลผลิตที่ และโครง 9-10'!B12+'ผลผลิตที่ และโครง 9-10'!E12+'ผลผลิตที่ และโครง 9-10'!H12+'ผลผลิตที่ และโครง 9-10'!K12) -> 21522 | C18: =SUM('โครง 1-6'!C13+'โครง 1-6'!L13+'โครง 1-6'!R13+'โครง 8'!C18+'โครง 8'!F18+'ผลผลิตที่ และโครง 9-10'!C12+'ผลผลิตที่ และโครง 9-10'!F12+'ผลผลิตที่ และโครง 9-10'!I12+'ผลผลิตที่ และโครง 9-10'!L12) -> 28537 | D18: =SUM(C18*100/B18) -> 132.59455
A19: สถาบันพัฒนาฝีมือแรงงาน 2 สุพรรณบุรี | B19: =SUM('โครง 1-6'!B14+'โครง 1-6'!K14+'โครง 8'!B19+'โครง 8'!E19+'ผลผลิตที่ และโครง 9-10'!B13+'ผลผลิตที่ และโครง 9-10'!E13+'ผลผลิตที่ และโครง 9-10'!H13+'ผลผลิตที่ และโครง 9-10'!K13) -> 7948 | C19: =SUM('โครง 1-6'!C14+'โครง 1-6'!L14+'โครง 1-6'!R14+'โครง 8'!C19+'โครง 8'!F19+'ผลผลิตที่ และโครง 9-10'!C13+'ผลผลิตที่ และโครง 9-10'!F13+'ผลผลิตที่ และโครง 9-10'!I13+'ผลผลิตที่ และโครง 9-10'!L13) -> 11030 | D19: =SUM(C19*100/B19) -> 138.77705
A20: สำนักงานพัฒนาฝีมือแรงงานจังหวัดสิงห์บุรี | B20: =SUM('โครง 1-6'!B15+'โครง 1-6'!K15+'โครง 8'!B20+'โครง 8'!E20+'ผลผลิตที่ และโครง 9-10'!B14+'ผลผลิตที่ และโครง 9-10'!E14+'ผลผลิตที่ และโครง 9-10'!H14+'ผลผลิตที่ และโครง 9-10'!K14) -> 7428 | C20: =SUM('โครง 1-6'!C15+'โครง 1-6'!L15+'โครง 1-6'!R15+'โครง 8'!C20+'โครง 8'!F20+'ผลผลิตที่ และโครง 9-10'!C14+'ผลผลิตที่ และโครง 9-10'!F14+'ผลผลิตที่ และโครง 9-10'!I14+'ผลผลิตที่ และโครง 9-10'!L14) -> 8557 | D20: =SUM(C20*100/B20) -> 115.19925
A21: สำนักงานพัฒนาฝีมือแรงงานจังหวัดชัยนาท | B21: =SUM('โครง 1-6'!B16+'โครง 1-6'!K16+'โครง 8'!B21+'โครง 8'!E21+'ผลผลิตที่ และโครง 9-10'!B15+'ผลผลิตที่ และโครง 9-10'!E15+'ผลผลิตที่ และโครง 9-10'!H15+'ผลผลิตที่ และโครง 9-10'!K15) -> 3126 | C21: =SUM('โครง 1-6'!C16+'โครง 1-6'!L16+'โครง 1-6'!R16+'โครง 8'!C21+'โครง 8'!F21+'ผลผลิตที่ และโครง 9-10'!C15+'ผลผลิตที่ และโครง 9-10'!F15+'ผลผลิตที่ และโครง 9-10'!I15+'ผลผลิตที่ และโครง 9-10'!L15) -> 5345 | D21: =SUM(C21*100/B21) -> 170.98528
A22: สำนักงานพัฒนาฝีมือแรงงานจังหวัดอุทัยธานี | B22: =SUM('โครง 1-6'!B17+'โครง 1-6'!K17+'โครง 8'!B22+'โครง 8'!E22+'ผลผลิตที่ และโครง 9-10'!B16+'ผลผลิตที่ และโครง 9-10'!E16+'ผลผลิตที่ และโครง 9-10'!H16+'ผลผลิตที่ และโครง 9-10'!K16) -> 3020 | C22: =SUM('โครง 1-6'!C17+'โครง 1-6'!L17+'โครง 1-6'!R17+'โครง 8'!C22+'โครง 8'!F22+'ผลผลิตที่ และโครง 9-10'!C16+'ผลผลิตที่ และโครง 9-10'!F16+'ผลผลิตที่ และโครง 9-10'!I16+'ผลผลิตที่ และโครง 9-10'!L16) -> 3605 | D22: =SUM(C22*100/B22) -> 119.37086
A23: สพร. 3 ชลบุรี | B23: =SUM('โครง 1-6'!B18+'โครง 1-6'!H18+'โครง 1-6'!K18+'โครง 8'!B23+'โครง 8'!E23+'ผลผลิตที่ และโครง 9-10'!B17+'ผลผลิตที่ และโครง 9-10'!E17+'ผลผลิตที่ และโครง 9-10'!H17+'ผลผลิตที่ และโครง 9-10'!K17) -> 285650 | C23: =SUM('โครง 1-6'!C18+'โครง 1-6'!I18+'โครง 1-6'!L18+'โครง 1-6'!R18+'โครง 8'!C23+'โครง 8'!F23+'ผลผลิตที่ และโครง 9-10'!C17+'ผลผลิตที่ และโครง 9-10'!F17+'ผลผลิตที่ และโครง 9-10'!I17+'ผลผลิตที่ และโครง 9-10'!L17) -> 423287 | D23: =SUM(C23*100/B23) -> 148.18379
A24: สถาบันพัฒนาฝีมือแรงงาน 3 ชลบุรี | B24: =SUM('โครง 1-6'!B19+'โครง 1-6'!H19+'โครง 1-6'!K19+'โครง 8'!B24+'โครง 8'!E24+'ผลผลิตที่ และโครง 9-10'!B18+'ผลผลิตที่ และโครง 9-10'!E18+'ผลผลิตที่ และโครง 9-10'!H18+'ผลผลิตที่ และโครง 9-10'!K18) -> 230715 | C24: =SUM('โครง 1-6'!C19+'โครง 1-6'!I19+'โครง 1-6'!L19+'โครง 1-6'!R19+'โครง 8'!C24+'โครง 8'!F24+'ผลผลิตที่ และโครง 9-10'!C18+'ผลผลิตที่ และโครง 9-10'!F18+'ผลผลิตที่ และโครง 9-10'!I18+'ผลผลิตที่ และโครง 9-10'!L18) -> 336462 | D24: =SUM(C24*100/B24) -> 145.83447
A25: ศูนย์พัฒนาฝีมือแรงงานจังหวัดปราจีนบุรี | B25: =SUM('โครง 1-6'!B20+'โครง 1-6'!H20+'โครง 1-6'!K20+'โครง 8'!B25+'โครง 8'!E25+'ผลผลิตที่ และโครง 9-10'!B19+'ผลผลิตที่ และโครง 9-10'!E19+'ผลผลิตที่ และโครง 9-10'!H19+'ผลผลิตที่ และโครง 9-10'!K19) -> 49020 | C25: =SUM('โครง 1-6'!C20+'โครง 1-6'!I20+'โครง 1-6'!L20+'โครง 1-6'!R20+'โครง 8'!C25+'โครง 8'!F25+'ผลผลิตที่ และโครง 9-10'!C19+'ผลผลิตที่ และโครง 9-10'!F19+'ผลผลิตที่ และโครง 9-10'!I19+'ผลผลิตที่ และโครง 9-10'!L19) -> 78756 | D25: =SUM(C25*100/B25) -> 160.66095
A26: ศูนย์พัฒนาฝีมือแรงงานจังหวัดสระแก้ว | B26: =SUM('โครง 1-6'!B21+'โครง 1-6'!H21+'โครง 1-6'!K21+'โครง 8'!B26+'โครง 8'!E26+'ผลผลิตที่ และโครง 9-10'!B20+'ผลผลิตที่ และโครง 9-10'!E20+'ผลผลิตที่ และโครง 9-10'!H20+'ผลผลิตที่ และโครง 9-10'!K20) -> 5915 | C26: =SUM('โครง 1-6'!C21+'โครง 1-6'!I21+'โครง 1-6'!L21+'โครง 1-6'!R21+'โครง 8'!C26+'โครง 8'!F26+'ผลผลิตที่ และโครง 9-10'!C20+'ผลผลิตที่ และโครง 9-10'!F20+'ผลผลิตที่ และโครง 9-10'!I20+'ผลผลิตที่ และโครง 9-10'!L20) -> 8069 | D26: =SUM(C26*100/B26) -> 136.41589
A27: สพร. 4 ราชบุรี | B27: =SUM('โครง 1-6'!B22+'โครง 1-6'!H22+'โครง 1-6'!K22+'โครง 8'!B27+'โครง 8'!E27+'ผลผลิตที่ และโครง 9-10'!B21+'ผลผลิตที่ และโครง 9-10'!E21+'ผลผลิตที่ และโครง 9-10'!H21+'ผลผลิตที่ และโครง 9-10'!K21) -> 54316 | C27: =SUM('โครง 1-6'!C22+'โครง 1-6'!I22+'โครง 1-6'!L22+'โครง 1-6'!R22+'โครง 8'!C27+'โครง 8'!F27+'ผลผลิตที่ และโครง 9-10'!C21+'ผลผลิตที่ และโครง 9-10'!F21+'ผลผลิตที่ และโครง 9-10'!I21+'ผลผลิตที่ และโครง 9-10'!L21) -> 94732 | D27: =SUM(C27*100/B27) -> 174.40901
A28: สถาบันพัฒนาฝีมือแรงงาน 4 ราชบุรี | B28: =SUM('โครง 1-6'!B23+'โครง 1-6'!H23+'โครง 1-6'!K23+'โครง 8'!B28+'โครง 8'!E28+'ผลผลิตที่ และโครง 9-10'!B22+'ผลผลิตที่ และโครง 9-10'!E22+'ผลผลิตที่ และโครง 9-10'!H22+'ผลผลิตที่ และโครง 9-10'!K22) -> 24006 | C28: =SUM('โครง 1-6'!C23+'โครง 1-6'!I23+'โครง 1-6'!L23+'โครง 1-6'!R23+'โครง 8'!C28+'โครง 8'!F28+'ผลผลิตที่ และโครง 9-10'!C22+'ผลผลิตที่ และโครง 9-10'!F22+'ผลผลิตที่ และโครง 9-10'!I22+'ผลผลิตที่ และโครง 9-10'!L22) -> 40600 | D28: =SUM(C28*100/B28) -> 169.12439
A29: สำนักงานพัฒนาฝีมือแรงงานจังหวัดเพชรบุรี | B29: =SUM('โครง 1-6'!B24+'โครง 1-6'!H24+'โครง 1-6'!K24+'โครง 8'!B29+'โครง 8'!E29+'ผลผลิตที่ และโครง 9-10'!B23+'ผลผลิตที่ และโครง 9-10'!E23+'ผลผลิตที่ และโครง 9-10'!H23+'ผลผลิตที่ และโครง 9-10'!K23) -> 8570 | C29: =SUM('โครง 1-6'!C24+'โครง 1-6'!I24+'โครง 1-6'!L24+'โครง 1-6'!R24+'โครง 8'!C29+'โครง 8'!F29+'ผลผลิตที่ และโครง 9-10'!C23+'ผลผลิตที่ และโครง 9-10'!F23+'ผลผลิตที่ และโครง 9-10'!I23+'ผลผลิตที่ และโครง 9-10'!L23) -> 12860 | D29: =SUM(C29*100/B29) -> 150.05834
A30: สำนักงานพัฒนาฝีมือแรงงานจังหวัดกาญจนบุรี | B30: =SUM('โครง 1-6'!B25+'โครง 1-6'!H25+'โครง 1-6'!K25+'โครง 8'!B30+'โครง 8'!E30+'ผลผลิตที่ และโครง 9-10'!B24+'ผลผลิตที่ และโครง 9-10'!E24+'ผลผลิตที่ และโครง 9-10'!H24+'ผลผลิตที่ และโครง 9-10'!K24) -> 13170 | C30: =SUM('โครง 1-6'!C25+'โครง 1-6'!I25+'โครง 1-6'!L25+'โครง 1-6'!R25+'โครง 8'!C30+'โครง 8'!F30+'ผลผลิตที่ และโครง 9-10'!C24+'ผลผลิตที่ และโครง 9-10'!F24+'ผลผลิตที่ และโครง 9-10'!I24+'ผลผลิตที่ และโครง 9-10'!L24) -> 19060 | D30: =SUM(C30*100/B30) -> 144.72285
A31: สำนักงานพัฒนาฝีมือแรงงานจังหวัดประจวบคีรีขันธ์ | B31: =SUM('โครง 1-6'!B26+'โครง 1-6'!H26+'โครง 1-6'!K26+'โครง 8'!B31+'โครง 8'!E31+'ผลผลิตที่ และโครง 9-10'!B25+'ผลผลิตที่ และโครง 9-10'!E25+'ผลผลิตที่ และโครง 9-10'!H25+'ผลผลิตที่ และโครง 9-10'!K25) -> 8570 | C31: =SUM('โครง 1-6'!C26+'โครง 1-6'!I26+'โครง 1-6'!L26+'โครง 1-6'!R26+'โครง 8'!C31+'โครง 8'!F31+'ผลผลิตที่ และโครง 9-10'!C25+'ผลผลิตที่ และโครง 9-10'!F25+'ผลผลิตที่ และโครง 9-10'!I25+'ผลผลิตที่ และโครง 9-10'!L25) -> 22212 | D31: =SUM(C31*100/B31) -> 259.1832
A32: สพร. 5 นครราชสีมา | B32: =SUM('โครง 1-6'!B27+'โครง 1-6'!K27+'โครง 8'!B32+'โครง 8'!E32+'ผลผลิตที่ และโครง 9-10'!B26+'ผลผลิตที่ และโครง 9-10'!E26+'ผลผลิตที่ และโครง 9-10'!H26+'ผลผลิตที่ และโครง 9-10'!K26) -> 109629 | C32: =SUM('โครง 1-6'!C27+'โครง 1-6'!L27+'โครง 1-6'!R27+'โครง 8'!C32+'โครง 8'!F32+'ผลผลิตที่ และโครง 9-10'!C26+'ผลผลิตที่ และโครง 9-10'!F26+'ผลผลิตที่ และโครง 9-10'!I26+'ผลผลิตที่ และโครง 9-10'!L26) -> 130773 | D32: =SUM(C32*100/B32) -> 119.28687
A33: สถาบันพัฒนาฝีมือแรงงาน 5 นครราชสีมา | B33: =SUM('โครง 1-6'!B28+'โครง 1-6'!K28+'โครง 8'!B33+'โครง 8'!E33+'ผลผลิตที่ และโครง 9-10'!B27+'ผลผลิตที่ และโครง 9-10'!E27+'ผลผลิตที่ และโครง 9-10'!H27+'ผลผลิตที่ และโครง 9-10'!K27) -> 93999 | C33: =SUM('โครง 1-6'!C28+'โครง 1-6'!L28+'โครง 1-6'!R28+'โครง 8'!C33+'โครง 8'!F33+'ผลผลิตที่ และโครง 9-10'!C27+'ผลผลิตที่ และโครง 9-10'!F27+'ผลผลิตที่ และโครง 9-10'!I27+'ผลผลิตที่ และโครง 9-10'!L27) -> 107501 | D33: =SUM(C33*100/B33) -> 114.36398
A34: สำนักงานพัฒนาฝีมือแรงงานจังหวัดชัยภูมิ | B34: =SUM('โครง 1-6'!B29+'โครง 1-6'!K29+'โครง 8'!B34+'โครง 8'!E34+'ผลผลิตที่ และโครง 9-10'!B28+'ผลผลิตที่ และโครง 9-10'!E28+'ผลผลิตที่ และโครง 9-10'!H28+'ผลผลิตที่ และโครง 9-10'!K28) -> 4770 | C34: =SUM('โครง 1-6'!C29+'โครง 1-6'!L29+'โครง 1-6'!R29+'โครง 8'!C34+'โครง 8'!F34+'ผลผลิตที่ และโครง 9-10'!C28+'ผลผลิตที่ และโครง 9-10'!F28+'ผลผลิตที่ และโครง 9-10'!I28+'ผลผลิตที่ และโครง 9-10'!L28) -> 7939 | D34: =SUM(C34*100/B34) -> 166.43606
A35: สำนักงานพัฒนาฝีมือแรงงานจังหวัดสุรินทร์ | B35: =SUM('โครง 1-6'!B30+'โครง 1-6'!K30+'โครง 8'!B35+'โครง 8'!E35+'ผลผลิตที่ และโครง 9-10'!B29+'ผลผลิตที่ และโครง 9-10'!E29+'ผลผลิตที่ และโครง 9-10'!H29+'ผลผลิตที่ และโครง 9-10'!K29) -> 3610 | C35: =SUM('โครง 1-6'!C30+'โครง 1-6'!L30+'โครง 1-6'!R30+'โครง 8'!C35+'โครง 8'!F35+'ผลผลิตที่ และโครง 9-10'!C29+'ผลผลิตที่ และโครง 9-10'!F29+'ผลผลิตที่ และโครง 9-10'!I29+'ผลผลิตที่ และโครง 9-10'!L29) -> 3043 | D35: =SUM(C35*100/B35) -> 84.293629
A36: สำนักงานพัฒนาฝีมือแรงงานจังหวัดบุรีรัมย์ | B36: =SUM('โครง 1-6'!B31+'โครง 1-6'!K31+'โครง 8'!B36+'โครง 8'!E36+'ผลผลิตที่ และโครง 9-10'!B30+'ผลผลิตที่ และโครง 9-10'!E30+'ผลผลิตที่ และโครง 9-10'!H30+'ผลผลิตที่ และโครง 9-10'!K30) -> 7250 | C36: =SUM('โครง 1-6'!C31+'โครง 1-6'!L31+'โครง 1-6'!R31+'โครง 8'!C36+'โครง 8'!F36+'ผลผลิตที่ และโครง 9-10'!C30+'ผลผลิตที่ และโครง 9-10'!F30+'ผลผลิตที่ และโครง 9-10'!I30+'ผลผลิตที่ และโครง 9-10'!L30) -> 12290 | D36: =SUM(C36*100/B36) -> 169.51724
A37: สพร. 6 ขอนแก่น | B37: =SUM('โครง 1-6'!B32+'โครง 1-6'!H32+'โครง 1-6'!K32+'โครง 8'!B37+'โครง 8'!E37+'ผลผลิตที่ และโครง 9-10'!B31+'ผลผลิตที่ และโครง 9-10'!E31+'ผลผลิตที่ และโครง 9-10'!H31+'ผลผลิตที่ และโครง 9-10'!K31) -> 25590 | C37: =SUM('โครง 1-6'!C32+'โครง 1-6'!I32+'โครง 1-6'!L32+'โครง 1-6'!R32+'โครง 8'!C37+'โครง 8'!F37+'ผลผลิตที่ และโครง 9-10'!C31+'ผลผลิตที่ และโครง 9-10'!F31+'ผลผลิตที่ และโครง 9-10'!I31+'ผลผลิตที่ และโครง 9-10'!L31) -> 64947 | D37: =SUM(C37*100/B37) -> 253.79836
A38: สถาบันพัฒนาฝีมือแรงงาน 6 ขอนแก่น | B38: =SUM('โครง 1-6'!B33+'โครง 1-6'!H33+'โครง 1-6'!K33+'โครง 8'!B38+'โครง 8'!E38+'ผลผลิตที่ และโครง 9-10'!B32+'ผลผลิตที่ และโครง 9-10'!E32+'ผลผลิตที่ และโครง 9-10'!H32+'ผลผลิตที่ และโครง 9-10'!K32) -> 14580 | C38: =SUM('โครง 1-6'!C33+'โครง 1-6'!I33+'โครง 1-6'!L33+'โครง 1-6'!R33+'โครง 8'!C38+'โครง 8'!F38+'ผลผลิตที่ และโครง 9-10'!C32+'ผลผลิตที่ และโครง 9-10'!F32+'ผลผลิตที่ และโครง 9-10'!I32+'ผลผลิตที่ และโครง 9-10'!L32) -> 45333 | D38: =SUM(C38*100/B38) -> 310.92593
A39: สำนักงานพัฒนาฝีมือแรงงานจังหวัดกาฬสินธุ์ | B39: =SUM('โครง 1-6'!B34+'โครง 1-6'!H34+'โครง 1-6'!K34+'โครง 8'!B39+'โครง 8'!E39+'ผลผลิตที่ และโครง 9-10'!B33+'ผลผลิตที่ และโครง 9-10'!E33+'ผลผลิตที่ และโครง 9-10'!H33+'ผลผลิตที่ และโครง 9-10'!K33) -> 2276 | C39: =SUM('โครง 1-6'!C34+'โครง 1-6'!I34+'โครง 1-6'!L34+'โครง 1-6'!R34+'โครง 8'!C39+'โครง 8'!F39+'ผลผลิตที่ และโครง 9-10'!C33+'ผลผลิตที่ และโครง 9-10'!F33+'ผลผลิตที่ และโครง 9-10'!I33+'ผลผลิตที่ และโครง 9-10'!L33) -> 5204 | D39: =SUM(C39*100/B39) -> 228.64675
A40: สำนักงานพัฒนาฝีมือแรงงานจังหวัดมุกดาหาร | B40: =SUM('โครง 1-6'!B35+'โครง 1-6'!H35+'โครง 1-6'!K35+'โครง 8'!B40+'โครง 8'!E40+'ผลผลิตที่ และโครง 9-10'!B34+'ผลผลิตที่ และโครง 9-10'!E34+'ผลผลิตที่ และโครง 9-10'!H34+'ผลผลิตที่ และโครง 9-10'!K34) -> 3500 | C40: =SUM('โครง 1-6'!C35+'โครง 1-6'!I35+'โครง 1-6'!L35+'โครง 1-6'!R35+'โครง 8'!C40+'โครง 8'!F40+'ผลผลิตที่ และโครง 9-10'!C34+'ผลผลิตที่ และโครง 9-10'!F34+'ผลผลิตที่ และโครง 9-10'!I34+'ผลผลิตที่ และโครง 9-10'!L34) -> 5519 | D40: =SUM(C40*100/B40) -> 157.68571
A41: สำนักงานพัฒนาฝีมือแรงงานจังหวัดหนองบัวลำภู | B41: =SUM('โครง 1-6'!B36+'โครง 1-6'!H36+'โครง 1-6'!K36+'โครง 8'!B41+'โครง 8'!E41+'ผลผลิตที่ และโครง 9-10'!B35+'ผลผลิตที่ และโครง 9-10'!E35+'ผลผลิตที่ และโครง 9-10'!H35+'ผลผลิตที่ และโครง 9-10'!K35) -> 2184 | C41: =SUM('โครง 1-6'!C36+'โครง 1-6'!I36+'โครง 1-6'!L36+'โครง 1-6'!R36+'โครง 8'!C41+'โครง 8'!F41+'ผลผลิตที่ และโครง 9-10'!C35+'ผลผลิตที่ และโครง 9-10'!F35+'ผลผลิตที่ และโครง 9-10'!I35+'ผลผลิตที่ และโครง 9-10'!L35) -> 4089 | D41: =SUM(C41*100/B41) -> 187.22527
A42: สำนักงานพัฒนาฝีมือแรงงานจังหวัดมหาสารคาม | B42: =SUM('โครง 1-6'!B37+'โครง 1-6'!H37+'โครง 1-6'!K37+'โครง 8'!B42+'โครง 8'!E42+'ผลผลิตที่ และโครง 9-10'!B36+'ผลผลิตที่ และโครง 9-10'!E36+'ผลผลิตที่ และโครง 9-10'!H36+'ผลผลิตที่ และโครง 9-10'!K36) -> 3050 | C42: =SUM('โครง 1-6'!C37+'โครง 1-6'!I37+'โครง 1-6'!L37+'โครง 1-6'!R37+'โครง 8'!C42+'โครง 8'!F42+'ผลผลิตที่ และโครง 9-10'!C36+'ผลผลิตที่ และโครง 9-10'!F36+'ผลผลิตที่ และโครง 9-10'!I36+'ผลผลิตที่ และโครง 9-10'!L36) -> 4802 | D42: =SUM(C42*100/B42) -> 157.44262
A43: สพร. 7 อุบลราชธานี | B43: =SUM('โครง 1-6'!B38+'โครง 1-6'!K38+'โครง 8'!B43+'โครง 8'!E43+'ผลผลิตที่ และโครง 9-10'!B37+'ผลผลิตที่ และโครง 9-10'!E37+'ผลผลิตที่ และโครง 9-10'!H37+'ผลผลิตที่ และโครง 9-10'!K37) -> 20925 | C43: =SUM('โครง 1-6'!C38+'โครง 1-6'!L38+'โครง 1-6'!R38+'โครง 8'!C43+'โครง 8'!F43+'ผลผลิตที่ และโครง 9-10'!C37+'ผลผลิตที่ และโครง 9-10'!F37+'ผลผลิตที่ และโครง 9-10'!I37+'ผลผลิตที่ และโครง 9-10'!L37) -> 36490 | D43: =SUM(C43*100/B43) -> 174.38471
...

Sheet Sheet2

Sheet Sheet11
A1: รวม สพร.1 | C1: ศพจ. | D1: ตาก | E1: สพร. 18 | F1: อุดรธานี
A2: สพร. | B2: 1 สมุทรปราการ | C2: รวม สพร. 9 | E2: ศพจ. | F2: หนองคาย
A3: ศพจ. | B3: ฉะเชิงเทรา | C3: สพร. 9 | D3: พิษณุโลก | E3: ศพจ. | F3: บึงกาฬ
A4: รวม สพร. 2 | C4: ศพจ. | D4: เลย | E4: ศพจ. | F4: สกลนคร
A5: สพร.2 | B5: สุพรรณบุรี | C5: ศพจ. | D5: เพชรบูรณ์ | E5: ศพจ. | F5: นครพนม
A6: ศพจ. | B6: สิงห์บุรี | C6: ศพจ. | D6: อุตรดิตถ์ | E6: รวม สพร. 19
A7: ศพจ. | B7: ชัยนาท | C7: ศพจ. | D7: สุโขทัย | E7: สพร. 19 | F7: เชียงใหม่
A8: ศพจ. | B8: อุทัยธานี | C8: รวม สพร. 10 | E8: ศพจ. | F8: แม่ฮ่องสอน
A9: รวม สพร. 3 | C9: สพร. 10 | D9: ลำปาง | E9: รวม สพร. 20
A10: สพร.3 | B10: ชลบุรี | C10: ศพจ. | D10: ลำพูน | E10: สพร. 20 | F10: เชียงราย
A11: ศพจ. | B11: ปราจีนบุรี | C11: ศพจ. | D11: แพร่ | E11: ศพจ. | F11: พะเยา
A12: ศพจ. | B12: สระแก้ว | C12: รวม สพร. 11 | E12: ศพจ. | F12: น่าน
A13: รวม สพร. 4 | C13: สพร. 11 | D13: สุราษฎร์ธานี | E13: รวม สพร. 21
A14: สพร.4 | B14: ราชบุรี | C14: ศพจ. | D14: ชุมพร | E14: สพร. 21 | F14: ภูเก็ต
A15: ศพจ. | B15: เพชรบุรี | C15: ศพจ. | D15: ระนอง | E15: ศพจ. | F15: พังงา
A16: ศพจ. | B16: กาญจนบุรี | C16: รวม สพร. 12 | E16: ศพจ. | F16: กระบี่
A17: ศพจ. | B17: ประจวบคีรีขันธ์ | C17: สพร. 12 | D17: สงขลา | E17: รวม สพร. 22
A18: รวม สพร. 5 | C18: ศพจ. | D18: สตูล | E18: สพร. 22 | F18: นครศรีธรรมราช
A19: สพร.5 | B19: นครราชสีมา | C19: รวม สพร. 13 | E19: ศพจ. | F19: พัทลุง
A20: ศพจ. | B20: ชัยภูมิ | C20: สพร. 13 | D20: กรุงเทพฯ | E20: ศพจ. | F20: ตรัง
A21: ศพจ. | B21: สุรินทร์ | C21: รวม สพร.14 | E21: สพร. 23 ปัตตานี
A22: ศพจ. | B22: บุรีรัมย์ | C22: สพร. 14 | D22: ปทุมธานี | E22: สพร. 24 ยะลา
A23: รวม สพร. 6 | C23: ศพจ. | D23: นนทบุรี | E23: สพร. 25 นราธิวาส
A24: สพร.6 | B24: ขอนแก่น | C24: ศพจ. | D24: นครนายก
A25: ศพจ. | B25: กาฬสินธุ์ | C25: รวม สพร. 15
A26: ศพจ. | B26: มุกดาหาร | C26: สพร. 15 | D26: พระนครศรีอยุธยา
A27: ศพจ. | B27: หนองบัวลำภู | C27: ศพจ. | D27: อ่างทอง
A28: ศพจ. | B28: มหาสารคาม | C28: ศพจ. | D28: สระบุรี
A29: รวม สพร.7 | C29: ศพจ. | D29: ลพบุรี
A30: สพร.7 | B30: อุบลราชธานี | C30: รวม สพร. 16
A31: ศพจ. | B31: ศรีสะเกษ | C31: สพร. 16 | D31: นครปฐม
A32: ศพจ. | B32: อำนาจเจริญ | C32: ศพจ. | D32: สมุทรสาคร
A33: ศพจ. | B33: ร้อยเอ็ด | C33: ศพจ. | D33: สมุทรสงคราม
A34: ศพจ. | B34: ยโสธร | C34: รวม สพร. 17
A35: รวม สพร. 8 | C35: สพร. 17 | D35: ระยอง
A36: สพร.8 | B36: นครสวรรค์ | C36: ศพจ. | D36: จันทบุรี
A37: ศพจ. | B37: พิจิตร | C37: ศพจ. | D37: ตราด
A38: ศพจ. | B38: กำแพงเพชร | C38: รวม สพร. 18
