Workbook

Sheet ส่วนกลาง
A1: รายงานผลการใช้จ่ายงบประมาณ ประจำปีงบประมาณ พ.ศ. 2561 (ส่วนกลาง)
A2: หน่วยงาน.................................................
A3: ณ ........................................... | P3: (บช1/61)
C5: แผนงานยุทธศาสตร์ พัฒนาและยกระดับผลิตภาพแรงงาน | I5: แผนงานพื้นฐาน ด้านการสร้างความสามารถในการแข่งขันของประเทศ | P5: บุคลากรภาครัฐ
D6: โครงการ ยกระดับแรงงานไทยให้ได้มาตรฐานฝีมือแรงงานเพื่อรองรับการแข่งขัน | I6: ผลผลิต พัฒนา/ขับเคลื่อนความร่วมมือเครือข่าย และส่งเสริมการพัฒนาฝีมือแรงงาน
A8: งบรายจ่าย/รายการ | B8: รวม | C8: โครงการควบคุมและกำกับ | D8: ก. ทอสอบมาตรฐาน | E8: ก. ส่งเสริมมาตรฐาน | F8: ก. พัฒนาศัยยภาพแรงงาน | G8: ก. พัฒนาศักยภาพ | H8: ก. จัดตั้งศูนย์ | I8: ก. พัฒนาระบบการฝึก | J8: ก. ส่งเสริมและสนับสนุน | K8: ก. จัดทำหลักเกณฑ์ | L8: ก. พัฒนาช่างเครื่องช่วย | M8: ก. ขับเคลื่อนยุทธศาสตร์ | N8: ก. พัฒนาฝีมือแรงงาน | O8: ก. เพิ่มประสิทธิภาพ | P8: ก. พัฒนาและยกระดับ
C9: ดูแลการประกอบอาชีพที่อาจ | D9: ฝีมือแรงงานให้มี | E9: ฝีมือแรงงานแห่งชาติ | F9: เพื่อรองรับการจ่ายค่าจ้าง | G9: มาตรฐานฝีมือ | H9: ทดสอบมาตรฐาน | I9: อบรมฝีมือแรงงาน | J9: ให้สถานประกอบกิจการ | K9: พัฒนาระบบ | L9: คนพิการกับมูลนิธิ | M9: การพัฒนากำลังคน | N9: นานาชาติ | O9: แรงงานไทย | P9: ผลิตภาพแรงงาน
C10: เป็นอันตรายต่อสาธารณะฯ | D10: สมรรถนะ | F10: ตามมาตรฐาน | G10: แรงงานไทย | H10: ฝืมือแรงงาน | J10: ดำเนินการพัฒนา | K10: ส่งเสริมและรับรอง | L10: ขาเทียม | M10: ระดับชาติรองรับ | P10: แรงงาน
G11: ในต่างประเทศ | J11: ฝีมือแรงงาน | K11: มาตรฐานฝีมือแรงงาน | M11: การพัฒนาอุตสาหกรรมฯ
C12: M2562 | D12: M2564 | E12: M2565 | F12: M2566 | G12: M2567 | H12: M2568 | I12: M2570 | J12: M2571 | K12: M2572 | L12: M2573 | M12: M2574 | N12: L2891 | O12: L2895 | P12: M2569
A13: งบดำเนินงาน | B13: =SUM(C13:P13) -> 0 | C13: =+C14+C65 -> 0 | D13: =+D14+D65 -> 0 | E13: =+E14+E65 -> 0 | F13: =+F14+F65 -> 0 | G13: =+G14+G65 -> 0 | H13: =+H14+H65 -> 0 | I13: =+I14+I65 -> 0 | J13: =+J14+J65 -> 0 | ... P13: =+P14+P65 -> 0
A14: 1. ค่าตอบแทนใช้สอยและวัสดุ | B14: =SUM(C14:P14) -> 0 | C14: =+C15+C25+C34+C56 -> 0 | D14: =+D15+D25+D34+D56 -> 0 | E14: =+E15+E25+E34+E56 -> 0 | F14: =+F15+F25+F34+F56 -> 0 | G14: =+G15+G25+G34+G56 -> 0 | H14: =+H15+H25+H34+H56 -> 0 | I14: =+I15+I25+I34+I56 -> 0 | J14: =+J15+J25+J34+J56 -> 0 | ... P14: =+P15+P25+P34+P56 -> 0
A15: - ค่าตอบแทน | B15: =SUM(C15:P15) -> 0 | C15: =SUM(C16:C24) -> 0 | D15: =SUM(D16:D24) -> 0 | E15: =SUM(E16:E24) -> 0 | F15: =SUM(F16:F24) -> 0 | G15: =SUM(G16:G24) -> 0 | H15: =SUM(H16:H24) -> 0 | I15: =SUM(I16:I24) -> 0 | J15: =SUM(J16:J24) -> 0 | ... P15: =SUM(P16:P24) -> 0
A16: - ค่าเช่าบ้าน
A17: - เงินตอบแทนพิเศษของข้าราชการผู้ได้รับเงินเดือนขั้นสูงของอันดับ
A18: - เงินตอบแทนพิเศษของลูกจ้างประจำผู้ได้รับค่าจ้างถึงขั้นสูงของตำแหน่ง
A19: - เงินตอบแทนเหมาจ่ายแทนการจัดหารถประจำตำแหน่ง
A20: - เงินตอบแทนพิเศษของพนักงานราชการ (อัตราเดิม)
A21: - เงินตอบแทนการปฏิบัติงานนอกราชการ
A22: - ค่าตอบแทนผู้ปฏิบัติงานให้ราชการ (กรรมการตรวจการสอบ
A23: สัมภาษณ์ คุมสอบ วิทยากรในการประชุม ตรวจการจ้าง ควบคุมงาน)
A24: - ค่าเบี้ยประชุมกรรมการ (ประธาน กรรมการ อนุกรรมการ
A25: - ค่าใช้สอย | B25: =SUM(C25:P25) -> 0 | C25: =SUM(C26:C33) -> 0 | D25: =SUM(D26:D33) -> 0 | E25: =SUM(E26:E33) -> 0 | F25: =SUM(F26:F33) -> 0 | G25: =SUM(G26:G33) -> 0 | H25: =SUM(H26:H33) -> 0 | I25: =SUM(I26:I33) -> 0 | J25: =SUM(J26:J33) -> 0 | ... P25: =SUM(P26:P33) -> 0
A26: - ค่าเช่าทรัพย์สิน | O26: =+[1]สมุทรปราการ!Q30+[1]ฉะเชิงเทรา!Q30+[1]สุพรรณ!Q30+[1]สิงห์บุรี!Q30+[1]ชัยนาท!Q30+[1]อุทัย!Q30+[1]ชลบุรี!Q30+[1]ปราจีน!Q30+[1]สระแก้ว!Q30+[1]ราชบุรี!Q30+[1]เพชรบุรี!Q30+[1]กาญจนบุรี!Q30+[1]ประจวบ!Q30+[1]นครราชสีมา!Q30+[1]ชัยภูมิ!Q30+[1]สุรินทร์!Q30+[1]บุรีรัมย์!Q30+[1]ขอนแก่น!Q30+[1]กาฬสินทร์!Q30+[1]มุกดาหาร!Q30+[1]หนองบัว!Q30+[1]มหาสารคราม!Q30+[1]อุบล!Q30+[1]ศรีสะเกษ!Q30+[1]อำนาจ!Q30+[1]ร้อยเอ็ด!Q30+[1]ยโสธร!Q30+[1]นครสวรรค์!Q30+[1]พิจิตร!Q30+[1]กำแพงเพชร!Q30+[1]ตาก!Q30+[1]พิษณุโลก!Q30+[1]เลย!Q30+[1]เพชรบูลย์!Q30+[1]อุดรดิต!Q30+[1]สุโขทัย!Q30+[1]ลำปาง!Q30+[1]ลำพูน!Q30+[1]แพร่!Q30+[1]สุราษ!Q30+[1]ชุมพร!Q30+[1]ระนอง!Q30+[1]สงขลา!Q30+[1]สตูล!Q30+[1]กรุงเทพ!Q30+[1]ปทุม!Q30+[1]นนทบุรี!Q30+[1]นครนายก!Q30+[1]อยุธยา!Q30+[1]อ่างทอง!Q30+[1]สระบุรี!Q30+[1]ลพบุรี!Q30+[1]นครปฐม!Q30+[1]สมุทรสงคราม!Q30+[1]สมุทรสาคร!Q30+[1]ระยอง!Q30+[1]จันทบุรี!Q30+[1]ตราด!Q30+[1]อุดร!Q30+[1]หนองคาย!Q30+[1]บึงกาฬ!Q30+[1]สกลนคร!Q30+[1]นครพนม!Q30+[1]เชียงใหม่!Q30+[1]แม่ฮ่องสอน!Q30+[1]เชียงราย!Q30+[1]พะเยา!Q30+[1]น่าน!Q30+[1]ภูเก็ต!Q30+[1]พังงา!Q30+[1]กระบี่!Q30+[1]นครศรี!Q30+[1]พัทลุง!Q30+[1]ตรัง!Q30+[1]ปัตตานี!Q30+[1]ยะลา!Q30+[1]นราธิวาส!Q30+[1]เชียงแสน!Q30+[1]ยานยนต!Q30+[1]สถาบันสุขภาพ!Q30 -> 0 | P26: =+[1]สมุทรปราการ!R30+[1]ฉะเชิงเทรา!R30+[1]สุพรรณ!R30+[1]สิงห์บุรี!R30+[1]ชัยนาท!R30+[1]อุทัย!R30+[1]ชลบุรี!R30+[1]ปราจีน!R30+[1]สระแก้ว!R30+[1]ราชบุรี!R30+[1]เพชรบุรี!R30+[1]กาญจนบุรี!R30+[1]ประจวบ!R30+[1]นครราชสีมา!R30+[1]ชัยภูมิ!R30+[1]สุรินทร์!R30+[1]บุรีรัมย์!R30+[1]ขอนแก่น!R30+[1]กาฬสินทร์!R30+[1]มุกดาหาร!R30+[1]หนองบัว!R30+[1]มหาสารคราม!R30+[1]อุบล!R30+[1]ศรีสะเกษ!R30+[1]อำนาจ!R30+[1]ร้อยเอ็ด!R30+[1]ยโสธร!R30+[1]นครสวรรค์!R30+[1]พิจิตร!R30+[1]กำแพงเพชร!R30+[1]ตาก!R30+[1]พิษณุโลก!R30+[1]เลย!R30+[1]เพชรบูลย์!R30+[1]อุดรดิต!R30+[1]สุโขทัย!R30+[1]ลำปาง!R30+[1]ลำพูน!R30+[1]แพร่!R30+[1]สุราษ!R30+[1]ชุมพร!R30+[1]ระนอง!R30+[1]สงขลา!R30+[1]สตูล!R30+[1]กรุงเทพ!R30+[1]ปทุม!R30+[1]นนทบุรี!R30+[1]นครนายก!R30+[1]อยุธยา!R30+[1]อ่างทอง!R30+[1]สระบุรี!R30+[1]ลพบุรี!R30+[1]นครปฐม!R30+[1]สมุทรสงคราม!R30+[1]สมุทรสาคร!R30+[1]ระยอง!R30+[1]จันทบุรี!R30+[1]ตราด!R30+[1]อุดร!R30+[1]หนองคาย!R30+[1]บึงกาฬ!R30+[1]สกลนคร!R30+[1]นครพนม!R30+[1]เชียงใหม่!R30+[1]แม่ฮ่องสอน!R30+[1]เชียงราย!R30+[1]พะเยา!R30+[1]น่าน!R30+[1]ภูเก็ต!R30+[1]พังงา!R30+[1]กระบี่!R30+[1]นครศรี!R30+[1]พัทลุง!R30+[1]ตรัง!R30+[1]ปัตตานี!R30+[1]ยะลา!R30+[1]นราธิวาส!R30+[1]เชียงแสน!R30+[1]ยานยนต!R30+[1]สถาบันสุขภาพ!R30 -> 0
A27: - เงินสมทบกองทุนประกันสังคม | O27: =+[1]สมุทรปราการ!Q31+[1]ฉะเชิงเทรา!Q31+[1]สุพรรณ!Q31+[1]สิงห์บุรี!Q31+[1]ชัยนาท!Q31+[1]อุทัย!Q31+[1]ชลบุรี!Q31+[1]ปราจีน!Q31+[1]สระแก้ว!Q31+[1]ราชบุรี!Q31+[1]เพชรบุรี!Q31+[1]กาญจนบุรี!Q31+[1]ประจวบ!Q31+[1]นครราชสีมา!Q31+[1]ชัยภูมิ!Q31+[1]สุรินทร์!Q31+[1]บุรีรัมย์!Q31+[1]ขอนแก่น!Q31+[1]กาฬสินทร์!Q31+[1]มุกดาหาร!Q31+[1]หนองบัว!Q31+[1]มหาสารคราม!Q31+[1]อุบล!Q31+[1]ศรีสะเกษ!Q31+[1]อำนาจ!Q31+[1]ร้อยเอ็ด!Q31+[1]ยโสธร!Q31+[1]นครสวรรค์!Q31+[1]พิจิตร!Q31+[1]กำแพงเพชร!Q31+[1]ตาก!Q31+[1]พิษณุโลก!Q31+[1]เลย!Q31+[1]เพชรบูลย์!Q31+[1]อุดรดิต!Q31+[1]สุโขทัย!Q31+[1]ลำปาง!Q31+[1]ลำพูน!Q31+[1]แพร่!Q31+[1]สุราษ!Q31+[1]ชุมพร!Q31+[1]ระนอง!Q31+[1]สงขลา!Q31+[1]สตูล!Q31+[1]กรุงเทพ!Q31+[1]ปทุม!Q31+[1]นนทบุรี!Q31+[1]นครนายก!Q31+[1]อยุธยา!Q31+[1]อ่างทอง!Q31+[1]สระบุรี!Q31+[1]ลพบุรี!Q31+[1]นครปฐม!Q31+[1]สมุทรสงคราม!Q31+[1]สมุทรสาคร!Q31+[1]ระยอง!Q31+[1]จันทบุรี!Q31+[1]ตราด!Q31+[1]อุดร!Q31+[1]หนองคาย!Q31+[1]บึงกาฬ!Q31+[1]สกลนคร!Q31+[1]นครพนม!Q31+[1]เชียงใหม่!Q31+[1]แม่ฮ่องสอน!Q31+[1]เชียงราย!Q31+[1]พะเยา!Q31+[1]น่าน!Q31+[1]ภูเก็ต!Q31+[1]พังงา!Q31+[1]กระบี่!Q31+[1]นครศรี!Q31+[1]พัทลุง!Q31+[1]ตรัง!Q31+[1]ปัตตานี!Q31+[1]ยะลา!Q31+[1]นราธิวาส!Q31+[1]เชียงแสน!Q31+[1]ยานยนต!Q31+[1]สถาบันสุขภาพ!Q31 -> 0 | P27: =+[1]สมุทรปราการ!R31+[1]ฉะเชิงเทรา!R31+[1]สุพรรณ!R31+[1]สิงห์บุรี!R31+[1]ชัยนาท!R31+[1]อุทัย!R31+[1]ชลบุรี!R31+[1]ปราจีน!R31+[1]สระแก้ว!R31+[1]ราชบุรี!R31+[1]เพชรบุรี!R31+[1]กาญจนบุรี!R31+[1]ประจวบ!R31+[1]นครราชสีมา!R31+[1]ชัยภูมิ!R31+[1]สุรินทร์!R31+[1]บุรีรัมย์!R31+[1]ขอนแก่น!R31+[1]กาฬสินทร์!R31+[1]มุกดาหาร!R31+[1]หนองบัว!R31+[1]มหาสารคราม!R31+[1]อุบล!R31+[1]ศรีสะเกษ!R31+[1]อำนาจ!R31+[1]ร้อยเอ็ด!R31+[1]ยโสธร!R31+[1]นครสวรรค์!R31+[1]พิจิตร!R31+[1]กำแพงเพชร!R31+[1]ตาก!R31+[1]พิษณุโลก!R31+[1]เลย!R31+[1]เพชรบูลย์!R31+[1]อุดรดิต!R31+[1]สุโขทัย!R31+[1]ลำปาง!R31+[1]ลำพูน!R31+[1]แพร่!R31+[1]สุราษ!R31+[1]ชุมพร!R31+[1]ระนอง!R31+[1]สงขลา!R31+[1]สตูล!R31+[1]กรุงเทพ!R31+[1]ปทุม!R31+[1]นนทบุรี!R31+[1]นครนายก!R31+[1]อยุธยา!R31+[1]อ่างทอง!R31+[1]สระบุรี!R31+[1]ลพบุรี!R31+[1]นครปฐม!R31+[1]สมุทรสงคราม!R31+[1]สมุทรสาคร!R31+[1]ระยอง!R31+[1]จันทบุรี!R31+[1]ตราด!R31+[1]อุดร!R31+[1]หนองคาย!R31+[1]บึงกาฬ!R31+[1]สกลนคร!R31+[1]นครพนม!R31+[1]เชียงใหม่!R31+[1]แม่ฮ่องสอน!R31+[1]เชียงราย!R31+[1]พะเยา!R31+[1]น่าน!R31+[1]ภูเก็ต!R31+[1]พังงา!R31+[1]กระบี่!R31+[1]นครศรี!R31+[1]พัทลุง!R31+[1]ตรัง!R31+[1]ปัตตานี!R31+[1]ยะลา!R31+[1]นราธิวาส!R31+[1]เชียงแสน!R31+[1]ยานยนต!R31+[1]สถาบันสุขภาพ!R31 -> 0
A28: * ค่าเบี้ยเลี้ยงเดินทางในประเทศ | O28: =+[1]สมุทรปราการ!Q32+[1]ฉะเชิงเทรา!Q32+[1]สุพรรณ!Q32+[1]สิงห์บุรี!Q32+[1]ชัยนาท!Q32+[1]อุทัย!Q32+[1]ชลบุรี!Q32+[1]ปราจีน!Q32+[1]สระแก้ว!Q32+[1]ราชบุรี!Q32+[1]เพชรบุรี!Q32+[1]กาญจนบุรี!Q32+[1]ประจวบ!Q32+[1]นครราชสีมา!Q32+[1]ชัยภูมิ!Q32+[1]สุรินทร์!Q32+[1]บุรีรัมย์!Q32+[1]ขอนแก่น!Q32+[1]กาฬสินทร์!Q32+[1]มุกดาหาร!Q32+[1]หนองบัว!Q32+[1]มหาสารคราม!Q32+[1]อุบล!Q32+[1]ศรีสะเกษ!Q32+[1]อำนาจ!Q32+[1]ร้อยเอ็ด!Q32+[1]ยโสธร!Q32+[1]นครสวรรค์!Q32+[1]พิจิตร!Q32+[1]กำแพงเพชร!Q32+[1]ตาก!Q32+[1]พิษณุโลก!Q32+[1]เลย!Q32+[1]เพชรบูลย์!Q32+[1]อุดรดิต!Q32+[1]สุโขทัย!Q32+[1]ลำปาง!Q32+[1]ลำพูน!Q32+[1]แพร่!Q32+[1]สุราษ!Q32+[1]ชุมพร!Q32+[1]ระนอง!Q32+[1]สงขลา!Q32+[1]สตูล!Q32+[1]กรุงเทพ!Q32+[1]ปทุม!Q32+[1]นนทบุรี!Q32+[1]นครนายก!Q32+[1]อยุธยา!Q32+[1]อ่างทอง!Q32+[1]สระบุรี!Q32+[1]ลพบุรี!Q32+[1]นครปฐม!Q32+[1]สมุทรสงคราม!Q32+[1]สมุทรสาคร!Q32+[1]ระยอง!Q32+[1]จันทบุรี!Q32+[1]ตราด!Q32+[1]อุดร!Q32+[1]หนองคาย!Q32+[1]บึงกาฬ!Q32+[1]สกลนคร!Q32+[1]นครพนม!Q32+[1]เชียงใหม่!Q32+[1]แม่ฮ่องสอน!Q32+[1]เชียงราย!Q32+[1]พะเยา!Q32+[1]น่าน!Q32+[1]ภูเก็ต!Q32+[1]พังงา!Q32+[1]กระบี่!Q32+[1]นครศรี!Q32+[1]พัทลุง!Q32+[1]ตรัง!Q32+[1]ปัตตานี!Q32+[1]ยะลา!Q32+[1]นราธิวาส!Q32+[1]เชียงแสน!Q32+[1]ยานยนต!Q32+[1]สถาบันสุขภาพ!Q32 -> 0 | P28: =+[1]สมุทรปราการ!R32+[1]ฉะเชิงเทรา!R32+[1]สุพรรณ!R32+[1]สิงห์บุรี!R32+[1]ชัยนาท!R32+[1]อุทัย!R32+[1]ชลบุรี!R32+[1]ปราจีน!R32+[1]สระแก้ว!R32+[1]ราชบุรี!R32+[1]เพชรบุรี!R32+[1]กาญจนบุรี!R32+[1]ประจวบ!R32+[1]นครราชสีมา!R32+[1]ชัยภูมิ!R32+[1]สุรินทร์!R32+[1]บุรีรัมย์!R32+[1]ขอนแก่น!R32+[1]กาฬสินทร์!R32+[1]มุกดาหาร!R32+[1]หนองบัว!R32+[1]มหาสารคราม!R32+[1]อุบล!R32+[1]ศรีสะเกษ!R32+[1]อำนาจ!R32+[1]ร้อยเอ็ด!R32+[1]ยโสธร!R32+[1]นครสวรรค์!R32+[1]พิจิตร!R32+[1]กำแพงเพชร!R32+[1]ตาก!R32+[1]พิษณุโลก!R32+[1]เลย!R32+[1]เพชรบูลย์!R32+[1]อุดรดิต!R32+[1]สุโขทัย!R32+[1]ลำปาง!R32+[1]ลำพูน!R32+[1]แพร่!R32+[1]สุราษ!R32+[1]ชุมพร!R32+[1]ระนอง!R32+[1]สงขลา!R32+[1]สตูล!R32+[1]กรุงเทพ!R32+[1]ปทุม!R32+[1]นนทบุรี!R32+[1]นครนายก!R32+[1]อยุธยา!R32+[1]อ่างทอง!R32+[1]สระบุรี!R32+[1]ลพบุรี!R32+[1]นครปฐม!R32+[1]สมุทรสงคราม!R32+[1]สมุทรสาคร!R32+[1]ระยอง!R32+[1]จันทบุรี!R32+[1]ตราด!R32+[1]อุดร!R32+[1]หนองคาย!R32+[1]บึงกาฬ!R32+[1]สกลนคร!R32+[1]นครพนม!R32+[1]เชียงใหม่!R32+[1]แม่ฮ่องสอน!R32+[1]เชียงราย!R32+[1]พะเยา!R32+[1]น่าน!R32+[1]ภูเก็ต!R32+[1]พังงา!R32+[1]กระบี่!R32+[1]นครศรี!R32+[1]พัทลุง!R32+[1]ตรัง!R32+[1]ปัตตานี!R32+[1]ยะลา!R32+[1]นราธิวาส!R32+[1]เชียงแสน!R32+[1]ยานยนต!R32+[1]สถาบันสุขภาพ!R32 -> 0
A29: * ค่าที่พัก | O29: =+[1]สมุทรปราการ!Q33+[1]ฉะเชิงเทรา!Q33+[1]สุพรรณ!Q33+[1]สิงห์บุรี!Q33+[1]ชัยนาท!Q33+[1]อุทัย!Q33+[1]ชลบุรี!Q33+[1]ปราจีน!Q33+[1]สระแก้ว!Q33+[1]ราชบุรี!Q33+[1]เพชรบุรี!Q33+[1]กาญจนบุรี!Q33+[1]ประจวบ!Q33+[1]นครราชสีมา!Q33+[1]ชัยภูมิ!Q33+[1]สุรินทร์!Q33+[1]บุรีรัมย์!Q33+[1]ขอนแก่น!Q33+[1]กาฬสินทร์!Q33+[1]มุกดาหาร!Q33+[1]หนองบัว!Q33+[1]มหาสารคราม!Q33+[1]อุบล!Q33+[1]ศรีสะเกษ!Q33+[1]อำนาจ!Q33+[1]ร้อยเอ็ด!Q33+[1]ยโสธร!Q33+[1]นครสวรรค์!Q33+[1]พิจิตร!Q33+[1]กำแพงเพชร!Q33+[1]ตาก!Q33+[1]พิษณุโลก!Q33+[1]เลย!Q33+[1]เพชรบูลย์!Q33+[1]อุดรดิต!Q33+[1]สุโขทัย!Q33+[1]ลำปาง!Q33+[1]ลำพูน!Q33+[1]แพร่!Q33+[1]สุราษ!Q33+[1]ชุมพร!Q33+[1]ระนอง!Q33+[1]สงขลา!Q33+[1]สตูล!Q33+[1]กรุงเทพ!Q33+[1]ปทุม!Q33+[1]นนทบุรี!Q33+[1]นครนายก!Q33+[1]อยุธยา!Q33+[1]อ่างทอง!Q33+[1]สระบุรี!Q33+[1]ลพบุรี!Q33+[1]นครปฐม!Q33+[1]สมุทรสงคราม!Q33+[1]สมุทรสาคร!Q33+[1]ระยอง!Q33+[1]จันทบุรี!Q33+[1]ตราด!Q33+[1]อุดร!Q33+[1]หนองคาย!Q33+[1]บึงกาฬ!Q33+[1]สกลนคร!Q33+[1]นครพนม!Q33+[1]เชียงใหม่!Q33+[1]แม่ฮ่องสอน!Q33+[1]เชียงราย!Q33+[1]พะเยา!Q33+[1]น่าน!Q33+[1]ภูเก็ต!Q33+[1]พังงา!Q33+[1]กระบี่!Q33+[1]นครศรี!Q33+[1]พัทลุง!Q33+[1]ตรัง!Q33+[1]ปัตตานี!Q33+[1]ยะลา!Q33+[1]นราธิวาส!Q33+[1]เชียงแสน!Q33+[1]ยานยนต!Q33+[1]สถาบันสุขภาพ!Q33 -> 0 | P29: =+[1]สมุทรปราการ!R33+[1]ฉะเชิงเทรา!R33+[1]สุพรรณ!R33+[1]สิงห์บุรี!R33+[1]ชัยนาท!R33+[1]อุทัย!R33+[1]ชลบุรี!R33+[1]ปราจีน!R33+[1]สระแก้ว!R33+[1]ราชบุรี!R33+[1]เพชรบุรี!R33+[1]กาญจนบุรี!R33+[1]ประจวบ!R33+[1]นครราชสีมา!R33+[1]ชัยภูมิ!R33+[1]สุรินทร์!R33+[1]บุรีรัมย์!R33+[1]ขอนแก่น!R33+[1]กาฬสินทร์!R33+[1]มุกดาหาร!R33+[1]หนองบัว!R33+[1]มหาสารคราม!R33+[1]อุบล!R33+[1]ศรีสะเกษ!R33+[1]อำนาจ!R33+[1]ร้อยเอ็ด!R33+[1]ยโสธร!R33+[1]นครสวรรค์!R33+[1]พิจิตร!R33+[1]กำแพงเพชร!R33+[1]ตาก!R33+[1]พิษณุโลก!R33+[1]เลย!R33+[1]เพชรบูลย์!R33+[1]อุดรดิต!R33+[1]สุโขทัย!R33+[1]ลำปาง!R33+[1]ลำพูน!R33+[1]แพร่!R33+[1]สุราษ!R33+[1]ชุมพร!R33+[1]ระนอง!R33+[1]สงขลา!R33+[1]สตูล!R33+[1]กรุงเทพ!R33+[1]ปทุม!R33+[1]นนทบุรี!R33+[1]นครนายก!R33+[1]อยุธยา!R33+[1]อ่างทอง!R33+[1]สระบุรี!R33+[1]ลพบุรี!R33+[1]นครปฐม!R33+[1]สมุทรสงคราม!R33+[1]สมุทรสาคร!R33+[1]ระยอง!R33+[1]จันทบุรี!R33+[1]ตราด!R33+[1]อุดร!R33+[1]หนองคาย!R33+[1]บึงกาฬ!R33+[1]สกลนคร!R33+[1]นครพนม!R33+[1]เชียงใหม่!R33+[1]แม่ฮ่องสอน!R33+[1]เชียงราย!R33+[1]พะเยา!R33+[1]น่าน!R33+[1]ภูเก็ต!R33+[1]พังงา!R33+[1]กระบี่!R33+[1]นครศรี!R33+[1]พัทลุง!R33+[1]ตรัง!R33+[1]ปัตตานี!R33+[1]ยะลา!R33+[1]นราธิวาส!R33+[1]เชียงแสน!R33+[1]ยานยนต!R33+[1]สถาบันสุขภาพ!R33 -> 0
A30: * ค่าพาหนะเดินทางในประเทศ | O30: =+[1]สมุทรปราการ!Q34+[1]ฉะเชิงเทรา!Q34+[1]สุพรรณ!Q34+[1]สิงห์บุรี!Q34+[1]ชัยนาท!Q34+[1]อุทัย!Q34+[1]ชลบุรี!Q34+[1]ปราจีน!Q34+[1]สระแก้ว!Q34+[1]ราชบุรี!Q34+[1]เพชรบุรี!Q34+[1]กาญจนบุรี!Q34+[1]ประจวบ!Q34+[1]นครราชสีมา!Q34+[1]ชัยภูมิ!Q34+[1]สุรินทร์!Q34+[1]บุรีรัมย์!Q34+[1]ขอนแก่น!Q34+[1]กาฬสินทร์!Q34+[1]มุกดาหาร!Q34+[1]หนองบัว!Q34+[1]มหาสารคราม!Q34+[1]อุบล!Q34+[1]ศรีสะเกษ!Q34+[1]อำนาจ!Q34+[1]ร้อยเอ็ด!Q34+[1]ยโสธร!Q34+[1]นครสวรรค์!Q34+[1]พิจิตร!Q34+[1]กำแพงเพชร!Q34+[1]ตาก!Q34+[1]พิษณุโลก!Q34+[1]เลย!Q34+[1]เพชรบูลย์!Q34+[1]อุดรดิต!Q34+[1]สุโขทัย!Q34+[1]ลำปาง!Q34+[1]ลำพูน!Q34+[1]แพร่!Q34+[1]สุราษ!Q34+[1]ชุมพร!Q34+[1]ระนอง!Q34+[1]สงขลา!Q34+[1]สตูล!Q34+[1]กรุงเทพ!Q34+[1]ปทุม!Q34+[1]นนทบุรี!Q34+[1]นครนายก!Q34+[1]อยุธยา!Q34+[1]อ่างทอง!Q34+[1]สระบุรี!Q34+[1]ลพบุรี!Q34+[1]นครปฐม!Q34+[1]สมุทรสงคราม!Q34+[1]สมุทรสาคร!Q34+[1]ระยอง!Q34+[1]จันทบุรี!Q34+[1]ตราด!Q34+[1]อุดร!Q34+[1]หนองคาย!Q34+[1]บึงกาฬ!Q34+[1]สกลนคร!Q34+[1]นครพนม!Q34+[1]เชียงใหม่!Q34+[1]แม่ฮ่องสอน!Q34+[1]เชียงราย!Q34+[1]พะเยา!Q34+[1]น่าน!Q34+[1]ภูเก็ต!Q34+[1]พังงา!Q34+[1]กระบี่!Q34+[1]นครศรี!Q34+[1]พัทลุง!Q34+[1]ตรัง!Q34+[1]ปัตตานี!Q34+[1]ยะลา!Q34+[1]นราธิวาส!Q34+[1]เชียงแสน!Q34+[1]ยานยนต!Q34+[1]สถาบันสุขภาพ!Q34 -> 0 | P30: =+[1]สมุทรปราการ!R34+[1]ฉะเชิงเทรา!R34+[1]สุพรรณ!R34+[1]สิงห์บุรี!R34+[1]ชัยนาท!R34+[1]อุทัย!R34+[1]ชลบุรี!R34+[1]ปราจีน!R34+[1]สระแก้ว!R34+[1]ราชบุรี!R34+[1]เพชรบุรี!R34+[1]กาญจนบุรี!R34+[1]ประจวบ!R34+[1]นครราชสีมา!R34+[1]ชัยภูมิ!R34+[1]สุรินทร์!R34+[1]บุรีรัมย์!R34+[1]ขอนแก่น!R34+[1]กาฬสินทร์!R34+[1]มุกดาหาร!R34+[1]หนองบัว!R34+[1]มหาสารคราม!R34+[1]อุบล!R34+[1]ศรีสะเกษ!R34+[1]อำนาจ!R34+[1]ร้อยเอ็ด!R34+[1]ยโสธร!R34+[1]นครสวรรค์!R34+[1]พิจิตร!R34+[1]กำแพงเพชร!R34+[1]ตาก!R34+[1]พิษณุโลก!R34+[1]เลย!R34+[1]เพชรบูลย์!R34+[1]อุดรดิต!R34+[1]สุโขทัย!R34+[1]ลำปาง!R34+[1]ลำพูน!R34+[1]แพร่!R34+[1]สุราษ!R34+[1]ชุมพร!R34+[1]ระนอง!R34+[1]สงขลา!R34+[1]สตูล!R34+[1]กรุงเทพ!R34+[1]ปทุม!R34+[1]นนทบุรี!R34+[1]นครนายก!R34+[1]อยุธยา!R34+[1]อ่างทอง!R34+[1]สระบุรี!R34+[1]ลพบุรี!R34+[1]นครปฐม!R34+[1]สมุทรสงคราม!R34+[1]สมุทรสาคร!R34+[1]ระยอง!R34+[1]จันทบุรี!R34+[1]ตราด!R34+[1]อุดร!R34+[1]หนองคาย!R34+[1]บึงกาฬ!R34+[1]สกลนคร!R34+[1]นครพนม!R34+[1]เชียงใหม่!R34+[1]แม่ฮ่องสอน!R34+[1]เชียงราย!R34+[1]พะเยา!R34+[1]น่าน!R34+[1]ภูเก็ต!R34+[1]พังงา!R34+[1]กระบี่!R34+[1]นครศรี!R34+[1]พัทลุง!R34+[1]ตรัง!R34+[1]ปัตตานี!R34+[1]ยะลา!R34+[1]นราธิวาส!R34+[1]เชียงแสน!R34+[1]ยานยนต!R34+[1]สถาบันสุขภาพ!R34 -> 0
A31: - ค่าซ่อมแซมบำรุงรักษายานพาหนะและขนส่ง | O31: =+[1]สมุทรปราการ!Q35+[1]ฉะเชิงเทรา!Q35+[1]สุพรรณ!Q35+[1]สิงห์บุรี!Q35+[1]ชัยนาท!Q35+[1]อุทัย!Q35+[1]ชลบุรี!Q35+[1]ปราจีน!Q35+[1]สระแก้ว!Q35+[1]ราชบุรี!Q35+[1]เพชรบุรี!Q35+[1]กาญจนบุรี!Q35+[1]ประจวบ!Q35+[1]นครราชสีมา!Q35+[1]ชัยภูมิ!Q35+[1]สุรินทร์!Q35+[1]บุรีรัมย์!Q35+[1]ขอนแก่น!Q35+[1]กาฬสินทร์!Q35+[1]มุกดาหาร!Q35+[1]หนองบัว!Q35+[1]มหาสารคราม!Q35+[1]อุบล!Q35+[1]ศรีสะเกษ!Q35+[1]อำนาจ!Q35+[1]ร้อยเอ็ด!Q35+[1]ยโสธร!Q35+[1]นครสวรรค์!Q35+[1]พิจิตร!Q35+[1]กำแพงเพชร!Q35+[1]ตาก!Q35+[1]พิษณุโลก!Q35+[1]เลย!Q35+[1]เพชรบูลย์!Q35+[1]อุดรดิต!Q35+[1]สุโขทัย!Q35+[1]ลำปาง!Q35+[1]ลำพูน!Q35+[1]แพร่!Q35+[1]สุราษ!Q35+[1]ชุมพร!Q35+[1]ระนอง!Q35+[1]สงขลา!Q35+[1]สตูล!Q35+[1]กรุงเทพ!Q35+[1]ปทุม!Q35+[1]นนทบุรี!Q35+[1]นครนายก!Q35+[1]อยุธยา!Q35+[1]อ่างทอง!Q35+[1]สระบุรี!Q35+[1]ลพบุรี!Q35+[1]นครปฐม!Q35+[1]สมุทรสงคราม!Q35+[1]สมุทรสาคร!Q35+[1]ระยอง!Q35+[1]จันทบุรี!Q35+[1]ตราด!Q35+[1]อุดร!Q35+[1]หนองคาย!Q35+[1]บึงกาฬ!Q35+[1]สกลนคร!Q35+[1]นครพนม!Q35+[1]เชียงใหม่!Q35+[1]แม่ฮ่องสอน!Q35+[1]เชียงราย!Q35+[1]พะเยา!Q35+[1]น่าน!Q35+[1]ภูเก็ต!Q35+[1]พังงา!Q35+[1]กระบี่!Q35+[1]นครศรี!Q35+[1]พัทลุง!Q35+[1]ตรัง!Q35+[1]ปัตตานี!Q35+[1]ยะลา!Q35+[1]นราธิวาส!Q35+[1]เชียงแสน!Q35+[1]ยานยนต!Q35+[1]สถาบันสุขภาพ!Q35 -> 0 | P31: =+[1]สมุทรปราการ!R35+[1]ฉะเชิงเทรา!R35+[1]สุพรรณ!R35+[1]สิงห์บุรี!R35+[1]ชัยนาท!R35+[1]อุทัย!R35+[1]ชลบุรี!R35+[1]ปราจีน!R35+[1]สระแก้ว!R35+[1]ราชบุรี!R35+[1]เพชรบุรี!R35+[1]กาญจนบุรี!R35+[1]ประจวบ!R35+[1]นครราชสีมา!R35+[1]ชัยภูมิ!R35+[1]สุรินทร์!R35+[1]บุรีรัมย์!R35+[1]ขอนแก่น!R35+[1]กาฬสินทร์!R35+[1]มุกดาหาร!R35+[1]หนองบัว!R35+[1]มหาสารคราม!R35+[1]อุบล!R35+[1]ศรีสะเกษ!R35+[1]อำนาจ!R35+[1]ร้อยเอ็ด!R35+[1]ยโสธร!R35+[1]นครสวรรค์!R35+[1]พิจิตร!R35+[1]กำแพงเพชร!R35+[1]ตาก!R35+[1]พิษณุโลก!R35+[1]เลย!R35+[1]เพชรบูลย์!R35+[1]อุดรดิต!R35+[1]สุโขทัย!R35+[1]ลำปาง!R35+[1]ลำพูน!R35+[1]แพร่!R35+[1]สุราษ!R35+[1]ชุมพร!R35+[1]ระนอง!R35+[1]สงขลา!R35+[1]สตูล!R35+[1]กรุงเทพ!R35+[1]ปทุม!R35+[1]นนทบุรี!R35+[1]นครนายก!R35+[1]อยุธยา!R35+[1]อ่างทอง!R35+[1]สระบุรี!R35+[1]ลพบุรี!R35+[1]นครปฐม!R35+[1]สมุทรสงคราม!R35+[1]สมุทรสาคร!R35+[1]ระยอง!R35+[1]จันทบุรี!R35+[1]ตราด!R35+[1]อุดร!R35+[1]หนองคาย!R35+[1]บึงกาฬ!R35+[1]สกลนคร!R35+[1]นครพนม!R35+[1]เชียงใหม่!R35+[1]แม่ฮ่องสอน!R35+[1]เชียงราย!R35+[1]พะเยา!R35+[1]น่าน!R35+[1]ภูเก็ต!R35+[1]พังงา!R35+[1]กระบี่!R35+[1]นครศรี!R35+[1]พัทลุง!R35+[1]ตรัง!R35+[1]ปัตตานี!R35+[1]ยะลา!R35+[1]นราธิวาส!R35+[1]เชียงแสน!R35+[1]ยานยนต!R35+[1]สถาบันสุขภาพ!R35 -> 0
A32: - ค่าซ่อมแซมบำรุงรักษาครุภัณฑ์ | O32: =+[1]สมุทรปราการ!Q36+[1]ฉะเชิงเทรา!Q36+[1]สุพรรณ!Q36+[1]สิงห์บุรี!Q36+[1]ชัยนาท!Q36+[1]อุทัย!Q36+[1]ชลบุรี!Q36+[1]ปราจีน!Q36+[1]สระแก้ว!Q36+[1]ราชบุรี!Q36+[1]เพชรบุรี!Q36+[1]กาญจนบุรี!Q36+[1]ประจวบ!Q36+[1]นครราชสีมา!Q36+[1]ชัยภูมิ!Q36+[1]สุรินทร์!Q36+[1]บุรีรัมย์!Q36+[1]ขอนแก่น!Q36+[1]กาฬสินทร์!Q36+[1]มุกดาหาร!Q36+[1]หนองบัว!Q36+[1]มหาสารคราม!Q36+[1]อุบล!Q36+[1]ศรีสะเกษ!Q36+[1]อำนาจ!Q36+[1]ร้อยเอ็ด!Q36+[1]ยโสธร!Q36+[1]นครสวรรค์!Q36+[1]พิจิตร!Q36+[1]กำแพงเพชร!Q36+[1]ตาก!Q36+[1]พิษณุโลก!Q36+[1]เลย!Q36+[1]เพชรบูลย์!Q36+[1]อุดรดิต!Q36+[1]สุโขทัย!Q36+[1]ลำปาง!Q36+[1]ลำพูน!Q36+[1]แพร่!Q36+[1]สุราษ!Q36+[1]ชุมพร!Q36+[1]ระนอง!Q36+[1]สงขลา!Q36+[1]สตูล!Q36+[1]กรุงเทพ!Q36+[1]ปทุม!Q36+[1]นนทบุรี!Q36+[1]นครนายก!Q36+[1]อยุธยา!Q36+[1]อ่างทอง!Q36+[1]สระบุรี!Q36+[1]ลพบุรี!Q36+[1]นครปฐม!Q36+[1]สมุทรสงคราม!Q36+[1]สมุทรสาคร!Q36+[1]ระยอง!Q36+[1]จันทบุรี!Q36+[1]ตราด!Q36+[1]อุดร!Q36+[1]หนองคาย!Q36+[1]บึงกาฬ!Q36+[1]สกลนคร!Q36+[1]นครพนม!Q36+[1]เชียงใหม่!Q36+[1]แม่ฮ่องสอน!Q36+[1]เชียงราย!Q36+[1]พะเยา!Q36+[1]น่าน!Q36+[1]ภูเก็ต!Q36+[1]พังงา!Q36+[1]กระบี่!Q36+[1]นครศรี!Q36+[1]พัทลุง!Q36+[1]ตรัง!Q36+[1]ปัตตานี!Q36+[1]ยะลา!Q36+[1]นราธิวาส!Q36+[1]เชียงแสน!Q36+[1]ยานยนต!Q36+[1]สถาบันสุขภาพ!Q36 -> 0 | P32: =+[1]สมุทรปราการ!R36+[1]ฉะเชิงเทรา!R36+[1]สุพรรณ!R36+[1]สิงห์บุรี!R36+[1]ชัยนาท!R36+[1]อุทัย!R36+[1]ชลบุรี!R36+[1]ปราจีน!R36+[1]สระแก้ว!R36+[1]ราชบุรี!R36+[1]เพชรบุรี!R36+[1]กาญจนบุรี!R36+[1]ประจวบ!R36+[1]นครราชสีมา!R36+[1]ชัยภูมิ!R36+[1]สุรินทร์!R36+[1]บุรีรัมย์!R36+[1]ขอนแก่น!R36+[1]กาฬสินทร์!R36+[1]มุกดาหาร!R36+[1]หนองบัว!R36+[1]มหาสารคราม!R36+[1]อุบล!R36+[1]ศรีสะเกษ!R36+[1]อำนาจ!R36+[1]ร้อยเอ็ด!R36+[1]ยโสธร!R36+[1]นครสวรรค์!R36+[1]พิจิตร!R36+[1]กำแพงเพชร!R36+[1]ตาก!R36+[1]พิษณุโลก!R36+[1]เลย!R36+[1]เพชรบูลย์!R36+[1]อุดรดิต!R36+[1]สุโขทัย!R36+[1]ลำปาง!R36+[1]ลำพูน!R36+[1]แพร่!R36+[1]สุราษ!R36+[1]ชุมพร!R36+[1]ระนอง!R36+[1]สงขลา!R36+[1]สตูล!R36+[1]กรุงเทพ!R36+[1]ปทุม!R36+[1]นนทบุรี!R36+[1]นครนายก!R36+[1]อยุธยา!R36+[1]อ่างทอง!R36+[1]สระบุรี!R36+[1]ลพบุรี!R36+[1]นครปฐม!R36+[1]สมุทรสงคราม!R36+[1]สมุทรสาคร!R36+[1]ระยอง!R36+[1]จันทบุรี!R36+[1]ตราด!R36+[1]อุดร!R36+[1]หนองคาย!R36+[1]บึงกาฬ!R36+[1]สกลนคร!R36+[1]นครพนม!R36+[1]เชียงใหม่!R36+[1]แม่ฮ่องสอน!R36+[1]เชียงราย!R36+[1]พะเยา!R36+[1]น่าน!R36+[1]ภูเก็ต!R36+[1]พังงา!R36+[1]กระบี่!R36+[1]นครศรี!R36+[1]พัทลุง!R36+[1]ตรัง!R36+[1]ปัตตานี!R36+[1]ยะลา!R36+[1]นราธิวาส!R36+[1]เชียงแสน!R36+[1]ยานยนต!R36+[1]สถาบันสุขภาพ!R36 -> 0
A33: -ค่าซ่อมแซมบำรุงรักษาสิ่งก่อสร้าง | O33: =+[1]สมุทรปราการ!Q37+[1]ฉะเชิงเทรา!Q37+[1]สุพรรณ!Q37+[1]สิงห์บุรี!Q37+[1]ชัยนาท!Q37+[1]อุทัย!Q37+[1]ชลบุรี!Q37+[1]ปราจีน!Q37+[1]สระแก้ว!Q37+[1]ราชบุรี!Q37+[1]เพชรบุรี!Q37+[1]กาญจนบุรี!Q37+[1]ประจวบ!Q37+[1]นครราชสีมา!Q37+[1]ชัยภูมิ!Q37+[1]สุรินทร์!Q37+[1]บุรีรัมย์!Q37+[1]ขอนแก่น!Q37+[1]กาฬสินทร์!Q37+[1]มุกดาหาร!Q37+[1]หนองบัว!Q37+[1]มหาสารคราม!Q37+[1]อุบล!Q37+[1]ศรีสะเกษ!Q37+[1]อำนาจ!Q37+[1]ร้อยเอ็ด!Q37+[1]ยโสธร!Q37+[1]นครสวรรค์!Q37+[1]พิจิตร!Q37+[1]กำแพงเพชร!Q37+[1]ตาก!Q37+[1]พิษณุโลก!Q37+[1]เลย!Q37+[1]เพชรบูลย์!Q37+[1]อุดรดิต!Q37+[1]สุโขทัย!Q37+[1]ลำปาง!Q37+[1]ลำพูน!Q37+[1]แพร่!Q37+[1]สุราษ!Q37+[1]ชุมพร!Q37+[1]ระนอง!Q37+[1]สงขลา!Q37+[1]สตูล!Q37+[1]กรุงเทพ!Q37+[1]ปทุม!Q37+[1]นนทบุรี!Q37+[1]นครนายก!Q37+[1]อยุธยา!Q37+[1]อ่างทอง!Q37+[1]สระบุรี!Q37+[1]ลพบุรี!Q37+[1]นครปฐม!Q37+[1]สมุทรสงคราม!Q37+[1]สมุทรสาคร!Q37+[1]ระยอง!Q37+[1]จันทบุรี!Q37+[1]ตราด!Q37+[1]อุดร!Q37+[1]หนองคาย!Q37+[1]บึงกาฬ!Q37+[1]สกลนคร!Q37+[1]นครพนม!Q37+[1]เชียงใหม่!Q37+[1]แม่ฮ่องสอน!Q37+[1]เชียงราย!Q37+[1]พะเยา!Q37+[1]น่าน!Q37+[1]ภูเก็ต!Q37+[1]พังงา!Q37+[1]กระบี่!Q37+[1]นครศรี!Q37+[1]พัทลุง!Q37+[1]ตรัง!Q37+[1]ปัตตานี!Q37+[1]ยะลา!Q37+[1]นราธิวาส!Q37+[1]เชียงแสน!Q37+[1]ยานยนต!Q37+[1]สถาบันสุขภาพ!Q37 -> 0 | P33: =+[1]สมุทรปราการ!R37+[1]ฉะเชิงเทรา!R37+[1]สุพรรณ!R37+[1]สิงห์บุรี!R37+[1]ชัยนาท!R37+[1]อุทัย!R37+[1]ชลบุรี!R37+[1]ปราจีน!R37+[1]สระแก้ว!R37+[1]ราชบุรี!R37+[1]เพชรบุรี!R37+[1]กาญจนบุรี!R37+[1]ประจวบ!R37+[1]นครราชสีมา!R37+[1]ชัยภูมิ!R37+[1]สุรินทร์!R37+[1]บุรีรัมย์!R37+[1]ขอนแก่น!R37+[1]กาฬสินทร์!R37+[1]มุกดาหาร!R37+[1]หนองบัว!R37+[1]มหาสารคราม!R37+[1]อุบล!R37+[1]ศรีสะเกษ!R37+[1]อำนาจ!R37+[1]ร้อยเอ็ด!R37+[1]ยโสธร!R37+[1]นครสวรรค์!R37+[1]พิจิตร!R37+[1]กำแพงเพชร!R37+[1]ตาก!R37+[1]พิษณุโลก!R37+[1]เลย!R37+[1]เพชรบูลย์!R37+[1]อุดรดิต!R37+[1]สุโขทัย!R37+[1]ลำปาง!R37+[1]ลำพูน!R37+[1]แพร่!R37+[1]สุราษ!R37+[1]ชุมพร!R37+[1]ระนอง!R37+[1]สงขลา!R37+[1]สตูล!R37+[1]กรุงเทพ!R37+[1]ปทุม!R37+[1]นนทบุรี!R37+[1]นครนายก!R37+[1]อยุธยา!R37+[1]อ่างทอง!R37+[1]สระบุรี!R37+[1]ลพบุรี!R37+[1]นครปฐม!R37+[1]สมุทรสงคราม!R37+[1]สมุทรสาคร!R37+[1]ระยอง!R37+[1]จันทบุรี!R37+[1]ตราด!R37+[1]อุดร!R37+[1]หนองคาย!R37+[1]บึงกาฬ!R37+[1]สกลนคร!R37+[1]นครพนม!R37+[1]เชียงใหม่!R37+[1]แม่ฮ่องสอน!R37+[1]เชียงราย!R37+[1]พะเยา!R37+[1]น่าน!R37+[1]ภูเก็ต!R37+[1]พังงา!R37+[1]กระบี่!R37+[1]นครศรี!R37+[1]พัทลุง!R37+[1]ตรัง!R37+[1]ปัตตานี!R37+[1]ยะลา!R37+[1]นราธิวาส!R37+[1]เชียงแสน!R37+[1]ยานยนต!R37+[1]สถาบันสุขภาพ!R37 -> 0
A34: - ค่าจ้างเหมาบริการ | B34: =SUM(C34:P34) -> 0 | C34: =SUM(C35:C55) -> 0 | D34: =SUM(D35:D55) -> 0 | E34: =SUM(E35:E55) -> 0 | F34: =SUM(F35:F55) -> 0 | G34: =SUM(G35:G55) -> 0 | H34: =SUM(H35:H55) -> 0 | I34: =SUM(I35:I55) -> 0 | J34: =SUM(J35:J55) -> 0 | ... P34: =SUM(P35:P55) -> 0
A35: * ค่าจ้างเหมาทำความสะอาด | O35: =+[1]สมุทรปราการ!Q39+[1]ฉะเชิงเทรา!Q39+[1]สุพรรณ!Q39+[1]สิงห์บุรี!Q39+[1]ชัยนาท!Q39+[1]อุทัย!Q39+[1]ชลบุรี!Q39+[1]ปราจีน!Q39+[1]สระแก้ว!Q39+[1]ราชบุรี!Q39+[1]เพชรบุรี!Q39+[1]กาญจนบุรี!Q39+[1]ประจวบ!Q39+[1]นครราชสีมา!Q39+[1]ชัยภูมิ!Q39+[1]สุรินทร์!Q39+[1]บุรีรัมย์!Q39+[1]ขอนแก่น!Q39+[1]กาฬสินทร์!Q39+[1]มุกดาหาร!Q39+[1]หนองบัว!Q39+[1]มหาสารคราม!Q39+[1]อุบล!Q39+[1]ศรีสะเกษ!Q39+[1]อำนาจ!Q39+[1]ร้อยเอ็ด!Q39+[1]ยโสธร!Q39+[1]นครสวรรค์!Q39+[1]พิจิตร!Q39+[1]กำแพงเพชร!Q39+[1]ตาก!Q39+[1]พิษณุโลก!Q39+[1]เลย!Q39+[1]เพชรบูลย์!Q39+[1]อุดรดิต!Q39+[1]สุโขทัย!Q39+[1]ลำปาง!Q39+[1]ลำพูน!Q39+[1]แพร่!Q39+[1]สุราษ!Q39+[1]ชุมพร!Q39+[1]ระนอง!Q39+[1]สงขลา!Q39+[1]สตูล!Q39+[1]กรุงเทพ!Q39+[1]ปทุม!Q39+[1]นนทบุรี!Q39+[1]นครนายก!Q39+[1]อยุธยา!Q39+[1]อ่างทอง!Q39+[1]สระบุรี!Q39+[1]ลพบุรี!Q39+[1]นครปฐม!Q39+[1]สมุทรสงคราม!Q39+[1]สมุทรสาคร!Q39+[1]ระยอง!Q39+[1]จันทบุรี!Q39+[1]ตราด!Q39+[1]อุดร!Q39+[1]หนองคาย!Q39+[1]บึงกาฬ!Q39+[1]สกลนคร!Q39+[1]นครพนม!Q39+[1]เชียงใหม่!Q39+[1]แม่ฮ่องสอน!Q39+[1]เชียงราย!Q39+[1]พะเยา!Q39+[1]น่าน!Q39+[1]ภูเก็ต!Q39+[1]พังงา!Q39+[1]กระบี่!Q39+[1]นครศรี!Q39+[1]พัทลุง!Q39+[1]ตรัง!Q39+[1]ปัตตานี!Q39+[1]ยะลา!Q39+[1]นราธิวาส!Q39+[1]เชียงแสน!Q39+[1]ยานยนต!Q39+[1]สถาบันสุขภาพ!Q39 -> 0 | P35: =+[1]สมุทรปราการ!R39+[1]ฉะเชิงเทรา!R39+[1]สุพรรณ!R39+[1]สิงห์บุรี!R39+[1]ชัยนาท!R39+[1]อุทัย!R39+[1]ชลบุรี!R39+[1]ปราจีน!R39+[1]สระแก้ว!R39+[1]ราชบุรี!R39+[1]เพชรบุรี!R39+[1]กาญจนบุรี!R39+[1]ประจวบ!R39+[1]นครราชสีมา!R39+[1]ชัยภูมิ!R39+[1]สุรินทร์!R39+[1]บุรีรัมย์!R39+[1]ขอนแก่น!R39+[1]กาฬสินทร์!R39+[1]มุกดาหาร!R39+[1]หนองบัว!R39+[1]มหาสารคราม!R39+[1]อุบล!R39+[1]ศรีสะเกษ!R39+[1]อำนาจ!R39+[1]ร้อยเอ็ด!R39+[1]ยโสธร!R39+[1]นครสวรรค์!R39+[1]พิจิตร!R39+[1]กำแพงเพชร!R39+[1]ตาก!R39+[1]พิษณุโลก!R39+[1]เลย!R39+[1]เพชรบูลย์!R39+[1]อุดรดิต!R39+[1]สุโขทัย!R39+[1]ลำปาง!R39+[1]ลำพูน!R39+[1]แพร่!R39+[1]สุราษ!R39+[1]ชุมพร!R39+[1]ระนอง!R39+[1]สงขลา!R39+[1]สตูล!R39+[1]กรุงเทพ!R39+[1]ปทุม!R39+[1]นนทบุรี!R39+[1]นครนายก!R39+[1]อยุธยา!R39+[1]อ่างทอง!R39+[1]สระบุรี!R39+[1]ลพบุรี!R39+[1]นครปฐม!R39+[1]สมุทรสงคราม!R39+[1]สมุทรสาคร!R39+[1]ระยอง!R39+[1]จันทบุรี!R39+[1]ตราด!R39+[1]อุดร!R39+[1]หนองคาย!R39+[1]บึงกาฬ!R39+[1]สกลนคร!R39+[1]นครพนม!R39+[1]เชียงใหม่!R39+[1]แม่ฮ่องสอน!R39+[1]เชียงราย!R39+[1]พะเยา!R39+[1]น่าน!R39+[1]ภูเก็ต!R39+[1]พังงา!R39+[1]กระบี่!R39+[1]นครศรี!R39+[1]พัทลุง!R39+[1]ตรัง!R39+[1]ปัตตานี!R39+[1]ยะลา!R39+[1]นราธิวาส!R39+[1]เชียงแสน!R39+[1]ยานยนต!R39+[1]สถาบันสุขภาพ!R39 -> 0
A36: * ค่าจ้างเหมารักษาความปลอดภัย | O36: =+[1]สมุทรปราการ!Q40+[1]ฉะเชิงเทรา!Q40+[1]สุพรรณ!Q40+[1]สิงห์บุรี!Q40+[1]ชัยนาท!Q40+[1]อุทัย!Q40+[1]ชลบุรี!Q40+[1]ปราจีน!Q40+[1]สระแก้ว!Q40+[1]ราชบุรี!Q40+[1]เพชรบุรี!Q40+[1]กาญจนบุรี!Q40+[1]ประจวบ!Q40+[1]นครราชสีมา!Q40+[1]ชัยภูมิ!Q40+[1]สุรินทร์!Q40+[1]บุรีรัมย์!Q40+[1]ขอนแก่น!Q40+[1]กาฬสินทร์!Q40+[1]มุกดาหาร!Q40+[1]หนองบัว!Q40+[1]มหาสารคราม!Q40+[1]อุบล!Q40+[1]ศรีสะเกษ!Q40+[1]อำนาจ!Q40+[1]ร้อยเอ็ด!Q40+[1]ยโสธร!Q40+[1]นครสวรรค์!Q40+[1]พิจิตร!Q40+[1]กำแพงเพชร!Q40+[1]ตาก!Q40+[1]พิษณุโลก!Q40+[1]เลย!Q40+[1]เพชรบูลย์!Q40+[1]อุดรดิต!Q40+[1]สุโขทัย!Q40+[1]ลำปาง!Q40+[1]ลำพูน!Q40+[1]แพร่!Q40+[1]สุราษ!Q40+[1]ชุมพร!Q40+[1]ระนอง!Q40+[1]สงขลา!Q40+[1]สตูล!Q40+[1]กรุงเทพ!Q40+[1]ปทุม!Q40+[1]นนทบุรี!Q40+[1]นครนายก!Q40+[1]อยุธยา!Q40+[1]อ่างทอง!Q40+[1]สระบุรี!Q40+[1]ลพบุรี!Q40+[1]นครปฐม!Q40+[1]สมุทรสงคราม!Q40+[1]สมุทรสาคร!Q40+[1]ระยอง!Q40+[1]จันทบุรี!Q40+[1]ตราด!Q40+[1]อุดร!Q40+[1]หนองคาย!Q40+[1]บึงกาฬ!Q40+[1]สกลนคร!Q40+[1]นครพนม!Q40+[1]เชียงใหม่!Q40+[1]แม่ฮ่องสอน!Q40+[1]เชียงราย!Q40+[1]พะเยา!Q40+[1]น่าน!Q40+[1]ภูเก็ต!Q40+[1]พังงา!Q40+[1]กระบี่!Q40+[1]นครศรี!Q40+[1]พัทลุง!Q40+[1]ตรัง!Q40+[1]ปัตตานี!Q40+[1]ยะลา!Q40+[1]นราธิวาส!Q40+[1]เชียงแสน!Q40+[1]ยานยนต!Q40+[1]สถาบันสุขภาพ!Q40 -> 0 | P36: =+[1]สมุทรปราการ!R40+[1]ฉะเชิงเทรา!R40+[1]สุพรรณ!R40+[1]สิงห์บุรี!R40+[1]ชัยนาท!R40+[1]อุทัย!R40+[1]ชลบุรี!R40+[1]ปราจีน!R40+[1]สระแก้ว!R40+[1]ราชบุรี!R40+[1]เพชรบุรี!R40+[1]กาญจนบุรี!R40+[1]ประจวบ!R40+[1]นครราชสีมา!R40+[1]ชัยภูมิ!R40+[1]สุรินทร์!R40+[1]บุรีรัมย์!R40+[1]ขอนแก่น!R40+[1]กาฬสินทร์!R40+[1]มุกดาหาร!R40+[1]หนองบัว!R40+[1]มหาสารคราม!R40+[1]อุบล!R40+[1]ศรีสะเกษ!R40+[1]อำนาจ!R40+[1]ร้อยเอ็ด!R40+[1]ยโสธร!R40+[1]นครสวรรค์!R40+[1]พิจิตร!R40+[1]กำแพงเพชร!R40+[1]ตาก!R40+[1]พิษณุโลก!R40+[1]เลย!R40+[1]เพชรบูลย์!R40+[1]อุดรดิต!R40+[1]สุโขทัย!R40+[1]ลำปาง!R40+[1]ลำพูน!R40+[1]แพร่!R40+[1]สุราษ!R40+[1]ชุมพร!R40+[1]ระนอง!R40+[1]สงขลา!R40+[1]สตูล!R40+[1]กรุงเทพ!R40+[1]ปทุม!R40+[1]นนทบุรี!R40+[1]นครนายก!R40+[1]อยุธยา!R40+[1]อ่างทอง!R40+[1]สระบุรี!R40+[1]ลพบุรี!R40+[1]นครปฐม!R40+[1]สมุทรสงคราม!R40+[1]สมุทรสาคร!R40+[1]ระยอง!R40+[1]จันทบุรี!R40+[1]ตราด!R40+[1]อุดร!R40+[1]หนองคาย!R40+[1]บึงกาฬ!R40+[1]สกลนคร!R40+[1]นครพนม!R40+[1]เชียงใหม่!R40+[1]แม่ฮ่องสอน!R40+[1]เชียงราย!R40+[1]พะเยา!R40+[1]น่าน!R40+[1]ภูเก็ต!R40+[1]พังงา!R40+[1]กระบี่!R40+[1]นครศรี!R40+[1]พัทลุง!R40+[1]ตรัง!R40+[1]ปัตตานี!R40+[1]ยะลา!R40+[1]นราธิวาส!R40+[1]เชียงแสน!R40+[1]ยานยนต!R40+[1]สถาบันสุขภาพ!R40 -> 0
A37: * ค่าจ้างเหมาดูแลสวน | O37: =+[1]สมุทรปราการ!Q41+[1]ฉะเชิงเทรา!Q41+[1]สุพรรณ!Q41+[1]สิงห์บุรี!Q41+[1]ชัยนาท!Q41+[1]อุทัย!Q41+[1]ชลบุรี!Q41+[1]ปราจีน!Q41+[1]สระแก้ว!Q41+[1]ราชบุรี!Q41+[1]เพชรบุรี!Q41+[1]กาญจนบุรี!Q41+[1]ประจวบ!Q41+[1]นครราชสีมา!Q41+[1]ชัยภูมิ!Q41+[1]สุรินทร์!Q41+[1]บุรีรัมย์!Q41+[1]ขอนแก่น!Q41+[1]กาฬสินทร์!Q41+[1]มุกดาหาร!Q41+[1]หนองบัว!Q41+[1]มหาสารคราม!Q41+[1]อุบล!Q41+[1]ศรีสะเกษ!Q41+[1]อำนาจ!Q41+[1]ร้อยเอ็ด!Q41+[1]ยโสธร!Q41+[1]นครสวรรค์!Q41+[1]พิจิตร!Q41+[1]กำแพงเพชร!Q41+[1]ตาก!Q41+[1]พิษณุโลก!Q41+[1]เลย!Q41+[1]เพชรบูลย์!Q41+[1]อุดรดิต!Q41+[1]สุโขทัย!Q41+[1]ลำปาง!Q41+[1]ลำพูน!Q41+[1]แพร่!Q41+[1]สุราษ!Q41+[1]ชุมพร!Q41+[1]ระนอง!Q41+[1]สงขลา!Q41+[1]สตูล!Q41+[1]กรุงเทพ!Q41+[1]ปทุม!Q41+[1]นนทบุรี!Q41+[1]นครนายก!Q41+[1]อยุธยา!Q41+[1]อ่างทอง!Q41+[1]สระบุรี!Q41+[1]ลพบุรี!Q41+[1]นครปฐม!Q41+[1]สมุทรสงคราม!Q41+[1]สมุทรสาคร!Q41+[1]ระยอง!Q41+[1]จันทบุรี!Q41+[1]ตราด!Q41+[1]อุดร!Q41+[1]หนองคาย!Q41+[1]บึงกาฬ!Q41+[1]สกลนคร!Q41+[1]นครพนม!Q41+[1]เชียงใหม่!Q41+[1]แม่ฮ่องสอน!Q41+[1]เชียงราย!Q41+[1]พะเยา!Q41+[1]น่าน!Q41+[1]ภูเก็ต!Q41+[1]พังงา!Q41+[1]กระบี่!Q41+[1]นครศรี!Q41+[1]พัทลุง!Q41+[1]ตรัง!Q41+[1]ปัตตานี!Q41+[1]ยะลา!Q41+[1]นราธิวาส!Q41+[1]เชียงแสน!Q41+[1]ยานยนต!Q41+[1]สถาบันสุขภาพ!Q41 -> 0 | P37: =+[1]สมุทรปราการ!R41+[1]ฉะเชิงเทรา!R41+[1]สุพรรณ!R41+[1]สิงห์บุรี!R41+[1]ชัยนาท!R41+[1]อุทัย!R41+[1]ชลบุรี!R41+[1]ปราจีน!R41+[1]สระแก้ว!R41+[1]ราชบุรี!R41+[1]เพชรบุรี!R41+[1]กาญจนบุรี!R41+[1]ประจวบ!R41+[1]นครราชสีมา!R41+[1]ชัยภูมิ!R41+[1]สุรินทร์!R41+[1]บุรีรัมย์!R41+[1]ขอนแก่น!R41+[1]กาฬสินทร์!R41+[1]มุกดาหาร!R41+[1]หนองบัว!R41+[1]มหาสารคราม!R41+[1]อุบล!R41+[1]ศรีสะเกษ!R41+[1]อำนาจ!R41+[1]ร้อยเอ็ด!R41+[1]ยโสธร!R41+[1]นครสวรรค์!R41+[1]พิจิตร!R41+[1]กำแพงเพชร!R41+[1]ตาก!R41+[1]พิษณุโลก!R41+[1]เลย!R41+[1]เพชรบูลย์!R41+[1]อุดรดิต!R41+[1]สุโขทัย!R41+[1]ลำปาง!R41+[1]ลำพูน!R41+[1]แพร่!R41+[1]สุราษ!R41+[1]ชุมพร!R41+[1]ระนอง!R41+[1]สงขลา!R41+[1]สตูล!R41+[1]กรุงเทพ!R41+[1]ปทุม!R41+[1]นนทบุรี!R41+[1]นครนายก!R41+[1]อยุธยา!R41+[1]อ่างทอง!R41+[1]สระบุรี!R41+[1]ลพบุรี!R41+[1]นครปฐม!R41+[1]สมุทรสงคราม!R41+[1]สมุทรสาคร!R41+[1]ระยอง!R41+[1]จันทบุรี!R41+[1]ตราด!R41+[1]อุดร!R41+[1]หนองคาย!R41+[1]บึงกาฬ!R41+[1]สกลนคร!R41+[1]นครพนม!R41+[1]เชียงใหม่!R41+[1]แม่ฮ่องสอน!R41+[1]เชียงราย!R41+[1]พะเยา!R41+[1]น่าน!R41+[1]ภูเก็ต!R41+[1]พังงา!R41+[1]กระบี่!R41+[1]นครศรี!R41+[1]พัทลุง!R41+[1]ตรัง!R41+[1]ปัตตานี!R41+[1]ยะลา!R41+[1]นราธิวาส!R41+[1]เชียงแสน!R41+[1]ยานยนต!R41+[1]สถาบันสุขภาพ!R41 -> 0
A38: * ค่าจ้างเหมาบุคคลภายนอกปฏิบัติงานให้หน่วยงาน | O38: =+[1]สมุทรปราการ!Q42+[1]ฉะเชิงเทรา!Q42+[1]สุพรรณ!Q42+[1]สิงห์บุรี!Q42+[1]ชัยนาท!Q42+[1]อุทัย!Q42+[1]ชลบุรี!Q42+[1]ปราจีน!Q42+[1]สระแก้ว!Q42+[1]ราชบุรี!Q42+[1]เพชรบุรี!Q42+[1]กาญจนบุรี!Q42+[1]ประจวบ!Q42+[1]นครราชสีมา!Q42+[1]ชัยภูมิ!Q42+[1]สุรินทร์!Q42+[1]บุรีรัมย์!Q42+[1]ขอนแก่น!Q42+[1]กาฬสินทร์!Q42+[1]มุกดาหาร!Q42+[1]หนองบัว!Q42+[1]มหาสารคราม!Q42+[1]อุบล!Q42+[1]ศรีสะเกษ!Q42+[1]อำนาจ!Q42+[1]ร้อยเอ็ด!Q42+[1]ยโสธร!Q42+[1]นครสวรรค์!Q42+[1]พิจิตร!Q42+[1]กำแพงเพชร!Q42+[1]ตาก!Q42+[1]พิษณุโลก!Q42+[1]เลย!Q42+[1]เพชรบูลย์!Q42+[1]อุดรดิต!Q42+[1]สุโขทัย!Q42+[1]ลำปาง!Q42+[1]ลำพูน!Q42+[1]แพร่!Q42+[1]สุราษ!Q42+[1]ชุมพร!Q42+[1]ระนอง!Q42+[1]สงขลา!Q42+[1]สตูล!Q42+[1]กรุงเทพ!Q42+[1]ปทุม!Q42+[1]นนทบุรี!Q42+[1]นครนายก!Q42+[1]อยุธยา!Q42+[1]อ่างทอง!Q42+[1]สระบุรี!Q42+[1]ลพบุรี!Q42+[1]นครปฐม!Q42+[1]สมุทรสงคราม!Q42+[1]สมุทรสาคร!Q42+[1]ระยอง!Q42+[1]จันทบุรี!Q42+[1]ตราด!Q42+[1]อุดร!Q42+[1]หนองคาย!Q42+[1]บึงกาฬ!Q42+[1]สกลนคร!Q42+[1]นครพนม!Q42+[1]เชียงใหม่!Q42+[1]แม่ฮ่องสอน!Q42+[1]เชียงราย!Q42+[1]พะเยา!Q42+[1]น่าน!Q42+[1]ภูเก็ต!Q42+[1]พังงา!Q42+[1]กระบี่!Q42+[1]นครศรี!Q42+[1]พัทลุง!Q42+[1]ตรัง!Q42+[1]ปัตตานี!Q42+[1]ยะลา!Q42+[1]นราธิวาส!Q42+[1]เชียงแสน!Q42+[1]ยานยนต!Q42+[1]สถาบันสุขภาพ!Q42 -> 0 | P38: =+[1]สมุทรปราการ!R42+[1]ฉะเชิงเทรา!R42+[1]สุพรรณ!R42+[1]สิงห์บุรี!R42+[1]ชัยนาท!R42+[1]อุทัย!R42+[1]ชลบุรี!R42+[1]ปราจีน!R42+[1]สระแก้ว!R42+[1]ราชบุรี!R42+[1]เพชรบุรี!R42+[1]กาญจนบุรี!R42+[1]ประจวบ!R42+[1]นครราชสีมา!R42+[1]ชัยภูมิ!R42+[1]สุรินทร์!R42+[1]บุรีรัมย์!R42+[1]ขอนแก่น!R42+[1]กาฬสินทร์!R42+[1]มุกดาหาร!R42+[1]หนองบัว!R42+[1]มหาสารคราม!R42+[1]อุบล!R42+[1]ศรีสะเกษ!R42+[1]อำนาจ!R42+[1]ร้อยเอ็ด!R42+[1]ยโสธร!R42+[1]นครสวรรค์!R42+[1]พิจิตร!R42+[1]กำแพงเพชร!R42+[1]ตาก!R42+[1]พิษณุโลก!R42+[1]เลย!R42+[1]เพชรบูลย์!R42+[1]อุดรดิต!R42+[1]สุโขทัย!R42+[1]ลำปาง!R42+[1]ลำพูน!R42+[1]แพร่!R42+[1]สุราษ!R42+[1]ชุมพร!R42+[1]ระนอง!R42+[1]สงขลา!R42+[1]สตูล!R42+[1]กรุงเทพ!R42+[1]ปทุม!R42+[1]นนทบุรี!R42+[1]นครนายก!R42+[1]อยุธยา!R42+[1]อ่างทอง!R42+[1]สระบุรี!R42+[1]ลพบุรี!R42+[1]นครปฐม!R42+[1]สมุทรสงคราม!R42+[1]สมุทรสาคร!R42+[1]ระยอง!R42+[1]จันทบุรี!R42+[1]ตราด!R42+[1]อุดร!R42+[1]หนองคาย!R42+[1]บึงกาฬ!R42+[1]สกลนคร!R42+[1]นครพนม!R42+[1]เชียงใหม่!R42+[1]แม่ฮ่องสอน!R42+[1]เชียงราย!R42+[1]พะเยา!R42+[1]น่าน!R42+[1]ภูเก็ต!R42+[1]พังงา!R42+[1]กระบี่!R42+[1]นครศรี!R42+[1]พัทลุง!R42+[1]ตรัง!R42+[1]ปัตตานี!R42+[1]ยะลา!R42+[1]นราธิวาส!R42+[1]เชียงแสน!R42+[1]ยานยนต!R42+[1]สถาบันสุขภาพ!R42 -> 0
A39: * ค่าจ้างเหมาเช่าเครื่องถ่ายเอกสาร | O39: =+[1]สมุทรปราการ!Q43+[1]ฉะเชิงเทรา!Q43+[1]สุพรรณ!Q43+[1]สิงห์บุรี!Q43+[1]ชัยนาท!Q43+[1]อุทัย!Q43+[1]ชลบุรี!Q43+[1]ปราจีน!Q43+[1]สระแก้ว!Q43+[1]ราชบุรี!Q43+[1]เพชรบุรี!Q43+[1]กาญจนบุรี!Q43+[1]ประจวบ!Q43+[1]นครราชสีมา!Q43+[1]ชัยภูมิ!Q43+[1]สุรินทร์!Q43+[1]บุรีรัมย์!Q43+[1]ขอนแก่น!Q43+[1]กาฬสินทร์!Q43+[1]มุกดาหาร!Q43+[1]หนองบัว!Q43+[1]มหาสารคราม!Q43+[1]อุบล!Q43+[1]ศรีสะเกษ!Q43+[1]อำนาจ!Q43+[1]ร้อยเอ็ด!Q43+[1]ยโสธร!Q43+[1]นครสวรรค์!Q43+[1]พิจิตร!Q43+[1]กำแพงเพชร!Q43+[1]ตาก!Q43+[1]พิษณุโลก!Q43+[1]เลย!Q43+[1]เพชรบูลย์!Q43+[1]อุดรดิต!Q43+[1]สุโขทัย!Q43+[1]ลำปาง!Q43+[1]ลำพูน!Q43+[1]แพร่!Q43+[1]สุราษ!Q43+[1]ชุมพร!Q43+[1]ระนอง!Q43+[1]สงขลา!Q43+[1]สตูล!Q43+[1]กรุงเทพ!Q43+[1]ปทุม!Q43+[1]นนทบุรี!Q43+[1]นครนายก!Q43+[1]อยุธยา!Q43+[1]อ่างทอง!Q43+[1]สระบุรี!Q43+[1]ลพบุรี!Q43+[1]นครปฐม!Q43+[1]สมุทรสงคราม!Q43+[1]สมุทรสาคร!Q43+[1]ระยอง!Q43+[1]จันทบุรี!Q43+[1]ตราด!Q43+[1]อุดร!Q43+[1]หนองคาย!Q43+[1]บึงกาฬ!Q43+[1]สกลนคร!Q43+[1]นครพนม!Q43+[1]เชียงใหม่!Q43+[1]แม่ฮ่องสอน!Q43+[1]เชียงราย!Q43+[1]พะเยา!Q43+[1]น่าน!Q43+[1]ภูเก็ต!Q43+[1]พังงา!Q43+[1]กระบี่!Q43+[1]นครศรี!Q43+[1]พัทลุง!Q43+[1]ตรัง!Q43+[1]ปัตตานี!Q43+[1]ยะลา!Q43+[1]นราธิวาส!Q43+[1]เชียงแสน!Q43+[1]ยานยนต!Q43+[1]สถาบันสุขภาพ!Q43 -> 0 | P39: =+[1]สมุทรปราการ!R43+[1]ฉะเชิงเทรา!R43+[1]สุพรรณ!R43+[1]สิงห์บุรี!R43+[1]ชัยนาท!R43+[1]อุทัย!R43+[1]ชลบุรี!R43+[1]ปราจีน!R43+[1]สระแก้ว!R43+[1]ราชบุรี!R43+[1]เพชรบุรี!R43+[1]กาญจนบุรี!R43+[1]ประจวบ!R43+[1]นครราชสีมา!R43+[1]ชัยภูมิ!R43+[1]สุรินทร์!R43+[1]บุรีรัมย์!R43+[1]ขอนแก่น!R43+[1]กาฬสินทร์!R43+[1]มุกดาหาร!R43+[1]หนองบัว!R43+[1]มหาสารคราม!R43+[1]อุบล!R43+[1]ศรีสะเกษ!R43+[1]อำนาจ!R43+[1]ร้อยเอ็ด!R43+[1]ยโสธร!R43+[1]นครสวรรค์!R43+[1]พิจิตร!R43+[1]กำแพงเพชร!R43+[1]ตาก!R43+[1]พิษณุโลก!R43+[1]เลย!R43+[1]เพชรบูลย์!R43+[1]อุดรดิต!R43+[1]สุโขทัย!R43+[1]ลำปาง!R43+[1]ลำพูน!R43+[1]แพร่!R43+[1]สุราษ!R43+[1]ชุมพร!R43+[1]ระนอง!R43+[1]สงขลา!R43+[1]สตูล!R43+[1]กรุงเทพ!R43+[1]ปทุม!R43+[1]นนทบุรี!R43+[1]นครนายก!R43+[1]อยุธยา!R43+[1]อ่างทอง!R43+[1]สระบุรี!R43+[1]ลพบุรี!R43+[1]นครปฐม!R43+[1]สมุทรสงคราม!R43+[1]สมุทรสาคร!R43+[1]ระยอง!R43+[1]จันทบุรี!R43+[1]ตราด!R43+[1]อุดร!R43+[1]หนองคาย!R43+[1]บึงกาฬ!R43+[1]สกลนคร!R43+[1]นครพนม!R43+[1]เชียงใหม่!R43+[1]แม่ฮ่องสอน!R43+[1]เชียงราย!R43+[1]พะเยา!R43+[1]น่าน!R43+[1]ภูเก็ต!R43+[1]พังงา!R43+[1]กระบี่!R43+[1]นครศรี!R43+[1]พัทลุง!R43+[1]ตรัง!R43+[1]ปัตตานี!R43+[1]ยะลา!R43+[1]นราธิวาส!R43+[1]เชียงแสน!R43+[1]ยานยนต!R43+[1]สถาบันสุขภาพ!R43 -> 0
A40: * ค่าจ้างเหมาพนักงานขับรถยนต์ | O40: =+[1]สมุทรปราการ!Q44+[1]ฉะเชิงเทรา!Q44+[1]สุพรรณ!Q44+[1]สิงห์บุรี!Q44+[1]ชัยนาท!Q44+[1]อุทัย!Q44+[1]ชลบุรี!Q44+[1]ปราจีน!Q44+[1]สระแก้ว!Q44+[1]ราชบุรี!Q44+[1]เพชรบุรี!Q44+[1]กาญจนบุรี!Q44+[1]ประจวบ!Q44+[1]นครราชสีมา!Q44+[1]ชัยภูมิ!Q44+[1]สุรินทร์!Q44+[1]บุรีรัมย์!Q44+[1]ขอนแก่น!Q44+[1]กาฬสินทร์!Q44+[1]มุกดาหาร!Q44+[1]หนองบัว!Q44+[1]มหาสารคราม!Q44+[1]อุบล!Q44+[1]ศรีสะเกษ!Q44+[1]อำนาจ!Q44+[1]ร้อยเอ็ด!Q44+[1]ยโสธร!Q44+[1]นครสวรรค์!Q44+[1]พิจิตร!Q44+[1]กำแพงเพชร!Q44+[1]ตาก!Q44+[1]พิษณุโลก!Q44+[1]เลย!Q44+[1]เพชรบูลย์!Q44+[1]อุดรดิต!Q44+[1]สุโขทัย!Q44+[1]ลำปาง!Q44+[1]ลำพูน!Q44+[1]แพร่!Q44+[1]สุราษ!Q44+[1]ชุมพร!Q44+[1]ระนอง!Q44+[1]สงขลา!Q44+[1]สตูล!Q44+[1]กรุงเทพ!Q44+[1]ปทุม!Q44+[1]นนทบุรี!Q44+[1]นครนายก!Q44+[1]อยุธยา!Q44+[1]อ่างทอง!Q44+[1]สระบุรี!Q44+[1]ลพบุรี!Q44+[1]นครปฐม!Q44+[1]สมุทรสงคราม!Q44+[1]สมุทรสาคร!Q44+[1]ระยอง!Q44+[1]จันทบุรี!Q44+[1]ตราด!Q44+[1]อุดร!Q44+[1]หนองคาย!Q44+[1]บึงกาฬ!Q44+[1]สกลนคร!Q44+[1]นครพนม!Q44+[1]เชียงใหม่!Q44+[1]แม่ฮ่องสอน!Q44+[1]เชียงราย!Q44+[1]พะเยา!Q44+[1]น่าน!Q44+[1]ภูเก็ต!Q44+[1]พังงา!Q44+[1]กระบี่!Q44+[1]นครศรี!Q44+[1]พัทลุง!Q44+[1]ตรัง!Q44+[1]ปัตตานี!Q44+[1]ยะลา!Q44+[1]นราธิวาส!Q44+[1]เชียงแสน!Q44+[1]ยานยนต!Q44+[1]สถาบันสุขภาพ!Q44 -> 0 | P40: =+[1]สมุทรปราการ!R44+[1]ฉะเชิงเทรา!R44+[1]สุพรรณ!R44+[1]สิงห์บุรี!R44+[1]ชัยนาท!R44+[1]อุทัย!R44+[1]ชลบุรี!R44+[1]ปราจีน!R44+[1]สระแก้ว!R44+[1]ราชบุรี!R44+[1]เพชรบุรี!R44+[1]กาญจนบุรี!R44+[1]ประจวบ!R44+[1]นครราชสีมา!R44+[1]ชัยภูมิ!R44+[1]สุรินทร์!R44+[1]บุรีรัมย์!R44+[1]ขอนแก่น!R44+[1]กาฬสินทร์!R44+[1]มุกดาหาร!R44+[1]หนองบัว!R44+[1]มหาสารคราม!R44+[1]อุบล!R44+[1]ศรีสะเกษ!R44+[1]อำนาจ!R44+[1]ร้อยเอ็ด!R44+[1]ยโสธร!R44+[1]นครสวรรค์!R44+[1]พิจิตร!R44+[1]กำแพงเพชร!R44+[1]ตาก!R44+[1]พิษณุโลก!R44+[1]เลย!R44+[1]เพชรบูลย์!R44+[1]อุดรดิต!R44+[1]สุโขทัย!R44+[1]ลำปาง!R44+[1]ลำพูน!R44+[1]แพร่!R44+[1]สุราษ!R44+[1]ชุมพร!R44+[1]ระนอง!R44+[1]สงขลา!R44+[1]สตูล!R44+[1]กรุงเทพ!R44+[1]ปทุม!R44+[1]นนทบุรี!R44+[1]นครนายก!R44+[1]อยุธยา!R44+[1]อ่างทอง!R44+[1]สระบุรี!R44+[1]ลพบุรี!R44+[1]นครปฐม!R44+[1]สมุทรสงคราม!R44+[1]สมุทรสาคร!R44+[1]ระยอง!R44+[1]จันทบุรี!R44+[1]ตราด!R44+[1]อุดร!R44+[1]หนองคาย!R44+[1]บึงกาฬ!R44+[1]สกลนคร!R44+[1]นครพนม!R44+[1]เชียงใหม่!R44+[1]แม่ฮ่องสอน!R44+[1]เชียงราย!R44+[1]พะเยา!R44+[1]น่าน!R44+[1]ภูเก็ต!R44+[1]พังงา!R44+[1]กระบี่!R44+[1]นครศรี!R44+[1]พัทลุง!R44+[1]ตรัง!R44+[1]ปัตตานี!R44+[1]ยะลา!R44+[1]นราธิวาส!R44+[1]เชียงแสน!R44+[1]ยานยนต!R44+[1]สถาบันสุขภาพ!R44 -> 0
A41: * ค่าจ้างเหมารักษาลิฟท์ | O41: =+[1]สมุทรปราการ!Q45+[1]ฉะเชิงเทรา!Q45+[1]สุพรรณ!Q45+[1]สิงห์บุรี!Q45+[1]ชัยนาท!Q45+[1]อุทัย!Q45+[1]ชลบุรี!Q45+[1]ปราจีน!Q45+[1]สระแก้ว!Q45+[1]ราชบุรี!Q45+[1]เพชรบุรี!Q45+[1]กาญจนบุรี!Q45+[1]ประจวบ!Q45+[1]นครราชสีมา!Q45+[1]ชัยภูมิ!Q45+[1]สุรินทร์!Q45+[1]บุรีรัมย์!Q45+[1]ขอนแก่น!Q45+[1]กาฬสินทร์!Q45+[1]มุกดาหาร!Q45+[1]หนองบัว!Q45+[1]มหาสารคราม!Q45+[1]อุบล!Q45+[1]ศรีสะเกษ!Q45+[1]อำนาจ!Q45+[1]ร้อยเอ็ด!Q45+[1]ยโสธร!Q45+[1]นครสวรรค์!Q45+[1]พิจิตร!Q45+[1]กำแพงเพชร!Q45+[1]ตาก!Q45+[1]พิษณุโลก!Q45+[1]เลย!Q45+[1]เพชรบูลย์!Q45+[1]อุดรดิต!Q45+[1]สุโขทัย!Q45+[1]ลำปาง!Q45+[1]ลำพูน!Q45+[1]แพร่!Q45+[1]สุราษ!Q45+[1]ชุมพร!Q45+[1]ระนอง!Q45+[1]สงขลา!Q45+[1]สตูล!Q45+[1]กรุงเทพ!Q45+[1]ปทุม!Q45+[1]นนทบุรี!Q45+[1]นครนายก!Q45+[1]อยุธยา!Q45+[1]อ่างทอง!Q45+[1]สระบุรี!Q45+[1]ลพบุรี!Q45+[1]นครปฐม!Q45+[1]สมุทรสงคราม!Q45+[1]สมุทรสาคร!Q45+[1]ระยอง!Q45+[1]จันทบุรี!Q45+[1]ตราด!Q45+[1]อุดร!Q45+[1]หนองคาย!Q45+[1]บึงกาฬ!Q45+[1]สกลนคร!Q45+[1]นครพนม!Q45+[1]เชียงใหม่!Q45+[1]แม่ฮ่องสอน!Q45+[1]เชียงราย!Q45+[1]พะเยา!Q45+[1]น่าน!Q45+[1]ภูเก็ต!Q45+[1]พังงา!Q45+[1]กระบี่!Q45+[1]นครศรี!Q45+[1]พัทลุง!Q45+[1]ตรัง!Q45+[1]ปัตตานี!Q45+[1]ยะลา!Q45+[1]นราธิวาส!Q45+[1]เชียงแสน!Q45+[1]ยานยนต!Q45+[1]สถาบันสุขภาพ!Q45 -> 0 | P41: =+[1]สมุทรปราการ!R45+[1]ฉะเชิงเทรา!R45+[1]สุพรรณ!R45+[1]สิงห์บุรี!R45+[1]ชัยนาท!R45+[1]อุทัย!R45+[1]ชลบุรี!R45+[1]ปราจีน!R45+[1]สระแก้ว!R45+[1]ราชบุรี!R45+[1]เพชรบุรี!R45+[1]กาญจนบุรี!R45+[1]ประจวบ!R45+[1]นครราชสีมา!R45+[1]ชัยภูมิ!R45+[1]สุรินทร์!R45+[1]บุรีรัมย์!R45+[1]ขอนแก่น!R45+[1]กาฬสินทร์!R45+[1]มุกดาหาร!R45+[1]หนองบัว!R45+[1]มหาสารคราม!R45+[1]อุบล!R45+[1]ศรีสะเกษ!R45+[1]อำนาจ!R45+[1]ร้อยเอ็ด!R45+[1]ยโสธร!R45+[1]นครสวรรค์!R45+[1]พิจิตร!R45+[1]กำแพงเพชร!R45+[1]ตาก!R45+[1]พิษณุโลก!R45+[1]เลย!R45+[1]เพชรบูลย์!R45+[1]อุดรดิต!R45+[1]สุโขทัย!R45+[1]ลำปาง!R45+[1]ลำพูน!R45+[1]แพร่!R45+[1]สุราษ!R45+[1]ชุมพร!R45+[1]ระนอง!R45+[1]สงขลา!R45+[1]สตูล!R45+[1]กรุงเทพ!R45+[1]ปทุม!R45+[1]นนทบุรี!R45+[1]นครนายก!R45+[1]อยุธยา!R45+[1]อ่างทอง!R45+[1]สระบุรี!R45+[1]ลพบุรี!R45+[1]นครปฐม!R45+[1]สมุทรสงคราม!R45+[1]สมุทรสาคร!R45+[1]ระยอง!R45+[1]จันทบุรี!R45+[1]ตราด!R45+[1]อุดร!R45+[1]หนองคาย!R45+[1]บึงกาฬ!R45+[1]สกลนคร!R45+[1]นครพนม!R45+[1]เชียงใหม่!R45+[1]แม่ฮ่องสอน!R45+[1]เชียงราย!R45+[1]พะเยา!R45+[1]น่าน!R45+[1]ภูเก็ต!R45+[1]พังงา!R45+[1]กระบี่!R45+[1]นครศรี!R45+[1]พัทลุง!R45+[1]ตรัง!R45+[1]ปัตตานี!R45+[1]ยะลา!R45+[1]นราธิวาส!R45+[1]เชียงแสน!R45+[1]ยานยนต!R45+[1]สถาบันสุขภาพ!R45 -> 0
A42: * ค่าจ้างเหมากำจัดปลวก | O42: =+[1]สมุทรปราการ!Q46+[1]ฉะเชิงเทรา!Q46+[1]สุพรรณ!Q46+[1]สิงห์บุรี!Q46+[1]ชัยนาท!Q46+[1]อุทัย!Q46+[1]ชลบุรี!Q46+[1]ปราจีน!Q46+[1]สระแก้ว!Q46+[1]ราชบุรี!Q46+[1]เพชรบุรี!Q46+[1]กาญจนบุรี!Q46+[1]ประจวบ!Q46+[1]นครราชสีมา!Q46+[1]ชัยภูมิ!Q46+[1]สุรินทร์!Q46+[1]บุรีรัมย์!Q46+[1]ขอนแก่น!Q46+[1]กาฬสินทร์!Q46+[1]มุกดาหาร!Q46+[1]หนองบัว!Q46+[1]มหาสารคราม!Q46+[1]อุบล!Q46+[1]ศรีสะเกษ!Q46+[1]อำนาจ!Q46+[1]ร้อยเอ็ด!Q46+[1]ยโสธร!Q46+[1]นครสวรรค์!Q46+[1]พิจิตร!Q46+[1]กำแพงเพชร!Q46+[1]ตาก!Q46+[1]พิษณุโลก!Q46+[1]เลย!Q46+[1]เพชรบูลย์!Q46+[1]อุดรดิต!Q46+[1]สุโขทัย!Q46+[1]ลำปาง!Q46+[1]ลำพูน!Q46+[1]แพร่!Q46+[1]สุราษ!Q46+[1]ชุมพร!Q46+[1]ระนอง!Q46+[1]สงขลา!Q46+[1]สตูล!Q46+[1]กรุงเทพ!Q46+[1]ปทุม!Q46+[1]นนทบุรี!Q46+[1]นครนายก!Q46+[1]อยุธยา!Q46+[1]อ่างทอง!Q46+[1]สระบุรี!Q46+[1]ลพบุรี!Q46+[1]นครปฐม!Q46+[1]สมุทรสงคราม!Q46+[1]สมุทรสาคร!Q46+[1]ระยอง!Q46+[1]จันทบุรี!Q46+[1]ตราด!Q46+[1]อุดร!Q46+[1]หนองคาย!Q46+[1]บึงกาฬ!Q46+[1]สกลนคร!Q46+[1]นครพนม!Q46+[1]เชียงใหม่!Q46+[1]แม่ฮ่องสอน!Q46+[1]เชียงราย!Q46+[1]พะเยา!Q46+[1]น่าน!Q46+[1]ภูเก็ต!Q46+[1]พังงา!Q46+[1]กระบี่!Q46+[1]นครศรี!Q46+[1]พัทลุง!Q46+[1]ตรัง!Q46+[1]ปัตตานี!Q46+[1]ยะลา!Q46+[1]นราธิวาส!Q46+[1]เชียงแสน!Q46+[1]ยานยนต!Q46+[1]สถาบันสุขภาพ!Q46 -> 0 | P42: =+[1]สมุทรปราการ!R46+[1]ฉะเชิงเทรา!R46+[1]สุพรรณ!R46+[1]สิงห์บุรี!R46+[1]ชัยนาท!R46+[1]อุทัย!R46+[1]ชลบุรี!R46+[1]ปราจีน!R46+[1]สระแก้ว!R46+[1]ราชบุรี!R46+[1]เพชรบุรี!R46+[1]กาญจนบุรี!R46+[1]ประจวบ!R46+[1]นครราชสีมา!R46+[1]ชัยภูมิ!R46+[1]สุรินทร์!R46+[1]บุรีรัมย์!R46+[1]ขอนแก่น!R46+[1]กาฬสินทร์!R46+[1]มุกดาหาร!R46+[1]หนองบัว!R46+[1]มหาสารคราม!R46+[1]อุบล!R46+[1]ศรีสะเกษ!R46+[1]อำนาจ!R46+[1]ร้อยเอ็ด!R46+[1]ยโสธร!R46+[1]นครสวรรค์!R46+[1]พิจิตร!R46+[1]กำแพงเพชร!R46+[1]ตาก!R46+[1]พิษณุโลก!R46+[1]เลย!R46+[1]เพชรบูลย์!R46+[1]อุดรดิต!R46+[1]สุโขทัย!R46+[1]ลำปาง!R46+[1]ลำพูน!R46+[1]แพร่!R46+[1]สุราษ!R46+[1]ชุมพร!R46+[1]ระนอง!R46+[1]สงขลา!R46+[1]สตูล!R46+[1]กรุงเทพ!R46+[1]ปทุม!R46+[1]นนทบุรี!R46+[1]นครนายก!R46+[1]อยุธยา!R46+[1]อ่างทอง!R46+[1]สระบุรี!R46+[1]ลพบุรี!R46+[1]นครปฐม!R46+[1]สมุทรสงคราม!R46+[1]สมุทรสาคร!R46+[1]ระยอง!R46+[1]จันทบุรี!R46+[1]ตราด!R46+[1]อุดร!R46+[1]หนองคาย!R46+[1]บึงกาฬ!R46+[1]สกลนคร!R46+[1]นครพนม!R46+[1]เชียงใหม่!R46+[1]แม่ฮ่องสอน!R46+[1]เชียงราย!R46+[1]พะเยา!R46+[1]น่าน!R46+[1]ภูเก็ต!R46+[1]พังงา!R46+[1]กระบี่!R46+[1]นครศรี!R46+[1]พัทลุง!R46+[1]ตรัง!R46+[1]ปัตตานี!R46+[1]ยะลา!R46+[1]นราธิวาส!R46+[1]เชียงแสน!R46+[1]ยานยนต!R46+[1]สถาบันสุขภาพ!R46 -> 0
...

Sheet ส่วนภูมิภาค 
A1: รายงานผลการใช้จ่ายงบประมาณ ประจำปีงบประมาณ พ.ศ. 2561
A2: หน่วยงาน.................................................
A3: ณ ........................................... | P3: (บช1/61)
C5: แผนงานยุทธศาสตร์ พัฒนาและยกระดับผลิตภาพแรงงาน | I5: แผนงานพื้นฐาน ด้านการสร้างความสามารถในการแข่งขันของประเทศ | P5: บุคลากรภาครัฐ
D6: โครงการ ยกระดับแรงงานไทยให้ได้มาตรฐานฝีมือแรงงานเพื่อรองรับการแข่งขัน | I6: ผลผลิต พัฒนา/ขับเคลื่อนความร่วมมือเครือข่าย และส่งเสริมการพัฒนาฝีมือแรงงาน
A8: งบรายจ่าย/รายการ | B8: รวม | C8: โครงการควบคุมและกำกับ | D8: ก. ทอสอบมาตรฐาน | E8: ก. ส่งเสริมมาตรฐาน | F8: ก. พัฒนาศัยยภาพแรงงาน | G8: ก. พัฒนาศักยภาพ | H8: ก. จัดตั้งศูนย์ | I8: ก. พัฒนาระบบการฝึก | J8: ก. ส่งเสริมและสนับสนุน | K8: ก. จัดทำหลักเกณฑ์ | L8: ก. พัฒนาช่างเครื่องช่วย | M8: ก. ขับเคลื่อนยุทธศาสตร์ | N8: ก. พัฒนาฝีมือแรงงาน | O8: ก. เพิ่มประสิทธิภาพ | P8: ก. พัฒนาและยกระดับ
C9: ดูแลการประกอบอาชีพที่อาจ | D9: ฝีมือแรงงานให้มี | E9: ฝีมือแรงงานแห่งชาติ | F9: เพื่อรองรับการจ่ายค่าจ้าง | G9: มาตรฐานฝีมือ | H9: ทดสอบมาตรฐาน | I9: อบรมฝีมือแรงงาน | J9: ให้สถานประกอบกิจการ | K9: พัฒนาระบบ | L9: คนพิการกับมูลนิธิ | M9: การพัฒนากำลังคน | N9: นานาชาติ | O9: แรงงานไทย | P9: ผลิตภาพแรงงาน
C10: เป็นอันตรายต่อสาธารณะฯ | D10: สมรรถนะ | F10: ตามมาตรฐาน | G10: แรงงานไทย | H10: ฝืมือแรงงาน | J10: ดำเนินการพัฒนา | K10: ส่งเสริมและรับรอง | L10: ขาเทียม | M10: ระดับชาติรองรับ | P10: แรงงาน
G11: ในต่างประเทศ | J11: ฝีมือแรงงาน | K11: มาตรฐานฝีมือแรงงาน | M11: การพัฒนาอุตสาหกรรมฯ
C12: M2562 | D12: M2564 | E12: M2565 | F12: M2566 | G12: M2567 | H12: M2568 | I12: M2570 | J12: M2571 | K12: M2572 | L12: M2573 | M12: M2574 | N12: L2891 | O12: L2895 | P12: M2569
A13: งบดำเนินงาน | B13: =SUM(C13:P13) -> 0 | C13: =+C14+C63 -> 0 | D13: =+D14+D63 -> 0 | E13: =+E14+E63 -> 0 | F13: =+F14+F63 -> 0 | G13: =+G14+G63 -> 0 | H13: =+H14+H63 -> 0 | I13: =+I14+I63 -> 0 | J13: =+J14+J63 -> 0 | ... P13: =+P14+P63 -> 0
A14: 1. ค่าตอบแทนใช้สอยและวัสดุ | B14: =SUM(F14:P14) -> 0 | C14: =+C15+C26+C35+C55 -> 0 | D14: =+D15+D26+D35+D55 -> 0 | E14: =+E15+E26+E35+E55 -> 0 | F14: =+F15+F26+F35+F55 -> 0 | G14: =+G15+G26+G35+G55 -> 0 | H14: =+H15+H26+H35+H55 -> 0 | I14: =+I15+I26+I35+I55 -> 0 | J14: =+J15+J26+J35+J55 -> 0 | ... P14: =+P15+P26+P35+P55 -> 0
A15: - ค่าตอบแทน | B15: =SUM(C15:P15) -> 0 | C15: =SUM(C16:C25) -> 0 | D15: =SUM(D16:D25) -> 0 | E15: =SUM(E16:E25) -> 0 | F15: =SUM(F16:F25) -> 0 | G15: =SUM(G16:G25) -> 0 | H15: =SUM(H16:H25) -> 0 | I15: =SUM(I16:I25) -> 0 | J15: =SUM(J16:J25) -> 0 | ... P15: =SUM(P16:P25) -> 0
A16: - ค่าเช่าบ้าน
A17: - เงินตอบแทนพิเศษของข้าราชการผู้ได้รับเงินเดือนขั้นสูงของอันดับ
A18: - เงินตอบแทนพิเศษของลูกจ้างประจำผู้ได้รับค่าจ้างถึงขั้นสูงของตำแหน่ง
A19: - เงินตอบแทนเหมาจ่ายแทนการจัดหารถประจำตำแหน่ง
A20: - เงินตอบแทนพิเศษของพนักงานราชการ (อัตราเดิม)
A21: - เงินตอบแทนการปฏิบัติงานนอกราชการ
A22: - ค่าตอบแทนผู้ปฏิบัติงานให้ราชการ (กรรมการตรวจการสอบ
A23: สัมภาษณ์ คุมสอบ วิทยากรในการประชุม ตรวจการจ้าง ควบคุมงาน)
A24: - ค่าเบี้ยประชุมกรรมการ (ประธาน กรรมการ อนุกรรมการ
A25: - เงินตอบแทนพิเศษรายเดือนสำหรับผู้ปฏิบัติงานในเขตพื้นที่พิเศษ
A26: - ค่าใช้สอย | B26: =SUM(C26:P26) -> 0 | C26: =SUM(C27:C34) -> 0 | D26: =SUM(D27:D34) -> 0 | E26: =SUM(E27:E34) -> 0 | F26: =SUM(F27:F34) -> 0 | G26: =SUM(G27:G34) -> 0 | H26: =SUM(H27:H34) -> 0 | I26: =SUM(I27:I34) -> 0 | J26: =SUM(J27:J34) -> 0 | ... P26: =SUM(P27:P34) -> 0
A27: - ค่าเช่าทรัพย์สิน | O27: =+[1]สมุทรปราการ!Q30+[1]ฉะเชิงเทรา!Q30+[1]สุพรรณ!Q30+[1]สิงห์บุรี!Q30+[1]ชัยนาท!Q30+[1]อุทัย!Q30+[1]ชลบุรี!Q30+[1]ปราจีน!Q30+[1]สระแก้ว!Q30+[1]ราชบุรี!Q30+[1]เพชรบุรี!Q30+[1]กาญจนบุรี!Q30+[1]ประจวบ!Q30+[1]นครราชสีมา!Q30+[1]ชัยภูมิ!Q30+[1]สุรินทร์!Q30+[1]บุรีรัมย์!Q30+[1]ขอนแก่น!Q30+[1]กาฬสินทร์!Q30+[1]มุกดาหาร!Q30+[1]หนองบัว!Q30+[1]มหาสารคราม!Q30+[1]อุบล!Q30+[1]ศรีสะเกษ!Q30+[1]อำนาจ!Q30+[1]ร้อยเอ็ด!Q30+[1]ยโสธร!Q30+[1]นครสวรรค์!Q30+[1]พิจิตร!Q30+[1]กำแพงเพชร!Q30+[1]ตาก!Q30+[1]พิษณุโลก!Q30+[1]เลย!Q30+[1]เพชรบูลย์!Q30+[1]อุดรดิต!Q30+[1]สุโขทัย!Q30+[1]ลำปาง!Q30+[1]ลำพูน!Q30+[1]แพร่!Q30+[1]สุราษ!Q30+[1]ชุมพร!Q30+[1]ระนอง!Q30+[1]สงขลา!Q30+[1]สตูล!Q30+[1]กรุงเทพ!Q30+[1]ปทุม!Q30+[1]นนทบุรี!Q30+[1]นครนายก!Q30+[1]อยุธยา!Q30+[1]อ่างทอง!Q30+[1]สระบุรี!Q30+[1]ลพบุรี!Q30+[1]นครปฐม!Q30+[1]สมุทรสงคราม!Q30+[1]สมุทรสาคร!Q30+[1]ระยอง!Q30+[1]จันทบุรี!Q30+[1]ตราด!Q30+[1]อุดร!Q30+[1]หนองคาย!Q30+[1]บึงกาฬ!Q30+[1]สกลนคร!Q30+[1]นครพนม!Q30+[1]เชียงใหม่!Q30+[1]แม่ฮ่องสอน!Q30+[1]เชียงราย!Q30+[1]พะเยา!Q30+[1]น่าน!Q30+[1]ภูเก็ต!Q30+[1]พังงา!Q30+[1]กระบี่!Q30+[1]นครศรี!Q30+[1]พัทลุง!Q30+[1]ตรัง!Q30+[1]ปัตตานี!Q30+[1]ยะลา!Q30+[1]นราธิวาส!Q30+[1]เชียงแสน!Q30+[1]ยานยนต!Q30+[1]สถาบันสุขภาพ!Q30 -> 0 | P27: =+[1]สมุทรปราการ!R30+[1]ฉะเชิงเทรา!R30+[1]สุพรรณ!R30+[1]สิงห์บุรี!R30+[1]ชัยนาท!R30+[1]อุทัย!R30+[1]ชลบุรี!R30+[1]ปราจีน!R30+[1]สระแก้ว!R30+[1]ราชบุรี!R30+[1]เพชรบุรี!R30+[1]กาญจนบุรี!R30+[1]ประจวบ!R30+[1]นครราชสีมา!R30+[1]ชัยภูมิ!R30+[1]สุรินทร์!R30+[1]บุรีรัมย์!R30+[1]ขอนแก่น!R30+[1]กาฬสินทร์!R30+[1]มุกดาหาร!R30+[1]หนองบัว!R30+[1]มหาสารคราม!R30+[1]อุบล!R30+[1]ศรีสะเกษ!R30+[1]อำนาจ!R30+[1]ร้อยเอ็ด!R30+[1]ยโสธร!R30+[1]นครสวรรค์!R30+[1]พิจิตร!R30+[1]กำแพงเพชร!R30+[1]ตาก!R30+[1]พิษณุโลก!R30+[1]เลย!R30+[1]เพชรบูลย์!R30+[1]อุดรดิต!R30+[1]สุโขทัย!R30+[1]ลำปาง!R30+[1]ลำพูน!R30+[1]แพร่!R30+[1]สุราษ!R30+[1]ชุมพร!R30+[1]ระนอง!R30+[1]สงขลา!R30+[1]สตูล!R30+[1]กรุงเทพ!R30+[1]ปทุม!R30+[1]นนทบุรี!R30+[1]นครนายก!R30+[1]อยุธยา!R30+[1]อ่างทอง!R30+[1]สระบุรี!R30+[1]ลพบุรี!R30+[1]นครปฐม!R30+[1]สมุทรสงคราม!R30+[1]สมุทรสาคร!R30+[1]ระยอง!R30+[1]จันทบุรี!R30+[1]ตราด!R30+[1]อุดร!R30+[1]หนองคาย!R30+[1]บึงกาฬ!R30+[1]สกลนคร!R30+[1]นครพนม!R30+[1]เชียงใหม่!R30+[1]แม่ฮ่องสอน!R30+[1]เชียงราย!R30+[1]พะเยา!R30+[1]น่าน!R30+[1]ภูเก็ต!R30+[1]พังงา!R30+[1]กระบี่!R30+[1]นครศรี!R30+[1]พัทลุง!R30+[1]ตรัง!R30+[1]ปัตตานี!R30+[1]ยะลา!R30+[1]นราธิวาส!R30+[1]เชียงแสน!R30+[1]ยานยนต!R30+[1]สถาบันสุขภาพ!R30 -> 0
A28: - เงินสมทบกองทุนประกันสังคม | O28: =+[1]สมุทรปราการ!Q31+[1]ฉะเชิงเทรา!Q31+[1]สุพรรณ!Q31+[1]สิงห์บุรี!Q31+[1]ชัยนาท!Q31+[1]อุทัย!Q31+[1]ชลบุรี!Q31+[1]ปราจีน!Q31+[1]สระแก้ว!Q31+[1]ราชบุรี!Q31+[1]เพชรบุรี!Q31+[1]กาญจนบุรี!Q31+[1]ประจวบ!Q31+[1]นครราชสีมา!Q31+[1]ชัยภูมิ!Q31+[1]สุรินทร์!Q31+[1]บุรีรัมย์!Q31+[1]ขอนแก่น!Q31+[1]กาฬสินทร์!Q31+[1]มุกดาหาร!Q31+[1]หนองบัว!Q31+[1]มหาสารคราม!Q31+[1]อุบล!Q31+[1]ศรีสะเกษ!Q31+[1]อำนาจ!Q31+[1]ร้อยเอ็ด!Q31+[1]ยโสธร!Q31+[1]นครสวรรค์!Q31+[1]พิจิตร!Q31+[1]กำแพงเพชร!Q31+[1]ตาก!Q31+[1]พิษณุโลก!Q31+[1]เลย!Q31+[1]เพชรบูลย์!Q31+[1]อุดรดิต!Q31+[1]สุโขทัย!Q31+[1]ลำปาง!Q31+[1]ลำพูน!Q31+[1]แพร่!Q31+[1]สุราษ!Q31+[1]ชุมพร!Q31+[1]ระนอง!Q31+[1]สงขลา!Q31+[1]สตูล!Q31+[1]กรุงเทพ!Q31+[1]ปทุม!Q31+[1]นนทบุรี!Q31+[1]นครนายก!Q31+[1]อยุธยา!Q31+[1]อ่างทอง!Q31+[1]สระบุรี!Q31+[1]ลพบุรี!Q31+[1]นครปฐม!Q31+[1]สมุทรสงคราม!Q31+[1]สมุทรสาคร!Q31+[1]ระยอง!Q31+[1]จันทบุรี!Q31+[1]ตราด!Q31+[1]อุดร!Q31+[1]หนองคาย!Q31+[1]บึงกาฬ!Q31+[1]สกลนคร!Q31+[1]นครพนม!Q31+[1]เชียงใหม่!Q31+[1]แม่ฮ่องสอน!Q31+[1]เชียงราย!Q31+[1]พะเยา!Q31+[1]น่าน!Q31+[1]ภูเก็ต!Q31+[1]พังงา!Q31+[1]กระบี่!Q31+[1]นครศรี!Q31+[1]พัทลุง!Q31+[1]ตรัง!Q31+[1]ปัตตานี!Q31+[1]ยะลา!Q31+[1]นราธิวาส!Q31+[1]เชียงแสน!Q31+[1]ยานยนต!Q31+[1]สถาบันสุขภาพ!Q31 -> 0 | P28: =+[1]สมุทรปราการ!R31+[1]ฉะเชิงเทรา!R31+[1]สุพรรณ!R31+[1]สิงห์บุรี!R31+[1]ชัยนาท!R31+[1]อุทัย!R31+[1]ชลบุรี!R31+[1]ปราจีน!R31+[1]สระแก้ว!R31+[1]ราชบุรี!R31+[1]เพชรบุรี!R31+[1]กาญจนบุรี!R31+[1]ประจวบ!R31+[1]นครราชสีมา!R31+[1]ชัยภูมิ!R31+[1]สุรินทร์!R31+[1]บุรีรัมย์!R31+[1]ขอนแก่น!R31+[1]กาฬสินทร์!R31+[1]มุกดาหาร!R31+[1]หนองบัว!R31+[1]มหาสารคราม!R31+[1]อุบล!R31+[1]ศรีสะเกษ!R31+[1]อำนาจ!R31+[1]ร้อยเอ็ด!R31+[1]ยโสธร!R31+[1]นครสวรรค์!R31+[1]พิจิตร!R31+[1]กำแพงเพชร!R31+[1]ตาก!R31+[1]พิษณุโลก!R31+[1]เลย!R31+[1]เพชรบูลย์!R31+[1]อุดรดิต!R31+[1]สุโขทัย!R31+[1]ลำปาง!R31+[1]ลำพูน!R31+[1]แพร่!R31+[1]สุราษ!R31+[1]ชุมพร!R31+[1]ระนอง!R31+[1]สงขลา!R31+[1]สตูล!R31+[1]กรุงเทพ!R31+[1]ปทุม!R31+[1]นนทบุรี!R31+[1]นครนายก!R31+[1]อยุธยา!R31+[1]อ่างทอง!R31+[1]สระบุรี!R31+[1]ลพบุรี!R31+[1]นครปฐม!R31+[1]สมุทรสงคราม!R31+[1]สมุทรสาคร!R31+[1]ระยอง!R31+[1]จันทบุรี!R31+[1]ตราด!R31+[1]อุดร!R31+[1]หนองคาย!R31+[1]บึงกาฬ!R31+[1]สกลนคร!R31+[1]นครพนม!R31+[1]เชียงใหม่!R31+[1]แม่ฮ่องสอน!R31+[1]เชียงราย!R31+[1]พะเยา!R31+[1]น่าน!R31+[1]ภูเก็ต!R31+[1]พังงา!R31+[1]กระบี่!R31+[1]นครศรี!R31+[1]พัทลุง!R31+[1]ตรัง!R31+[1]ปัตตานี!R31+[1]ยะลา!R31+[1]นราธิวาส!R31+[1]เชียงแสน!R31+[1]ยานยนต!R31+[1]สถาบันสุขภาพ!R31 -> 0
A29: * ค่าเบี้ยเลี้ยงเดินทางในประเทศ | O29: =+[1]สมุทรปราการ!Q32+[1]ฉะเชิงเทรา!Q32+[1]สุพรรณ!Q32+[1]สิงห์บุรี!Q32+[1]ชัยนาท!Q32+[1]อุทัย!Q32+[1]ชลบุรี!Q32+[1]ปราจีน!Q32+[1]สระแก้ว!Q32+[1]ราชบุรี!Q32+[1]เพชรบุรี!Q32+[1]กาญจนบุรี!Q32+[1]ประจวบ!Q32+[1]นครราชสีมา!Q32+[1]ชัยภูมิ!Q32+[1]สุรินทร์!Q32+[1]บุรีรัมย์!Q32+[1]ขอนแก่น!Q32+[1]กาฬสินทร์!Q32+[1]มุกดาหาร!Q32+[1]หนองบัว!Q32+[1]มหาสารคราม!Q32+[1]อุบล!Q32+[1]ศรีสะเกษ!Q32+[1]อำนาจ!Q32+[1]ร้อยเอ็ด!Q32+[1]ยโสธร!Q32+[1]นครสวรรค์!Q32+[1]พิจิตร!Q32+[1]กำแพงเพชร!Q32+[1]ตาก!Q32+[1]พิษณุโลก!Q32+[1]เลย!Q32+[1]เพชรบูลย์!Q32+[1]อุดรดิต!Q32+[1]สุโขทัย!Q32+[1]ลำปาง!Q32+[1]ลำพูน!Q32+[1]แพร่!Q32+[1]สุราษ!Q32+[1]ชุมพร!Q32+[1]ระนอง!Q32+[1]สงขลา!Q32+[1]สตูล!Q32+[1]กรุงเทพ!Q32+[1]ปทุม!Q32+[1]นนทบุรี!Q32+[1]นครนายก!Q32+[1]อยุธยา!Q32+[1]อ่างทอง!Q32+[1]สระบุรี!Q32+[1]ลพบุรี!Q32+[1]นครปฐม!Q32+[1]สมุทรสงคราม!Q32+[1]สมุทรสาคร!Q32+[1]ระยอง!Q32+[1]จันทบุรี!Q32+[1]ตราด!Q32+[1]อุดร!Q32+[1]หนองคาย!Q32+[1]บึงกาฬ!Q32+[1]สกลนคร!Q32+[1]นครพนม!Q32+[1]เชียงใหม่!Q32+[1]แม่ฮ่องสอน!Q32+[1]เชียงราย!Q32+[1]พะเยา!Q32+[1]น่าน!Q32+[1]ภูเก็ต!Q32+[1]พังงา!Q32+[1]กระบี่!Q32+[1]นครศรี!Q32+[1]พัทลุง!Q32+[1]ตรัง!Q32+[1]ปัตตานี!Q32+[1]ยะลา!Q32+[1]นราธิวาส!Q32+[1]เชียงแสน!Q32+[1]ยานยนต!Q32+[1]สถาบันสุขภาพ!Q32 -> 0 | P29: =+[1]สมุทรปราการ!R32+[1]ฉะเชิงเทรา!R32+[1]สุพรรณ!R32+[1]สิงห์บุรี!R32+[1]ชัยนาท!R32+[1]อุทัย!R32+[1]ชลบุรี!R32+[1]ปราจีน!R32+[1]สระแก้ว!R32+[1]ราชบุรี!R32+[1]เพชรบุรี!R32+[1]กาญจนบุรี!R32+[1]ประจวบ!R32+[1]นครราชสีมา!R32+[1]ชัยภูมิ!R32+[1]สุรินทร์!R32+[1]บุรีรัมย์!R32+[1]ขอนแก่น!R32+[1]กาฬสินทร์!R32+[1]มุกดาหาร!R32+[1]หนองบัว!R32+[1]มหาสารคราม!R32+[1]อุบล!R32+[1]ศรีสะเกษ!R32+[1]อำนาจ!R32+[1]ร้อยเอ็ด!R32+[1]ยโสธร!R32+[1]นครสวรรค์!R32+[1]พิจิตร!R32+[1]กำแพงเพชร!R32+[1]ตาก!R32+[1]พิษณุโลก!R32+[1]เลย!R32+[1]เพชรบูลย์!R32+[1]อุดรดิต!R32+[1]สุโขทัย!R32+[1]ลำปาง!R32+[1]ลำพูน!R32+[1]แพร่!R32+[1]สุราษ!R32+[1]ชุมพร!R32+[1]ระนอง!R32+[1]สงขลา!R32+[1]สตูล!R32+[1]กรุงเทพ!R32+[1]ปทุม!R32+[1]นนทบุรี!R32+[1]นครนายก!R32+[1]อยุธยา!R32+[1]อ่างทอง!R32+[1]สระบุรี!R32+[1]ลพบุรี!R32+[1]นครปฐม!R32+[1]สมุทรสงคราม!R32+[1]สมุทรสาคร!R32+[1]ระยอง!R32+[1]จันทบุรี!R32+[1]ตราด!R32+[1]อุดร!R32+[1]หนองคาย!R32+[1]บึงกาฬ!R32+[1]สกลนคร!R32+[1]นครพนม!R32+[1]เชียงใหม่!R32+[1]แม่ฮ่องสอน!R32+[1]เชียงราย!R32+[1]พะเยา!R32+[1]น่าน!R32+[1]ภูเก็ต!R32+[1]พังงา!R32+[1]กระบี่!R32+[1]นครศรี!R32+[1]พัทลุง!R32+[1]ตรัง!R32+[1]ปัตตานี!R32+[1]ยะลา!R32+[1]นราธิวาส!R32+[1]เชียงแสน!R32+[1]ยานยนต!R32+[1]สถาบันสุขภาพ!R32 -> 0
A30: * ค่าที่พัก | O30: =+[1]สมุทรปราการ!Q33+[1]ฉะเชิงเทรา!Q33+[1]สุพรรณ!Q33+[1]สิงห์บุรี!Q33+[1]ชัยนาท!Q33+[1]อุทัย!Q33+[1]ชลบุรี!Q33+[1]ปราจีน!Q33+[1]สระแก้ว!Q33+[1]ราชบุรี!Q33+[1]เพชรบุรี!Q33+[1]กาญจนบุรี!Q33+[1]ประจวบ!Q33+[1]นครราชสีมา!Q33+[1]ชัยภูมิ!Q33+[1]สุรินทร์!Q33+[1]บุรีรัมย์!Q33+[1]ขอนแก่น!Q33+[1]กาฬสินทร์!Q33+[1]มุกดาหาร!Q33+[1]หนองบัว!Q33+[1]มหาสารคราม!Q33+[1]อุบล!Q33+[1]ศรีสะเกษ!Q33+[1]อำนาจ!Q33+[1]ร้อยเอ็ด!Q33+[1]ยโสธร!Q33+[1]นครสวรรค์!Q33+[1]พิจิตร!Q33+[1]กำแพงเพชร!Q33+[1]ตาก!Q33+[1]พิษณุโลก!Q33+[1]เลย!Q33+[1]เพชรบูลย์!Q33+[1]อุดรดิต!Q33+[1]สุโขทัย!Q33+[1]ลำปาง!Q33+[1]ลำพูน!Q33+[1]แพร่!Q33+[1]สุราษ!Q33+[1]ชุมพร!Q33+[1]ระนอง!Q33+[1]สงขลา!Q33+[1]สตูล!Q33+[1]กรุงเทพ!Q33+[1]ปทุม!Q33+[1]นนทบุรี!Q33+[1]นครนายก!Q33+[1]อยุธยา!Q33+[1]อ่างทอง!Q33+[1]สระบุรี!Q33+[1]ลพบุรี!Q33+[1]นครปฐม!Q33+[1]สมุทรสงคราม!Q33+[1]สมุทรสาคร!Q33+[1]ระยอง!Q33+[1]จันทบุรี!Q33+[1]ตราด!Q33+[1]อุดร!Q33+[1]หนองคาย!Q33+[1]บึงกาฬ!Q33+[1]สกลนคร!Q33+[1]นครพนม!Q33+[1]เชียงใหม่!Q33+[1]แม่ฮ่องสอน!Q33+[1]เชียงราย!Q33+[1]พะเยา!Q33+[1]น่าน!Q33+[1]ภูเก็ต!Q33+[1]พังงา!Q33+[1]กระบี่!Q33+[1]นครศรี!Q33+[1]พัทลุง!Q33+[1]ตรัง!Q33+[1]ปัตตานี!Q33+[1]ยะลา!Q33+[1]นราธิวาส!Q33+[1]เชียงแสน!Q33+[1]ยานยนต!Q33+[1]สถาบันสุขภาพ!Q33 -> 0 | P30: =+[1]สมุทรปราการ!R33+[1]ฉะเชิงเทรา!R33+[1]สุพรรณ!R33+[1]สิงห์บุรี!R33+[1]ชัยนาท!R33+[1]อุทัย!R33+[1]ชลบุรี!R33+[1]ปราจีน!R33+[1]สระแก้ว!R33+[1]ราชบุรี!R33+[1]เพชรบุรี!R33+[1]กาญจนบุรี!R33+[1]ประจวบ!R33+[1]นครราชสีมา!R33+[1]ชัยภูมิ!R33+[1]สุรินทร์!R33+[1]บุรีรัมย์!R33+[1]ขอนแก่น!R33+[1]กาฬสินทร์!R33+[1]มุกดาหาร!R33+[1]หนองบัว!R33+[1]มหาสารคราม!R33+[1]อุบล!R33+[1]ศรีสะเกษ!R33+[1]อำนาจ!R33+[1]ร้อยเอ็ด!R33+[1]ยโสธร!R33+[1]นครสวรรค์!R33+[1]พิจิตร!R33+[1]กำแพงเพชร!R33+[1]ตาก!R33+[1]พิษณุโลก!R33+[1]เลย!R33+[1]เพชรบูลย์!R33+[1]อุดรดิต!R33+[1]สุโขทัย!R33+[1]ลำปาง!R33+[1]ลำพูน!R33+[1]แพร่!R33+[1]สุราษ!R33+[1]ชุมพร!R33+[1]ระนอง!R33+[1]สงขลา!R33+[1]สตูล!R33+[1]กรุงเทพ!R33+[1]ปทุม!R33+[1]นนทบุรี!R33+[1]นครนายก!R33+[1]อยุธยา!R33+[1]อ่างทอง!R33+[1]สระบุรี!R33+[1]ลพบุรี!R33+[1]นครปฐม!R33+[1]สมุทรสงคราม!R33+[1]สมุทรสาคร!R33+[1]ระยอง!R33+[1]จันทบุรี!R33+[1]ตราด!R33+[1]อุดร!R33+[1]หนองคาย!R33+[1]บึงกาฬ!R33+[1]สกลนคร!R33+[1]นครพนม!R33+[1]เชียงใหม่!R33+[1]แม่ฮ่องสอน!R33+[1]เชียงราย!R33+[1]พะเยา!R33+[1]น่าน!R33+[1]ภูเก็ต!R33+[1]พังงา!R33+[1]กระบี่!R33+[1]นครศรี!R33+[1]พัทลุง!R33+[1]ตรัง!R33+[1]ปัตตานี!R33+[1]ยะลา!R33+[1]นราธิวาส!R33+[1]เชียงแสน!R33+[1]ยานยนต!R33+[1]สถาบันสุขภาพ!R33 -> 0
A31: * ค่าพาหนะเดินทางในประเทศ | O31: =+[1]สมุทรปราการ!Q34+[1]ฉะเชิงเทรา!Q34+[1]สุพรรณ!Q34+[1]สิงห์บุรี!Q34+[1]ชัยนาท!Q34+[1]อุทัย!Q34+[1]ชลบุรี!Q34+[1]ปราจีน!Q34+[1]สระแก้ว!Q34+[1]ราชบุรี!Q34+[1]เพชรบุรี!Q34+[1]กาญจนบุรี!Q34+[1]ประจวบ!Q34+[1]นครราชสีมา!Q34+[1]ชัยภูมิ!Q34+[1]สุรินทร์!Q34+[1]บุรีรัมย์!Q34+[1]ขอนแก่น!Q34+[1]กาฬสินทร์!Q34+[1]มุกดาหาร!Q34+[1]หนองบัว!Q34+[1]มหาสารคราม!Q34+[1]อุบล!Q34+[1]ศรีสะเกษ!Q34+[1]อำนาจ!Q34+[1]ร้อยเอ็ด!Q34+[1]ยโสธร!Q34+[1]นครสวรรค์!Q34+[1]พิจิตร!Q34+[1]กำแพงเพชร!Q34+[1]ตาก!Q34+[1]พิษณุโลก!Q34+[1]เลย!Q34+[1]เพชรบูลย์!Q34+[1]อุดรดิต!Q34+[1]สุโขทัย!Q34+[1]ลำปาง!Q34+[1]ลำพูน!Q34+[1]แพร่!Q34+[1]สุราษ!Q34+[1]ชุมพร!Q34+[1]ระนอง!Q34+[1]สงขลา!Q34+[1]สตูล!Q34+[1]กรุงเทพ!Q34+[1]ปทุม!Q34+[1]นนทบุรี!Q34+[1]นครนายก!Q34+[1]อยุธยา!Q34+[1]อ่างทอง!Q34+[1]สระบุรี!Q34+[1]ลพบุรี!Q34+[1]นครปฐม!Q34+[1]สมุทรสงคราม!Q34+[1]สมุทรสาคร!Q34+[1]ระยอง!Q34+[1]จันทบุรี!Q34+[1]ตราด!Q34+[1]อุดร!Q34+[1]หนองคาย!Q34+[1]บึงกาฬ!Q34+[1]สกลนคร!Q34+[1]นครพนม!Q34+[1]เชียงใหม่!Q34+[1]แม่ฮ่องสอน!Q34+[1]เชียงราย!Q34+[1]พะเยา!Q34+[1]น่าน!Q34+[1]ภูเก็ต!Q34+[1]พังงา!Q34+[1]กระบี่!Q34+[1]นครศรี!Q34+[1]พัทลุง!Q34+[1]ตรัง!Q34+[1]ปัตตานี!Q34+[1]ยะลา!Q34+[1]นราธิวาส!Q34+[1]เชียงแสน!Q34+[1]ยานยนต!Q34+[1]สถาบันสุขภาพ!Q34 -> 0 | P31: =+[1]สมุทรปราการ!R34+[1]ฉะเชิงเทรา!R34+[1]สุพรรณ!R34+[1]สิงห์บุรี!R34+[1]ชัยนาท!R34+[1]อุทัย!R34+[1]ชลบุรี!R34+[1]ปราจีน!R34+[1]สระแก้ว!R34+[1]ราชบุรี!R34+[1]เพชรบุรี!R34+[1]กาญจนบุรี!R34+[1]ประจวบ!R34+[1]นครราชสีมา!R34+[1]ชัยภูมิ!R34+[1]สุรินทร์!R34+[1]บุรีรัมย์!R34+[1]ขอนแก่น!R34+[1]กาฬสินทร์!R34+[1]มุกดาหาร!R34+[1]หนองบัว!R34+[1]มหาสารคราม!R34+[1]อุบล!R34+[1]ศรีสะเกษ!R34+[1]อำนาจ!R34+[1]ร้อยเอ็ด!R34+[1]ยโสธร!R34+[1]นครสวรรค์!R34+[1]พิจิตร!R34+[1]กำแพงเพชร!R34+[1]ตาก!R34+[1]พิษณุโลก!R34+[1]เลย!R34+[1]เพชรบูลย์!R34+[1]อุดรดิต!R34+[1]สุโขทัย!R34+[1]ลำปาง!R34+[1]ลำพูน!R34+[1]แพร่!R34+[1]สุราษ!R34+[1]ชุมพร!R34+[1]ระนอง!R34+[1]สงขลา!R34+[1]สตูล!R34+[1]กรุงเทพ!R34+[1]ปทุม!R34+[1]นนทบุรี!R34+[1]นครนายก!R34+[1]อยุธยา!R34+[1]อ่างทอง!R34+[1]สระบุรี!R34+[1]ลพบุรี!R34+[1]นครปฐม!R34+[1]สมุทรสงคราม!R34+[1]สมุทรสาคร!R34+[1]ระยอง!R34+[1]จันทบุรี!R34+[1]ตราด!R34+[1]อุดร!R34+[1]หนองคาย!R34+[1]บึงกาฬ!R34+[1]สกลนคร!R34+[1]นครพนม!R34+[1]เชียงใหม่!R34+[1]แม่ฮ่องสอน!R34+[1]เชียงราย!R34+[1]พะเยา!R34+[1]น่าน!R34+[1]ภูเก็ต!R34+[1]พังงา!R34+[1]กระบี่!R34+[1]นครศรี!R34+[1]พัทลุง!R34+[1]ตรัง!R34+[1]ปัตตานี!R34+[1]ยะลา!R34+[1]นราธิวาส!R34+[1]เชียงแสน!R34+[1]ยานยนต!R34+[1]สถาบันสุขภาพ!R34 -> 0
