Workbook

Sheet ส่วนกลาง
A1: รายงานผลการใช้จ่ายงบประมาณ ประจำปีงบประมาณ พ.ศ. 2561 (ส่วนกลาง)
A2: หน่วยงาน.................................................
A3: ณ ........................................... | P3: (บช1/61)
C5: แผนงานยุทธศาสตร์ พัฒนาและยกระดับผลิตภาพแรงงาน | I5: แผนงานพื้นฐาน ด้านการสร้างความสามารถในการแข่งขันของประเทศ | P5: บุคลากรภาครัฐ
D6: โครงการ ยกระดับแรงงานไทยให้ได้มาตรฐานฝีมือแรงงานเพื่อรองรับการแข่งขัน | I6: ผลผลิต พัฒนา/ขับเคลื่อนความร่วมมือเครือข่าย และส่งเสริมการพัฒนาฝีมือแรงงาน
A8: งบรายจ่าย/รายการ | B8: รวม | C8: โครงการควบคุมและกำกับ | D8: ก. ทอสอบมาตรฐาน | E8: ก. ส่งเสริมมาตรฐาน | F8: ก. พัฒนาศัยยภาพแรงงาน | G8: ก. พัฒนาศักยภาพ | H8: ก. จัดตั้งศูนย์ | I8: ก. พัฒนาระบบการฝึก | J8: ก. ส่งเสริมและสนับสนุน | K8: ก. จัดทำหลักเกณฑ์ | L8: ก. พัฒนาช่างเครื่องช่วย | M8: ก. ขับเคลื่อนยุทธศาสตร์ | N8: ก. พัฒนาฝีมือแรงงาน | O8: ก. เพิ่มประสิทธิภาพ | P8: ก. พัฒนาและยกระดับ
C9: ดูแลการประกอบอาชีพที่อาจ | D9: ฝีมือแรงงานให้มี | E9: ฝีมือแรงงานแห่งชาติ | F9: เพื่อรองรับการจ่ายค่าจ้าง | G9: มาตรฐานฝีมือ | H9: ทดสอบมาตรฐาน | I9: อบรมฝีมือแรงงาน | J9: ให้สถานประกอบกิจการ | K9: พัฒนาระบบ | L9: คนพิการกับมูลนิธิ | M9: การพัฒนากำลังคน | N9: นานาชาติ | O9: แรงงานไทย | P9: ผลิตภาพแรงงาน
C10: เป็นอันตรายต่อสาธารณะฯ | D10: สมรรถนะ | F10: ตามมาตรฐาน | G10: แรงงานไทย | H10: ฝืมือแรงงาน | J10: ดำเนินการพัฒนา | K10: ส่งเสริมและรับรอง | L10: ขาเทียม | M10: ระดับชาติรองรับ | P10: แรงงาน
G11: ในต่างประเทศ | J11: ฝีมือแรงงาน | K11: มาตรฐานฝีมือแรงงาน | M11: การพัฒนาอุตสาหกรรมฯ
C12: M2562 | D12: M2564 | E12: M2565 | F12: M2566 | G12: M2567 | H12: M2568 | I12: M2570 | J12: M2571 | K12: M2572 | L12: M2573 | M12: M2574 | N12: L2891 | O12: L2895 | P12: M2569
A13: งบดำเนินงาน | B13: =SUM(C13:P13) -> 0 | C13: =+C14+C65 -> 0 | D13: =+D14+D65 -> 0 | E13: =+E14+E65 -> 0 | F13: =+F14+F65 -> 0 | G13: =+G14+G65 -> 0 | H13: =+H14+H65 -> 0 | I13: =+I14+I65 -> 0 | J13: =+J14+J65 -> 0 | ... P13: =+P14+P65 -> 0
A14: 1. ค่าตอบแทนใช้สอยและวัสดุ | B14: =SUM(C14:P14) -> 0 | C14: =+C15+C25+C34+C56 -> 0 | D14: =+D15+D25+D34+D56 -> 0 | E14: =+E15+E25+E34+E56 -> 0 | F14: =+F15+F25+F34+F56 -> 0 | G14: =+G15+G25+G34+G56 -> 0 | H14: =+H15+H25+H34+H56 -> 0 | I14: =+I15+I25+I34+I56 -> 0 | J14: =+J15+J25+J34+J56 -> 0 | ... P14: =+P15+P25+P34+P56 -> 0
A15: - ค่าตอบแทน | B15: =SUM(C15:P15) -> 0 | C15: =SUM(C16:C24) -> 0 | D15: =SUM(D16:D24) -> 0 | E15: =SUM(E16:E24) -> 0 | F15: =SUM(F16:F24) -> 0 | G15: =SUM(G16:G24) -> 0 | H15: =SUM(H16:H24) -> 0 | I15: =SUM(I16:I24) -> 0 | J15: =SUM(J16:J24) -> 0 | ... P15: =SUM(P16:P24) -> 0
A16: - ค่าเช่าบ้าน
A17: - เงินตอบแทนพิเศษของข้าราชการผู้ได้รับเงินเดือนขั้นสูงของอันดับ
A18: - เงินตอบแทนพิเศษของลูกจ้างประจำผู้ได้รับค่าจ้างถึงขั้นสูงของตำแหน่ง
A19: - เงินตอบแทนเหมาจ่ายแทนการจัดหารถประจำตำแหน่ง
A20: - เงินตอบแทนพิเศษของพนักงานราชการ (อัตราเดิม)
A21: - เงินตอบแทนการปฏิบัติงานนอกราชการ
A22: - ค่าตอบแทนผู้ปฏิบัติงานให้ราชการ (กรรมการตรวจการสอบ
A23: สัมภาษณ์ คุมสอบ วิทยากรในการประชุม ตรวจการจ้าง ควบคุมงาน)
A24: - ค่าเบี้ยประชุมกรรมการ (ประธาน กรรมการ อนุกรรมการ
A25: - ค่าใช้สอย | B25: =SUM(C25:P25) -> 0 | C25: =SUM(C26:C33) -> 0 | D25: =SUM(D26:D33) -> 0 | E25: =SUM(E26:E33) -> 0 | F25: =SUM(F26:F33) -> 0 | G25: =SUM(G26:G33) -> 0 | H25: =SUM(H26:H33) -> 0 | I25: =SUM(I26:I33) -> 0 | J25: =SUM(J26:J33) -> 0 | ... P25: =SUM(P26:P33) -> 0
A26: - ค่าเช่าทรัพย์สิน | O26: =+[1]สมุทรปราการ!Q30+[1]ฉะเชิงเทรา!Q30+[1]สุพรรณ!Q30+[1]สิงห์บุรี!Q30+[1]ชัยนาท!Q30+[1]อุทัย!Q30+[1]ชลบุรี!Q30+[1]ปราจีน!Q30+[1]สระแก้ว!Q30+[1]ราชบุรี!Q30+[1]เพชรบุรี!Q30+[1]กาญจนบุรี!Q30+[1]ประจวบ!Q30+[1]นครราชสีมา!Q30+[1]ชัยภูมิ!Q30+[1]สุรินทร์!Q30+[1]บุรีรัมย์!Q30+[1]ขอนแก่น!Q30+[1]กาฬสินทร์!Q30+[1]มุกดาหาร!Q30+[1]หนองบัว!Q30+[1]มหาสารคราม!Q30+[1]อุบล!Q30+[1]ศรีสะเกษ!Q30+[1]อำนาจ!Q30+[1]ร้อยเอ็ด!Q30+[1]ยโสธร!Q30+[1]นครสวรรค์!Q30+[1]พิจิตร!Q30+[1]กำแพงเพชร!Q30+[1]ตาก!Q30+[1]พิษณุโลก!Q30+[1]เลย!Q30+[1]เพชรบูลย์!Q30+[1]อุดรดิต!Q30+[1]สุโขทัย!Q30+[1]ลำปาง!Q30+[1]ลำพูน!Q30+[1]แพร่!Q30+[1]สุราษ!Q30+[1]ชุมพร!Q30+[1]ระนอง!Q30+[1]สงขลา!Q30+[1]สตูล!Q30+[1]กรุงเทพ!Q30+[1]ปทุม!Q30+[1]นนทบุรี!Q30+[1]นครนายก!Q30+[1]อยุธยา!Q30+[1]อ่างทอง!Q30+[1]สระบุรี!Q30+[1]ลพบุรี!Q30+[1]นครปฐม!Q30+[1]สมุทรสงคราม!Q30+[1]สมุทรสาคร!Q30+[1]ระยอง!Q30+[1]จันทบุรี!Q30+[1]ตราด!Q30+[1]อุดร!Q30+[1]หนองคาย!Q30+[1]บึงกาฬ!Q30+[1]สกลนคร!Q30+[1]นครพนม!Q30+[1]เชียงใหม่!Q30+[1]แม่ฮ่องสอน!Q30+[1]เชียงราย!Q30+[1]พะเยา!Q30+[1]น่าน!Q30+[1]ภูเก็ต!Q30+[1]พังงา!Q30+[1]กระบี่!Q30+[1]นครศรี!Q30+[1]พัทลุง!Q30+[1]ตรัง!Q30+[1]ปัตตานี!Q30+[1]ยะลา!Q30+[1]นราธิวาส!Q30+[1]เชียงแสน!Q30+[1]ยานยนต!Q30+[1]สถาบันสุขภาพ!Q30 -> 0 | P26: =+[1]สมุทรปราการ!R30+[1]ฉะเชิงเทรา!R30+[1]สุพรรณ!R30+[1]สิงห์บุรี!R30+[1]ชัยนาท!R30+[1]อุทัย!R30+[1]ชลบุรี!R30+[1]ปราจีน!R30+[1]สระแก้ว!R30+[1]ราชบุรี!R30+[1]เพชรบุรี!R30+[1]กาญจนบุรี!R30+[1]ประจวบ!R30+[1]นครราชสีมา!R30+[1]ชัยภูมิ!R30+[1]สุรินทร์!R30+[1]บุรีรัมย์!R30+[1]ขอนแก่น!R30+[1]กาฬสินทร์!R30+[1]มุกดาหาร!R30+[1]หนองบัว!R30+[1]มหาสารคราม!R30+[1]อุบล!R30+[1]ศรีสะเกษ!R30+[1]อำนาจ!R30+[1]ร้อยเอ็ด!R30+[1]ยโสธร!R30+[1]นครสวรรค์!R30+[1]พิจิตร!R30+[1]กำแพงเพชร!R30+[1]ตาก!R30+[1]พิษณุโลก!R30+[1]เลย!R30+[1]เพชรบูลย์!R30+[1]อุดรดิต!R30+[1]สุโขทัย!R30+[1]ลำปาง!R30+[1]ลำพูน!R30+[1]แพร่!R30+[1]สุราษ!R30+[1]ชุมพร!R30+[1]ระนอง!R30+[1]สงขลา!R30+[1]สตูล!R30+[1]กรุงเทพ!R30+[1]ปทุม!R30+[1]นนทบุรี!R30+[1]นครนายก!R30+[1]อยุธยา!R30+[1]อ่างทอง!R30+[1]สระบุรี!R30+[1]ลพบุรี!R30+[1]นครปฐม!R30+[1]สมุทรสงคราม!R30+[1]สมุทรสาคร!R30+[1]ระยอง!R30+[1]จันทบุรี!R30+[1]ตราด!R30+[1]อุดร!R30+[1]หนองคาย!R30+[1]บึงกาฬ!R30+[1]สกลนคร!R30+[1]นครพนม!R30+[1]เชียงใหม่!R30+[1]แม่ฮ่องสอน!R30+[1]เชียงราย!R30+[1]พะเยา!R30+[1]น่าน!R30+[1]ภูเก็ต!R30+[1]พังงา!R30+[1]กระบี่!R30+[1]นครศรี!R30+[1]พัทลุง!R30+[1]ตรัง!R30+[1]ปัตตานี!R30+[1]ยะลา!R30+[1]นราธิวาส!R30+[1]เชียงแสน!R30+[1]ยานยนต!R30+[1]สถาบันสุขภาพ!R30 -> 0
A27: - เงินสมทบกองทุนประกันสังคม | O27: =+[1]สมุทรปราการ!Q31+[1]ฉะเชิงเทรา!Q31+[1]สุพรรณ!Q31+[1]สิงห์บุรี!Q31+[1]ชัยนาท!Q31+[1]อุทัย!Q31+[1]ชลบุรี!Q31+[1]ปราจีน!Q31+[1]สระแก้ว!Q31+[1]ราชบุรี!Q31+[1]เพชรบุรี!Q31+[1]กาญจนบุรี!Q31+[1]ประจวบ!Q31+[1]นครราชสีมา!Q31+[1]ชัยภูมิ!Q31+[1]สุรินทร์!Q31+[1]บุรีรัมย์!Q31+[1]ขอนแก่น!Q31+[1]กาฬสินทร์!Q31+[1]มุกดาหาร!Q31+[1]หนองบัว!Q31+[1]มหาสารคราม!Q31+[1]อุบล!Q31+[1]ศรีสะเกษ!Q31+[1]อำนาจ!Q31+[1]ร้อยเอ็ด!Q31+[1]ยโสธร!Q31+[1]นครสวรรค์!Q31+[1]พิจิตร!Q31+[1]กำแพงเพชร!Q31+[1]ตาก!Q31+[1]พิษณุโลก!Q31+[1]เลย!Q31+[1]เพชรบูลย์!Q31+[1]อุดรดิต!Q31+[1]สุโขทัย!Q31+[1]ลำปาง!Q31+[1]ลำพูน!Q31+[1]แพร่!Q31+[1]สุราษ!Q31+[1]ชุมพร!Q31+[1]ระนอง!Q31+[1]สงขลา!Q31+[1]สตูล!Q31+[1]กรุงเทพ!Q31+[1]ปทุม!Q31+[1]นนทบุรี!Q31+[1]นครนายก!Q31+[1]อยุธยา!Q31+[1]อ่างทอง!Q31+[1]สระบุรี!Q31+[1]ลพบุรี!Q31+[1]นครปฐม!Q31+[1]สมุทรสงคราม!Q31+[1]สมุทรสาคร!Q31+[1]ระยอง!Q31+[1]จันทบุรี!Q31+[1]ตราด!Q31+[1]อุดร!Q31+[1]หนองคาย!Q31+[1]บึงกาฬ!Q31+[1]สกลนคร!Q31+[1]นครพนม!Q31+[1]เชียงใหม่!Q31+[1]แม่ฮ่องสอน!Q31+[1]เชียงราย!Q31+[1]พะเยา!Q31+[1]น่าน!Q31+[1]ภูเก็ต!Q31+[1]พังงา!Q31+[1]กระบี่!Q31+[1]นครศรี!Q31+[1]พัทลุง!Q31+[1]ตรัง!Q31+[1]ปัตตานี!Q31+[1]ยะลา!Q31+[1]นราธิวาส!Q31+[1]เชียงแสน!Q31+[1]ยานยนต!Q31+[1]สถาบันสุขภาพ!Q31 -> 0 | P27: =+[1]สมุทรปราการ!R31+[1]ฉะเชิงเทรา!R31+[1]สุพรรณ!R31+[1]สิงห์บุรี!R31+[1]ชัยนาท!R31+[1]อุทัย!R31+[1]ชลบุรี!R31+[1]ปราจีน!R31+[1]สระแก้ว!R31+[1]ราชบุรี!R31+[1]เพชรบุรี!R31+[1]กาญจนบุรี!R31+[1]ประจวบ!R31+[1]นครราชสีมา!R31+[1]ชัยภูมิ!R31+[1]สุรินทร์!R31+[1]บุรีรัมย์!R31+[1]ขอนแก่น!R31+[1]กาฬสินทร์!R31+[1]มุกดาหาร!R31+[1]หนองบัว!R31+[1]มหาสารคราม!R31+[1]อุบล!R31+[1]ศรีสะเกษ!R31+[1]อำนาจ!R31+[1]ร้อยเอ็ด!R31+[1]ยโสธร!R31+[1]นครสวรรค์!R31+[1]พิจิตร!R31+[1]กำแพงเพชร!R31+[1]ตาก!R31+[1]พิษณุโลก!R31+[1]เลย!R31+[1]เพชรบูลย์!R31+[1]อุดรดิต!R31+[1]สุโขทัย!R31+[1]ลำปาง!R31+[1]ลำพูน!R31+[1]แพร่!R31+[1]สุราษ!R31+[1]ชุมพร!R31+[1]ระนอง!R31+[1]สงขลา!R31+[1]สตูล!R31+[1]กรุงเทพ!R31+[1]ปทุม!R31+[1]นนทบุรี!R31+[1]นครนายก!R31+[1]อยุธยา!R31+[1]อ่างทอง!R31+[1]สระบุรี!R31+[1]ลพบุรี!R31+[1]นครปฐม!R31+[1]สมุทรสงคราม!R31+[1]สมุทรสาคร!R31+[1]ระยอง!R31+[1]จันทบุรี!R31+[1]ตราด!R31+[1]อุดร!R31+[1]หนองคาย!R31+[1]บึงกาฬ!R31+[1]สกลนคร!R31+[1]นครพนม!R31+[1]เชียงใหม่!R31+[1]แม่ฮ่องสอน!R31+[1]เชียงราย!R31+[1]พะเยา!R31+[1]น่าน!R31+[1]ภูเก็ต!R31+[1]พังงา!R31+[1]กระบี่!R31+[1]นครศรี!R31+[1]พัทลุง!R31+[1]ตรัง!R31+[1]ปัตตานี!R31+[1]ยะลา!R31+[1]นราธิวาส!R31+[1]เชียงแสน!R31+[1]ยานยนต!R31+[1]สถาบันสุขภาพ!R31 -> 0
A28: * ค่าเบี้ยเลี้ยงเดินทางในประเทศ | O28: =+[1]สมุทรปราการ!Q32+[1]ฉะเชิงเทรา!Q32+[1]สุพรรณ!Q32+[1]สิงห์บุรี!Q32+[1]ชัยนาท!Q32+[1]อุทัย!Q32+[1]ชลบุรี!Q32+[1]ปราจีน!Q32+[1]สระแก้ว!Q32+[1]ราชบุรี!Q32+[1]เพชรบุรี!Q32+[1]กาญจนบุรี!Q32+[1]ประจวบ!Q32+[1]นครราชสีมา!Q32+[1]ชัยภูมิ!Q32+[1]สุรินทร์!Q32+[1]บุรีรัมย์!Q32+[1]ขอนแก่น!Q32+[1]กาฬสินทร์!Q32+[1]มุกดาหาร!Q32+[1]หนองบัว!Q32+[1]มหาสารคราม!Q32+[1]อุบล!Q32+[1]ศรีสะเกษ!Q32+[1]อำนาจ!Q32+[1]ร้อยเอ็ด!Q32+[1]ยโสธร!Q32+[1]นครสวรรค์!Q32+[1]พิจิตร!Q32+[1]กำแพงเพชร!Q32+[1]ตาก!Q32+[1]พิษณุโลก!Q32+[1]เลย!Q32+[1]เพชรบูลย์!Q32+[1]อุดรดิต!Q32+[1]สุโขทัย!Q32+[1]ลำปาง!Q32+[1]ลำพูน!Q32+[1]แพร่!Q32+[1]สุราษ!Q32+[1]ชุมพร!Q32+[1]ระนอง!Q32+[1]สงขลา!Q32+[1]สตูล!Q32+[1]กรุงเทพ!Q32+[1]ปทุม!Q32+[1]นนทบุรี!Q32+[1]นครนายก!Q32+[1]อยุธยา!Q32+[1]อ่างทอง!Q32+[1]สระบุรี!Q32+[1]ลพบุรี!Q32+[1]นครปฐม!Q32+[1]สมุทรสงคราม!Q32+[1]สมุทรสาคร!Q32+[1]ระยอง!Q32+[1]จันทบุรี!Q32+[1]ตราด!Q32+[1]อุดร!Q32+[1]หนองคาย!Q32+[1]บึงกาฬ!Q32+[1]สกลนคร!Q32+[1]นครพนม!Q32+[1]เชียงใหม่!Q32+[1]แม่ฮ่องสอน!Q32+[1]เชียงราย!Q32+[1]พะเยา!Q32+[1]น่าน!Q32+[1]ภูเก็ต!Q32+[1]พังงา!Q32+[1]กระบี่!Q32+[1]นครศรี!Q32+[1]พัทลุง!Q32+[1]ตรัง!Q32+[1]ปัตตานี!Q32+[1]ยะลา!Q32+[1]นราธิวาส!Q32+[1]เชียงแสน!Q32+[1]ยานยนต!Q32+[1]สถาบันสุขภาพ!Q32 -> 0 | P28: =+[1]สมุทรปราการ!R32+[1]ฉะเชิงเทรา!R32+[1]สุพรรณ!R32+[1]สิงห์บุรี!R32+[1]ชัยนาท!R32+[1]อุทัย!R32+[1]ชลบุรี!R32+[1]ปราจีน!R32+[1]สระแก้ว!R32+[1]ราชบุรี!R32+[1]เพชรบุรี!R32+[1]กาญจนบุรี!R32+[1]ประจวบ!R32+[1]นครราชสีมา!R32+[1]ชัยภูมิ!R32+[1]สุรินทร์!R32+[1]บุรีรัมย์!R32+[1]ขอนแก่น!R32+[1]กาฬสินทร์!R32+[1]มุกดาหาร!R32+[1]หนองบัว!R32+[1]มหาสารคราม!R32+[1]อุบล!R32+[1]ศรีสะเกษ!R32+[1]อำนาจ!R32+[1]ร้อยเอ็ด!R32+[1]ยโสธร!R32+[1]นครสวรรค์!R32+[1]พิจิตร!R32+[1]กำแพงเพชร!R32+[1]ตาก!R32+[1]พิษณุโลก!R32+[1]เลย!R32+[1]เพชรบูลย์!R32+[1]อุดรดิต!R32+[1]สุโขทัย!R32+[1]ลำปาง!R32+[1]ลำพูน!R32+[1]แพร่!R32+[1]สุราษ!R32+[1]ชุมพร!R32+[1]ระนอง!R32+[1]สงขลา!R32+[1]สตูล!R32+[1]กรุงเทพ!R32+[1]ปทุม!R32+[1]นนทบุรี!R32+[1]นครนายก!R32+[1]อยุธยา!R32+[1]อ่างทอง!R32+[1]สระบุรี!R32+[1]ลพบุรี!R32+[1]นครปฐม!R32+[1]สมุทรสงคราม!R32+[1]สมุทรสาคร!R32+[1]ระยอง!R32+[1]จันทบุรี!R32+[1]ตราด!R32+[1]อุดร!R32+[1]หนองคาย!R32+[1]บึงกาฬ!R32+[1]สกลนคร!R32+[1]นครพนม!R32+[1]เชียงใหม่!R32+[1]แม่ฮ่องสอน!R32+[1]เชียงราย!R32+[1]พะเยา!R32+[1]น่าน!R32+[1]ภูเก็ต!R32+[1]พังงา!R32+[1]กระบี่!R32+[1]นครศรี!R32+[1]พัทลุง!R32+[1]ตรัง!R32+[1]ปัตตานี!R32+[1]ยะลา!R32+[1]นราธิวาส!R32+[1]เชียงแสน!R32+[1]ยานยนต!R32+[1]สถาบันสุขภาพ!R32 -> 0
A29: * ค่าที่พัก | O29: =+[1]สมุทรปราการ!Q33+[1]ฉะเชิงเทรา!Q33+[1]สุพรรณ!Q33+[1]สิงห์บุรี!Q33+[1]ชัยนาท!Q33+[1]อุทัย!Q33+[1]ชลบุรี!Q33+[1]ปราจีน!Q33+[1]สระแก้ว!Q33+[1]ราชบุรี!Q33+[1]เพชรบุรี!Q33+[1]กาญจนบุรี!Q33+[1]ประจวบ!Q33+[1]นครราชสีมา!Q33+[1]ชัยภูมิ!Q33+[1]สุรินทร์!Q33+[1]บุรีรัมย์!Q33+[1]ขอนแก่น!Q33+[1]กาฬสินทร์!Q33+[1]มุกดาหาร!Q33+[1]หนองบัว!Q33+[1]มหาสารคราม!Q33+[1]อุบล!Q33+[1]ศรีสะเกษ!Q33+[1]อำนาจ!Q33+[1]ร้อยเอ็ด!Q33+[1]ยโสธร!Q33+[1]นครสวรรค์!Q33+[1]พิจิตร!Q33+[1]กำแพงเพชร!Q33+[1]ตาก!Q33+[1]พิษณุโลก!Q33+[1]เลย!Q33+[1]เพชรบูลย์!Q33+[1]อุดรดิต!Q33+[1]สุโขทัย!Q33+[1]ลำปาง!Q33+[1]ลำพูน!Q33+[1]แพร่!Q33+[1]สุราษ!Q33+[1]ชุมพร!Q33+[1]ระนอง!Q33+[1]สงขลา!Q33+[1]สตูล!Q33+[1]กรุงเทพ!Q33+[1]ปทุม!Q33+[1]นนทบุรี!Q33+[1]นครนายก!Q33+[1]อยุธยา!Q33+[1]อ่างทอง!Q33+[1]สระบุรี!Q33+[1]ลพบุรี!Q33+[1]นครปฐม!Q33+[1]สมุทรสงคราม!Q33+[1]สมุทรสาคร!Q33+[1]ระยอง!Q33+[1]จันทบุรี!Q33+[1]ตราด!Q33+[1]อุดร!Q33+[1]หนองคาย!Q33+[1]บึงกาฬ!Q33+[1]สกลนคร!Q33+[1]นครพนม!Q33+[1]เชียงใหม่!Q33+[1]แม่ฮ่องสอน!Q33+[1]เชียงราย!Q33+[1]พะเยา!Q33+[1]น่าน!Q33+[1]ภูเก็ต!Q33+[1]พังงา!Q33+[1]กระบี่!Q33+[1]นครศรี!Q33+[1]พัทลุง!Q33+[1]ตรัง!Q33+[1]ปัตตานี!Q33+[1]ยะลา!Q33+[1]นราธิวาส!Q33+[1]เชียงแสน!Q33+[1]ยานยนต!Q33+[1]สถาบันสุขภาพ!Q33 -> 0 | P29: =+[1]สมุทรปราการ!R33+[1]ฉะเชิงเทรา!R33+[1]สุพรรณ!R33+[1]สิงห์บุรี!R33+[1]ชัยนาท!R33+[1]อุทัย!R33+[1]ชลบุรี!R33+[1]ปราจีน!R33+[1]สระแก้ว!R33+[1]ราชบุรี!R33+[1]เพชรบุรี!R33+[1]กาญจนบุรี!R33+[1]ประจวบ!R33+[1]นครราชสีมา!R33+[1]ชัยภูมิ!R33+[1]สุรินทร์!R33+[1]บุรีรัมย์!R33+[1]ขอนแก่น!R33+[1]กาฬสินทร์!R33+[1]มุกดาหาร!R33+[1]หนองบัว!R33+[1]มหาสารคราม!R33+[1]อุบล!R33+[1]ศรีสะเกษ!R33+[1]อำนาจ!R33+[1]ร้อยเอ็ด!R33+[1]ยโสธร!R33+[1]นครสวรรค์!R33+[1]พิจิตร!R33+[1]กำแพงเพชร!R33+[1]ตาก!R33+[1]พิษณุโลก!R33+[1]เลย!R33+[1]เพชรบูลย์!R33+[1]อุดรดิต!R33+[1]สุโขทัย!R33+[1]ลำปาง!R33+[1]ลำพูน!R33+[1]แพร่!R33+[1]สุราษ!R33+[1]ชุมพร!R33+[1]ระนอง!R33+[1]สงขลา!R33+[1]สตูล!R33+[1]กรุงเทพ!R33+[1]ปทุม!R33+[1]นนทบุรี!R33+[1]นครนายก!R33+[1]อยุธยา!R33+[1]อ่างทอง!R33+[1]สระบุรี!R33+[1]ลพบุรี!R33+[1]นครปฐม!R33+[1]สมุทรสงคราม!R33+[1]สมุทรสาคร!R33+[1]ระยอง!R33+[1]จันทบุรี!R33+[1]ตราด!R33+[1]อุดร!R33+[1]หนองคาย!R33+[1]บึงกาฬ!R33+[1]สกลนคร!R33+[1]นครพนม!R33+[1]เชียงใหม่!R33+[1]แม่ฮ่องสอน!R33+[1]เชียงราย!R33+[1]พะเยา!R33+[1]น่าน!R33+[1]ภูเก็ต!R33+[1]พังงา!R33+[1]กระบี่!R33+[1]นครศรี!R33+[1]พัทลุง!R33+[1]ตรัง!R33+[1]ปัตตานี!R33+[1]ยะลา!R33+[1]นราธิวาส!R33+[1]เชียงแสน!R33+[1]ยานยนต!R33+[1]สถาบันสุขภาพ!R33 -> 0
A30: * ค่าพาหนะเดินทางในประเทศ | O30: =+[1]สมุทรปราการ!Q34+[1]ฉะเชิงเทรา!Q34+[1]สุพรรณ!Q34+[1]สิงห์บุรี!Q34+[1]ชัยนาท!Q34+[1]อุทัย!Q34+[1]ชลบุรี!Q34+[1]ปราจีน!Q34+[1]สระแก้ว!Q34+[1]ราชบุรี!Q34+[1]เพชรบุรี!Q34+[1]กาญจนบุรี!Q34+[1]ประจวบ!Q34+[1]นครราชสีมา!Q34+[1]ชัยภูมิ!Q34+[1]สุรินทร์!Q34+[1]บุรีรัมย์!Q34+[1]ขอนแก่น!Q34+[1]กาฬสินทร์!Q34+[1]มุกดาหาร!Q34+[1]หนองบัว!Q34+[1]มหาสารคราม!Q34+[1]อุบล!Q34+[1]ศรีสะเกษ!Q34+[1]อำนาจ!Q34+[1]ร้อยเอ็ด!Q34+[1]ยโสธร!Q34+[1]นครสวรรค์!Q34+[1]พิจิตร!Q34+[1]กำแพงเพชร!Q34+[1]ตาก!Q34+[1]พิษณุโลก!Q34+[1]เลย!Q34+[1]เพชรบูลย์!Q34+[1]อุดรดิต!Q34+[1]สุโขทัย!Q34+[1]ลำปาง!Q34+[1]ลำพูน!Q34+[1]แพร่!Q34+[1]สุราษ!Q34+[1]ชุมพร!Q34+[1]ระนอง!Q34+[1]สงขลา!Q34+[1]สตูล!Q34+[1]กรุงเทพ!Q34+[1]ปทุม!Q34+[1]นนทบุรี!Q34+[1]นครนายก!Q34+[1]อยุธยา!Q34+[1]อ่างทอง!Q34+[1]สระบุรี!Q34+[1]ลพบุรี!Q34+[1]นครปฐม!Q34+[1]สมุทรสงคราม!Q34+[1]สมุทรสาคร!Q34+[1]ระยอง!Q34+[1]จันทบุรี!Q34+[1]ตราด!Q34+[1]อุดร!Q34+[1]หนองคาย!Q34+[1]บึงกาฬ!Q34+[1]สกลนคร!Q34+[1]นครพนม!Q34+[1]เชียงใหม่!Q34+[1]แม่ฮ่องสอน!Q34+[1]เชียงราย!Q34+[1]พะเยา!Q34+[1]น่าน!Q34+[1]ภูเก็ต!Q34+[1]พังงา!Q34+[1]กระบี่!Q34+[1]นครศรี!Q34+[1]พัทลุง!Q34+[1]ตรัง!Q34+[1]ปัตตานี!Q34+[1]ยะลา!Q34+[1]นราธิวาส!Q34+[1]เชียงแสน!Q34+[1]ยานยนต!Q34+[1]สถาบันสุขภาพ!Q34 -> 0 | P30: =+[1]สมุทรปราการ!R34+[1]ฉะเชิงเทรา!R34+[1]สุพรรณ!R34+[1]สิงห์บุรี!R34+[1]ชัยนาท!R34+[1]อุทัย!R34+[1]ชลบุรี!R34+[1]ปราจีน!R34+[1]สระแก้ว!R34+[1]ราชบุรี!R34+[1]เพชรบุรี!R34+[1]กาญจนบุรี!R34+[1]ประจวบ!R34+[1]นครราชสีมา!R34+[1]ชัยภูมิ!R34+[1]สุรินทร์!R34+[1]บุรีรัมย์!R34+[1]ขอนแก่น!R34+[1]กาฬสินทร์!R34+[1]มุกดาหาร!R34+[1]หนองบัว!R34+[1]มหาสารคราม!R34+[1]อุบล!R34+[1]ศรีสะเกษ!R34+[1]อำนาจ!R34+[1]ร้อยเอ็ด!R34+[1]ยโสธร!R34+[1]นครสวรรค์!R34+[1]พิจิตร!R34+[1]กำแพงเพชร!R34+[1]ตาก!R34+[1]พิษณุโลก!R34+[1]เลย!R34+[1]เพชรบูลย์!R34+[1]อุดรดิต!R34+[1]สุโขทัย!R34+[1]ลำปาง!R34+[1]ลำพูน!R34+[1]แพร่!R34+[1]สุราษ!R34+[1]ชุมพร!R34+[1]ระนอง!R34+[1]สงขลา!R34+[1]สตูล!R34+[1]กรุงเทพ!R34+[1]ปทุม!R34+[1]นนทบุรี!R34+[1]นครนายก!R34+[1]อยุธยา!R34+[1]อ่างทอง!R34+[1]สระบุรี!R34+[1]ลพบุรี!R34+[1]นครปฐม!R34+[1]สมุทรสงคราม!R34+[1]สมุทรสาคร!R34+[1]ระยอง!R34+[1]จันทบุรี!R34+[1]ตราด!R34+[1]อุดร!R34+[1]หนองคาย!R34+[1]บึงกาฬ!R34+[1]สกลนคร!R34+[1]นครพนม!R34+[1]เชียงใหม่!R34+[1]แม่ฮ่องสอน!R34+[1]เชียงราย!R34+[1]พะเยา!R34+[1]น่าน!R34+[1]ภูเก็ต!R34+[1]พังงา!R34+[1]กระบี่!R34+[1]นครศรี!R34+[1]พัทลุง!R34+[1]ตรัง!R34+[1]ปัตตานี!R34+[1]ยะลา!R34+[1]นราธิวาส!R34+[1]เชียงแสน!R34+[1]ยานยนต!R34+[1]สถาบันสุขภาพ!R34 -> 0
A31: - ค่าซ่อมแซมบำรุงรักษายานพาหนะและขนส่ง | O31: =+[1]สมุทรปราการ!Q35+[1]ฉะเชิงเทรา!Q35+[1]สุพรรณ!Q35+[1]สิงห์บุรี!Q35+[1]ชัยนาท!Q35+[1]อุทัย!Q35+[1]ชลบุรี!Q35+[1]ปราจีน!Q35+[1]สระแก้ว!Q35+[1]ราชบุรี!Q35+[1]เพชรบุรี!Q35+[1]กาญจนบุรี!Q35+[1]ประจวบ!Q35+[1]นครราชสีมา!Q35+[1]ชัยภูมิ!Q35+[1]สุรินทร์!Q35+[1]บุรีรัมย์!Q35+[1]ขอนแก่น!Q35+[1]กาฬสินทร์!Q35+[1]มุกดาหาร!Q35+[1]หนองบัว!Q35+[1]มหาสารคราม!Q35+[1]อุบล!Q35+[1]ศรีสะเกษ!Q35+[1]อำนาจ!Q35+[1]ร้อยเอ็ด!Q35+[1]ยโสธร!Q35+[1]นครสวรรค์!Q35+[1]พิจิตร!Q35+[1]กำแพงเพชร!Q35+[1]ตาก!Q35+[1]พิษณุโลก!Q35+[1]เลย!Q35+[1]เพชรบูลย์!Q35+[1]อุดรดิต!Q35+[1]สุโขทัย!Q35+[1]ลำปาง!Q35+[1]ลำพูน!Q35+[1]แพร่!Q35+[1]สุราษ!Q35+[1]ชุมพร!Q35+[1]ระนอง!Q35+[1]สงขลา!Q35+[1]สตูล!Q35+[1]กรุงเทพ!Q35+[1]ปทุม!Q35+[1]นนทบุรี!Q35+[1]นครนายก!Q35+[1]อยุธยา!Q35+[1]อ่างทอง!Q35+[1]สระบุรี!Q35+[1]ลพบุรี!Q35+[1]นครปฐม!Q35+[1]สมุทรสงคราม!Q35+[1]สมุทรสาคร!Q35+[1]ระยอง!Q35+[1]จันทบุรี!Q35+[1]ตราด!Q35+[1]อุดร!Q35+[1]หนองคาย!Q35+[1]บึงกาฬ!Q35+[1]สกลนคร!Q35+[1]นครพนม!Q35+[1]เชียงใหม่!Q35+[1]แม่ฮ่องสอน!Q35+[1]เชียงราย!Q35+[1]พะเยา!Q35+[1]น่าน!Q35+[1]ภูเก็ต!Q35+[1]พังงา!Q35+[1]กระบี่!Q35+[1]นครศรี!Q35+[1]พัทลุง!Q35+[1]ตรัง!Q35+[1]ปัตตานี!Q35+[1]ยะลา!Q35+[1]นราธิวาส!Q35+[1]เชียงแสน!Q35+[1]ยานยนต!Q35+[1]สถาบันสุขภาพ!Q35 -> 0 | P31: =+[1]สมุทรปราการ!R35+[1]ฉะเชิงเทรา!R35+[1]สุพรรณ!R35+[1]สิงห์บุรี!R35+[1]ชัยนาท!R35+[1]อุทัย!R35+[1]ชลบุรี!R35+[1]ปราจีน!R35+[1]สระแก้ว!R35+[1]ราชบุรี!R35+[1]เพชรบุรี!R35+[1]กาญจนบุรี!R35+[1]ประจวบ!R35+[1]นครราชสีมา!R35+[1]ชัยภูมิ!R35+[1]สุรินทร์!R35+[1]บุรีรัมย์!R35+[1]ขอนแก่น!R35+[1]กาฬสินทร์!R35+[1]มุกดาหาร!R35+[1]หนองบัว!R35+[1]มหาสารคราม!R35+[1]อุบล!R35+[1]ศรีสะเกษ!R35+[1]อำนาจ!R35+[1]ร้อยเอ็ด!R35+[1]ยโสธร!R35+[1]นครสวรรค์!R35+[1]พิจิตร!R35+[1]กำแพงเพชร!R35+[1]ตาก!R35+[1]พิษณุโลก!R35+[1]เลย!R35+[1]เพชรบูลย์!R35+[1]อุดรดิต!R35+[1]สุโขทัย!R35+[1]ลำปาง!R35+[1]ลำพูน!R35+[1]แพร่!R35+[1]สุราษ!R35+[1]ชุมพร!R35+[1]ระนอง!R35+[1]สงขลา!R35+[1]สตูล!R35+[1]กรุงเทพ!R35+[1]ปทุม!R35+[1]นนทบุรี!R35+[1]นครนายก!R35+[1]อยุธยา!R35+[1]อ่างทอง!R35+[1]สระบุรี!R35+[1]ลพบุรี!R35+[1]นครปฐม!R35+[1]สมุทรสงคราม!R35+[1]สมุทรสาคร!R35+[1]ระยอง!R35+[1]จันทบุรี!R35+[1]ตราด!R35+[1]อุดร!R35+[1]หนองคาย!R35+[1]บึงกาฬ!R35+[1]สกลนคร!R35+[1]นครพนม!R35+[1]เชียงใหม่!R35+[1]แม่ฮ่องสอน!R35+[1]เชียงราย!R35+[1]พะเยา!R35+[1]น่าน!R35+[1]ภูเก็ต!R35+[1]พังงา!R35+[1]กระบี่!R35+[1]นครศรี!R35+[1]พัทลุง!R35+[1]ตรัง!R35+[1]ปัตตานี!R35+[1]ยะลา!R35+[1]นราธิวาส!R35+[1]เชียงแสน!R35+[1]ยานยนต!R35+[1]สถาบันสุขภาพ!R35 -> 0
A32: - ค่าซ่อมแซมบำรุงรักษาครุภัณฑ์ | O32: =+[1]สมุทรปราการ!Q36+[1]ฉะเชิงเทรา!Q36+[1]สุพรรณ!Q36+[1]สิงห์บุรี!Q36+[1]ชัยนาท!Q36+[1]อุทัย!Q36+[1]ชลบุรี!Q36+[1]ปราจีน!Q36+[1]สระแก้ว!Q36+[1]ราชบุรี!Q36+[1]เพชรบุรี!Q36+[1]กาญจนบุรี!Q36+[1]ประจวบ!Q36+[1]นครราชสีมา!Q36+[1]ชัยภูมิ!Q36+[1]สุรินทร์!Q36+[1]บุรีรัมย์!Q36+[1]ขอนแก่น!Q36+[1]กาฬสินทร์!Q36+[1]มุกดาหาร!Q36+[1]หนองบัว!Q36+[1]มหาสารคราม!Q36+[1]อุบล!Q36+[1]ศรีสะเกษ!Q36+[1]อำนาจ!Q36+[1]ร้อยเอ็ด!Q36+[1]ยโสธร!Q36+[1]นครสวรรค์!Q36+[1]พิจิตร!Q36+[1]กำแพงเพชร!Q36+[1]ตาก!Q36+[1]พิษณุโลก!Q36+[1]เลย!Q36+[1]เพชรบูลย์!Q36+[1]อุดรดิต!Q36+[1]สุโขทัย!Q36+[1]ลำปาง!Q36+[1]ลำพูน!Q36+[1]แพร่!Q36+[1]สุราษ!Q36+[1]ชุมพร!Q36+[1]ระนอง!Q36+[1]สงขลา!Q36+[1]สตูล!Q36+[1]กรุงเทพ!Q36+[1]ปทุม!Q36+[1]นนทบุรี!Q36+[1]นครนายก!Q36+[1]อยุธยา!Q36+[1]อ่างทอง!Q36+[1]สระบุรี!Q36+[1]ลพบุรี!Q36+[1]นครปฐม!Q36+[1]สมุทรสงคราม!Q36+[1]สมุทรสาคร!Q36+[1]ระยอง!Q36+[1]จันทบุรี!Q36+[1]ตราด!Q36+[1]อุดร!Q36+[1]หนองคาย!Q36+[1]บึงกาฬ!Q36+[1]สกลนคร!Q36+[1]นครพนม!Q36+[1]เชียงใหม่!Q36+[1]แม่ฮ่องสอน!Q36+[1]เชียงราย!Q36+[1]พะเยา!Q36+[1]น่าน!Q36+[1]ภูเก็ต!Q36+[1]พังงา!Q36+[1]กระบี่!Q36+[1]นครศรี!Q36+[1]พัทลุง!Q36+[1]ตรัง!Q36+[1]ปัตตานี!Q36+[1]ยะลา!Q36+[1]นราธิวาส!Q36+[1]เชียงแสน!Q36+[1]ยานยนต!Q36+[1]สถาบันสุขภาพ!Q36 -> 0 | P32: =+[1]สมุทรปราการ!R36+[1]ฉะเชิงเทรา!R36+[1]สุพรรณ!R36+[1]สิงห์บุรี!R36+[1]ชัยนาท!R36+[1]อุทัย!R36+[1]ชลบุรี!R36+[1]ปราจีน!R36+[1]สระแก้ว!R36+[1]ราชบุรี!R36+[1]เพชรบุรี!R36+[1]กาญจนบุรี!R36+[1]ประจวบ!R36+[1]นครราชสีมา!R36+[1]ชัยภูมิ!R36+[1]สุรินทร์!R36+[1]บุรีรัมย์!R36+[1]ขอนแก่น!R36+[1]กาฬสินทร์!R36+[1]มุกดาหาร!R36+[1]หนองบัว!R36+[1]มหาสารคราม!R36+[1]อุบล!R36+[1]ศรีสะเกษ!R36+[1]อำนาจ!R36+[1]ร้อยเอ็ด!R36+[1]ยโสธร!R36+[1]นครสวรรค์!R36+[1]พิจิตร!R36+[1]กำแพงเพชร!R36+[1]ตาก!R36+[1]พิษณุโลก!R36+[1]เลย!R36+[1]เพชรบูลย์!R36+[1]อุดรดิต!R36+[1]สุโขทัย!R36+[1]ลำปาง!R36+[1]ลำพูน!R36+[1]แพร่!R36+[1]สุราษ!R36+[1]ชุมพร!R36+[1]ระนอง!R36+[1]สงขลา!R36+[1]สตูล!R36+[1]กรุงเทพ!R36+[1]ปทุม!R36+[1]นนทบุรี!R36+[1]นครนายก!R36+[1]อยุธยา!R36+[1]อ่างทอง!R36+[1]สระบุรี!R36+[1]ลพบุรี!R36+[1]นครปฐม!R36+[1]สมุทรสงคราม!R36+[1]สมุทรสาคร!R36+[1]ระยอง!R36+[1]จันทบุรี!R36+[1]ตราด!R36+[1]อุดร!R36+[1]หนองคาย!R36+[1]บึงกาฬ!R36+[1]สกลนคร!R36+[1]นครพนม!R36+[1]เชียงใหม่!R36+[1]แม่ฮ่องสอน!R36+[1]เชียงราย!R36+[1]พะเยา!R36+[1]น่าน!R36+[1]ภูเก็ต!R36+[1]พังงา!R36+[1]กระบี่!R36+[1]นครศรี!R36+[1]พัทลุง!R36+[1]ตรัง!R36+[1]ปัตตานี!R36+[1]ยะลา!R36+[1]นราธิวาส!R36+[1]เชียงแสน!R36+[1]ยานยนต!R36+[1]สถาบันสุขภาพ!R36 -> 0
A33: -ค่าซ่อมแซมบำรุงรักษาสิ่งก่อสร้าง | O33: =+[1]สมุทรปราการ!Q37+[1]ฉะเชิงเทรา!Q37+[1]สุพรรณ!Q37+[1]สิงห์บุรี!Q37+[1]ชัยนาท!Q37+[1]อุทัย!Q37+[1]ชลบุรี!Q37+[1]ปราจีน!Q37+[1]สระแก้ว!Q37+[1]ราชบุรี!Q37+[1]เพชรบุรี!Q37+[1]กาญจนบุรี!Q37+[1]ประจวบ!Q37+[1]นครราชสีมา!Q37+[1]ชัยภูมิ!Q37+[1]สุรินทร์!Q37+[1]บุรีรัมย์!Q37+[1]ขอนแก่น!Q37+[1]กาฬสินทร์!Q37+[1]มุกดาหาร!Q37+[1]หนองบัว!Q37+[1]มหาสารคราม!Q37+[1]อุบล!Q37+[1]ศรีสะเกษ!Q37+[1]อำนาจ!Q37+[1]ร้อยเอ็ด!Q37+[1]ยโสธร!Q37+[1]นครสวรรค์!Q37+[1]พิจิตร!Q37+[1]กำแพงเพชร!Q37+[1]ตาก!Q37+[1]พิษณุโลก!Q37+[1]เลย!Q37+[1]เพชรบูลย์!Q37+[1]อุดรดิต!Q37+[1]สุโขทัย!Q37+[1]ลำปาง!Q37+[1]ลำพูน!Q37+[1]แพร่!Q37+[1]สุราษ!Q37+[1]ชุมพร!Q37+[1]ระนอง!Q37+[1]สงขลา!Q37+[1]สตูล!Q37+[1]กรุงเทพ!Q37+[1]ปทุม!Q37+[1]นนทบุรี!Q37+[1]นครนายก!Q37+[1]อยุธยา!Q37+[1]อ่างทอง!Q37+[1]สระบุรี!Q37+[1]ลพบุรี!Q37+[1]นครปฐม!Q37+[1]สมุทรสงคราม!Q37+[1]สมุทรสาคร!Q37+[1]ระยอง!Q37+[1]จันทบุรี!Q37+[1]ตราด!Q37+[1]อุดร!Q37+[1]หนองคาย!Q37+[1]บึงกาฬ!Q37+[1]สกลนคร!Q37+[1]นครพนม!Q37+[1]เชียงใหม่!Q37+[1]แม่ฮ่องสอน!Q37+[1]เชียงราย!Q37+[1]พะเยา!Q37+[1]น่าน!Q37+[1]ภูเก็ต!Q37+[1]พังงา!Q37+[1]กระบี่!Q37+[1]นครศรี!Q37+[1]พัทลุง!Q37+[1]ตรัง!Q37+[1]ปัตตานี!Q37+[1]ยะลา!Q37+[1]นราธิวาส!Q37+[1]เชียงแสน!Q37+[1]ยานยนต!Q37+[1]สถาบันสุขภาพ!Q37 -> 0 | P33: =+[1]สมุทรปราการ!R37+[1]ฉะเชิงเทรา!R37+[1]สุพรรณ!R37+[1]สิงห์บุรี!R37+[1]ชัยนาท!R37+[1]อุทัย!R37+[1]ชลบุรี!R37+[1]ปราจีน!R37+[1]สระแก้ว!R37+[1]ราชบุรี!R37+[1]เพชรบุรี!R37+[1]กาญจนบุรี!R37+[1]ประจวบ!R37+[1]นครราชสีมา!R37+[1]ชัยภูมิ!R37+[1]สุรินทร์!R37+[1]บุรีรัมย์!R37+[1]ขอนแก่น!R37+[1]กาฬสินทร์!R37+[1]มุกดาหาร!R37+[1]หนองบัว!R37+[1]มหาสารคราม!R37+[1]อุบล!R37+[1]ศรีสะเกษ!R37+[1]อำนาจ!R37+[1]ร้อยเอ็ด!R37+[1]ยโสธร!R37+[1]นครสวรรค์!R37+[1]พิจิตร!R37+[1]กำแพงเพชร!R37+[1]ตาก!R37+[1]พิษณุโลก!R37+[1]เลย!R37+[1]เพชรบูลย์!R37+[1]อุดรดิต!R37+[1]สุโขทัย!R37+[1]ลำปาง!R37+[1]ลำพูน!R37+[1]แพร่!R37+[1]สุราษ!R37+[1]ชุมพร!R37+[1]ระนอง!R37+[1]สงขลา!R37+[1]สตูล!R37+[1]กรุงเทพ!R37+[1]ปทุม!R37+[1]นนทบุรี!R37+[1]นครนายก!R37+[1]อยุธยา!R37+[1]อ่างทอง!R37+[1]สระบุรี!R37+[1]ลพบุรี!R37+[1]นครปฐม!R37+[1]สมุทรสงคราม!R37+[1]สมุทรสาคร!R37+[1]ระยอง!R37+[1]จันทบุรี!R37+[1]ตราด!R37+[1]อุดร!R37+[1]หนองคาย!R37+[1]บึงกาฬ!R37+[1]สกลนคร!R37+[1]นครพนม!R37+[1]เชียงใหม่!R37+[1]แม่ฮ่องสอน!R37+[1]เชียงราย!R37+[1]พะเยา!R37+[1]น่าน!R37+[1]ภูเก็ต!R37+[1]พังงา!R37+[1]กระบี่!R37+[1]นครศรี!R37+[1]พัทลุง!R37+[1]ตรัง!R37+[1]ปัตตานี!R37+[1]ยะลา!R37+[1]นราธิวาส!R37+[1]เชียงแสน!R37+[1]ยานยนต!R37+[1]สถาบันสุขภาพ!R37 -> 0
A34: - ค่าจ้างเหมาบริการ | B34: =SUM(C34:P34) -> 0 | C34: =SUM(C35:C55) -> 0 | D34: =SUM(D35:D55) -> 0 | E34: =SUM(E35:E55) -> 0 | F34: =SUM(F35:F55) -> 0 | G34: =SUM(G35:G55) -> 0 | H34: =SUM(H35:H55) -> 0 | I34: =SUM(I35:I55) -> 0 | J34: =SUM(J35:J55) -> 0 | ... P34: =SUM(P35:P55) -> 0
A35: * ค่าจ้างเหมาทำความสะอาด | O35: =+[1]สมุทรปราการ!Q39+[1]ฉะเชิงเทรา!Q39+[1]สุพรรณ!Q39+[1]สิงห์บุรี!Q39+[1]ชัยนาท!Q39+[1]อุทัย!Q39+[1]ชลบุรี!Q39+[1]ปราจีน!Q39+[1]สระแก้ว!Q39+[1]ราชบุรี!Q39+[1]เพชรบุรี!Q39+[1]กาญจนบุรี!Q39+[1]ประจวบ!Q39+[1]นครราชสีมา!Q39+[1]ชัยภูมิ!Q39+[1]สุรินทร์!Q39+[1]บุรีรัมย์!Q39+[1]ขอนแก่น!Q39+[1]กาฬสินทร์!Q39+[1]มุกดาหาร!Q39+[1]หนองบัว!Q39+[1]มหาสารคราม!Q39+[1]อุบล!Q39+[1]ศรีสะเกษ!Q39+[1]อำนาจ!Q39+[1]ร้อยเอ็ด!Q39+[1]ยโสธร!Q39+[1]นครสวรรค์!Q39+[1]พิจิตร!Q39+[1]กำแพงเพชร!Q39+[1]ตาก!Q39+[1]พิษณุโลก!Q39+[1]เลย!Q39+[1]เพชรบูลย์!Q39+[1]อุดรดิต!Q39+[1]สุโขทัย!Q39+[1]ลำปาง!Q39+[1]ลำพูน!Q39+[1]แพร่!Q39+[1]สุราษ!Q39+[1]ชุมพร!Q39+[1]ระนอง!Q39+[1]สงขลา!Q39+[1]สตูล!Q39+[1]กรุงเทพ!Q39+[1]ปทุม!Q39+[1]นนทบุรี!Q39+[1]นครนายก!Q39+[1]อยุธยา!Q39+[1]อ่างทอง!Q39+[1]สระบุรี!Q39+[1]ลพบุรี!Q39+[1]นครปฐม!Q39+[1]สมุทรสงคราม!Q39+[1]สมุทรสาคร!Q39+[1]ระยอง!Q39+[1]จันทบุรี!Q39+[1]ตราด!Q39+[1]อุดร!Q39+[1]หนองคาย!Q39+[1]บึงกาฬ!Q39+[1]สกลนคร!Q39+[1]นครพนม!Q39+[1]เชียงใหม่!Q39+[1]แม่ฮ่องสอน!Q39+[1]เชียงราย!Q39+[1]พะเยา!Q39+[1]น่าน!Q39+[1]ภูเก็ต!Q39+[1]พังงา!Q39+[1]กระบี่!Q39+[1]นครศรี!Q39+[1]พัทลุง!Q39+[1]ตรัง!Q39+[1]ปัตตานี!Q39+[1]ยะลา!Q39+[1]นราธิวาส!Q39+[1]เชียงแสน!Q39+[1]ยานยนต!Q39+[1]สถาบันสุขภาพ!Q39 -> 0 | P35: =+[1]สมุทรปราการ!R39+[1]ฉะเชิงเทรา!R39+[1]สุพรรณ!R39+[1]สิงห์บุรี!R39+[1]ชัยนาท!R39+[1]อุทัย!R39+[1]ชลบุรี!R39+[1]ปราจีน!R39+[1]สระแก้ว!R39+[1]ราชบุรี!R39+[1]เพชรบุรี!R39+[1]กาญจนบุรี!R39+[1]ประจวบ!R39+[1]นครราชสีมา!R39+[1]ชัยภูมิ!R39+[1]สุรินทร์!R39+[1]บุรีรัมย์!R39+[1]ขอนแก่น!R39+[1]กาฬสินทร์!R39+[1]มุกดาหาร!R39+[1]หนองบัว!R39+[1]มหาสารคราม!R39+[1]อุบล!R39+[1]ศรีสะเกษ!R39+[1]อำนาจ!R39+[1]ร้อยเอ็ด!R39+[1]ยโสธร!R39+[1]นครสวรรค์!R39+[1]พิจิตร!R39+[1]กำแพงเพชร!R39+[1]ตาก!R39+[1]พิษณุโลก!R39+[1]เลย!R39+[1]เพชรบูลย์!R39+[1]อุดรดิต!R39+[1]สุโขทัย!R39+[1]ลำปาง!R39+[1]ลำพูน!R39+[1]แพร่!R39+[1]สุราษ!R39+[1]ชุมพร!R39+[1]ระนอง!R39+[1]สงขลา!R39+[1]สตูล!R39+[1]กรุงเทพ!R39+[1]ปทุม!R39+[1]นนทบุรี!R39+[1]นครนายก!R39+[1]อยุธยา!R39+[1]อ่างทอง!R39+[1]สระบุรี!R39+[1]ลพบุรี!R39+[1]นครปฐม!R39+[1]สมุทรสงคราม!R39+[1]สมุทรสาคร!R39+[1]ระยอง!R39+[1]จันทบุรี!R39+[1]ตราด!R39+[1]อุดร!R39+[1]หนองคาย!R39+[1]บึงกาฬ!R39+[1]สกลนคร!R39+[1]นครพนม!R39+[1]เชียงใหม่!R39+[1]แม่ฮ่องสอน!R39+[1]เชียงราย!R39+[1]พะเยา!R39+[1]น่าน!R39+[1]ภูเก็ต!R39+[1]พังงา!R39+[1]กระบี่!R39+[1]นครศรี!R39+[1]พัทลุง!R39+[1]ตรัง!R39+[1]ปัตตานี!R39+[1]ยะลา!R39+[1]นราธิวาส!R39+[1]เชียงแสน!R39+[1]ยานยนต!R39+[1]สถาบันสุขภาพ!R39 -> 0
A36: * ค่าจ้างเหมารักษาความปลอดภัย | O36: =+[1]สมุทรปราการ!Q40+[1]ฉะเชิงเทรา!Q40+[1]สุพรรณ!Q40+[1]สิงห์บุรี!Q40+[1]ชัยนาท!Q40+[1]อุทัย!Q40+[1]ชลบุรี!Q40+[1]ปราจีน!Q40+[1]สระแก้ว!Q40+[1]ราชบุรี!Q40+[1]เพชรบุรี!Q40+[1]กาญจนบุรี!Q40+[1]ประจวบ!Q40+[1]นครราชสีมา!Q40+[1]ชัยภูมิ!Q40+[1]สุรินทร์!Q40+[1]บุรีรัมย์!Q40+[1]ขอนแก่น!Q40+[1]กาฬสินทร์!Q40+[1]มุกดาหาร!Q40+[1]หนองบัว!Q40+[1]มหาสารคราม!Q40+[1]อุบล!Q40+[1]ศรีสะเกษ!Q40+[1]อำนาจ!Q40+[1]ร้อยเอ็ด!Q40+[1]ยโสธร!Q40+[1]นครสวรรค์!Q40+[1]พิจิตร!Q40+[1]กำแพงเพชร!Q40+[1]ตาก!Q40+[1]พิษณุโลก!Q40+[1]เลย!Q40+[1]เพชรบูลย์!Q40+[1]อุดรดิต!Q40+[1]สุโขทัย!Q40+[1]ลำปาง!Q40+[1]ลำพูน!Q40+[1]แพร่!Q40+[1]สุราษ!Q40+[1]ชุมพร!Q40+[1]ระนอง!Q40+[1]สงขลา!Q40+[1]สตูล!Q40+[1]กรุงเทพ!Q40+[1]ปทุม!Q40+[1]นนทบุรี!Q40+[1]นครนายก!Q40+[1]อยุธยา!Q40+[1]อ่างทอง!Q40+[1]สระบุรี!Q40+[1]ลพบุรี!Q40+[1]นครปฐม!Q40+[1]สมุทรสงคราม!Q40+[1]สมุทรสาคร!Q40+[1]ระยอง!Q40+[1]จันทบุรี!Q40+[1]ตราด!Q40+[1]อุดร!Q40+[1]หนองคาย!Q40+[1]บึงกาฬ!Q40+[1]สกลนคร!Q40+[1]นครพนม!Q40+[1]เชียงใหม่!Q40+[1]แม่ฮ่องสอน!Q40+[1]เชียงราย!Q40+[1]พะเยา!Q40+[1]น่าน!Q40+[1]ภูเก็ต!Q40+[1]พังงา!Q40+[1]กระบี่!Q40+[1]นครศรี!Q40+[1]พัทลุง!Q40+[1]ตรัง!Q40+[1]ปัตตานี!Q40+[1]ยะลา!Q40+[1]นราธิวาส!Q40+[1]เชียงแสน!Q40+[1]ยานยนต!Q40+[1]สถาบันสุขภาพ!Q40 -> 0 | P36: =+[1]สมุทรปราการ!R40+[1]ฉะเชิงเทรา!R40+[1]สุพรรณ!R40+[1]สิงห์บุรี!R40+[1]ชัยนาท!R40+[1]อุทัย!R40+[1]ชลบุรี!R40+[1]ปราจีน!R40+[1]สระแก้ว!R40+[1]ราชบุรี!R40+[1]เพชรบุรี!R40+[1]กาญจนบุรี!R40+[1]ประจวบ!R40+[1]นครราชสีมา!R40+[1]ชัยภูมิ!R40+[1]สุรินทร์!R40+[1]บุรีรัมย์!R40+[1]ขอนแก่น!R40+[1]กาฬสินทร์!R40+[1]มุกดาหาร!R40+[1]หนองบัว!R40+[1]มหาสารคราม!R40+[1]อุบล!R40+[1]ศรีสะเกษ!R40+[1]อำนาจ!R40+[1]ร้อยเอ็ด!R40+[1]ยโสธร!R40+[1]นครสวรรค์!R40+[1]พิจิตร!R40+[1]กำแพงเพชร!R40+[1]ตาก!R40+[1]พิษณุโลก!R40+[1]เลย!R40+[1]เพชรบูลย์!R40+[1]อุดรดิต!R40+[1]สุโขทัย!R40+[1]ลำปาง!R40+[1]ลำพูน!R40+[1]แพร่!R40+[1]สุราษ!R40+[1]ชุมพร!R40+[1]ระนอง!R40+[1]สงขลา!R40+[1]สตูล!R40+[1]กรุงเทพ!R40+[1]ปทุม!R40+[1]นนทบุรี!R40+[1]นครนายก!R40+[1]อยุธยา!R40+[1]อ่างทอง!R40+[1]สระบุรี!R40+[1]ลพบุรี!R40+[1]นครปฐม!R40+[1]สมุทรสงคราม!R40+[1]สมุทรสาคร!R40+[1]ระยอง!R40+[1]จันทบุรี!R40+[1]ตราด!R40+[1]อุดร!R40+[1]หนองคาย!R40+[1]บึงกาฬ!R40+[1]สกลนคร!R40+[1]นครพนม!R40+[1]เชียงใหม่!R40+[1]แม่ฮ่องสอน!R40+[1]เชียงราย!R40+[1]พะเยา!R40+[1]น่าน!R40+[1]ภูเก็ต!R40+[1]พังงา!R40+[1]กระบี่!R40+[1]นครศรี!R40+[1]พัทลุง!R40+[1]ตรัง!R40+[1]ปัตตานี!R40+[1]ยะลา!R40+[1]นราธิวาส!R40+[1]เชียงแสน!R40+[1]ยานยนต!R40+[1]สถาบันสุขภาพ!R40 -> 0
A37: * ค่าจ้างเหมาดูแลสวน | O37: =+[1]สมุทรปราการ!Q41+[1]ฉะเชิงเทรา!Q41+[1]สุพรรณ!Q41+[1]สิงห์บุรี!Q41+[1]ชัยนาท!Q41+[1]อุทัย!Q41+[1]ชลบุรี!Q41+[1]ปราจีน!Q41+[1]สระแก้ว!Q41+[1]ราชบุรี!Q41+[1]เพชรบุรี!Q41+[1]กาญจนบุรี!Q41+[1]ประจวบ!Q41+[1]นครราชสีมา!Q41+[1]ชัยภูมิ!Q41+[1]สุรินทร์!Q41+[1]บุรีรัมย์!Q41+[1]ขอนแก่น!Q41+[1]กาฬสินทร์!Q41+[1]มุกดาหาร!Q41+[1]หนองบัว!Q41+[1]มหาสารคราม!Q41+[1]อุบล!Q41+[1]ศรีสะเกษ!Q41+[1]อำนาจ!Q41+[1]ร้อยเอ็ด!Q41+[1]ยโสธร!Q41+[1]นครสวรรค์!Q41+[1]พิจิตร!Q41+[1]กำแพงเพชร!Q41+[1]ตาก!Q41+[1]พิษณุโลก!Q41+[1]เลย!Q41+[1]เพชรบูลย์!Q41+[1]อุดรดิต!Q41+[1]สุโขทัย!Q41+[1]ลำปาง!Q41+[1]ลำพูน!Q41+[1]แพร่!Q41+[1]สุราษ!Q41+[1]ชุมพร!Q41+[1]ระนอง!Q41+[1]สงขลา!Q41+[1]สตูล!Q41+[1]กรุงเทพ!Q41+[1]ปทุม!Q41+[1]นนทบุรี!Q41+[1]นครนายก!Q41+[1]อยุธยา!Q41+[1]อ่างทอง!Q41+[1]สระบุรี!Q41+[1]ลพบุรี!Q41+[1]นครปฐม!Q41+[1]สมุทรสงคราม!Q41+[1]สมุทรสาคร!Q41+[1]ระยอง!Q41+[1]จันทบุรี!Q41+[1]ตราด!Q41+[1]อุดร!Q41+[1]หนองคาย!Q41+[1]บึงกาฬ!Q41+[1]สกลนคร!Q41+[1]นครพนม!Q41+[1]เชียงใหม่!Q41+[1]แม่ฮ่องสอน!Q41+[1]เชียงราย!Q41+[1]พะเยา!Q41+[1]น่าน!Q41+[1]ภูเก็ต!Q41+[1]พังงา!Q41+[1]กระบี่!Q41+[1]นครศรี!Q41+[1]พัทลุง!Q41+[1]ตรัง!Q41+[1]ปัตตานี!Q41+[1]ยะลา!Q41+[1]นราธิวาส!Q41+[1]เชียงแสน!Q41+[1]ยานยนต!Q41+[1]สถาบันสุขภาพ!Q41 -> 0 | P37: =+[1]สมุทรปราการ!R41+[1]ฉะเชิงเทรา!R41+[1]สุพรรณ!R41+[1]สิงห์บุรี!R41+[1]ชัยนาท!R41+[1]อุทัย!R41+[1]ชลบุรี!R41+[1]ปราจีน!R41+[1]สระแก้ว!R41+[1]ราชบุรี!R41+[1]เพชรบุรี!R41+[1]กาญจนบุรี!R41+[1]ประจวบ!R41+[1]นครราชสีมา!R41+[1]ชัยภูมิ!R41+[1]สุรินทร์!R41+[1]บุรีรัมย์!R41+[1]ขอนแก่น!R41+[1]กาฬสินทร์!R41+[1]มุกดาหาร!R41+[1]หนองบัว!R41+[1]มหาสารคราม!R41+[1]อุบล!R41+[1]ศรีสะเกษ!R41+[1]อำนาจ!R41+[1]ร้อยเอ็ด!R41+[1]ยโสธร!R41+[1]นครสวรรค์!R41+[1]พิจิตร!R41+[1]กำแพงเพชร!R41+[1]ตาก!R41+[1]พิษณุโลก!R41+[1]เลย!R41+[1]เพชรบูลย์!R41+[1]อุดรดิต!R41+[1]สุโขทัย!R41+[1]ลำปาง!R41+[1]ลำพูน!R41+[1]แพร่!R41+[1]สุราษ!R41+[1]ชุมพร!R41+[1]ระนอง!R41+[1]สงขลา!R41+[1]สตูล!R41+[1]กรุงเทพ!R41+[1]ปทุม!R41+[1]นนทบุรี!R41+[1]นครนายก!R41+[1]อยุธยา!R41+[1]อ่างทอง!R41+[1]สระบุรี!R41+[1]ลพบุรี!R41+[1]นครปฐม!R41+[1]สมุทรสงคราม!R41+[1]สมุทรสาคร!R41+[1]ระยอง!R41+[1]จันทบุรี!R41+[1]ตราด!R41+[1]อุดร!R41+[1]หนองคาย!R41+[1]บึงกาฬ!R41+[1]สกลนคร!R41+[1]นครพนม!R41+[1]เชียงใหม่!R41+[1]แม่ฮ่องสอน!R41+[1]เชียงราย!R41+[1]พะเยา!R41+[1]น่าน!R41+[1]ภูเก็ต!R41+[1]พังงา!R41+[1]กระบี่!R41+[1]นครศรี!R41+[1]พัทลุง!R41+[1]ตรัง!R41+[1]ปัตตานี!R41+[1]ยะลา!R41+[1]นราธิวาส!R41+[1]เชียงแสน!R41+[1]ยานยนต!R41+[1]สถาบันสุขภาพ!R41 -> 0
A38: * ค่าจ้างเหมาบุคคลภายนอกปฏิบัติงานให้หน่วยงาน | O38: =+[1]สมุทรปราการ!Q42+[1]ฉะเชิงเทรา!Q42+[1]สุพรรณ!Q42+[1]สิงห์บุรี!Q42+[1]ชัยนาท!Q42+[1]อุทัย!Q42+[1]ชลบุรี!Q42+[1]ปราจีน!Q42+[1]สระแก้ว!Q42+[1]ราชบุรี!Q42+[1]เพชรบุรี!Q42+[1]กาญจนบุรี!Q42+[1]ประจวบ!Q42+[1]นครราชสีมา!Q42+[1]ชัยภูมิ!Q42+[1]สุรินทร์!Q42+[1]บุรีรัมย์!Q42+[1]ขอนแก่น!Q42+[1]กาฬสินทร์!Q42+[1]มุกดาหาร!Q42+[1]หนองบัว!Q42+[1]มหาสารคราม!Q42+[1]อุบล!Q42+[1]ศรีสะเกษ!Q42+[1]อำนาจ!Q42+[1]ร้อยเอ็ด!Q42+[1]ยโสธร!Q42+[1]นครสวรรค์!Q42+[1]พิจิตร!Q42+[1]กำแพงเพชร!Q42+[1]ตาก!Q42+[1]พิษณุโลก!Q42+[1]เลย!Q42+[1]เพชรบูลย์!Q42+[1]อุดรดิต!Q42+[1]สุโขทัย!Q42+[1]ลำปาง!Q42+[1]ลำพูน!Q42+[1]แพร่!Q42+[1]สุราษ!Q42+[1]ชุมพร!Q42+[1]ระนอง!Q42+[1]สงขลา!Q42+[1]สตูล!Q42+[1]กรุงเทพ!Q42+[1]ปทุม!Q42+[1]นนทบุรี!Q42+[1]นครนายก!Q42+[1]อยุธยา!Q42+[1]อ่างทอง!Q42+[1]สระบุรี!Q42+[1]ลพบุรี!Q42+[1]นครปฐม!Q42+[1]สมุทรสงคราม!Q42+[1]สมุทรสาคร!Q42+[1]ระยอง!Q42+[1]จันทบุรี!Q42+[1]ตราด!Q42+[1]อุดร!Q42+[1]หนองคาย!Q42+[1]บึงกาฬ!Q42+[1]สกลนคร!Q42+[1]นครพนม!Q42+[1]เชียงใหม่!Q42+[1]แม่ฮ่องสอน!Q42+[1]เชียงราย!Q42+[1]พะเยา!Q42+[1]น่าน!Q42+[1]ภูเก็ต!Q42+[1]พังงา!Q42+[1]กระบี่!Q42+[1]นครศรี!Q42+[1]พัทลุง!Q42+[1]ตรัง!Q42+[1]ปัตตานี!Q42+[1]ยะลา!Q42+[1]นราธิวาส!Q42+[1]เชียงแสน!Q42+[1]ยานยนต!Q42+[1]สถาบันสุขภาพ!Q42 -> 0 | P38: =+[1]สมุทรปราการ!R42+[1]ฉะเชิงเทรา!R42+[1]สุพรรณ!R42+[1]สิงห์บุรี!R42+[1]ชัยนาท!R42+[1]อุทัย!R42+[1]ชลบุรี!R42+[1]ปราจีน!R42+[1]สระแก้ว!R42+[1]ราชบุรี!R42+[1]เพชรบุรี!R42+[1]กาญจนบุรี!R42+[1]ประจวบ!R42+[1]นครราชสีมา!R42+[1]ชัยภูมิ!R42+[1]สุรินทร์!R42+[1]บุรีรัมย์!R42+[1]ขอนแก่น!R42+[1]กาฬสินทร์!R42+[1]มุกดาหาร!R42+[1]หนองบัว!R42+[1]มหาสารคราม!R42+[1]อุบล!R42+[1]ศรีสะเกษ!R42+[1]อำนาจ!R42+[1]ร้อยเอ็ด!R42+[1]ยโสธร!R42+[1]นครสวรรค์!R42+[1]พิจิตร!R42+[1]กำแพงเพชร!R42+[1]ตาก!R42+[1]พิษณุโลก!R42+[1]เลย!R42+[1]เพชรบูลย์!R42+[1]อุดรดิต!R42+[1]สุโขทัย!R42+[1]ลำปาง!R42+[1]ลำพูน!R42+[1]แพร่!R42+[1]สุราษ!R42+[1]ชุมพร!R42+[1]ระนอง!R42+[1]สงขลา!R42+[1]สตูล!R42+[1]กรุงเทพ!R42+[1]ปทุม!R42+[1]นนทบุรี!R42+[1]นครนายก!R42+[1]อยุธยา!R42+[1]อ่างทอง!R42+[1]สระบุรี!R42+[1]ลพบุรี!R42+[1]นครปฐม!R42+[1]สมุทรสงคราม!R42+[1]สมุทรสาคร!R42+[1]ระยอง!R42+[1]จันทบุรี!R42+[1]ตราด!R42+[1]อุดร!R42+[1]หนองคาย!R42+[1]บึงกาฬ!R42+[1]สกลนคร!R42+[1]นครพนม!R42+[1]เชียงใหม่!R42+[1]แม่ฮ่องสอน!R42+[1]เชียงราย!R42+[1]พะเยา!R42+[1]น่าน!R42+[1]ภูเก็ต!R42+[1]พังงา!R42+[1]กระบี่!R42+[1]นครศรี!R42+[1]พัทลุง!R42+[1]ตรัง!R42+[1]ปัตตานี!R42+[1]ยะลา!R42+[1]นราธิวาส!R42+[1]เชียงแสน!R42+[1]ยานยนต!R42+[1]สถาบันสุขภาพ!R42 -> 0
A39: * ค่าจ้างเหมาเช่าเครื่องถ่ายเอกสาร | O39: =+[1]สมุทรปราการ!Q43+[1]ฉะเชิงเทรา!Q43+[1]สุพรรณ!Q43+[1]สิงห์บุรี!Q43+[1]ชัยนาท!Q43+[1]อุทัย!Q43+[1]ชลบุรี!Q43+[1]ปราจีน!Q43+[1]สระแก้ว!Q43+[1]ราชบุรี!Q43+[1]เพชรบุรี!Q43+[1]กาญจนบุรี!Q43+[1]ประจวบ!Q43+[1]นครราชสีมา!Q43+[1]ชัยภูมิ!Q43+[1]สุรินทร์!Q43+[1]บุรีรัมย์!Q43+[1]ขอนแก่น!Q43+[1]กาฬสินทร์!Q43+[1]มุกดาหาร!Q43+[1]หนองบัว!Q43+[1]มหาสารคราม!Q43+[1]อุบล!Q43+[1]ศรีสะเกษ!Q43+[1]อำนาจ!Q43+[1]ร้อยเอ็ด!Q43+[1]ยโสธร!Q43+[1]นครสวรรค์!Q43+[1]พิจิตร!Q43+[1]กำแพงเพชร!Q43+[1]ตาก!Q43+[1]พิษณุโลก!Q43+[1]เลย!Q43+[1]เพชรบูลย์!Q43+[1]อุดรดิต!Q43+[1]สุโขทัย!Q43+[1]ลำปาง!Q43+[1]ลำพูน!Q43+[1]แพร่!Q43+[1]สุราษ!Q43+[1]ชุมพร!Q43+[1]ระนอง!Q43+[1]สงขลา!Q43+[1]สตูล!Q43+[1]กรุงเทพ!Q43+[1]ปทุม!Q43+[1]นนทบุรี!Q43+[1]นครนายก!Q43+[1]อยุธยา!Q43+[1]อ่างทอง!Q43+[1]สระบุรี!Q43+[1]ลพบุรี!Q43+[1]นครปฐม!Q43+[1]สมุทรสงคราม!Q43+[1]สมุทรสาคร!Q43+[1]ระยอง!Q43+[1]จันทบุรี!Q43+[1]ตราด!Q43+[1]อุดร!Q43+[1]หนองคาย!Q43+[1]บึงกาฬ!Q43+[1]สกลนคร!Q43+[1]นครพนม!Q43+[1]เชียงใหม่!Q43+[1]แม่ฮ่องสอน!Q43+[1]เชียงราย!Q43+[1]พะเยา!Q43+[1]น่าน!Q43+[1]ภูเก็ต!Q43+[1]พังงา!Q43+[1]กระบี่!Q43+[1]นครศรี!Q43+[1]พัทลุง!Q43+[1]ตรัง!Q43+[1]ปัตตานี!Q43+[1]ยะลา!Q43+[1]นราธิวาส!Q43+[1]เชียงแสน!Q43+[1]ยานยนต!Q43+[1]สถาบันสุขภาพ!Q43 -> 0 | P39: =+[1]สมุทรปราการ!R43+[1]ฉะเชิงเทรา!R43+[1]สุพรรณ!R43+[1]สิงห์บุรี!R43+[1]ชัยนาท!R43+[1]อุทัย!R43+[1]ชลบุรี!R43+[1]ปราจีน!R43+[1]สระแก้ว!R43+[1]ราชบุรี!R43+[1]เพชรบุรี!R43+[1]กาญจนบุรี!R43+[1]ประจวบ!R43+[1]นครราชสีมา!R43+[1]ชัยภูมิ!R43+[1]สุรินทร์!R43+[1]บุรีรัมย์!R43+[1]ขอนแก่น!R43+[1]กาฬสินทร์!R43+[1]มุกดาหาร!R43+[1]หนองบัว!R43+[1]มหาสารคราม!R43+[1]อุบล!R43+[1]ศรีสะเกษ!R43+[1]อำนาจ!R43+[1]ร้อยเอ็ด!R43+[1]ยโสธร!R43+[1]นครสวรรค์!R43+[1]พิจิตร!R43+[1]กำแพงเพชร!R43+[1]ตาก!R43+[1]พิษณุโลก!R43+[1]เลย!R43+[1]เพชรบูลย์!R43+[1]อุดรดิต!R43+[1]สุโขทัย!R43+[1]ลำปาง!R43+[1]ลำพูน!R43+[1]แพร่!R43+[1]สุราษ!R43+[1]ชุมพร!R43+[1]ระนอง!R43+[1]สงขลา!R43+[1]สตูล!R43+[1]กรุงเทพ!R43+[1]ปทุม!R43+[1]นนทบุรี!R43+[1]นครนายก!R43+[1]อยุธยา!R43+[1]อ่างทอง!R43+[1]สระบุรี!R43+[1]ลพบุรี!R43+[1]นครปฐม!R43+[1]สมุทรสงคราม!R43+[1]สมุทรสาคร!R43+[1]ระยอง!R43+[1]จันทบุรี!R43+[1]ตราด!R43+[1]อุดร!R43+[1]หนองคาย!R43+[1]บึงกาฬ!R43+[1]สกลนคร!R43+[1]นครพนม!R43+[1]เชียงใหม่!R43+[1]แม่ฮ่องสอน!R43+[1]เชียงราย!R43+[1]พะเยา!R43+[1]น่าน!R43+[1]ภูเก็ต!R43+[1]พังงา!R43+[1]กระบี่!R43+[1]นครศรี!R43+[1]พัทลุง!R43+[1]ตรัง!R43+[1]ปัตตานี!R43+[1]ยะลา!R43+[1]นราธิวาส!R43+[1]เชียงแสน!R43+[1]ยานยนต!R43+[1]สถาบันสุขภาพ!R43 -> 0
A40: * ค่าจ้างเหมาพนักงานขับรถยนต์ | O40: =+[1]สมุทรปราการ!Q44+[1]ฉะเชิงเทรา!Q44+[1]สุพรรณ!Q44+[1]สิงห์บุรี!Q44+[1]ชัยนาท!Q44+[1]อุทัย!Q44+[1]ชลบุรี!Q44+[1]ปราจีน!Q44+[1]สระแก้ว!Q44+[1]ราชบุรี!Q44+[1]เพชรบุรี!Q44+[1]กาญจนบุรี!Q44+[1]ประจวบ!Q44+[1]นครราชสีมา!Q44+[1]ชัยภูมิ!Q44+[1]สุรินทร์!Q44+[1]บุรีรัมย์!Q44+[1]ขอนแก่น!Q44+[1]กาฬสินทร์!Q44+[1]มุกดาหาร!Q44+[1]หนองบัว!Q44+[1]มหาสารคราม!Q44+[1]อุบล!Q44+[1]ศรีสะเกษ!Q44+[1]อำนาจ!Q44+[1]ร้อยเอ็ด!Q44+[1]ยโสธร!Q44+[1]นครสวรรค์!Q44+[1]พิจิตร!Q44+[1]กำแพงเพชร!Q44+[1]ตาก!Q44+[1]พิษณุโลก!Q44+[1]เลย!Q44+[1]เพชรบูลย์!Q44+[1]อุดรดิต!Q44+[1]สุโขทัย!Q44+[1]ลำปาง!Q44+[1]ลำพูน!Q44+[1]แพร่!Q44+[1]สุราษ!Q44+[1]ชุมพร!Q44+[1]ระนอง!Q44+[1]สงขลา!Q44+[1]สตูล!Q44+[1]กรุงเทพ!Q44+[1]ปทุม!Q44+[1]นนทบุรี!Q44+[1]นครนายก!Q44+[1]อยุธยา!Q44+[1]อ่างทอง!Q44+[1]สระบุรี!Q44+[1]ลพบุรี!Q44+[1]นครปฐม!Q44+[1]สมุทรสงคราม!Q44+[1]สมุทรสาคร!Q44+[1]ระยอง!Q44+[1]จันทบุรี!Q44+[1]ตราด!Q44+[1]อุดร!Q44+[1]หนองคาย!Q44+[1]บึงกาฬ!Q44+[1]สกลนคร!Q44+[1]นครพนม!Q44+[1]เชียงใหม่!Q44+[1]แม่ฮ่องสอน!Q44+[1]เชียงราย!Q44+[1]พะเยา!Q44+[1]น่าน!Q44+[1]ภูเก็ต!Q44+[1]พังงา!Q44+[1]กระบี่!Q44+[1]นครศรี!Q44+[1]พัทลุง!Q44+[1]ตรัง!Q44+[1]ปัตตานี!Q44+[1]ยะลา!Q44+[1]นราธิวาส!Q44+[1]เชียงแสน!Q44+[1]ยานยนต!Q44+[1]สถาบันสุขภาพ!Q44 -> 0 | P40: =+[1]สมุทรปราการ!R44+[1]ฉะเชิงเทรา!R44+[1]สุพรรณ!R44+[1]สิงห์บุรี!R44+[1]ชัยนาท!R44+[1]อุทัย!R44+[1]ชลบุรี!R44+[1]ปราจีน!R44+[1]สระแก้ว!R44+[1]ราชบุรี!R44+[1]เพชรบุรี!R44+[1]กาญจนบุรี!R44+[1]ประจวบ!R44+[1]นครราชสีมา!R44+[1]ชัยภูมิ!R44+[1]สุรินทร์!R44+[1]บุรีรัมย์!R44+[1]ขอนแก่น!R44+[1]กาฬสินทร์!R44+[1]มุกดาหาร!R44+[1]หนองบัว!R44+[1]มหาสารคราม!R44+[1]อุบล!R44+[1]ศรีสะเกษ!R44+[1]อำนาจ!R44+[1]ร้อยเอ็ด!R44+[1]ยโสธร!R44+[1]นครสวรรค์!R44+[1]พิจิตร!R44+[1]กำแพงเพชร!R44+[1]ตาก!R44+[1]พิษณุโลก!R44+[1]เลย!R44+[1]เพชรบูลย์!R44+[1]อุดรดิต!R44+[1]สุโขทัย!R44+[1]ลำปาง!R44+[1]ลำพูน!R44+[1]แพร่!R44+[1]สุราษ!R44+[1]ชุมพร!R44+[1]ระนอง!R44+[1]สงขลา!R44+[1]สตูล!R44+[1]กรุงเทพ!R44+[1]ปทุม!R44+[1]นนทบุรี!R44+[1]นครนายก!R44+[1]อยุธยา!R44+[1]อ่างทอง!R44+[1]สระบุรี!R44+[1]ลพบุรี!R44+[1]นครปฐม!R44+[1]สมุทรสงคราม!R44+[1]สมุทรสาคร!R44+[1]ระยอง!R44+[1]จันทบุรี!R44+[1]ตราด!R44+[1]อุดร!R44+[1]หนองคาย!R44+[1]บึงกาฬ!R44+[1]สกลนคร!R44+[1]นครพนม!R44+[1]เชียงใหม่!R44+[1]แม่ฮ่องสอน!R44+[1]เชียงราย!R44+[1]พะเยา!R44+[1]น่าน!R44+[1]ภูเก็ต!R44+[1]พังงา!R44+[1]กระบี่!R44+[1]นครศรี!R44+[1]พัทลุง!R44+[1]ตรัง!R44+[1]ปัตตานี!R44+[1]ยะลา!R44+[1]นราธิวาส!R44+[1]เชียงแสน!R44+[1]ยานยนต!R44+[1]สถาบันสุขภาพ!R44 -> 0
A41: * ค่าจ้างเหมารักษาลิฟท์ | O41: =+[1]สมุทรปราการ!Q45+[1]ฉะเชิงเทรา!Q45+[1]สุพรรณ!Q45+[1]สิงห์บุรี!Q45+[1]ชัยนาท!Q45+[1]อุทัย!Q45+[1]ชลบุรี!Q45+[1]ปราจีน!Q45+[1]สระแก้ว!Q45+[1]ราชบุรี!Q45+[1]เพชรบุรี!Q45+[1]กาญจนบุรี!Q45+[1]ประจวบ!Q45+[1]นครราชสีมา!Q45+[1]ชัยภูมิ!Q45+[1]สุรินทร์!Q45+[1]บุรีรัมย์!Q45+[1]ขอนแก่น!Q45+[1]กาฬสินทร์!Q45+[1]มุกดาหาร!Q45+[1]หนองบัว!Q45+[1]มหาสารคราม!Q45+[1]อุบล!Q45+[1]ศรีสะเกษ!Q45+[1]อำนาจ!Q45+[1]ร้อยเอ็ด!Q45+[1]ยโสธร!Q45+[1]นครสวรรค์!Q45+[1]พิจิตร!Q45+[1]กำแพงเพชร!Q45+[1]ตาก!Q45+[1]พิษณุโลก!Q45+[1]เลย!Q45+[1]เพชรบูลย์!Q45+[1]อุดรดิต!Q45+[1]สุโขทัย!Q45+[1]ลำปาง!Q45+[1]ลำพูน!Q45+[1]แพร่!Q45+[1]สุราษ!Q45+[1]ชุมพร!Q45+[1]ระนอง!Q45+[1]สงขลา!Q45+[1]สตูล!Q45+[1]กรุงเทพ!Q45+[1]ปทุม!Q45+[1]นนทบุรี!Q45+[1]นครนายก!Q45+[1]อยุธยา!Q45+[1]อ่างทอง!Q45+[1]สระบุรี!Q45+[1]ลพบุรี!Q45+[1]นครปฐม!Q45+[1]สมุทรสงคราม!Q45+[1]สมุทรสาคร!Q45+[1]ระยอง!Q45+[1]จันทบุรี!Q45+[1]ตราด!Q45+[1]อุดร!Q45+[1]หนองคาย!Q45+[1]บึงกาฬ!Q45+[1]สกลนคร!Q45+[1]นครพนม!Q45+[1]เชียงใหม่!Q45+[1]แม่ฮ่องสอน!Q45+[1]เชียงราย!Q45+[1]พะเยา!Q45+[1]น่าน!Q45+[1]ภูเก็ต!Q45+[1]พังงา!Q45+[1]กระบี่!Q45+[1]นครศรี!Q45+[1]พัทลุง!Q45+[1]ตรัง!Q45+[1]ปัตตานี!Q45+[1]ยะลา!Q45+[1]นราธิวาส!Q45+[1]เชียงแสน!Q45+[1]ยานยนต!Q45+[1]สถาบันสุขภาพ!Q45 -> 0 | P41: =+[1]สมุทรปราการ!R45+[1]ฉะเชิงเทรา!R45+[1]สุพรรณ!R45+[1]สิงห์บุรี!R45+[1]ชัยนาท!R45+[1]อุทัย!R45+[1]ชลบุรี!R45+[1]ปราจีน!R45+[1]สระแก้ว!R45+[1]ราชบุรี!R45+[1]เพชรบุรี!R45+[1]กาญจนบุรี!R45+[1]ประจวบ!R45+[1]นครราชสีมา!R45+[1]ชัยภูมิ!R45+[1]สุรินทร์!R45+[1]บุรีรัมย์!R45+[1]ขอนแก่น!R45+[1]กาฬสินทร์!R45+[1]มุกดาหาร!R45+[1]หนองบัว!R45+[1]มหาสารคราม!R45+[1]อุบล!R45+[1]ศรีสะเกษ!R45+[1]อำนาจ!R45+[1]ร้อยเอ็ด!R45+[1]ยโสธร!R45+[1]นครสวรรค์!R45+[1]พิจิตร!R45+[1]กำแพงเพชร!R45+[1]ตาก!R45+[1]พิษณุโลก!R45+[1]เลย!R45+[1]เพชรบูลย์!R45+[1]อุดรดิต!R45+[1]สุโขทัย!R45+[1]ลำปาง!R45+[1]ลำพูน!R45+[1]แพร่!R45+[1]สุราษ!R45+[1]ชุมพร!R45+[1]ระนอง!R45+[1]สงขลา!R45+[1]สตูล!R45+[1]กรุงเทพ!R45+[1]ปทุม!R45+[1]นนทบุรี!R45+[1]นครนายก!R45+[1]อยุธยา!R45+[1]อ่างทอง!R45+[1]สระบุรี!R45+[1]ลพบุรี!R45+[1]นครปฐม!R45+[1]สมุทรสงคราม!R45+[1]สมุทรสาคร!R45+[1]ระยอง!R45+[1]จันทบุรี!R45+[1]ตราด!R45+[1]อุดร!R45+[1]หนองคาย!R45+[1]บึงกาฬ!R45+[1]สกลนคร!R45+[1]นครพนม!R45+[1]เชียงใหม่!R45+[1]แม่ฮ่องสอน!R45+[1]เชียงราย!R45+[1]พะเยา!R45+[1]น่าน!R45+[1]ภูเก็ต!R45+[1]พังงา!R45+[1]กระบี่!R45+[1]นครศรี!R45+[1]พัทลุง!R45+[1]ตรัง!R45+[1]ปัตตานี!R45+[1]ยะลา!R45+[1]นราธิวาส!R45+[1]เชียงแสน!R45+[1]ยานยนต!R45+[1]สถาบันสุขภาพ!R45 -> 0
A42: * ค่าจ้างเหมากำจัดปลวก | O42: =+[1]สมุทรปราการ!Q46+[1]ฉะเชิงเทรา!Q46+[1]สุพรรณ!Q46+[1]สิงห์บุรี!Q46+[1]ชัยนาท!Q46+[1]อุทัย!Q46+[1]ชลบุรี!Q46+[1]ปราจีน!Q46+[1]สระแก้ว!Q46+[1]ราชบุรี!Q46+[1]เพชรบุรี!Q46+[1]กาญจนบุรี!Q46+[1]ประจวบ!Q46+[1]นครราชสีมา!Q46+[1]ชัยภูมิ!Q46+[1]สุรินทร์!Q46+[1]บุรีรัมย์!Q46+[1]ขอนแก่น!Q46+[1]กาฬสินทร์!Q46+[1]มุกดาหาร!Q46+[1]หนองบัว!Q46+[1]มหาสารคราม!Q46+[1]อุบล!Q46+[1]ศรีสะเกษ!Q46+[1]อำนาจ!Q46+[1]ร้อยเอ็ด!Q46+[1]ยโสธร!Q46+[1]นครสวรรค์!Q46+[1]พิจิตร!Q46+[1]กำแพงเพชร!Q46+[1]ตาก!Q46+[1]พิษณุโลก!Q46+[1]เลย!Q46+[1]เพชรบูลย์!Q46+[1]อุดรดิต!Q46+[1]สุโขทัย!Q46+[1]ลำปาง!Q46+[1]ลำพูน!Q46+[1]แพร่!Q46+[1]สุราษ!Q46+[1]ชุมพร!Q46+[1]ระนอง!Q46+[1]สงขลา!Q46+[1]สตูล!Q46+[1]กรุงเทพ!Q46+[1]ปทุม!Q46+[1]นนทบุรี!Q46+[1]นครนายก!Q46+[1]อยุธยา!Q46+[1]อ่างทอง!Q46+[1]สระบุรี!Q46+[1]ลพบุรี!Q46+[1]นครปฐม!Q46+[1]สมุทรสงคราม!Q46+[1]สมุทรสาคร!Q46+[1]ระยอง!Q46+[1]จันทบุรี!Q46+[1]ตราด!Q46+[1]อุดร!Q46+[1]หนองคาย!Q46+[1]บึงกาฬ!Q46+[1]สกลนคร!Q46+[1]นครพนม!Q46+[1]เชียงใหม่!Q46+[1]แม่ฮ่องสอน!Q46+[1]เชียงราย!Q46+[1]พะเยา!Q46+[1]น่าน!Q46+[1]ภูเก็ต!Q46+[1]พังงา!Q46+[1]กระบี่!Q46+[1]นครศรี!Q46+[1]พัทลุง!Q46+[1]ตรัง!Q46+[1]ปัตตานี!Q46+[1]ยะลา!Q46+[1]นราธิวาส!Q46+[1]เชียงแสน!Q46+[1]ยานยนต!Q46+[1]สถาบันสุขภาพ!Q46 -> 0 | P42: =+[1]สมุทรปราการ!R46+[1]ฉะเชิงเทรา!R46+[1]สุพรรณ!R46+[1]สิงห์บุรี!R46+[1]ชัยนาท!R46+[1]อุทัย!R46+[1]ชลบุรี!R46+[1]ปราจีน!R46+[1]สระแก้ว!R46+[1]ราชบุรี!R46+[1]เพชรบุรี!R46+[1]กาญจนบุรี!R46+[1]ประจวบ!R46+[1]นครราชสีมา!R46+[1]ชัยภูมิ!R46+[1]สุรินทร์!R46+[1]บุรีรัมย์!R46+[1]ขอนแก่น!R46+[1]กาฬสินทร์!R46+[1]มุกดาหาร!R46+[1]หนองบัว!R46+[1]มหาสารคราม!R46+[1]อุบล!R46+[1]ศรีสะเกษ!R46+[1]อำนาจ!R46+[1]ร้อยเอ็ด!R46+[1]ยโสธร!R46+[1]นครสวรรค์!R46+[1]พิจิตร!R46+[1]กำแพงเพชร!R46+[1]ตาก!R46+[1]พิษณุโลก!R46+[1]เลย!R46+[1]เพชรบูลย์!R46+[1]อุดรดิต!R46+[1]สุโขทัย!R46+[1]ลำปาง!R46+[1]ลำพูน!R46+[1]แพร่!R46+[1]สุราษ!R46+[1]ชุมพร!R46+[1]ระนอง!R46+[1]สงขลา!R46+[1]สตูล!R46+[1]กรุงเทพ!R46+[1]ปทุม!R46+[1]นนทบุรี!R46+[1]นครนายก!R46+[1]อยุธยา!R46+[1]อ่างทอง!R46+[1]สระบุรี!R46+[1]ลพบุรี!R46+[1]นครปฐม!R46+[1]สมุทรสงคราม!R46+[1]สมุทรสาคร!R46+[1]ระยอง!R46+[1]จันทบุรี!R46+[1]ตราด!R46+[1]อุดร!R46+[1]หนองคาย!R46+[1]บึงกาฬ!R46+[1]สกลนคร!R46+[1]นครพนม!R46+[1]เชียงใหม่!R46+[1]แม่ฮ่องสอน!R46+[1]เชียงราย!R46+[1]พะเยา!R46+[1]น่าน!R46+[1]ภูเก็ต!R46+[1]พังงา!R46+[1]กระบี่!R46+[1]นครศรี!R46+[1]พัทลุง!R46+[1]ตรัง!R46+[1]ปัตตานี!R46+[1]ยะลา!R46+[1]นราธิวาส!R46+[1]เชียงแสน!R46+[1]ยานยนต!R46+[1]สถาบันสุขภาพ!R46 -> 0
A43: * ค่าจ้างเหมาพิมพ์วุฒิบัตร | O43: =+[1]สมุทรปราการ!Q47+[1]ฉะเชิงเทรา!Q47+[1]สุพรรณ!Q47+[1]สิงห์บุรี!Q47+[1]ชัยนาท!Q47+[1]อุทัย!Q47+[1]ชลบุรี!Q47+[1]ปราจีน!Q47+[1]สระแก้ว!Q47+[1]ราชบุรี!Q47+[1]เพชรบุรี!Q47+[1]กาญจนบุรี!Q47+[1]ประจวบ!Q47+[1]นครราชสีมา!Q47+[1]ชัยภูมิ!Q47+[1]สุรินทร์!Q47+[1]บุรีรัมย์!Q47+[1]ขอนแก่น!Q47+[1]กาฬสินทร์!Q47+[1]มุกดาหาร!Q47+[1]หนองบัว!Q47+[1]มหาสารคราม!Q47+[1]อุบล!Q47+[1]ศรีสะเกษ!Q47+[1]อำนาจ!Q47+[1]ร้อยเอ็ด!Q47+[1]ยโสธร!Q47+[1]นครสวรรค์!Q47+[1]พิจิตร!Q47+[1]กำแพงเพชร!Q47+[1]ตาก!Q47+[1]พิษณุโลก!Q47+[1]เลย!Q47+[1]เพชรบูลย์!Q47+[1]อุดรดิต!Q47+[1]สุโขทัย!Q47+[1]ลำปาง!Q47+[1]ลำพูน!Q47+[1]แพร่!Q47+[1]สุราษ!Q47+[1]ชุมพร!Q47+[1]ระนอง!Q47+[1]สงขลา!Q47+[1]สตูล!Q47+[1]กรุงเทพ!Q47+[1]ปทุม!Q47+[1]นนทบุรี!Q47+[1]นครนายก!Q47+[1]อยุธยา!Q47+[1]อ่างทอง!Q47+[1]สระบุรี!Q47+[1]ลพบุรี!Q47+[1]นครปฐม!Q47+[1]สมุทรสงคราม!Q47+[1]สมุทรสาคร!Q47+[1]ระยอง!Q47+[1]จันทบุรี!Q47+[1]ตราด!Q47+[1]อุดร!Q47+[1]หนองคาย!Q47+[1]บึงกาฬ!Q47+[1]สกลนคร!Q47+[1]นครพนม!Q47+[1]เชียงใหม่!Q47+[1]แม่ฮ่องสอน!Q47+[1]เชียงราย!Q47+[1]พะเยา!Q47+[1]น่าน!Q47+[1]ภูเก็ต!Q47+[1]พังงา!Q47+[1]กระบี่!Q47+[1]นครศรี!Q47+[1]พัทลุง!Q47+[1]ตรัง!Q47+[1]ปัตตานี!Q47+[1]ยะลา!Q47+[1]นราธิวาส!Q47+[1]เชียงแสน!Q47+[1]ยานยนต!Q47+[1]สถาบันสุขภาพ!Q47 -> 0 | P43: =+[1]สมุทรปราการ!R47+[1]ฉะเชิงเทรา!R47+[1]สุพรรณ!R47+[1]สิงห์บุรี!R47+[1]ชัยนาท!R47+[1]อุทัย!R47+[1]ชลบุรี!R47+[1]ปราจีน!R47+[1]สระแก้ว!R47+[1]ราชบุรี!R47+[1]เพชรบุรี!R47+[1]กาญจนบุรี!R47+[1]ประจวบ!R47+[1]นครราชสีมา!R47+[1]ชัยภูมิ!R47+[1]สุรินทร์!R47+[1]บุรีรัมย์!R47+[1]ขอนแก่น!R47+[1]กาฬสินทร์!R47+[1]มุกดาหาร!R47+[1]หนองบัว!R47+[1]มหาสารคราม!R47+[1]อุบล!R47+[1]ศรีสะเกษ!R47+[1]อำนาจ!R47+[1]ร้อยเอ็ด!R47+[1]ยโสธร!R47+[1]นครสวรรค์!R47+[1]พิจิตร!R47+[1]กำแพงเพชร!R47+[1]ตาก!R47+[1]พิษณุโลก!R47+[1]เลย!R47+[1]เพชรบูลย์!R47+[1]อุดรดิต!R47+[1]สุโขทัย!R47+[1]ลำปาง!R47+[1]ลำพูน!R47+[1]แพร่!R47+[1]สุราษ!R47+[1]ชุมพร!R47+[1]ระนอง!R47+[1]สงขลา!R47+[1]สตูล!R47+[1]กรุงเทพ!R47+[1]ปทุม!R47+[1]นนทบุรี!R47+[1]นครนายก!R47+[1]อยุธยา!R47+[1]อ่างทอง!R47+[1]สระบุรี!R47+[1]ลพบุรี!R47+[1]นครปฐม!R47+[1]สมุทรสงคราม!R47+[1]สมุทรสาคร!R47+[1]ระยอง!R47+[1]จันทบุรี!R47+[1]ตราด!R47+[1]อุดร!R47+[1]หนองคาย!R47+[1]บึงกาฬ!R47+[1]สกลนคร!R47+[1]นครพนม!R47+[1]เชียงใหม่!R47+[1]แม่ฮ่องสอน!R47+[1]เชียงราย!R47+[1]พะเยา!R47+[1]น่าน!R47+[1]ภูเก็ต!R47+[1]พังงา!R47+[1]กระบี่!R47+[1]นครศรี!R47+[1]พัทลุง!R47+[1]ตรัง!R47+[1]ปัตตานี!R47+[1]ยะลา!R47+[1]นราธิวาส!R47+[1]เชียงแสน!R47+[1]ยานยนต!R47+[1]สถาบันสุขภาพ!R47 -> 0
A44: *ค่าจ้างจัดเก็บขยะ
A45: *ค่าจ้างเหมาจัดเก็บสิ่งปฎิกูล
A46: - ค่าใช้จ่ายในการสัมมานาและฝึกอบรม (เฉพาะ สพท. สพ. บค.) | O46: =+[1]สมุทรปราการ!Q48+[1]ฉะเชิงเทรา!Q48+[1]สุพรรณ!Q48+[1]สิงห์บุรี!Q48+[1]ชัยนาท!Q48+[1]อุทัย!Q48+[1]ชลบุรี!Q48+[1]ปราจีน!Q48+[1]สระแก้ว!Q48+[1]ราชบุรี!Q48+[1]เพชรบุรี!Q48+[1]กาญจนบุรี!Q48+[1]ประจวบ!Q48+[1]นครราชสีมา!Q48+[1]ชัยภูมิ!Q48+[1]สุรินทร์!Q48+[1]บุรีรัมย์!Q48+[1]ขอนแก่น!Q48+[1]กาฬสินทร์!Q48+[1]มุกดาหาร!Q48+[1]หนองบัว!Q48+[1]มหาสารคราม!Q48+[1]อุบล!Q48+[1]ศรีสะเกษ!Q48+[1]อำนาจ!Q48+[1]ร้อยเอ็ด!Q48+[1]ยโสธร!Q48+[1]นครสวรรค์!Q48+[1]พิจิตร!Q48+[1]กำแพงเพชร!Q48+[1]ตาก!Q48+[1]พิษณุโลก!Q48+[1]เลย!Q48+[1]เพชรบูลย์!Q48+[1]อุดรดิต!Q48+[1]สุโขทัย!Q48+[1]ลำปาง!Q48+[1]ลำพูน!Q48+[1]แพร่!Q48+[1]สุราษ!Q48+[1]ชุมพร!Q48+[1]ระนอง!Q48+[1]สงขลา!Q48+[1]สตูล!Q48+[1]กรุงเทพ!Q48+[1]ปทุม!Q48+[1]นนทบุรี!Q48+[1]นครนายก!Q48+[1]อยุธยา!Q48+[1]อ่างทอง!Q48+[1]สระบุรี!Q48+[1]ลพบุรี!Q48+[1]นครปฐม!Q48+[1]สมุทรสงคราม!Q48+[1]สมุทรสาคร!Q48+[1]ระยอง!Q48+[1]จันทบุรี!Q48+[1]ตราด!Q48+[1]อุดร!Q48+[1]หนองคาย!Q48+[1]บึงกาฬ!Q48+[1]สกลนคร!Q48+[1]นครพนม!Q48+[1]เชียงใหม่!Q48+[1]แม่ฮ่องสอน!Q48+[1]เชียงราย!Q48+[1]พะเยา!Q48+[1]น่าน!Q48+[1]ภูเก็ต!Q48+[1]พังงา!Q48+[1]กระบี่!Q48+[1]นครศรี!Q48+[1]พัทลุง!Q48+[1]ตรัง!Q48+[1]ปัตตานี!Q48+[1]ยะลา!Q48+[1]นราธิวาส!Q48+[1]เชียงแสน!Q48+[1]ยานยนต!Q48+[1]สถาบันสุขภาพ!Q48 -> 0 | P46: =+[1]สมุทรปราการ!R48+[1]ฉะเชิงเทรา!R48+[1]สุพรรณ!R48+[1]สิงห์บุรี!R48+[1]ชัยนาท!R48+[1]อุทัย!R48+[1]ชลบุรี!R48+[1]ปราจีน!R48+[1]สระแก้ว!R48+[1]ราชบุรี!R48+[1]เพชรบุรี!R48+[1]กาญจนบุรี!R48+[1]ประจวบ!R48+[1]นครราชสีมา!R48+[1]ชัยภูมิ!R48+[1]สุรินทร์!R48+[1]บุรีรัมย์!R48+[1]ขอนแก่น!R48+[1]กาฬสินทร์!R48+[1]มุกดาหาร!R48+[1]หนองบัว!R48+[1]มหาสารคราม!R48+[1]อุบล!R48+[1]ศรีสะเกษ!R48+[1]อำนาจ!R48+[1]ร้อยเอ็ด!R48+[1]ยโสธร!R48+[1]นครสวรรค์!R48+[1]พิจิตร!R48+[1]กำแพงเพชร!R48+[1]ตาก!R48+[1]พิษณุโลก!R48+[1]เลย!R48+[1]เพชรบูลย์!R48+[1]อุดรดิต!R48+[1]สุโขทัย!R48+[1]ลำปาง!R48+[1]ลำพูน!R48+[1]แพร่!R48+[1]สุราษ!R48+[1]ชุมพร!R48+[1]ระนอง!R48+[1]สงขลา!R48+[1]สตูล!R48+[1]กรุงเทพ!R48+[1]ปทุม!R48+[1]นนทบุรี!R48+[1]นครนายก!R48+[1]อยุธยา!R48+[1]อ่างทอง!R48+[1]สระบุรี!R48+[1]ลพบุรี!R48+[1]นครปฐม!R48+[1]สมุทรสงคราม!R48+[1]สมุทรสาคร!R48+[1]ระยอง!R48+[1]จันทบุรี!R48+[1]ตราด!R48+[1]อุดร!R48+[1]หนองคาย!R48+[1]บึงกาฬ!R48+[1]สกลนคร!R48+[1]นครพนม!R48+[1]เชียงใหม่!R48+[1]แม่ฮ่องสอน!R48+[1]เชียงราย!R48+[1]พะเยา!R48+[1]น่าน!R48+[1]ภูเก็ต!R48+[1]พังงา!R48+[1]กระบี่!R48+[1]นครศรี!R48+[1]พัทลุง!R48+[1]ตรัง!R48+[1]ปัตตานี!R48+[1]ยะลา!R48+[1]นราธิวาส!R48+[1]เชียงแสน!R48+[1]ยานยนต!R48+[1]สถาบันสุขภาพ!R48 -> 0
A47: - ระบุค่าใช้จ่าย.........
A48: - ระบุค่าใช้จ่าย.........
A49: - ค่ารับรองและพิธีกร (อาหารว่างและเครื่องดื่มในการประชุม,จัดงาน/โครงการต่างๆ) | O49: =+[1]สมุทรปราการ!Q49+[1]ฉะเชิงเทรา!Q49+[1]สุพรรณ!Q49+[1]สิงห์บุรี!Q49+[1]ชัยนาท!Q49+[1]อุทัย!Q49+[1]ชลบุรี!Q49+[1]ปราจีน!Q49+[1]สระแก้ว!Q49+[1]ราชบุรี!Q49+[1]เพชรบุรี!Q49+[1]กาญจนบุรี!Q49+[1]ประจวบ!Q49+[1]นครราชสีมา!Q49+[1]ชัยภูมิ!Q49+[1]สุรินทร์!Q49+[1]บุรีรัมย์!Q49+[1]ขอนแก่น!Q49+[1]กาฬสินทร์!Q49+[1]มุกดาหาร!Q49+[1]หนองบัว!Q49+[1]มหาสารคราม!Q49+[1]อุบล!Q49+[1]ศรีสะเกษ!Q49+[1]อำนาจ!Q49+[1]ร้อยเอ็ด!Q49+[1]ยโสธร!Q49+[1]นครสวรรค์!Q49+[1]พิจิตร!Q49+[1]กำแพงเพชร!Q49+[1]ตาก!Q49+[1]พิษณุโลก!Q49+[1]เลย!Q49+[1]เพชรบูลย์!Q49+[1]อุดรดิต!Q49+[1]สุโขทัย!Q49+[1]ลำปาง!Q49+[1]ลำพูน!Q49+[1]แพร่!Q49+[1]สุราษ!Q49+[1]ชุมพร!Q49+[1]ระนอง!Q49+[1]สงขลา!Q49+[1]สตูล!Q49+[1]กรุงเทพ!Q49+[1]ปทุม!Q49+[1]นนทบุรี!Q49+[1]นครนายก!Q49+[1]อยุธยา!Q49+[1]อ่างทอง!Q49+[1]สระบุรี!Q49+[1]ลพบุรี!Q49+[1]นครปฐม!Q49+[1]สมุทรสงคราม!Q49+[1]สมุทรสาคร!Q49+[1]ระยอง!Q49+[1]จันทบุรี!Q49+[1]ตราด!Q49+[1]อุดร!Q49+[1]หนองคาย!Q49+[1]บึงกาฬ!Q49+[1]สกลนคร!Q49+[1]นครพนม!Q49+[1]เชียงใหม่!Q49+[1]แม่ฮ่องสอน!Q49+[1]เชียงราย!Q49+[1]พะเยา!Q49+[1]น่าน!Q49+[1]ภูเก็ต!Q49+[1]พังงา!Q49+[1]กระบี่!Q49+[1]นครศรี!Q49+[1]พัทลุง!Q49+[1]ตรัง!Q49+[1]ปัตตานี!Q49+[1]ยะลา!Q49+[1]นราธิวาส!Q49+[1]เชียงแสน!Q49+[1]ยานยนต!Q49+[1]สถาบันสุขภาพ!Q49 -> 0 | P49: =+[1]สมุทรปราการ!R49+[1]ฉะเชิงเทรา!R49+[1]สุพรรณ!R49+[1]สิงห์บุรี!R49+[1]ชัยนาท!R49+[1]อุทัย!R49+[1]ชลบุรี!R49+[1]ปราจีน!R49+[1]สระแก้ว!R49+[1]ราชบุรี!R49+[1]เพชรบุรี!R49+[1]กาญจนบุรี!R49+[1]ประจวบ!R49+[1]นครราชสีมา!R49+[1]ชัยภูมิ!R49+[1]สุรินทร์!R49+[1]บุรีรัมย์!R49+[1]ขอนแก่น!R49+[1]กาฬสินทร์!R49+[1]มุกดาหาร!R49+[1]หนองบัว!R49+[1]มหาสารคราม!R49+[1]อุบล!R49+[1]ศรีสะเกษ!R49+[1]อำนาจ!R49+[1]ร้อยเอ็ด!R49+[1]ยโสธร!R49+[1]นครสวรรค์!R49+[1]พิจิตร!R49+[1]กำแพงเพชร!R49+[1]ตาก!R49+[1]พิษณุโลก!R49+[1]เลย!R49+[1]เพชรบูลย์!R49+[1]อุดรดิต!R49+[1]สุโขทัย!R49+[1]ลำปาง!R49+[1]ลำพูน!R49+[1]แพร่!R49+[1]สุราษ!R49+[1]ชุมพร!R49+[1]ระนอง!R49+[1]สงขลา!R49+[1]สตูล!R49+[1]กรุงเทพ!R49+[1]ปทุม!R49+[1]นนทบุรี!R49+[1]นครนายก!R49+[1]อยุธยา!R49+[1]อ่างทอง!R49+[1]สระบุรี!R49+[1]ลพบุรี!R49+[1]นครปฐม!R49+[1]สมุทรสงคราม!R49+[1]สมุทรสาคร!R49+[1]ระยอง!R49+[1]จันทบุรี!R49+[1]ตราด!R49+[1]อุดร!R49+[1]หนองคาย!R49+[1]บึงกาฬ!R49+[1]สกลนคร!R49+[1]นครพนม!R49+[1]เชียงใหม่!R49+[1]แม่ฮ่องสอน!R49+[1]เชียงราย!R49+[1]พะเยา!R49+[1]น่าน!R49+[1]ภูเก็ต!R49+[1]พังงา!R49+[1]กระบี่!R49+[1]นครศรี!R49+[1]พัทลุง!R49+[1]ตรัง!R49+[1]ปัตตานี!R49+[1]ยะลา!R49+[1]นราธิวาส!R49+[1]เชียงแสน!R49+[1]ยานยนต!R49+[1]สถาบันสุขภาพ!R49 -> 0
A50: - ค่าภาษีและค่าธรรมเนียม | O50: =+[1]สมุทรปราการ!Q51+[1]ฉะเชิงเทรา!Q51+[1]สุพรรณ!Q51+[1]สิงห์บุรี!Q51+[1]ชัยนาท!Q51+[1]อุทัย!Q51+[1]ชลบุรี!Q51+[1]ปราจีน!Q51+[1]สระแก้ว!Q51+[1]ราชบุรี!Q51+[1]เพชรบุรี!Q51+[1]กาญจนบุรี!Q51+[1]ประจวบ!Q51+[1]นครราชสีมา!Q51+[1]ชัยภูมิ!Q51+[1]สุรินทร์!Q51+[1]บุรีรัมย์!Q51+[1]ขอนแก่น!Q51+[1]กาฬสินทร์!Q51+[1]มุกดาหาร!Q51+[1]หนองบัว!Q51+[1]มหาสารคราม!Q51+[1]อุบล!Q51+[1]ศรีสะเกษ!Q51+[1]อำนาจ!Q51+[1]ร้อยเอ็ด!Q51+[1]ยโสธร!Q51+[1]นครสวรรค์!Q51+[1]พิจิตร!Q51+[1]กำแพงเพชร!Q51+[1]ตาก!Q51+[1]พิษณุโลก!Q51+[1]เลย!Q51+[1]เพชรบูลย์!Q51+[1]อุดรดิต!Q51+[1]สุโขทัย!Q51+[1]ลำปาง!Q51+[1]ลำพูน!Q51+[1]แพร่!Q51+[1]สุราษ!Q51+[1]ชุมพร!Q51+[1]ระนอง!Q51+[1]สงขลา!Q51+[1]สตูล!Q51+[1]กรุงเทพ!Q51+[1]ปทุม!Q51+[1]นนทบุรี!Q51+[1]นครนายก!Q51+[1]อยุธยา!Q51+[1]อ่างทอง!Q51+[1]สระบุรี!Q51+[1]ลพบุรี!Q51+[1]นครปฐม!Q51+[1]สมุทรสงคราม!Q51+[1]สมุทรสาคร!Q51+[1]ระยอง!Q51+[1]จันทบุรี!Q51+[1]ตราด!Q51+[1]อุดร!Q51+[1]หนองคาย!Q51+[1]บึงกาฬ!Q51+[1]สกลนคร!Q51+[1]นครพนม!Q51+[1]เชียงใหม่!Q51+[1]แม่ฮ่องสอน!Q51+[1]เชียงราย!Q51+[1]พะเยา!Q51+[1]น่าน!Q51+[1]ภูเก็ต!Q51+[1]พังงา!Q51+[1]กระบี่!Q51+[1]นครศรี!Q51+[1]พัทลุง!Q51+[1]ตรัง!Q51+[1]ปัตตานี!Q51+[1]ยะลา!Q51+[1]นราธิวาส!Q51+[1]เชียงแสน!Q51+[1]ยานยนต!Q51+[1]สถาบันสุขภาพ!Q51 -> 0 | P50: =+[1]สมุทรปราการ!R51+[1]ฉะเชิงเทรา!R51+[1]สุพรรณ!R51+[1]สิงห์บุรี!R51+[1]ชัยนาท!R51+[1]อุทัย!R51+[1]ชลบุรี!R51+[1]ปราจีน!R51+[1]สระแก้ว!R51+[1]ราชบุรี!R51+[1]เพชรบุรี!R51+[1]กาญจนบุรี!R51+[1]ประจวบ!R51+[1]นครราชสีมา!R51+[1]ชัยภูมิ!R51+[1]สุรินทร์!R51+[1]บุรีรัมย์!R51+[1]ขอนแก่น!R51+[1]กาฬสินทร์!R51+[1]มุกดาหาร!R51+[1]หนองบัว!R51+[1]มหาสารคราม!R51+[1]อุบล!R51+[1]ศรีสะเกษ!R51+[1]อำนาจ!R51+[1]ร้อยเอ็ด!R51+[1]ยโสธร!R51+[1]นครสวรรค์!R51+[1]พิจิตร!R51+[1]กำแพงเพชร!R51+[1]ตาก!R51+[1]พิษณุโลก!R51+[1]เลย!R51+[1]เพชรบูลย์!R51+[1]อุดรดิต!R51+[1]สุโขทัย!R51+[1]ลำปาง!R51+[1]ลำพูน!R51+[1]แพร่!R51+[1]สุราษ!R51+[1]ชุมพร!R51+[1]ระนอง!R51+[1]สงขลา!R51+[1]สตูล!R51+[1]กรุงเทพ!R51+[1]ปทุม!R51+[1]นนทบุรี!R51+[1]นครนายก!R51+[1]อยุธยา!R51+[1]อ่างทอง!R51+[1]สระบุรี!R51+[1]ลพบุรี!R51+[1]นครปฐม!R51+[1]สมุทรสงคราม!R51+[1]สมุทรสาคร!R51+[1]ระยอง!R51+[1]จันทบุรี!R51+[1]ตราด!R51+[1]อุดร!R51+[1]หนองคาย!R51+[1]บึงกาฬ!R51+[1]สกลนคร!R51+[1]นครพนม!R51+[1]เชียงใหม่!R51+[1]แม่ฮ่องสอน!R51+[1]เชียงราย!R51+[1]พะเยา!R51+[1]น่าน!R51+[1]ภูเก็ต!R51+[1]พังงา!R51+[1]กระบี่!R51+[1]นครศรี!R51+[1]พัทลุง!R51+[1]ตรัง!R51+[1]ปัตตานี!R51+[1]ยะลา!R51+[1]นราธิวาส!R51+[1]เชียงแสน!R51+[1]ยานยนต!R51+[1]สถาบันสุขภาพ!R51 -> 0
A51: - ค่าโฆษณาและเผยแพร่ | O51: =+[1]สมุทรปราการ!Q52+[1]ฉะเชิงเทรา!Q52+[1]สุพรรณ!Q52+[1]สิงห์บุรี!Q52+[1]ชัยนาท!Q52+[1]อุทัย!Q52+[1]ชลบุรี!Q52+[1]ปราจีน!Q52+[1]สระแก้ว!Q52+[1]ราชบุรี!Q52+[1]เพชรบุรี!Q52+[1]กาญจนบุรี!Q52+[1]ประจวบ!Q52+[1]นครราชสีมา!Q52+[1]ชัยภูมิ!Q52+[1]สุรินทร์!Q52+[1]บุรีรัมย์!Q52+[1]ขอนแก่น!Q52+[1]กาฬสินทร์!Q52+[1]มุกดาหาร!Q52+[1]หนองบัว!Q52+[1]มหาสารคราม!Q52+[1]อุบล!Q52+[1]ศรีสะเกษ!Q52+[1]อำนาจ!Q52+[1]ร้อยเอ็ด!Q52+[1]ยโสธร!Q52+[1]นครสวรรค์!Q52+[1]พิจิตร!Q52+[1]กำแพงเพชร!Q52+[1]ตาก!Q52+[1]พิษณุโลก!Q52+[1]เลย!Q52+[1]เพชรบูลย์!Q52+[1]อุดรดิต!Q52+[1]สุโขทัย!Q52+[1]ลำปาง!Q52+[1]ลำพูน!Q52+[1]แพร่!Q52+[1]สุราษ!Q52+[1]ชุมพร!Q52+[1]ระนอง!Q52+[1]สงขลา!Q52+[1]สตูล!Q52+[1]กรุงเทพ!Q52+[1]ปทุม!Q52+[1]นนทบุรี!Q52+[1]นครนายก!Q52+[1]อยุธยา!Q52+[1]อ่างทอง!Q52+[1]สระบุรี!Q52+[1]ลพบุรี!Q52+[1]นครปฐม!Q52+[1]สมุทรสงคราม!Q52+[1]สมุทรสาคร!Q52+[1]ระยอง!Q52+[1]จันทบุรี!Q52+[1]ตราด!Q52+[1]อุดร!Q52+[1]หนองคาย!Q52+[1]บึงกาฬ!Q52+[1]สกลนคร!Q52+[1]นครพนม!Q52+[1]เชียงใหม่!Q52+[1]แม่ฮ่องสอน!Q52+[1]เชียงราย!Q52+[1]พะเยา!Q52+[1]น่าน!Q52+[1]ภูเก็ต!Q52+[1]พังงา!Q52+[1]กระบี่!Q52+[1]นครศรี!Q52+[1]พัทลุง!Q52+[1]ตรัง!Q52+[1]ปัตตานี!Q52+[1]ยะลา!Q52+[1]นราธิวาส!Q52+[1]เชียงแสน!Q52+[1]ยานยนต!Q52+[1]สถาบันสุขภาพ!Q52 -> 0 | P51: =+[1]สมุทรปราการ!R52+[1]ฉะเชิงเทรา!R52+[1]สุพรรณ!R52+[1]สิงห์บุรี!R52+[1]ชัยนาท!R52+[1]อุทัย!R52+[1]ชลบุรี!R52+[1]ปราจีน!R52+[1]สระแก้ว!R52+[1]ราชบุรี!R52+[1]เพชรบุรี!R52+[1]กาญจนบุรี!R52+[1]ประจวบ!R52+[1]นครราชสีมา!R52+[1]ชัยภูมิ!R52+[1]สุรินทร์!R52+[1]บุรีรัมย์!R52+[1]ขอนแก่น!R52+[1]กาฬสินทร์!R52+[1]มุกดาหาร!R52+[1]หนองบัว!R52+[1]มหาสารคราม!R52+[1]อุบล!R52+[1]ศรีสะเกษ!R52+[1]อำนาจ!R52+[1]ร้อยเอ็ด!R52+[1]ยโสธร!R52+[1]นครสวรรค์!R52+[1]พิจิตร!R52+[1]กำแพงเพชร!R52+[1]ตาก!R52+[1]พิษณุโลก!R52+[1]เลย!R52+[1]เพชรบูลย์!R52+[1]อุดรดิต!R52+[1]สุโขทัย!R52+[1]ลำปาง!R52+[1]ลำพูน!R52+[1]แพร่!R52+[1]สุราษ!R52+[1]ชุมพร!R52+[1]ระนอง!R52+[1]สงขลา!R52+[1]สตูล!R52+[1]กรุงเทพ!R52+[1]ปทุม!R52+[1]นนทบุรี!R52+[1]นครนายก!R52+[1]อยุธยา!R52+[1]อ่างทอง!R52+[1]สระบุรี!R52+[1]ลพบุรี!R52+[1]นครปฐม!R52+[1]สมุทรสงคราม!R52+[1]สมุทรสาคร!R52+[1]ระยอง!R52+[1]จันทบุรี!R52+[1]ตราด!R52+[1]อุดร!R52+[1]หนองคาย!R52+[1]บึงกาฬ!R52+[1]สกลนคร!R52+[1]นครพนม!R52+[1]เชียงใหม่!R52+[1]แม่ฮ่องสอน!R52+[1]เชียงราย!R52+[1]พะเยา!R52+[1]น่าน!R52+[1]ภูเก็ต!R52+[1]พังงา!R52+[1]กระบี่!R52+[1]นครศรี!R52+[1]พัทลุง!R52+[1]ตรัง!R52+[1]ปัตตานี!R52+[1]ยะลา!R52+[1]นราธิวาส!R52+[1]เชียงแสน!R52+[1]ยานยนต!R52+[1]สถาบันสุขภาพ!R52 -> 0
A52: - ค่าใช้จ่ายพัฒนาศักยภาพแรงงานเพื่อรองรับการจ่ายค่าจ้างตามมาตรฐานฝีมือ | O52: =+[1]สมุทรปราการ!Q54+[1]ฉะเชิงเทรา!Q54+[1]สุพรรณ!Q54+[1]สิงห์บุรี!Q54+[1]ชัยนาท!Q54+[1]อุทัย!Q54+[1]ชลบุรี!Q54+[1]ปราจีน!Q54+[1]สระแก้ว!Q54+[1]ราชบุรี!Q54+[1]เพชรบุรี!Q54+[1]กาญจนบุรี!Q54+[1]ประจวบ!Q54+[1]นครราชสีมา!Q54+[1]ชัยภูมิ!Q54+[1]สุรินทร์!Q54+[1]บุรีรัมย์!Q54+[1]ขอนแก่น!Q54+[1]กาฬสินทร์!Q54+[1]มุกดาหาร!Q54+[1]หนองบัว!Q54+[1]มหาสารคราม!Q54+[1]อุบล!Q54+[1]ศรีสะเกษ!Q54+[1]อำนาจ!Q54+[1]ร้อยเอ็ด!Q54+[1]ยโสธร!Q54+[1]นครสวรรค์!Q54+[1]พิจิตร!Q54+[1]กำแพงเพชร!Q54+[1]ตาก!Q54+[1]พิษณุโลก!Q54+[1]เลย!Q54+[1]เพชรบูลย์!Q54+[1]อุดรดิต!Q54+[1]สุโขทัย!Q54+[1]ลำปาง!Q54+[1]ลำพูน!Q54+[1]แพร่!Q54+[1]สุราษ!Q54+[1]ชุมพร!Q54+[1]ระนอง!Q54+[1]สงขลา!Q54+[1]สตูล!Q54+[1]กรุงเทพ!Q54+[1]ปทุม!Q54+[1]นนทบุรี!Q54+[1]นครนายก!Q54+[1]อยุธยา!Q54+[1]อ่างทอง!Q54+[1]สระบุรี!Q54+[1]ลพบุรี!Q54+[1]นครปฐม!Q54+[1]สมุทรสงคราม!Q54+[1]สมุทรสาคร!Q54+[1]ระยอง!Q54+[1]จันทบุรี!Q54+[1]ตราด!Q54+[1]อุดร!Q54+[1]หนองคาย!Q54+[1]บึงกาฬ!Q54+[1]สกลนคร!Q54+[1]นครพนม!Q54+[1]เชียงใหม่!Q54+[1]แม่ฮ่องสอน!Q54+[1]เชียงราย!Q54+[1]พะเยา!Q54+[1]น่าน!Q54+[1]ภูเก็ต!Q54+[1]พังงา!Q54+[1]กระบี่!Q54+[1]นครศรี!Q54+[1]พัทลุง!Q54+[1]ตรัง!Q54+[1]ปัตตานี!Q54+[1]ยะลา!Q54+[1]นราธิวาส!Q54+[1]เชียงแสน!Q54+[1]ยานยนต!Q54+[1]สถาบันสุขภาพ!Q54 -> 0 | P52: =+[1]สมุทรปราการ!R54+[1]ฉะเชิงเทรา!R54+[1]สุพรรณ!R54+[1]สิงห์บุรี!R54+[1]ชัยนาท!R54+[1]อุทัย!R54+[1]ชลบุรี!R54+[1]ปราจีน!R54+[1]สระแก้ว!R54+[1]ราชบุรี!R54+[1]เพชรบุรี!R54+[1]กาญจนบุรี!R54+[1]ประจวบ!R54+[1]นครราชสีมา!R54+[1]ชัยภูมิ!R54+[1]สุรินทร์!R54+[1]บุรีรัมย์!R54+[1]ขอนแก่น!R54+[1]กาฬสินทร์!R54+[1]มุกดาหาร!R54+[1]หนองบัว!R54+[1]มหาสารคราม!R54+[1]อุบล!R54+[1]ศรีสะเกษ!R54+[1]อำนาจ!R54+[1]ร้อยเอ็ด!R54+[1]ยโสธร!R54+[1]นครสวรรค์!R54+[1]พิจิตร!R54+[1]กำแพงเพชร!R54+[1]ตาก!R54+[1]พิษณุโลก!R54+[1]เลย!R54+[1]เพชรบูลย์!R54+[1]อุดรดิต!R54+[1]สุโขทัย!R54+[1]ลำปาง!R54+[1]ลำพูน!R54+[1]แพร่!R54+[1]สุราษ!R54+[1]ชุมพร!R54+[1]ระนอง!R54+[1]สงขลา!R54+[1]สตูล!R54+[1]กรุงเทพ!R54+[1]ปทุม!R54+[1]นนทบุรี!R54+[1]นครนายก!R54+[1]อยุธยา!R54+[1]อ่างทอง!R54+[1]สระบุรี!R54+[1]ลพบุรี!R54+[1]นครปฐม!R54+[1]สมุทรสงคราม!R54+[1]สมุทรสาคร!R54+[1]ระยอง!R54+[1]จันทบุรี!R54+[1]ตราด!R54+[1]อุดร!R54+[1]หนองคาย!R54+[1]บึงกาฬ!R54+[1]สกลนคร!R54+[1]นครพนม!R54+[1]เชียงใหม่!R54+[1]แม่ฮ่องสอน!R54+[1]เชียงราย!R54+[1]พะเยา!R54+[1]น่าน!R54+[1]ภูเก็ต!R54+[1]พังงา!R54+[1]กระบี่!R54+[1]นครศรี!R54+[1]พัทลุง!R54+[1]ตรัง!R54+[1]ปัตตานี!R54+[1]ยะลา!R54+[1]นราธิวาส!R54+[1]เชียงแสน!R54+[1]ยานยนต!R54+[1]สถาบันสุขภาพ!R54 -> 0
A53: - ค่าใช้จ่ายในการทดสอบมาตรฐานฝีมือแรงงานให้มีสมรรถนะ | O53: =+[1]สมุทรปราการ!Q55+[1]ฉะเชิงเทรา!Q55+[1]สุพรรณ!Q55+[1]สิงห์บุรี!Q55+[1]ชัยนาท!Q55+[1]อุทัย!Q55+[1]ชลบุรี!Q55+[1]ปราจีน!Q55+[1]สระแก้ว!Q55+[1]ราชบุรี!Q55+[1]เพชรบุรี!Q55+[1]กาญจนบุรี!Q55+[1]ประจวบ!Q55+[1]นครราชสีมา!Q55+[1]ชัยภูมิ!Q55+[1]สุรินทร์!Q55+[1]บุรีรัมย์!Q55+[1]ขอนแก่น!Q55+[1]กาฬสินทร์!Q55+[1]มุกดาหาร!Q55+[1]หนองบัว!Q55+[1]มหาสารคราม!Q55+[1]อุบล!Q55+[1]ศรีสะเกษ!Q55+[1]อำนาจ!Q55+[1]ร้อยเอ็ด!Q55+[1]ยโสธร!Q55+[1]นครสวรรค์!Q55+[1]พิจิตร!Q55+[1]กำแพงเพชร!Q55+[1]ตาก!Q55+[1]พิษณุโลก!Q55+[1]เลย!Q55+[1]เพชรบูลย์!Q55+[1]อุดรดิต!Q55+[1]สุโขทัย!Q55+[1]ลำปาง!Q55+[1]ลำพูน!Q55+[1]แพร่!Q55+[1]สุราษ!Q55+[1]ชุมพร!Q55+[1]ระนอง!Q55+[1]สงขลา!Q55+[1]สตูล!Q55+[1]กรุงเทพ!Q55+[1]ปทุม!Q55+[1]นนทบุรี!Q55+[1]นครนายก!Q55+[1]อยุธยา!Q55+[1]อ่างทอง!Q55+[1]สระบุรี!Q55+[1]ลพบุรี!Q55+[1]นครปฐม!Q55+[1]สมุทรสงคราม!Q55+[1]สมุทรสาคร!Q55+[1]ระยอง!Q55+[1]จันทบุรี!Q55+[1]ตราด!Q55+[1]อุดร!Q55+[1]หนองคาย!Q55+[1]บึงกาฬ!Q55+[1]สกลนคร!Q55+[1]นครพนม!Q55+[1]เชียงใหม่!Q55+[1]แม่ฮ่องสอน!Q55+[1]เชียงราย!Q55+[1]พะเยา!Q55+[1]น่าน!Q55+[1]ภูเก็ต!Q55+[1]พังงา!Q55+[1]กระบี่!Q55+[1]นครศรี!Q55+[1]พัทลุง!Q55+[1]ตรัง!Q55+[1]ปัตตานี!Q55+[1]ยะลา!Q55+[1]นราธิวาส!Q55+[1]เชียงแสน!Q55+[1]ยานยนต!Q55+[1]สถาบันสุขภาพ!Q55 -> 0 | P53: =+[1]สมุทรปราการ!R55+[1]ฉะเชิงเทรา!R55+[1]สุพรรณ!R55+[1]สิงห์บุรี!R55+[1]ชัยนาท!R55+[1]อุทัย!R55+[1]ชลบุรี!R55+[1]ปราจีน!R55+[1]สระแก้ว!R55+[1]ราชบุรี!R55+[1]เพชรบุรี!R55+[1]กาญจนบุรี!R55+[1]ประจวบ!R55+[1]นครราชสีมา!R55+[1]ชัยภูมิ!R55+[1]สุรินทร์!R55+[1]บุรีรัมย์!R55+[1]ขอนแก่น!R55+[1]กาฬสินทร์!R55+[1]มุกดาหาร!R55+[1]หนองบัว!R55+[1]มหาสารคราม!R55+[1]อุบล!R55+[1]ศรีสะเกษ!R55+[1]อำนาจ!R55+[1]ร้อยเอ็ด!R55+[1]ยโสธร!R55+[1]นครสวรรค์!R55+[1]พิจิตร!R55+[1]กำแพงเพชร!R55+[1]ตาก!R55+[1]พิษณุโลก!R55+[1]เลย!R55+[1]เพชรบูลย์!R55+[1]อุดรดิต!R55+[1]สุโขทัย!R55+[1]ลำปาง!R55+[1]ลำพูน!R55+[1]แพร่!R55+[1]สุราษ!R55+[1]ชุมพร!R55+[1]ระนอง!R55+[1]สงขลา!R55+[1]สตูล!R55+[1]กรุงเทพ!R55+[1]ปทุม!R55+[1]นนทบุรี!R55+[1]นครนายก!R55+[1]อยุธยา!R55+[1]อ่างทอง!R55+[1]สระบุรี!R55+[1]ลพบุรี!R55+[1]นครปฐม!R55+[1]สมุทรสงคราม!R55+[1]สมุทรสาคร!R55+[1]ระยอง!R55+[1]จันทบุรี!R55+[1]ตราด!R55+[1]อุดร!R55+[1]หนองคาย!R55+[1]บึงกาฬ!R55+[1]สกลนคร!R55+[1]นครพนม!R55+[1]เชียงใหม่!R55+[1]แม่ฮ่องสอน!R55+[1]เชียงราย!R55+[1]พะเยา!R55+[1]น่าน!R55+[1]ภูเก็ต!R55+[1]พังงา!R55+[1]กระบี่!R55+[1]นครศรี!R55+[1]พัทลุง!R55+[1]ตรัง!R55+[1]ปัตตานี!R55+[1]ยะลา!R55+[1]นราธิวาส!R55+[1]เชียงแสน!R55+[1]ยานยนต!R55+[1]สถาบันสุขภาพ!R55 -> 0
A54: - คชจ. ในการขับเคลื่อนยุทธศาสตร์การพัฒนากำลังคนระดับชาติฯ | O54: =+[1]สมุทรปราการ!Q56+[1]ฉะเชิงเทรา!Q56+[1]สุพรรณ!Q56+[1]สิงห์บุรี!Q56+[1]ชัยนาท!Q56+[1]อุทัย!Q56+[1]ชลบุรี!Q56+[1]ปราจีน!Q56+[1]สระแก้ว!Q56+[1]ราชบุรี!Q56+[1]เพชรบุรี!Q56+[1]กาญจนบุรี!Q56+[1]ประจวบ!Q56+[1]นครราชสีมา!Q56+[1]ชัยภูมิ!Q56+[1]สุรินทร์!Q56+[1]บุรีรัมย์!Q56+[1]ขอนแก่น!Q56+[1]กาฬสินทร์!Q56+[1]มุกดาหาร!Q56+[1]หนองบัว!Q56+[1]มหาสารคราม!Q56+[1]อุบล!Q56+[1]ศรีสะเกษ!Q56+[1]อำนาจ!Q56+[1]ร้อยเอ็ด!Q56+[1]ยโสธร!Q56+[1]นครสวรรค์!Q56+[1]พิจิตร!Q56+[1]กำแพงเพชร!Q56+[1]ตาก!Q56+[1]พิษณุโลก!Q56+[1]เลย!Q56+[1]เพชรบูลย์!Q56+[1]อุดรดิต!Q56+[1]สุโขทัย!Q56+[1]ลำปาง!Q56+[1]ลำพูน!Q56+[1]แพร่!Q56+[1]สุราษ!Q56+[1]ชุมพร!Q56+[1]ระนอง!Q56+[1]สงขลา!Q56+[1]สตูล!Q56+[1]กรุงเทพ!Q56+[1]ปทุม!Q56+[1]นนทบุรี!Q56+[1]นครนายก!Q56+[1]อยุธยา!Q56+[1]อ่างทอง!Q56+[1]สระบุรี!Q56+[1]ลพบุรี!Q56+[1]นครปฐม!Q56+[1]สมุทรสงคราม!Q56+[1]สมุทรสาคร!Q56+[1]ระยอง!Q56+[1]จันทบุรี!Q56+[1]ตราด!Q56+[1]อุดร!Q56+[1]หนองคาย!Q56+[1]บึงกาฬ!Q56+[1]สกลนคร!Q56+[1]นครพนม!Q56+[1]เชียงใหม่!Q56+[1]แม่ฮ่องสอน!Q56+[1]เชียงราย!Q56+[1]พะเยา!Q56+[1]น่าน!Q56+[1]ภูเก็ต!Q56+[1]พังงา!Q56+[1]กระบี่!Q56+[1]นครศรี!Q56+[1]พัทลุง!Q56+[1]ตรัง!Q56+[1]ปัตตานี!Q56+[1]ยะลา!Q56+[1]นราธิวาส!Q56+[1]เชียงแสน!Q56+[1]ยานยนต!Q56+[1]สถาบันสุขภาพ!Q56 -> 0 | P54: =+[1]สมุทรปราการ!R56+[1]ฉะเชิงเทรา!R56+[1]สุพรรณ!R56+[1]สิงห์บุรี!R56+[1]ชัยนาท!R56+[1]อุทัย!R56+[1]ชลบุรี!R56+[1]ปราจีน!R56+[1]สระแก้ว!R56+[1]ราชบุรี!R56+[1]เพชรบุรี!R56+[1]กาญจนบุรี!R56+[1]ประจวบ!R56+[1]นครราชสีมา!R56+[1]ชัยภูมิ!R56+[1]สุรินทร์!R56+[1]บุรีรัมย์!R56+[1]ขอนแก่น!R56+[1]กาฬสินทร์!R56+[1]มุกดาหาร!R56+[1]หนองบัว!R56+[1]มหาสารคราม!R56+[1]อุบล!R56+[1]ศรีสะเกษ!R56+[1]อำนาจ!R56+[1]ร้อยเอ็ด!R56+[1]ยโสธร!R56+[1]นครสวรรค์!R56+[1]พิจิตร!R56+[1]กำแพงเพชร!R56+[1]ตาก!R56+[1]พิษณุโลก!R56+[1]เลย!R56+[1]เพชรบูลย์!R56+[1]อุดรดิต!R56+[1]สุโขทัย!R56+[1]ลำปาง!R56+[1]ลำพูน!R56+[1]แพร่!R56+[1]สุราษ!R56+[1]ชุมพร!R56+[1]ระนอง!R56+[1]สงขลา!R56+[1]สตูล!R56+[1]กรุงเทพ!R56+[1]ปทุม!R56+[1]นนทบุรี!R56+[1]นครนายก!R56+[1]อยุธยา!R56+[1]อ่างทอง!R56+[1]สระบุรี!R56+[1]ลพบุรี!R56+[1]นครปฐม!R56+[1]สมุทรสงคราม!R56+[1]สมุทรสาคร!R56+[1]ระยอง!R56+[1]จันทบุรี!R56+[1]ตราด!R56+[1]อุดร!R56+[1]หนองคาย!R56+[1]บึงกาฬ!R56+[1]สกลนคร!R56+[1]นครพนม!R56+[1]เชียงใหม่!R56+[1]แม่ฮ่องสอน!R56+[1]เชียงราย!R56+[1]พะเยา!R56+[1]น่าน!R56+[1]ภูเก็ต!R56+[1]พังงา!R56+[1]กระบี่!R56+[1]นครศรี!R56+[1]พัทลุง!R56+[1]ตรัง!R56+[1]ปัตตานี!R56+[1]ยะลา!R56+[1]นราธิวาส!R56+[1]เชียงแสน!R56+[1]ยานยนต!R56+[1]สถาบันสุขภาพ!R56 -> 0
A55: - คชจ.โครงการในค่าใช้สอยอื่น | O55: =+[1]สมุทรปราการ!Q59+[1]ฉะเชิงเทรา!Q59+[1]สุพรรณ!Q59+[1]สิงห์บุรี!Q59+[1]ชัยนาท!Q59+[1]อุทัย!Q59+[1]ชลบุรี!Q59+[1]ปราจีน!Q59+[1]สระแก้ว!Q59+[1]ราชบุรี!Q59+[1]เพชรบุรี!Q59+[1]กาญจนบุรี!Q59+[1]ประจวบ!Q59+[1]นครราชสีมา!Q59+[1]ชัยภูมิ!Q59+[1]สุรินทร์!Q59+[1]บุรีรัมย์!Q59+[1]ขอนแก่น!Q59+[1]กาฬสินทร์!Q59+[1]มุกดาหาร!Q59+[1]หนองบัว!Q59+[1]มหาสารคราม!Q59+[1]อุบล!Q59+[1]ศรีสะเกษ!Q59+[1]อำนาจ!Q59+[1]ร้อยเอ็ด!Q59+[1]ยโสธร!Q59+[1]นครสวรรค์!Q59+[1]พิจิตร!Q59+[1]กำแพงเพชร!Q59+[1]ตาก!Q59+[1]พิษณุโลก!Q59+[1]เลย!Q59+[1]เพชรบูลย์!Q59+[1]อุดรดิต!Q59+[1]สุโขทัย!Q59+[1]ลำปาง!Q59+[1]ลำพูน!Q59+[1]แพร่!Q59+[1]สุราษ!Q59+[1]ชุมพร!Q59+[1]ระนอง!Q59+[1]สงขลา!Q59+[1]สตูล!Q59+[1]กรุงเทพ!Q59+[1]ปทุม!Q59+[1]นนทบุรี!Q59+[1]นครนายก!Q59+[1]อยุธยา!Q59+[1]อ่างทอง!Q59+[1]สระบุรี!Q59+[1]ลพบุรี!Q59+[1]นครปฐม!Q59+[1]สมุทรสงคราม!Q59+[1]สมุทรสาคร!Q59+[1]ระยอง!Q59+[1]จันทบุรี!Q59+[1]ตราด!Q59+[1]อุดร!Q59+[1]หนองคาย!Q59+[1]บึงกาฬ!Q59+[1]สกลนคร!Q59+[1]นครพนม!Q59+[1]เชียงใหม่!Q59+[1]แม่ฮ่องสอน!Q59+[1]เชียงราย!Q59+[1]พะเยา!Q59+[1]น่าน!Q59+[1]ภูเก็ต!Q59+[1]พังงา!Q59+[1]กระบี่!Q59+[1]นครศรี!Q59+[1]พัทลุง!Q59+[1]ตรัง!Q59+[1]ปัตตานี!Q59+[1]ยะลา!Q59+[1]นราธิวาส!Q59+[1]เชียงแสน!Q59+[1]ยานยนต!Q59+[1]สถาบันสุขภาพ!Q59 -> 0 | P55: =+[1]สมุทรปราการ!R59+[1]ฉะเชิงเทรา!R59+[1]สุพรรณ!R59+[1]สิงห์บุรี!R59+[1]ชัยนาท!R59+[1]อุทัย!R59+[1]ชลบุรี!R59+[1]ปราจีน!R59+[1]สระแก้ว!R59+[1]ราชบุรี!R59+[1]เพชรบุรี!R59+[1]กาญจนบุรี!R59+[1]ประจวบ!R59+[1]นครราชสีมา!R59+[1]ชัยภูมิ!R59+[1]สุรินทร์!R59+[1]บุรีรัมย์!R59+[1]ขอนแก่น!R59+[1]กาฬสินทร์!R59+[1]มุกดาหาร!R59+[1]หนองบัว!R59+[1]มหาสารคราม!R59+[1]อุบล!R59+[1]ศรีสะเกษ!R59+[1]อำนาจ!R59+[1]ร้อยเอ็ด!R59+[1]ยโสธร!R59+[1]นครสวรรค์!R59+[1]พิจิตร!R59+[1]กำแพงเพชร!R59+[1]ตาก!R59+[1]พิษณุโลก!R59+[1]เลย!R59+[1]เพชรบูลย์!R59+[1]อุดรดิต!R59+[1]สุโขทัย!R59+[1]ลำปาง!R59+[1]ลำพูน!R59+[1]แพร่!R59+[1]สุราษ!R59+[1]ชุมพร!R59+[1]ระนอง!R59+[1]สงขลา!R59+[1]สตูล!R59+[1]กรุงเทพ!R59+[1]ปทุม!R59+[1]นนทบุรี!R59+[1]นครนายก!R59+[1]อยุธยา!R59+[1]อ่างทอง!R59+[1]สระบุรี!R59+[1]ลพบุรี!R59+[1]นครปฐม!R59+[1]สมุทรสงคราม!R59+[1]สมุทรสาคร!R59+[1]ระยอง!R59+[1]จันทบุรี!R59+[1]ตราด!R59+[1]อุดร!R59+[1]หนองคาย!R59+[1]บึงกาฬ!R59+[1]สกลนคร!R59+[1]นครพนม!R59+[1]เชียงใหม่!R59+[1]แม่ฮ่องสอน!R59+[1]เชียงราย!R59+[1]พะเยา!R59+[1]น่าน!R59+[1]ภูเก็ต!R59+[1]พังงา!R59+[1]กระบี่!R59+[1]นครศรี!R59+[1]พัทลุง!R59+[1]ตรัง!R59+[1]ปัตตานี!R59+[1]ยะลา!R59+[1]นราธิวาส!R59+[1]เชียงแสน!R59+[1]ยานยนต!R59+[1]สถาบันสุขภาพ!R59 -> 0
A56: ค่าวัสดุ | B56: =SUM(C56:P56) -> 0 | C56: =SUM(C57:C64) -> 0 | D56: =SUM(D57:D64) -> 0 | E56: =SUM(E57:E64) -> 0 | F56: =SUM(F57:F64) -> 0 | G56: =SUM(G57:G64) -> 0 | H56: =SUM(H57:H64) -> 0 | I56: =SUM(I57:I64) -> 0 | J56: =SUM(J57:J64) -> 0 | ... P56: =SUM(P57:P64) -> 0
A57: - วัสดุสำนักงาน | O57: =+[1]สมุทรปราการ!Q61+[1]ฉะเชิงเทรา!Q61+[1]สุพรรณ!Q61+[1]สิงห์บุรี!Q61+[1]ชัยนาท!Q61+[1]อุทัย!Q61+[1]ชลบุรี!Q61+[1]ปราจีน!Q61+[1]สระแก้ว!Q61+[1]ราชบุรี!Q61+[1]เพชรบุรี!Q61+[1]กาญจนบุรี!Q61+[1]ประจวบ!Q61+[1]นครราชสีมา!Q61+[1]ชัยภูมิ!Q61+[1]สุรินทร์!Q61+[1]บุรีรัมย์!Q61+[1]ขอนแก่น!Q61+[1]กาฬสินทร์!Q61+[1]มุกดาหาร!Q61+[1]หนองบัว!Q61+[1]มหาสารคราม!Q61+[1]อุบล!Q61+[1]ศรีสะเกษ!Q61+[1]อำนาจ!Q61+[1]ร้อยเอ็ด!Q61+[1]ยโสธร!Q61+[1]นครสวรรค์!Q61+[1]พิจิตร!Q61+[1]กำแพงเพชร!Q61+[1]ตาก!Q61+[1]พิษณุโลก!Q61+[1]เลย!Q61+[1]เพชรบูลย์!Q61+[1]อุดรดิต!Q61+[1]สุโขทัย!Q61+[1]ลำปาง!Q61+[1]ลำพูน!Q61+[1]แพร่!Q61+[1]สุราษ!Q61+[1]ชุมพร!Q61+[1]ระนอง!Q61+[1]สงขลา!Q61+[1]สตูล!Q61+[1]กรุงเทพ!Q61+[1]ปทุม!Q61+[1]นนทบุรี!Q61+[1]นครนายก!Q61+[1]อยุธยา!Q61+[1]อ่างทอง!Q61+[1]สระบุรี!Q61+[1]ลพบุรี!Q61+[1]นครปฐม!Q61+[1]สมุทรสงคราม!Q61+[1]สมุทรสาคร!Q61+[1]ระยอง!Q61+[1]จันทบุรี!Q61+[1]ตราด!Q61+[1]อุดร!Q61+[1]หนองคาย!Q61+[1]บึงกาฬ!Q61+[1]สกลนคร!Q61+[1]นครพนม!Q61+[1]เชียงใหม่!Q61+[1]แม่ฮ่องสอน!Q61+[1]เชียงราย!Q61+[1]พะเยา!Q61+[1]น่าน!Q61+[1]ภูเก็ต!Q61+[1]พังงา!Q61+[1]กระบี่!Q61+[1]นครศรี!Q61+[1]พัทลุง!Q61+[1]ตรัง!Q61+[1]ปัตตานี!Q61+[1]ยะลา!Q61+[1]นราธิวาส!Q61+[1]เชียงแสน!Q61+[1]ยานยนต!Q61+[1]สถาบันสุขภาพ!Q61 -> 0 | P57: =+[1]สมุทรปราการ!R61+[1]ฉะเชิงเทรา!R61+[1]สุพรรณ!R61+[1]สิงห์บุรี!R61+[1]ชัยนาท!R61+[1]อุทัย!R61+[1]ชลบุรี!R61+[1]ปราจีน!R61+[1]สระแก้ว!R61+[1]ราชบุรี!R61+[1]เพชรบุรี!R61+[1]กาญจนบุรี!R61+[1]ประจวบ!R61+[1]นครราชสีมา!R61+[1]ชัยภูมิ!R61+[1]สุรินทร์!R61+[1]บุรีรัมย์!R61+[1]ขอนแก่น!R61+[1]กาฬสินทร์!R61+[1]มุกดาหาร!R61+[1]หนองบัว!R61+[1]มหาสารคราม!R61+[1]อุบล!R61+[1]ศรีสะเกษ!R61+[1]อำนาจ!R61+[1]ร้อยเอ็ด!R61+[1]ยโสธร!R61+[1]นครสวรรค์!R61+[1]พิจิตร!R61+[1]กำแพงเพชร!R61+[1]ตาก!R61+[1]พิษณุโลก!R61+[1]เลย!R61+[1]เพชรบูลย์!R61+[1]อุดรดิต!R61+[1]สุโขทัย!R61+[1]ลำปาง!R61+[1]ลำพูน!R61+[1]แพร่!R61+[1]สุราษ!R61+[1]ชุมพร!R61+[1]ระนอง!R61+[1]สงขลา!R61+[1]สตูล!R61+[1]กรุงเทพ!R61+[1]ปทุม!R61+[1]นนทบุรี!R61+[1]นครนายก!R61+[1]อยุธยา!R61+[1]อ่างทอง!R61+[1]สระบุรี!R61+[1]ลพบุรี!R61+[1]นครปฐม!R61+[1]สมุทรสงคราม!R61+[1]สมุทรสาคร!R61+[1]ระยอง!R61+[1]จันทบุรี!R61+[1]ตราด!R61+[1]อุดร!R61+[1]หนองคาย!R61+[1]บึงกาฬ!R61+[1]สกลนคร!R61+[1]นครพนม!R61+[1]เชียงใหม่!R61+[1]แม่ฮ่องสอน!R61+[1]เชียงราย!R61+[1]พะเยา!R61+[1]น่าน!R61+[1]ภูเก็ต!R61+[1]พังงา!R61+[1]กระบี่!R61+[1]นครศรี!R61+[1]พัทลุง!R61+[1]ตรัง!R61+[1]ปัตตานี!R61+[1]ยะลา!R61+[1]นราธิวาส!R61+[1]เชียงแสน!R61+[1]ยานยนต!R61+[1]สถาบันสุขภาพ!R61 -> 0
A58: - วัสดุเชื้อเพลิงและหล่อลื่น | O58: =+[1]สมุทรปราการ!Q62+[1]ฉะเชิงเทรา!Q62+[1]สุพรรณ!Q62+[1]สิงห์บุรี!Q62+[1]ชัยนาท!Q62+[1]อุทัย!Q62+[1]ชลบุรี!Q62+[1]ปราจีน!Q62+[1]สระแก้ว!Q62+[1]ราชบุรี!Q62+[1]เพชรบุรี!Q62+[1]กาญจนบุรี!Q62+[1]ประจวบ!Q62+[1]นครราชสีมา!Q62+[1]ชัยภูมิ!Q62+[1]สุรินทร์!Q62+[1]บุรีรัมย์!Q62+[1]ขอนแก่น!Q62+[1]กาฬสินทร์!Q62+[1]มุกดาหาร!Q62+[1]หนองบัว!Q62+[1]มหาสารคราม!Q62+[1]อุบล!Q62+[1]ศรีสะเกษ!Q62+[1]อำนาจ!Q62+[1]ร้อยเอ็ด!Q62+[1]ยโสธร!Q62+[1]นครสวรรค์!Q62+[1]พิจิตร!Q62+[1]กำแพงเพชร!Q62+[1]ตาก!Q62+[1]พิษณุโลก!Q62+[1]เลย!Q62+[1]เพชรบูลย์!Q62+[1]อุดรดิต!Q62+[1]สุโขทัย!Q62+[1]ลำปาง!Q62+[1]ลำพูน!Q62+[1]แพร่!Q62+[1]สุราษ!Q62+[1]ชุมพร!Q62+[1]ระนอง!Q62+[1]สงขลา!Q62+[1]สตูล!Q62+[1]กรุงเทพ!Q62+[1]ปทุม!Q62+[1]นนทบุรี!Q62+[1]นครนายก!Q62+[1]อยุธยา!Q62+[1]อ่างทอง!Q62+[1]สระบุรี!Q62+[1]ลพบุรี!Q62+[1]นครปฐม!Q62+[1]สมุทรสงคราม!Q62+[1]สมุทรสาคร!Q62+[1]ระยอง!Q62+[1]จันทบุรี!Q62+[1]ตราด!Q62+[1]อุดร!Q62+[1]หนองคาย!Q62+[1]บึงกาฬ!Q62+[1]สกลนคร!Q62+[1]นครพนม!Q62+[1]เชียงใหม่!Q62+[1]แม่ฮ่องสอน!Q62+[1]เชียงราย!Q62+[1]พะเยา!Q62+[1]น่าน!Q62+[1]ภูเก็ต!Q62+[1]พังงา!Q62+[1]กระบี่!Q62+[1]นครศรี!Q62+[1]พัทลุง!Q62+[1]ตรัง!Q62+[1]ปัตตานี!Q62+[1]ยะลา!Q62+[1]นราธิวาส!Q62+[1]เชียงแสน!Q62+[1]ยานยนต!Q62+[1]สถาบันสุขภาพ!Q62 -> 0 | P58: =+[1]สมุทรปราการ!R62+[1]ฉะเชิงเทรา!R62+[1]สุพรรณ!R62+[1]สิงห์บุรี!R62+[1]ชัยนาท!R62+[1]อุทัย!R62+[1]ชลบุรี!R62+[1]ปราจีน!R62+[1]สระแก้ว!R62+[1]ราชบุรี!R62+[1]เพชรบุรี!R62+[1]กาญจนบุรี!R62+[1]ประจวบ!R62+[1]นครราชสีมา!R62+[1]ชัยภูมิ!R62+[1]สุรินทร์!R62+[1]บุรีรัมย์!R62+[1]ขอนแก่น!R62+[1]กาฬสินทร์!R62+[1]มุกดาหาร!R62+[1]หนองบัว!R62+[1]มหาสารคราม!R62+[1]อุบล!R62+[1]ศรีสะเกษ!R62+[1]อำนาจ!R62+[1]ร้อยเอ็ด!R62+[1]ยโสธร!R62+[1]นครสวรรค์!R62+[1]พิจิตร!R62+[1]กำแพงเพชร!R62+[1]ตาก!R62+[1]พิษณุโลก!R62+[1]เลย!R62+[1]เพชรบูลย์!R62+[1]อุดรดิต!R62+[1]สุโขทัย!R62+[1]ลำปาง!R62+[1]ลำพูน!R62+[1]แพร่!R62+[1]สุราษ!R62+[1]ชุมพร!R62+[1]ระนอง!R62+[1]สงขลา!R62+[1]สตูล!R62+[1]กรุงเทพ!R62+[1]ปทุม!R62+[1]นนทบุรี!R62+[1]นครนายก!R62+[1]อยุธยา!R62+[1]อ่างทอง!R62+[1]สระบุรี!R62+[1]ลพบุรี!R62+[1]นครปฐม!R62+[1]สมุทรสงคราม!R62+[1]สมุทรสาคร!R62+[1]ระยอง!R62+[1]จันทบุรี!R62+[1]ตราด!R62+[1]อุดร!R62+[1]หนองคาย!R62+[1]บึงกาฬ!R62+[1]สกลนคร!R62+[1]นครพนม!R62+[1]เชียงใหม่!R62+[1]แม่ฮ่องสอน!R62+[1]เชียงราย!R62+[1]พะเยา!R62+[1]น่าน!R62+[1]ภูเก็ต!R62+[1]พังงา!R62+[1]กระบี่!R62+[1]นครศรี!R62+[1]พัทลุง!R62+[1]ตรัง!R62+[1]ปัตตานี!R62+[1]ยะลา!R62+[1]นราธิวาส!R62+[1]เชียงแสน!R62+[1]ยานยนต!R62+[1]สถาบันสุขภาพ!R62 -> 0
A59: - วัสดุงานบ้านงานครัว | O59: =+[1]สมุทรปราการ!Q63+[1]ฉะเชิงเทรา!Q63+[1]สุพรรณ!Q63+[1]สิงห์บุรี!Q63+[1]ชัยนาท!Q63+[1]อุทัย!Q63+[1]ชลบุรี!Q63+[1]ปราจีน!Q63+[1]สระแก้ว!Q63+[1]ราชบุรี!Q63+[1]เพชรบุรี!Q63+[1]กาญจนบุรี!Q63+[1]ประจวบ!Q63+[1]นครราชสีมา!Q63+[1]ชัยภูมิ!Q63+[1]สุรินทร์!Q63+[1]บุรีรัมย์!Q63+[1]ขอนแก่น!Q63+[1]กาฬสินทร์!Q63+[1]มุกดาหาร!Q63+[1]หนองบัว!Q63+[1]มหาสารคราม!Q63+[1]อุบล!Q63+[1]ศรีสะเกษ!Q63+[1]อำนาจ!Q63+[1]ร้อยเอ็ด!Q63+[1]ยโสธร!Q63+[1]นครสวรรค์!Q63+[1]พิจิตร!Q63+[1]กำแพงเพชร!Q63+[1]ตาก!Q63+[1]พิษณุโลก!Q63+[1]เลย!Q63+[1]เพชรบูลย์!Q63+[1]อุดรดิต!Q63+[1]สุโขทัย!Q63+[1]ลำปาง!Q63+[1]ลำพูน!Q63+[1]แพร่!Q63+[1]สุราษ!Q63+[1]ชุมพร!Q63+[1]ระนอง!Q63+[1]สงขลา!Q63+[1]สตูล!Q63+[1]กรุงเทพ!Q63+[1]ปทุม!Q63+[1]นนทบุรี!Q63+[1]นครนายก!Q63+[1]อยุธยา!Q63+[1]อ่างทอง!Q63+[1]สระบุรี!Q63+[1]ลพบุรี!Q63+[1]นครปฐม!Q63+[1]สมุทรสงคราม!Q63+[1]สมุทรสาคร!Q63+[1]ระยอง!Q63+[1]จันทบุรี!Q63+[1]ตราด!Q63+[1]อุดร!Q63+[1]หนองคาย!Q63+[1]บึงกาฬ!Q63+[1]สกลนคร!Q63+[1]นครพนม!Q63+[1]เชียงใหม่!Q63+[1]แม่ฮ่องสอน!Q63+[1]เชียงราย!Q63+[1]พะเยา!Q63+[1]น่าน!Q63+[1]ภูเก็ต!Q63+[1]พังงา!Q63+[1]กระบี่!Q63+[1]นครศรี!Q63+[1]พัทลุง!Q63+[1]ตรัง!Q63+[1]ปัตตานี!Q63+[1]ยะลา!Q63+[1]นราธิวาส!Q63+[1]เชียงแสน!Q63+[1]ยานยนต!Q63+[1]สถาบันสุขภาพ!Q63 -> 0 | P59: =+[1]สมุทรปราการ!R63+[1]ฉะเชิงเทรา!R63+[1]สุพรรณ!R63+[1]สิงห์บุรี!R63+[1]ชัยนาท!R63+[1]อุทัย!R63+[1]ชลบุรี!R63+[1]ปราจีน!R63+[1]สระแก้ว!R63+[1]ราชบุรี!R63+[1]เพชรบุรี!R63+[1]กาญจนบุรี!R63+[1]ประจวบ!R63+[1]นครราชสีมา!R63+[1]ชัยภูมิ!R63+[1]สุรินทร์!R63+[1]บุรีรัมย์!R63+[1]ขอนแก่น!R63+[1]กาฬสินทร์!R63+[1]มุกดาหาร!R63+[1]หนองบัว!R63+[1]มหาสารคราม!R63+[1]อุบล!R63+[1]ศรีสะเกษ!R63+[1]อำนาจ!R63+[1]ร้อยเอ็ด!R63+[1]ยโสธร!R63+[1]นครสวรรค์!R63+[1]พิจิตร!R63+[1]กำแพงเพชร!R63+[1]ตาก!R63+[1]พิษณุโลก!R63+[1]เลย!R63+[1]เพชรบูลย์!R63+[1]อุดรดิต!R63+[1]สุโขทัย!R63+[1]ลำปาง!R63+[1]ลำพูน!R63+[1]แพร่!R63+[1]สุราษ!R63+[1]ชุมพร!R63+[1]ระนอง!R63+[1]สงขลา!R63+[1]สตูล!R63+[1]กรุงเทพ!R63+[1]ปทุม!R63+[1]นนทบุรี!R63+[1]นครนายก!R63+[1]อยุธยา!R63+[1]อ่างทอง!R63+[1]สระบุรี!R63+[1]ลพบุรี!R63+[1]นครปฐม!R63+[1]สมุทรสงคราม!R63+[1]สมุทรสาคร!R63+[1]ระยอง!R63+[1]จันทบุรี!R63+[1]ตราด!R63+[1]อุดร!R63+[1]หนองคาย!R63+[1]บึงกาฬ!R63+[1]สกลนคร!R63+[1]นครพนม!R63+[1]เชียงใหม่!R63+[1]แม่ฮ่องสอน!R63+[1]เชียงราย!R63+[1]พะเยา!R63+[1]น่าน!R63+[1]ภูเก็ต!R63+[1]พังงา!R63+[1]กระบี่!R63+[1]นครศรี!R63+[1]พัทลุง!R63+[1]ตรัง!R63+[1]ปัตตานี!R63+[1]ยะลา!R63+[1]นราธิวาส!R63+[1]เชียงแสน!R63+[1]ยานยนต!R63+[1]สถาบันสุขภาพ!R63 -> 0
A60: - วัสดุไฟฟ้าและวิทยุ | O60: =+[1]สมุทรปราการ!Q64+[1]ฉะเชิงเทรา!Q64+[1]สุพรรณ!Q64+[1]สิงห์บุรี!Q64+[1]ชัยนาท!Q64+[1]อุทัย!Q64+[1]ชลบุรี!Q64+[1]ปราจีน!Q64+[1]สระแก้ว!Q64+[1]ราชบุรี!Q64+[1]เพชรบุรี!Q64+[1]กาญจนบุรี!Q64+[1]ประจวบ!Q64+[1]นครราชสีมา!Q64+[1]ชัยภูมิ!Q64+[1]สุรินทร์!Q64+[1]บุรีรัมย์!Q64+[1]ขอนแก่น!Q64+[1]กาฬสินทร์!Q64+[1]มุกดาหาร!Q64+[1]หนองบัว!Q64+[1]มหาสารคราม!Q64+[1]อุบล!Q64+[1]ศรีสะเกษ!Q64+[1]อำนาจ!Q64+[1]ร้อยเอ็ด!Q64+[1]ยโสธร!Q64+[1]นครสวรรค์!Q64+[1]พิจิตร!Q64+[1]กำแพงเพชร!Q64+[1]ตาก!Q64+[1]พิษณุโลก!Q64+[1]เลย!Q64+[1]เพชรบูลย์!Q64+[1]อุดรดิต!Q64+[1]สุโขทัย!Q64+[1]ลำปาง!Q64+[1]ลำพูน!Q64+[1]แพร่!Q64+[1]สุราษ!Q64+[1]ชุมพร!Q64+[1]ระนอง!Q64+[1]สงขลา!Q64+[1]สตูล!Q64+[1]กรุงเทพ!Q64+[1]ปทุม!Q64+[1]นนทบุรี!Q64+[1]นครนายก!Q64+[1]อยุธยา!Q64+[1]อ่างทอง!Q64+[1]สระบุรี!Q64+[1]ลพบุรี!Q64+[1]นครปฐม!Q64+[1]สมุทรสงคราม!Q64+[1]สมุทรสาคร!Q64+[1]ระยอง!Q64+[1]จันทบุรี!Q64+[1]ตราด!Q64+[1]อุดร!Q64+[1]หนองคาย!Q64+[1]บึงกาฬ!Q64+[1]สกลนคร!Q64+[1]นครพนม!Q64+[1]เชียงใหม่!Q64+[1]แม่ฮ่องสอน!Q64+[1]เชียงราย!Q64+[1]พะเยา!Q64+[1]น่าน!Q64+[1]ภูเก็ต!Q64+[1]พังงา!Q64+[1]กระบี่!Q64+[1]นครศรี!Q64+[1]พัทลุง!Q64+[1]ตรัง!Q64+[1]ปัตตานี!Q64+[1]ยะลา!Q64+[1]นราธิวาส!Q64+[1]เชียงแสน!Q64+[1]ยานยนต!Q64+[1]สถาบันสุขภาพ!Q64 -> 0 | P60: =+[1]สมุทรปราการ!R64+[1]ฉะเชิงเทรา!R64+[1]สุพรรณ!R64+[1]สิงห์บุรี!R64+[1]ชัยนาท!R64+[1]อุทัย!R64+[1]ชลบุรี!R64+[1]ปราจีน!R64+[1]สระแก้ว!R64+[1]ราชบุรี!R64+[1]เพชรบุรี!R64+[1]กาญจนบุรี!R64+[1]ประจวบ!R64+[1]นครราชสีมา!R64+[1]ชัยภูมิ!R64+[1]สุรินทร์!R64+[1]บุรีรัมย์!R64+[1]ขอนแก่น!R64+[1]กาฬสินทร์!R64+[1]มุกดาหาร!R64+[1]หนองบัว!R64+[1]มหาสารคราม!R64+[1]อุบล!R64+[1]ศรีสะเกษ!R64+[1]อำนาจ!R64+[1]ร้อยเอ็ด!R64+[1]ยโสธร!R64+[1]นครสวรรค์!R64+[1]พิจิตร!R64+[1]กำแพงเพชร!R64+[1]ตาก!R64+[1]พิษณุโลก!R64+[1]เลย!R64+[1]เพชรบูลย์!R64+[1]อุดรดิต!R64+[1]สุโขทัย!R64+[1]ลำปาง!R64+[1]ลำพูน!R64+[1]แพร่!R64+[1]สุราษ!R64+[1]ชุมพร!R64+[1]ระนอง!R64+[1]สงขลา!R64+[1]สตูล!R64+[1]กรุงเทพ!R64+[1]ปทุม!R64+[1]นนทบุรี!R64+[1]นครนายก!R64+[1]อยุธยา!R64+[1]อ่างทอง!R64+[1]สระบุรี!R64+[1]ลพบุรี!R64+[1]นครปฐม!R64+[1]สมุทรสงคราม!R64+[1]สมุทรสาคร!R64+[1]ระยอง!R64+[1]จันทบุรี!R64+[1]ตราด!R64+[1]อุดร!R64+[1]หนองคาย!R64+[1]บึงกาฬ!R64+[1]สกลนคร!R64+[1]นครพนม!R64+[1]เชียงใหม่!R64+[1]แม่ฮ่องสอน!R64+[1]เชียงราย!R64+[1]พะเยา!R64+[1]น่าน!R64+[1]ภูเก็ต!R64+[1]พังงา!R64+[1]กระบี่!R64+[1]นครศรี!R64+[1]พัทลุง!R64+[1]ตรัง!R64+[1]ปัตตานี!R64+[1]ยะลา!R64+[1]นราธิวาส!R64+[1]เชียงแสน!R64+[1]ยานยนต!R64+[1]สถาบันสุขภาพ!R64 -> 0
A61: - วัสดุโฆษณาและเผยแพร่ | O61: =+[1]สมุทรปราการ!Q65+[1]ฉะเชิงเทรา!Q65+[1]สุพรรณ!Q65+[1]สิงห์บุรี!Q65+[1]ชัยนาท!Q65+[1]อุทัย!Q65+[1]ชลบุรี!Q65+[1]ปราจีน!Q65+[1]สระแก้ว!Q65+[1]ราชบุรี!Q65+[1]เพชรบุรี!Q65+[1]กาญจนบุรี!Q65+[1]ประจวบ!Q65+[1]นครราชสีมา!Q65+[1]ชัยภูมิ!Q65+[1]สุรินทร์!Q65+[1]บุรีรัมย์!Q65+[1]ขอนแก่น!Q65+[1]กาฬสินทร์!Q65+[1]มุกดาหาร!Q65+[1]หนองบัว!Q65+[1]มหาสารคราม!Q65+[1]อุบล!Q65+[1]ศรีสะเกษ!Q65+[1]อำนาจ!Q65+[1]ร้อยเอ็ด!Q65+[1]ยโสธร!Q65+[1]นครสวรรค์!Q65+[1]พิจิตร!Q65+[1]กำแพงเพชร!Q65+[1]ตาก!Q65+[1]พิษณุโลก!Q65+[1]เลย!Q65+[1]เพชรบูลย์!Q65+[1]อุดรดิต!Q65+[1]สุโขทัย!Q65+[1]ลำปาง!Q65+[1]ลำพูน!Q65+[1]แพร่!Q65+[1]สุราษ!Q65+[1]ชุมพร!Q65+[1]ระนอง!Q65+[1]สงขลา!Q65+[1]สตูล!Q65+[1]กรุงเทพ!Q65+[1]ปทุม!Q65+[1]นนทบุรี!Q65+[1]นครนายก!Q65+[1]อยุธยา!Q65+[1]อ่างทอง!Q65+[1]สระบุรี!Q65+[1]ลพบุรี!Q65+[1]นครปฐม!Q65+[1]สมุทรสงคราม!Q65+[1]สมุทรสาคร!Q65+[1]ระยอง!Q65+[1]จันทบุรี!Q65+[1]ตราด!Q65+[1]อุดร!Q65+[1]หนองคาย!Q65+[1]บึงกาฬ!Q65+[1]สกลนคร!Q65+[1]นครพนม!Q65+[1]เชียงใหม่!Q65+[1]แม่ฮ่องสอน!Q65+[1]เชียงราย!Q65+[1]พะเยา!Q65+[1]น่าน!Q65+[1]ภูเก็ต!Q65+[1]พังงา!Q65+[1]กระบี่!Q65+[1]นครศรี!Q65+[1]พัทลุง!Q65+[1]ตรัง!Q65+[1]ปัตตานี!Q65+[1]ยะลา!Q65+[1]นราธิวาส!Q65+[1]เชียงแสน!Q65+[1]ยานยนต!Q65+[1]สถาบันสุขภาพ!Q65 -> 0 | P61: =+[1]สมุทรปราการ!R65+[1]ฉะเชิงเทรา!R65+[1]สุพรรณ!R65+[1]สิงห์บุรี!R65+[1]ชัยนาท!R65+[1]อุทัย!R65+[1]ชลบุรี!R65+[1]ปราจีน!R65+[1]สระแก้ว!R65+[1]ราชบุรี!R65+[1]เพชรบุรี!R65+[1]กาญจนบุรี!R65+[1]ประจวบ!R65+[1]นครราชสีมา!R65+[1]ชัยภูมิ!R65+[1]สุรินทร์!R65+[1]บุรีรัมย์!R65+[1]ขอนแก่น!R65+[1]กาฬสินทร์!R65+[1]มุกดาหาร!R65+[1]หนองบัว!R65+[1]มหาสารคราม!R65+[1]อุบล!R65+[1]ศรีสะเกษ!R65+[1]อำนาจ!R65+[1]ร้อยเอ็ด!R65+[1]ยโสธร!R65+[1]นครสวรรค์!R65+[1]พิจิตร!R65+[1]กำแพงเพชร!R65+[1]ตาก!R65+[1]พิษณุโลก!R65+[1]เลย!R65+[1]เพชรบูลย์!R65+[1]อุดรดิต!R65+[1]สุโขทัย!R65+[1]ลำปาง!R65+[1]ลำพูน!R65+[1]แพร่!R65+[1]สุราษ!R65+[1]ชุมพร!R65+[1]ระนอง!R65+[1]สงขลา!R65+[1]สตูล!R65+[1]กรุงเทพ!R65+[1]ปทุม!R65+[1]นนทบุรี!R65+[1]นครนายก!R65+[1]อยุธยา!R65+[1]อ่างทอง!R65+[1]สระบุรี!R65+[1]ลพบุรี!R65+[1]นครปฐม!R65+[1]สมุทรสงคราม!R65+[1]สมุทรสาคร!R65+[1]ระยอง!R65+[1]จันทบุรี!R65+[1]ตราด!R65+[1]อุดร!R65+[1]หนองคาย!R65+[1]บึงกาฬ!R65+[1]สกลนคร!R65+[1]นครพนม!R65+[1]เชียงใหม่!R65+[1]แม่ฮ่องสอน!R65+[1]เชียงราย!R65+[1]พะเยา!R65+[1]น่าน!R65+[1]ภูเก็ต!R65+[1]พังงา!R65+[1]กระบี่!R65+[1]นครศรี!R65+[1]พัทลุง!R65+[1]ตรัง!R65+[1]ปัตตานี!R65+[1]ยะลา!R65+[1]นราธิวาส!R65+[1]เชียงแสน!R65+[1]ยานยนต!R65+[1]สถาบันสุขภาพ!R65 -> 0
A62: - วัสดุหนังสือ วารสาร และตำรา | O62: =+[1]สมุทรปราการ!Q66+[1]ฉะเชิงเทรา!Q66+[1]สุพรรณ!Q66+[1]สิงห์บุรี!Q66+[1]ชัยนาท!Q66+[1]อุทัย!Q66+[1]ชลบุรี!Q66+[1]ปราจีน!Q66+[1]สระแก้ว!Q66+[1]ราชบุรี!Q66+[1]เพชรบุรี!Q66+[1]กาญจนบุรี!Q66+[1]ประจวบ!Q66+[1]นครราชสีมา!Q66+[1]ชัยภูมิ!Q66+[1]สุรินทร์!Q66+[1]บุรีรัมย์!Q66+[1]ขอนแก่น!Q66+[1]กาฬสินทร์!Q66+[1]มุกดาหาร!Q66+[1]หนองบัว!Q66+[1]มหาสารคราม!Q66+[1]อุบล!Q66+[1]ศรีสะเกษ!Q66+[1]อำนาจ!Q66+[1]ร้อยเอ็ด!Q66+[1]ยโสธร!Q66+[1]นครสวรรค์!Q66+[1]พิจิตร!Q66+[1]กำแพงเพชร!Q66+[1]ตาก!Q66+[1]พิษณุโลก!Q66+[1]เลย!Q66+[1]เพชรบูลย์!Q66+[1]อุดรดิต!Q66+[1]สุโขทัย!Q66+[1]ลำปาง!Q66+[1]ลำพูน!Q66+[1]แพร่!Q66+[1]สุราษ!Q66+[1]ชุมพร!Q66+[1]ระนอง!Q66+[1]สงขลา!Q66+[1]สตูล!Q66+[1]กรุงเทพ!Q66+[1]ปทุม!Q66+[1]นนทบุรี!Q66+[1]นครนายก!Q66+[1]อยุธยา!Q66+[1]อ่างทอง!Q66+[1]สระบุรี!Q66+[1]ลพบุรี!Q66+[1]นครปฐม!Q66+[1]สมุทรสงคราม!Q66+[1]สมุทรสาคร!Q66+[1]ระยอง!Q66+[1]จันทบุรี!Q66+[1]ตราด!Q66+[1]อุดร!Q66+[1]หนองคาย!Q66+[1]บึงกาฬ!Q66+[1]สกลนคร!Q66+[1]นครพนม!Q66+[1]เชียงใหม่!Q66+[1]แม่ฮ่องสอน!Q66+[1]เชียงราย!Q66+[1]พะเยา!Q66+[1]น่าน!Q66+[1]ภูเก็ต!Q66+[1]พังงา!Q66+[1]กระบี่!Q66+[1]นครศรี!Q66+[1]พัทลุง!Q66+[1]ตรัง!Q66+[1]ปัตตานี!Q66+[1]ยะลา!Q66+[1]นราธิวาส!Q66+[1]เชียงแสน!Q66+[1]ยานยนต!Q66+[1]สถาบันสุขภาพ!Q66 -> 0 | P62: =+[1]สมุทรปราการ!R66+[1]ฉะเชิงเทรา!R66+[1]สุพรรณ!R66+[1]สิงห์บุรี!R66+[1]ชัยนาท!R66+[1]อุทัย!R66+[1]ชลบุรี!R66+[1]ปราจีน!R66+[1]สระแก้ว!R66+[1]ราชบุรี!R66+[1]เพชรบุรี!R66+[1]กาญจนบุรี!R66+[1]ประจวบ!R66+[1]นครราชสีมา!R66+[1]ชัยภูมิ!R66+[1]สุรินทร์!R66+[1]บุรีรัมย์!R66+[1]ขอนแก่น!R66+[1]กาฬสินทร์!R66+[1]มุกดาหาร!R66+[1]หนองบัว!R66+[1]มหาสารคราม!R66+[1]อุบล!R66+[1]ศรีสะเกษ!R66+[1]อำนาจ!R66+[1]ร้อยเอ็ด!R66+[1]ยโสธร!R66+[1]นครสวรรค์!R66+[1]พิจิตร!R66+[1]กำแพงเพชร!R66+[1]ตาก!R66+[1]พิษณุโลก!R66+[1]เลย!R66+[1]เพชรบูลย์!R66+[1]อุดรดิต!R66+[1]สุโขทัย!R66+[1]ลำปาง!R66+[1]ลำพูน!R66+[1]แพร่!R66+[1]สุราษ!R66+[1]ชุมพร!R66+[1]ระนอง!R66+[1]สงขลา!R66+[1]สตูล!R66+[1]กรุงเทพ!R66+[1]ปทุม!R66+[1]นนทบุรี!R66+[1]นครนายก!R66+[1]อยุธยา!R66+[1]อ่างทอง!R66+[1]สระบุรี!R66+[1]ลพบุรี!R66+[1]นครปฐม!R66+[1]สมุทรสงคราม!R66+[1]สมุทรสาคร!R66+[1]ระยอง!R66+[1]จันทบุรี!R66+[1]ตราด!R66+[1]อุดร!R66+[1]หนองคาย!R66+[1]บึงกาฬ!R66+[1]สกลนคร!R66+[1]นครพนม!R66+[1]เชียงใหม่!R66+[1]แม่ฮ่องสอน!R66+[1]เชียงราย!R66+[1]พะเยา!R66+[1]น่าน!R66+[1]ภูเก็ต!R66+[1]พังงา!R66+[1]กระบี่!R66+[1]นครศรี!R66+[1]พัทลุง!R66+[1]ตรัง!R66+[1]ปัตตานี!R66+[1]ยะลา!R66+[1]นราธิวาส!R66+[1]เชียงแสน!R66+[1]ยานยนต!R66+[1]สถาบันสุขภาพ!R66 -> 0
A63: - วัสดุคอมพิวเตอร์ | O63: =+[1]สมุทรปราการ!Q67+[1]ฉะเชิงเทรา!Q67+[1]สุพรรณ!Q67+[1]สิงห์บุรี!Q67+[1]ชัยนาท!Q67+[1]อุทัย!Q67+[1]ชลบุรี!Q67+[1]ปราจีน!Q67+[1]สระแก้ว!Q67+[1]ราชบุรี!Q67+[1]เพชรบุรี!Q67+[1]กาญจนบุรี!Q67+[1]ประจวบ!Q67+[1]นครราชสีมา!Q67+[1]ชัยภูมิ!Q67+[1]สุรินทร์!Q67+[1]บุรีรัมย์!Q67+[1]ขอนแก่น!Q67+[1]กาฬสินทร์!Q67+[1]มุกดาหาร!Q67+[1]หนองบัว!Q67+[1]มหาสารคราม!Q67+[1]อุบล!Q67+[1]ศรีสะเกษ!Q67+[1]อำนาจ!Q67+[1]ร้อยเอ็ด!Q67+[1]ยโสธร!Q67+[1]นครสวรรค์!Q67+[1]พิจิตร!Q67+[1]กำแพงเพชร!Q67+[1]ตาก!Q67+[1]พิษณุโลก!Q67+[1]เลย!Q67+[1]เพชรบูลย์!Q67+[1]อุดรดิต!Q67+[1]สุโขทัย!Q67+[1]ลำปาง!Q67+[1]ลำพูน!Q67+[1]แพร่!Q67+[1]สุราษ!Q67+[1]ชุมพร!Q67+[1]ระนอง!Q67+[1]สงขลา!Q67+[1]สตูล!Q67+[1]กรุงเทพ!Q67+[1]ปทุม!Q67+[1]นนทบุรี!Q67+[1]นครนายก!Q67+[1]อยุธยา!Q67+[1]อ่างทอง!Q67+[1]สระบุรี!Q67+[1]ลพบุรี!Q67+[1]นครปฐม!Q67+[1]สมุทรสงคราม!Q67+[1]สมุทรสาคร!Q67+[1]ระยอง!Q67+[1]จันทบุรี!Q67+[1]ตราด!Q67+[1]อุดร!Q67+[1]หนองคาย!Q67+[1]บึงกาฬ!Q67+[1]สกลนคร!Q67+[1]นครพนม!Q67+[1]เชียงใหม่!Q67+[1]แม่ฮ่องสอน!Q67+[1]เชียงราย!Q67+[1]พะเยา!Q67+[1]น่าน!Q67+[1]ภูเก็ต!Q67+[1]พังงา!Q67+[1]กระบี่!Q67+[1]นครศรี!Q67+[1]พัทลุง!Q67+[1]ตรัง!Q67+[1]ปัตตานี!Q67+[1]ยะลา!Q67+[1]นราธิวาส!Q67+[1]เชียงแสน!Q67+[1]ยานยนต!Q67+[1]สถาบันสุขภาพ!Q67 -> 0 | P63: =+[1]สมุทรปราการ!R67+[1]ฉะเชิงเทรา!R67+[1]สุพรรณ!R67+[1]สิงห์บุรี!R67+[1]ชัยนาท!R67+[1]อุทัย!R67+[1]ชลบุรี!R67+[1]ปราจีน!R67+[1]สระแก้ว!R67+[1]ราชบุรี!R67+[1]เพชรบุรี!R67+[1]กาญจนบุรี!R67+[1]ประจวบ!R67+[1]นครราชสีมา!R67+[1]ชัยภูมิ!R67+[1]สุรินทร์!R67+[1]บุรีรัมย์!R67+[1]ขอนแก่น!R67+[1]กาฬสินทร์!R67+[1]มุกดาหาร!R67+[1]หนองบัว!R67+[1]มหาสารคราม!R67+[1]อุบล!R67+[1]ศรีสะเกษ!R67+[1]อำนาจ!R67+[1]ร้อยเอ็ด!R67+[1]ยโสธร!R67+[1]นครสวรรค์!R67+[1]พิจิตร!R67+[1]กำแพงเพชร!R67+[1]ตาก!R67+[1]พิษณุโลก!R67+[1]เลย!R67+[1]เพชรบูลย์!R67+[1]อุดรดิต!R67+[1]สุโขทัย!R67+[1]ลำปาง!R67+[1]ลำพูน!R67+[1]แพร่!R67+[1]สุราษ!R67+[1]ชุมพร!R67+[1]ระนอง!R67+[1]สงขลา!R67+[1]สตูล!R67+[1]กรุงเทพ!R67+[1]ปทุม!R67+[1]นนทบุรี!R67+[1]นครนายก!R67+[1]อยุธยา!R67+[1]อ่างทอง!R67+[1]สระบุรี!R67+[1]ลพบุรี!R67+[1]นครปฐม!R67+[1]สมุทรสงคราม!R67+[1]สมุทรสาคร!R67+[1]ระยอง!R67+[1]จันทบุรี!R67+[1]ตราด!R67+[1]อุดร!R67+[1]หนองคาย!R67+[1]บึงกาฬ!R67+[1]สกลนคร!R67+[1]นครพนม!R67+[1]เชียงใหม่!R67+[1]แม่ฮ่องสอน!R67+[1]เชียงราย!R67+[1]พะเยา!R67+[1]น่าน!R67+[1]ภูเก็ต!R67+[1]พังงา!R67+[1]กระบี่!R67+[1]นครศรี!R67+[1]พัทลุง!R67+[1]ตรัง!R67+[1]ปัตตานี!R67+[1]ยะลา!R67+[1]นราธิวาส!R67+[1]เชียงแสน!R67+[1]ยานยนต!R67+[1]สถาบันสุขภาพ!R67 -> 0
A64: - วัสดุทดลองทดสอบ (เฉพาะ สมฐ.) | O64: =+[1]สมุทรปราการ!Q68+[1]ฉะเชิงเทรา!Q68+[1]สุพรรณ!Q68+[1]สิงห์บุรี!Q68+[1]ชัยนาท!Q68+[1]อุทัย!Q68+[1]ชลบุรี!Q68+[1]ปราจีน!Q68+[1]สระแก้ว!Q68+[1]ราชบุรี!Q68+[1]เพชรบุรี!Q68+[1]กาญจนบุรี!Q68+[1]ประจวบ!Q68+[1]นครราชสีมา!Q68+[1]ชัยภูมิ!Q68+[1]สุรินทร์!Q68+[1]บุรีรัมย์!Q68+[1]ขอนแก่น!Q68+[1]กาฬสินทร์!Q68+[1]มุกดาหาร!Q68+[1]หนองบัว!Q68+[1]มหาสารคราม!Q68+[1]อุบล!Q68+[1]ศรีสะเกษ!Q68+[1]อำนาจ!Q68+[1]ร้อยเอ็ด!Q68+[1]ยโสธร!Q68+[1]นครสวรรค์!Q68+[1]พิจิตร!Q68+[1]กำแพงเพชร!Q68+[1]ตาก!Q68+[1]พิษณุโลก!Q68+[1]เลย!Q68+[1]เพชรบูลย์!Q68+[1]อุดรดิต!Q68+[1]สุโขทัย!Q68+[1]ลำปาง!Q68+[1]ลำพูน!Q68+[1]แพร่!Q68+[1]สุราษ!Q68+[1]ชุมพร!Q68+[1]ระนอง!Q68+[1]สงขลา!Q68+[1]สตูล!Q68+[1]กรุงเทพ!Q68+[1]ปทุม!Q68+[1]นนทบุรี!Q68+[1]นครนายก!Q68+[1]อยุธยา!Q68+[1]อ่างทอง!Q68+[1]สระบุรี!Q68+[1]ลพบุรี!Q68+[1]นครปฐม!Q68+[1]สมุทรสงคราม!Q68+[1]สมุทรสาคร!Q68+[1]ระยอง!Q68+[1]จันทบุรี!Q68+[1]ตราด!Q68+[1]อุดร!Q68+[1]หนองคาย!Q68+[1]บึงกาฬ!Q68+[1]สกลนคร!Q68+[1]นครพนม!Q68+[1]เชียงใหม่!Q68+[1]แม่ฮ่องสอน!Q68+[1]เชียงราย!Q68+[1]พะเยา!Q68+[1]น่าน!Q68+[1]ภูเก็ต!Q68+[1]พังงา!Q68+[1]กระบี่!Q68+[1]นครศรี!Q68+[1]พัทลุง!Q68+[1]ตรัง!Q68+[1]ปัตตานี!Q68+[1]ยะลา!Q68+[1]นราธิวาส!Q68+[1]เชียงแสน!Q68+[1]ยานยนต!Q68+[1]สถาบันสุขภาพ!Q68 -> 0 | P64: =+[1]สมุทรปราการ!R68+[1]ฉะเชิงเทรา!R68+[1]สุพรรณ!R68+[1]สิงห์บุรี!R68+[1]ชัยนาท!R68+[1]อุทัย!R68+[1]ชลบุรี!R68+[1]ปราจีน!R68+[1]สระแก้ว!R68+[1]ราชบุรี!R68+[1]เพชรบุรี!R68+[1]กาญจนบุรี!R68+[1]ประจวบ!R68+[1]นครราชสีมา!R68+[1]ชัยภูมิ!R68+[1]สุรินทร์!R68+[1]บุรีรัมย์!R68+[1]ขอนแก่น!R68+[1]กาฬสินทร์!R68+[1]มุกดาหาร!R68+[1]หนองบัว!R68+[1]มหาสารคราม!R68+[1]อุบล!R68+[1]ศรีสะเกษ!R68+[1]อำนาจ!R68+[1]ร้อยเอ็ด!R68+[1]ยโสธร!R68+[1]นครสวรรค์!R68+[1]พิจิตร!R68+[1]กำแพงเพชร!R68+[1]ตาก!R68+[1]พิษณุโลก!R68+[1]เลย!R68+[1]เพชรบูลย์!R68+[1]อุดรดิต!R68+[1]สุโขทัย!R68+[1]ลำปาง!R68+[1]ลำพูน!R68+[1]แพร่!R68+[1]สุราษ!R68+[1]ชุมพร!R68+[1]ระนอง!R68+[1]สงขลา!R68+[1]สตูล!R68+[1]กรุงเทพ!R68+[1]ปทุม!R68+[1]นนทบุรี!R68+[1]นครนายก!R68+[1]อยุธยา!R68+[1]อ่างทอง!R68+[1]สระบุรี!R68+[1]ลพบุรี!R68+[1]นครปฐม!R68+[1]สมุทรสงคราม!R68+[1]สมุทรสาคร!R68+[1]ระยอง!R68+[1]จันทบุรี!R68+[1]ตราด!R68+[1]อุดร!R68+[1]หนองคาย!R68+[1]บึงกาฬ!R68+[1]สกลนคร!R68+[1]นครพนม!R68+[1]เชียงใหม่!R68+[1]แม่ฮ่องสอน!R68+[1]เชียงราย!R68+[1]พะเยา!R68+[1]น่าน!R68+[1]ภูเก็ต!R68+[1]พังงา!R68+[1]กระบี่!R68+[1]นครศรี!R68+[1]พัทลุง!R68+[1]ตรัง!R68+[1]ปัตตานี!R68+[1]ยะลา!R68+[1]นราธิวาส!R68+[1]เชียงแสน!R68+[1]ยานยนต!R68+[1]สถาบันสุขภาพ!R68 -> 0
A65: 2. ค่าสาธารณูปโภค | B65: =SUM(C65:P65) -> 0 | C65: =SUM(C66:C70) -> 0 | D65: =SUM(D66:D70) -> 0 | E65: =SUM(E66:E70) -> 0 | F65: =SUM(F66:F70) -> 0 | G65: =SUM(G66:G70) -> 0 | H65: =SUM(H66:H70) -> 0 | I65: =SUM(I66:I70) -> 0 | J65: =SUM(J66:J70) -> 0 | ... P65: =SUM(P66:P70) -> 0
A66: - ค่าไฟฟ้า
A67: - ค่าน้ำประปา
A68: - ค่าโทรศัพท์
A69: - ค่าไปรษณีย์
A70: - ค่าบริการสื่อสารและโทรคมนาคม

Sheet ส่วนภูมิภาค 
A1: รายงานผลการใช้จ่ายงบประมาณ ประจำปีงบประมาณ พ.ศ. 2561
A2: หน่วยงาน.................................................
A3: ณ ........................................... | P3: (บช1/61)
C5: แผนงานยุทธศาสตร์ พัฒนาและยกระดับผลิตภาพแรงงาน | I5: แผนงานพื้นฐาน ด้านการสร้างความสามารถในการแข่งขันของประเทศ | P5: บุคลากรภาครัฐ
D6: โครงการ ยกระดับแรงงานไทยให้ได้มาตรฐานฝีมือแรงงานเพื่อรองรับการแข่งขัน | I6: ผลผลิต พัฒนา/ขับเคลื่อนความร่วมมือเครือข่าย และส่งเสริมการพัฒนาฝีมือแรงงาน
A8: งบรายจ่าย/รายการ | B8: รวม | C8: โครงการควบคุมและกำกับ | D8: ก. ทอสอบมาตรฐาน | E8: ก. ส่งเสริมมาตรฐาน | F8: ก. พัฒนาศัยยภาพแรงงาน | G8: ก. พัฒนาศักยภาพ | H8: ก. จัดตั้งศูนย์ | I8: ก. พัฒนาระบบการฝึก | J8: ก. ส่งเสริมและสนับสนุน | K8: ก. จัดทำหลักเกณฑ์ | L8: ก. พัฒนาช่างเครื่องช่วย | M8: ก. ขับเคลื่อนยุทธศาสตร์ | N8: ก. พัฒนาฝีมือแรงงาน | O8: ก. เพิ่มประสิทธิภาพ | P8: ก. พัฒนาและยกระดับ
C9: ดูแลการประกอบอาชีพที่อาจ | D9: ฝีมือแรงงานให้มี | E9: ฝีมือแรงงานแห่งชาติ | F9: เพื่อรองรับการจ่ายค่าจ้าง | G9: มาตรฐานฝีมือ | H9: ทดสอบมาตรฐาน | I9: อบรมฝีมือแรงงาน | J9: ให้สถานประกอบกิจการ | K9: พัฒนาระบบ | L9: คนพิการกับมูลนิธิ | M9: การพัฒนากำลังคน | N9: นานาชาติ | O9: แรงงานไทย | P9: ผลิตภาพแรงงาน
C10: เป็นอันตรายต่อสาธารณะฯ | D10: สมรรถนะ | F10: ตามมาตรฐาน | G10: แรงงานไทย | H10: ฝืมือแรงงาน | J10: ดำเนินการพัฒนา | K10: ส่งเสริมและรับรอง | L10: ขาเทียม | M10: ระดับชาติรองรับ | P10: แรงงาน
G11: ในต่างประเทศ | J11: ฝีมือแรงงาน | K11: มาตรฐานฝีมือแรงงาน | M11: การพัฒนาอุตสาหกรรมฯ
C12: M2562 | D12: M2564 | E12: M2565 | F12: M2566 | G12: M2567 | H12: M2568 | I12: M2570 | J12: M2571 | K12: M2572 | L12: M2573 | M12: M2574 | N12: L2891 | O12: L2895 | P12: M2569
A13: งบดำเนินงาน | B13: =SUM(C13:P13) -> 0 | C13: =+C14+C63 -> 0 | D13: =+D14+D63 -> 0 | E13: =+E14+E63 -> 0 | F13: =+F14+F63 -> 0 | G13: =+G14+G63 -> 0 | H13: =+H14+H63 -> 0 | I13: =+I14+I63 -> 0 | J13: =+J14+J63 -> 0 | ... P13: =+P14+P63 -> 0
A14: 1. ค่าตอบแทนใช้สอยและวัสดุ | B14: =SUM(F14:P14) -> 0 | C14: =+C15+C26+C35+C55 -> 0 | D14: =+D15+D26+D35+D55 -> 0 | E14: =+E15+E26+E35+E55 -> 0 | F14: =+F15+F26+F35+F55 -> 0 | G14: =+G15+G26+G35+G55 -> 0 | H14: =+H15+H26+H35+H55 -> 0 | I14: =+I15+I26+I35+I55 -> 0 | J14: =+J15+J26+J35+J55 -> 0 | ... P14: =+P15+P26+P35+P55 -> 0
A15: - ค่าตอบแทน | B15: =SUM(C15:P15) -> 0 | C15: =SUM(C16:C25) -> 0 | D15: =SUM(D16:D25) -> 0 | E15: =SUM(E16:E25) -> 0 | F15: =SUM(F16:F25) -> 0 | G15: =SUM(G16:G25) -> 0 | H15: =SUM(H16:H25) -> 0 | I15: =SUM(I16:I25) -> 0 | J15: =SUM(J16:J25) -> 0 | ... P15: =SUM(P16:P25) -> 0
A16: - ค่าเช่าบ้าน
A17: - เงินตอบแทนพิเศษของข้าราชการผู้ได้รับเงินเดือนขั้นสูงของอันดับ
A18: - เงินตอบแทนพิเศษของลูกจ้างประจำผู้ได้รับค่าจ้างถึงขั้นสูงของตำแหน่ง
A19: - เงินตอบแทนเหมาจ่ายแทนการจัดหารถประจำตำแหน่ง
A20: - เงินตอบแทนพิเศษของพนักงานราชการ (อัตราเดิม)
A21: - เงินตอบแทนการปฏิบัติงานนอกราชการ
A22: - ค่าตอบแทนผู้ปฏิบัติงานให้ราชการ (กรรมการตรวจการสอบ
A23: สัมภาษณ์ คุมสอบ วิทยากรในการประชุม ตรวจการจ้าง ควบคุมงาน)
A24: - ค่าเบี้ยประชุมกรรมการ (ประธาน กรรมการ อนุกรรมการ
A25: - เงินตอบแทนพิเศษรายเดือนสำหรับผู้ปฏิบัติงานในเขตพื้นที่พิเศษ
A26: - ค่าใช้สอย | B26: =SUM(C26:P26) -> 0 | C26: =SUM(C27:C34) -> 0 | D26: =SUM(D27:D34) -> 0 | E26: =SUM(E27:E34) -> 0 | F26: =SUM(F27:F34) -> 0 | G26: =SUM(G27:G34) -> 0 | H26: =SUM(H27:H34) -> 0 | I26: =SUM(I27:I34) -> 0 | J26: =SUM(J27:J34) -> 0 | ... P26: =SUM(P27:P34) -> 0
A27: - ค่าเช่าทรัพย์สิน | O27: =+[1]สมุทรปราการ!Q30+[1]ฉะเชิงเทรา!Q30+[1]สุพรรณ!Q30+[1]สิงห์บุรี!Q30+[1]ชัยนาท!Q30+[1]อุทัย!Q30+[1]ชลบุรี!Q30+[1]ปราจีน!Q30+[1]สระแก้ว!Q30+[1]ราชบุรี!Q30+[1]เพชรบุรี!Q30+[1]กาญจนบุรี!Q30+[1]ประจวบ!Q30+[1]นครราชสีมา!Q30+[1]ชัยภูมิ!Q30+[1]สุรินทร์!Q30+[1]บุรีรัมย์!Q30+[1]ขอนแก่น!Q30+[1]กาฬสินทร์!Q30+[1]มุกดาหาร!Q30+[1]หนองบัว!Q30+[1]มหาสารคราม!Q30+[1]อุบล!Q30+[1]ศรีสะเกษ!Q30+[1]อำนาจ!Q30+[1]ร้อยเอ็ด!Q30+[1]ยโสธร!Q30+[1]นครสวรรค์!Q30+[1]พิจิตร!Q30+[1]กำแพงเพชร!Q30+[1]ตาก!Q30+[1]พิษณุโลก!Q30+[1]เลย!Q30+[1]เพชรบูลย์!Q30+[1]อุดรดิต!Q30+[1]สุโขทัย!Q30+[1]ลำปาง!Q30+[1]ลำพูน!Q30+[1]แพร่!Q30+[1]สุราษ!Q30+[1]ชุมพร!Q30+[1]ระนอง!Q30+[1]สงขลา!Q30+[1]สตูล!Q30+[1]กรุงเทพ!Q30+[1]ปทุม!Q30+[1]นนทบุรี!Q30+[1]นครนายก!Q30+[1]อยุธยา!Q30+[1]อ่างทอง!Q30+[1]สระบุรี!Q30+[1]ลพบุรี!Q30+[1]นครปฐม!Q30+[1]สมุทรสงคราม!Q30+[1]สมุทรสาคร!Q30+[1]ระยอง!Q30+[1]จันทบุรี!Q30+[1]ตราด!Q30+[1]อุดร!Q30+[1]หนองคาย!Q30+[1]บึงกาฬ!Q30+[1]สกลนคร!Q30+[1]นครพนม!Q30+[1]เชียงใหม่!Q30+[1]แม่ฮ่องสอน!Q30+[1]เชียงราย!Q30+[1]พะเยา!Q30+[1]น่าน!Q30+[1]ภูเก็ต!Q30+[1]พังงา!Q30+[1]กระบี่!Q30+[1]นครศรี!Q30+[1]พัทลุง!Q30+[1]ตรัง!Q30+[1]ปัตตานี!Q30+[1]ยะลา!Q30+[1]นราธิวาส!Q30+[1]เชียงแสน!Q30+[1]ยานยนต!Q30+[1]สถาบันสุขภาพ!Q30 -> 0 | P27: =+[1]สมุทรปราการ!R30+[1]ฉะเชิงเทรา!R30+[1]สุพรรณ!R30+[1]สิงห์บุรี!R30+[1]ชัยนาท!R30+[1]อุทัย!R30+[1]ชลบุรี!R30+[1]ปราจีน!R30+[1]สระแก้ว!R30+[1]ราชบุรี!R30+[1]เพชรบุรี!R30+[1]กาญจนบุรี!R30+[1]ประจวบ!R30+[1]นครราชสีมา!R30+[1]ชัยภูมิ!R30+[1]สุรินทร์!R30+[1]บุรีรัมย์!R30+[1]ขอนแก่น!R30+[1]กาฬสินทร์!R30+[1]มุกดาหาร!R30+[1]หนองบัว!R30+[1]มหาสารคราม!R30+[1]อุบล!R30+[1]ศรีสะเกษ!R30+[1]อำนาจ!R30+[1]ร้อยเอ็ด!R30+[1]ยโสธร!R30+[1]นครสวรรค์!R30+[1]พิจิตร!R30+[1]กำแพงเพชร!R30+[1]ตาก!R30+[1]พิษณุโลก!R30+[1]เลย!R30+[1]เพชรบูลย์!R30+[1]อุดรดิต!R30+[1]สุโขทัย!R30+[1]ลำปาง!R30+[1]ลำพูน!R30+[1]แพร่!R30+[1]สุราษ!R30+[1]ชุมพร!R30+[1]ระนอง!R30+[1]สงขลา!R30+[1]สตูล!R30+[1]กรุงเทพ!R30+[1]ปทุม!R30+[1]นนทบุรี!R30+[1]นครนายก!R30+[1]อยุธยา!R30+[1]อ่างทอง!R30+[1]สระบุรี!R30+[1]ลพบุรี!R30+[1]นครปฐม!R30+[1]สมุทรสงคราม!R30+[1]สมุทรสาคร!R30+[1]ระยอง!R30+[1]จันทบุรี!R30+[1]ตราด!R30+[1]อุดร!R30+[1]หนองคาย!R30+[1]บึงกาฬ!R30+[1]สกลนคร!R30+[1]นครพนม!R30+[1]เชียงใหม่!R30+[1]แม่ฮ่องสอน!R30+[1]เชียงราย!R30+[1]พะเยา!R30+[1]น่าน!R30+[1]ภูเก็ต!R30+[1]พังงา!R30+[1]กระบี่!R30+[1]นครศรี!R30+[1]พัทลุง!R30+[1]ตรัง!R30+[1]ปัตตานี!R30+[1]ยะลา!R30+[1]นราธิวาส!R30+[1]เชียงแสน!R30+[1]ยานยนต!R30+[1]สถาบันสุขภาพ!R30 -> 0
A28: - เงินสมทบกองทุนประกันสังคม | O28: =+[1]สมุทรปราการ!Q31+[1]ฉะเชิงเทรา!Q31+[1]สุพรรณ!Q31+[1]สิงห์บุรี!Q31+[1]ชัยนาท!Q31+[1]อุทัย!Q31+[1]ชลบุรี!Q31+[1]ปราจีน!Q31+[1]สระแก้ว!Q31+[1]ราชบุรี!Q31+[1]เพชรบุรี!Q31+[1]กาญจนบุรี!Q31+[1]ประจวบ!Q31+[1]นครราชสีมา!Q31+[1]ชัยภูมิ!Q31+[1]สุรินทร์!Q31+[1]บุรีรัมย์!Q31+[1]ขอนแก่น!Q31+[1]กาฬสินทร์!Q31+[1]มุกดาหาร!Q31+[1]หนองบัว!Q31+[1]มหาสารคราม!Q31+[1]อุบล!Q31+[1]ศรีสะเกษ!Q31+[1]อำนาจ!Q31+[1]ร้อยเอ็ด!Q31+[1]ยโสธร!Q31+[1]นครสวรรค์!Q31+[1]พิจิตร!Q31+[1]กำแพงเพชร!Q31+[1]ตาก!Q31+[1]พิษณุโลก!Q31+[1]เลย!Q31+[1]เพชรบูลย์!Q31+[1]อุดรดิต!Q31+[1]สุโขทัย!Q31+[1]ลำปาง!Q31+[1]ลำพูน!Q31+[1]แพร่!Q31+[1]สุราษ!Q31+[1]ชุมพร!Q31+[1]ระนอง!Q31+[1]สงขลา!Q31+[1]สตูล!Q31+[1]กรุงเทพ!Q31+[1]ปทุม!Q31+[1]นนทบุรี!Q31+[1]นครนายก!Q31+[1]อยุธยา!Q31+[1]อ่างทอง!Q31+[1]สระบุรี!Q31+[1]ลพบุรี!Q31+[1]นครปฐม!Q31+[1]สมุทรสงคราม!Q31+[1]สมุทรสาคร!Q31+[1]ระยอง!Q31+[1]จันทบุรี!Q31+[1]ตราด!Q31+[1]อุดร!Q31+[1]หนองคาย!Q31+[1]บึงกาฬ!Q31+[1]สกลนคร!Q31+[1]นครพนม!Q31+[1]เชียงใหม่!Q31+[1]แม่ฮ่องสอน!Q31+[1]เชียงราย!Q31+[1]พะเยา!Q31+[1]น่าน!Q31+[1]ภูเก็ต!Q31+[1]พังงา!Q31+[1]กระบี่!Q31+[1]นครศรี!Q31+[1]พัทลุง!Q31+[1]ตรัง!Q31+[1]ปัตตานี!Q31+[1]ยะลา!Q31+[1]นราธิวาส!Q31+[1]เชียงแสน!Q31+[1]ยานยนต!Q31+[1]สถาบันสุขภาพ!Q31 -> 0 | P28: =+[1]สมุทรปราการ!R31+[1]ฉะเชิงเทรา!R31+[1]สุพรรณ!R31+[1]สิงห์บุรี!R31+[1]ชัยนาท!R31+[1]อุทัย!R31+[1]ชลบุรี!R31+[1]ปราจีน!R31+[1]สระแก้ว!R31+[1]ราชบุรี!R31+[1]เพชรบุรี!R31+[1]กาญจนบุรี!R31+[1]ประจวบ!R31+[1]นครราชสีมา!R31+[1]ชัยภูมิ!R31+[1]สุรินทร์!R31+[1]บุรีรัมย์!R31+[1]ขอนแก่น!R31+[1]กาฬสินทร์!R31+[1]มุกดาหาร!R31+[1]หนองบัว!R31+[1]มหาสารคราม!R31+[1]อุบล!R31+[1]ศรีสะเกษ!R31+[1]อำนาจ!R31+[1]ร้อยเอ็ด!R31+[1]ยโสธร!R31+[1]นครสวรรค์!R31+[1]พิจิตร!R31+[1]กำแพงเพชร!R31+[1]ตาก!R31+[1]พิษณุโลก!R31+[1]เลย!R31+[1]เพชรบูลย์!R31+[1]อุดรดิต!R31+[1]สุโขทัย!R31+[1]ลำปาง!R31+[1]ลำพูน!R31+[1]แพร่!R31+[1]สุราษ!R31+[1]ชุมพร!R31+[1]ระนอง!R31+[1]สงขลา!R31+[1]สตูล!R31+[1]กรุงเทพ!R31+[1]ปทุม!R31+[1]นนทบุรี!R31+[1]นครนายก!R31+[1]อยุธยา!R31+[1]อ่างทอง!R31+[1]สระบุรี!R31+[1]ลพบุรี!R31+[1]นครปฐม!R31+[1]สมุทรสงคราม!R31+[1]สมุทรสาคร!R31+[1]ระยอง!R31+[1]จันทบุรี!R31+[1]ตราด!R31+[1]อุดร!R31+[1]หนองคาย!R31+[1]บึงกาฬ!R31+[1]สกลนคร!R31+[1]นครพนม!R31+[1]เชียงใหม่!R31+[1]แม่ฮ่องสอน!R31+[1]เชียงราย!R31+[1]พะเยา!R31+[1]น่าน!R31+[1]ภูเก็ต!R31+[1]พังงา!R31+[1]กระบี่!R31+[1]นครศรี!R31+[1]พัทลุง!R31+[1]ตรัง!R31+[1]ปัตตานี!R31+[1]ยะลา!R31+[1]นราธิวาส!R31+[1]เชียงแสน!R31+[1]ยานยนต!R31+[1]สถาบันสุขภาพ!R31 -> 0
A29: * ค่าเบี้ยเลี้ยงเดินทางในประเทศ | O29: =+[1]สมุทรปราการ!Q32+[1]ฉะเชิงเทรา!Q32+[1]สุพรรณ!Q32+[1]สิงห์บุรี!Q32+[1]ชัยนาท!Q32+[1]อุทัย!Q32+[1]ชลบุรี!Q32+[1]ปราจีน!Q32+[1]สระแก้ว!Q32+[1]ราชบุรี!Q32+[1]เพชรบุรี!Q32+[1]กาญจนบุรี!Q32+[1]ประจวบ!Q32+[1]นครราชสีมา!Q32+[1]ชัยภูมิ!Q32+[1]สุรินทร์!Q32+[1]บุรีรัมย์!Q32+[1]ขอนแก่น!Q32+[1]กาฬสินทร์!Q32+[1]มุกดาหาร!Q32+[1]หนองบัว!Q32+[1]มหาสารคราม!Q32+[1]อุบล!Q32+[1]ศรีสะเกษ!Q32+[1]อำนาจ!Q32+[1]ร้อยเอ็ด!Q32+[1]ยโสธร!Q32+[1]นครสวรรค์!Q32+[1]พิจิตร!Q32+[1]กำแพงเพชร!Q32+[1]ตาก!Q32+[1]พิษณุโลก!Q32+[1]เลย!Q32+[1]เพชรบูลย์!Q32+[1]อุดรดิต!Q32+[1]สุโขทัย!Q32+[1]ลำปาง!Q32+[1]ลำพูน!Q32+[1]แพร่!Q32+[1]สุราษ!Q32+[1]ชุมพร!Q32+[1]ระนอง!Q32+[1]สงขลา!Q32+[1]สตูล!Q32+[1]กรุงเทพ!Q32+[1]ปทุม!Q32+[1]นนทบุรี!Q32+[1]นครนายก!Q32+[1]อยุธยา!Q32+[1]อ่างทอง!Q32+[1]สระบุรี!Q32+[1]ลพบุรี!Q32+[1]นครปฐม!Q32+[1]สมุทรสงคราม!Q32+[1]สมุทรสาคร!Q32+[1]ระยอง!Q32+[1]จันทบุรี!Q32+[1]ตราด!Q32+[1]อุดร!Q32+[1]หนองคาย!Q32+[1]บึงกาฬ!Q32+[1]สกลนคร!Q32+[1]นครพนม!Q32+[1]เชียงใหม่!Q32+[1]แม่ฮ่องสอน!Q32+[1]เชียงราย!Q32+[1]พะเยา!Q32+[1]น่าน!Q32+[1]ภูเก็ต!Q32+[1]พังงา!Q32+[1]กระบี่!Q32+[1]นครศรี!Q32+[1]พัทลุง!Q32+[1]ตรัง!Q32+[1]ปัตตานี!Q32+[1]ยะลา!Q32+[1]นราธิวาส!Q32+[1]เชียงแสน!Q32+[1]ยานยนต!Q32+[1]สถาบันสุขภาพ!Q32 -> 0 | P29: =+[1]สมุทรปราการ!R32+[1]ฉะเชิงเทรา!R32+[1]สุพรรณ!R32+[1]สิงห์บุรี!R32+[1]ชัยนาท!R32+[1]อุทัย!R32+[1]ชลบุรี!R32+[1]ปราจีน!R32+[1]สระแก้ว!R32+[1]ราชบุรี!R32+[1]เพชรบุรี!R32+[1]กาญจนบุรี!R32+[1]ประจวบ!R32+[1]นครราชสีมา!R32+[1]ชัยภูมิ!R32+[1]สุรินทร์!R32+[1]บุรีรัมย์!R32+[1]ขอนแก่น!R32+[1]กาฬสินทร์!R32+[1]มุกดาหาร!R32+[1]หนองบัว!R32+[1]มหาสารคราม!R32+[1]อุบล!R32+[1]ศรีสะเกษ!R32+[1]อำนาจ!R32+[1]ร้อยเอ็ด!R32+[1]ยโสธร!R32+[1]นครสวรรค์!R32+[1]พิจิตร!R32+[1]กำแพงเพชร!R32+[1]ตาก!R32+[1]พิษณุโลก!R32+[1]เลย!R32+[1]เพชรบูลย์!R32+[1]อุดรดิต!R32+[1]สุโขทัย!R32+[1]ลำปาง!R32+[1]ลำพูน!R32+[1]แพร่!R32+[1]สุราษ!R32+[1]ชุมพร!R32+[1]ระนอง!R32+[1]สงขลา!R32+[1]สตูล!R32+[1]กรุงเทพ!R32+[1]ปทุม!R32+[1]นนทบุรี!R32+[1]นครนายก!R32+[1]อยุธยา!R32+[1]อ่างทอง!R32+[1]สระบุรี!R32+[1]ลพบุรี!R32+[1]นครปฐม!R32+[1]สมุทรสงคราม!R32+[1]สมุทรสาคร!R32+[1]ระยอง!R32+[1]จันทบุรี!R32+[1]ตราด!R32+[1]อุดร!R32+[1]หนองคาย!R32+[1]บึงกาฬ!R32+[1]สกลนคร!R32+[1]นครพนม!R32+[1]เชียงใหม่!R32+[1]แม่ฮ่องสอน!R32+[1]เชียงราย!R32+[1]พะเยา!R32+[1]น่าน!R32+[1]ภูเก็ต!R32+[1]พังงา!R32+[1]กระบี่!R32+[1]นครศรี!R32+[1]พัทลุง!R32+[1]ตรัง!R32+[1]ปัตตานี!R32+[1]ยะลา!R32+[1]นราธิวาส!R32+[1]เชียงแสน!R32+[1]ยานยนต!R32+[1]สถาบันสุขภาพ!R32 -> 0
A30: * ค่าที่พัก | O30: =+[1]สมุทรปราการ!Q33+[1]ฉะเชิงเทรา!Q33+[1]สุพรรณ!Q33+[1]สิงห์บุรี!Q33+[1]ชัยนาท!Q33+[1]อุทัย!Q33+[1]ชลบุรี!Q33+[1]ปราจีน!Q33+[1]สระแก้ว!Q33+[1]ราชบุรี!Q33+[1]เพชรบุรี!Q33+[1]กาญจนบุรี!Q33+[1]ประจวบ!Q33+[1]นครราชสีมา!Q33+[1]ชัยภูมิ!Q33+[1]สุรินทร์!Q33+[1]บุรีรัมย์!Q33+[1]ขอนแก่น!Q33+[1]กาฬสินทร์!Q33+[1]มุกดาหาร!Q33+[1]หนองบัว!Q33+[1]มหาสารคราม!Q33+[1]อุบล!Q33+[1]ศรีสะเกษ!Q33+[1]อำนาจ!Q33+[1]ร้อยเอ็ด!Q33+[1]ยโสธร!Q33+[1]นครสวรรค์!Q33+[1]พิจิตร!Q33+[1]กำแพงเพชร!Q33+[1]ตาก!Q33+[1]พิษณุโลก!Q33+[1]เลย!Q33+[1]เพชรบูลย์!Q33+[1]อุดรดิต!Q33+[1]สุโขทัย!Q33+[1]ลำปาง!Q33+[1]ลำพูน!Q33+[1]แพร่!Q33+[1]สุราษ!Q33+[1]ชุมพร!Q33+[1]ระนอง!Q33+[1]สงขลา!Q33+[1]สตูล!Q33+[1]กรุงเทพ!Q33+[1]ปทุม!Q33+[1]นนทบุรี!Q33+[1]นครนายก!Q33+[1]อยุธยา!Q33+[1]อ่างทอง!Q33+[1]สระบุรี!Q33+[1]ลพบุรี!Q33+[1]นครปฐม!Q33+[1]สมุทรสงคราม!Q33+[1]สมุทรสาคร!Q33+[1]ระยอง!Q33+[1]จันทบุรี!Q33+[1]ตราด!Q33+[1]อุดร!Q33+[1]หนองคาย!Q33+[1]บึงกาฬ!Q33+[1]สกลนคร!Q33+[1]นครพนม!Q33+[1]เชียงใหม่!Q33+[1]แม่ฮ่องสอน!Q33+[1]เชียงราย!Q33+[1]พะเยา!Q33+[1]น่าน!Q33+[1]ภูเก็ต!Q33+[1]พังงา!Q33+[1]กระบี่!Q33+[1]นครศรี!Q33+[1]พัทลุง!Q33+[1]ตรัง!Q33+[1]ปัตตานี!Q33+[1]ยะลา!Q33+[1]นราธิวาส!Q33+[1]เชียงแสน!Q33+[1]ยานยนต!Q33+[1]สถาบันสุขภาพ!Q33 -> 0 | P30: =+[1]สมุทรปราการ!R33+[1]ฉะเชิงเทรา!R33+[1]สุพรรณ!R33+[1]สิงห์บุรี!R33+[1]ชัยนาท!R33+[1]อุทัย!R33+[1]ชลบุรี!R33+[1]ปราจีน!R33+[1]สระแก้ว!R33+[1]ราชบุรี!R33+[1]เพชรบุรี!R33+[1]กาญจนบุรี!R33+[1]ประจวบ!R33+[1]นครราชสีมา!R33+[1]ชัยภูมิ!R33+[1]สุรินทร์!R33+[1]บุรีรัมย์!R33+[1]ขอนแก่น!R33+[1]กาฬสินทร์!R33+[1]มุกดาหาร!R33+[1]หนองบัว!R33+[1]มหาสารคราม!R33+[1]อุบล!R33+[1]ศรีสะเกษ!R33+[1]อำนาจ!R33+[1]ร้อยเอ็ด!R33+[1]ยโสธร!R33+[1]นครสวรรค์!R33+[1]พิจิตร!R33+[1]กำแพงเพชร!R33+[1]ตาก!R33+[1]พิษณุโลก!R33+[1]เลย!R33+[1]เพชรบูลย์!R33+[1]อุดรดิต!R33+[1]สุโขทัย!R33+[1]ลำปาง!R33+[1]ลำพูน!R33+[1]แพร่!R33+[1]สุราษ!R33+[1]ชุมพร!R33+[1]ระนอง!R33+[1]สงขลา!R33+[1]สตูล!R33+[1]กรุงเทพ!R33+[1]ปทุม!R33+[1]นนทบุรี!R33+[1]นครนายก!R33+[1]อยุธยา!R33+[1]อ่างทอง!R33+[1]สระบุรี!R33+[1]ลพบุรี!R33+[1]นครปฐม!R33+[1]สมุทรสงคราม!R33+[1]สมุทรสาคร!R33+[1]ระยอง!R33+[1]จันทบุรี!R33+[1]ตราด!R33+[1]อุดร!R33+[1]หนองคาย!R33+[1]บึงกาฬ!R33+[1]สกลนคร!R33+[1]นครพนม!R33+[1]เชียงใหม่!R33+[1]แม่ฮ่องสอน!R33+[1]เชียงราย!R33+[1]พะเยา!R33+[1]น่าน!R33+[1]ภูเก็ต!R33+[1]พังงา!R33+[1]กระบี่!R33+[1]นครศรี!R33+[1]พัทลุง!R33+[1]ตรัง!R33+[1]ปัตตานี!R33+[1]ยะลา!R33+[1]นราธิวาส!R33+[1]เชียงแสน!R33+[1]ยานยนต!R33+[1]สถาบันสุขภาพ!R33 -> 0
A31: * ค่าพาหนะเดินทางในประเทศ | O31: =+[1]สมุทรปราการ!Q34+[1]ฉะเชิงเทรา!Q34+[1]สุพรรณ!Q34+[1]สิงห์บุรี!Q34+[1]ชัยนาท!Q34+[1]อุทัย!Q34+[1]ชลบุรี!Q34+[1]ปราจีน!Q34+[1]สระแก้ว!Q34+[1]ราชบุรี!Q34+[1]เพชรบุรี!Q34+[1]กาญจนบุรี!Q34+[1]ประจวบ!Q34+[1]นครราชสีมา!Q34+[1]ชัยภูมิ!Q34+[1]สุรินทร์!Q34+[1]บุรีรัมย์!Q34+[1]ขอนแก่น!Q34+[1]กาฬสินทร์!Q34+[1]มุกดาหาร!Q34+[1]หนองบัว!Q34+[1]มหาสารคราม!Q34+[1]อุบล!Q34+[1]ศรีสะเกษ!Q34+[1]อำนาจ!Q34+[1]ร้อยเอ็ด!Q34+[1]ยโสธร!Q34+[1]นครสวรรค์!Q34+[1]พิจิตร!Q34+[1]กำแพงเพชร!Q34+[1]ตาก!Q34+[1]พิษณุโลก!Q34+[1]เลย!Q34+[1]เพชรบูลย์!Q34+[1]อุดรดิต!Q34+[1]สุโขทัย!Q34+[1]ลำปาง!Q34+[1]ลำพูน!Q34+[1]แพร่!Q34+[1]สุราษ!Q34+[1]ชุมพร!Q34+[1]ระนอง!Q34+[1]สงขลา!Q34+[1]สตูล!Q34+[1]กรุงเทพ!Q34+[1]ปทุม!Q34+[1]นนทบุรี!Q34+[1]นครนายก!Q34+[1]อยุธยา!Q34+[1]อ่างทอง!Q34+[1]สระบุรี!Q34+[1]ลพบุรี!Q34+[1]นครปฐม!Q34+[1]สมุทรสงคราม!Q34+[1]สมุทรสาคร!Q34+[1]ระยอง!Q34+[1]จันทบุรี!Q34+[1]ตราด!Q34+[1]อุดร!Q34+[1]หนองคาย!Q34+[1]บึงกาฬ!Q34+[1]สกลนคร!Q34+[1]นครพนม!Q34+[1]เชียงใหม่!Q34+[1]แม่ฮ่องสอน!Q34+[1]เชียงราย!Q34+[1]พะเยา!Q34+[1]น่าน!Q34+[1]ภูเก็ต!Q34+[1]พังงา!Q34+[1]กระบี่!Q34+[1]นครศรี!Q34+[1]พัทลุง!Q34+[1]ตรัง!Q34+[1]ปัตตานี!Q34+[1]ยะลา!Q34+[1]นราธิวาส!Q34+[1]เชียงแสน!Q34+[1]ยานยนต!Q34+[1]สถาบันสุขภาพ!Q34 -> 0 | P31: =+[1]สมุทรปราการ!R34+[1]ฉะเชิงเทรา!R34+[1]สุพรรณ!R34+[1]สิงห์บุรี!R34+[1]ชัยนาท!R34+[1]อุทัย!R34+[1]ชลบุรี!R34+[1]ปราจีน!R34+[1]สระแก้ว!R34+[1]ราชบุรี!R34+[1]เพชรบุรี!R34+[1]กาญจนบุรี!R34+[1]ประจวบ!R34+[1]นครราชสีมา!R34+[1]ชัยภูมิ!R34+[1]สุรินทร์!R34+[1]บุรีรัมย์!R34+[1]ขอนแก่น!R34+[1]กาฬสินทร์!R34+[1]มุกดาหาร!R34+[1]หนองบัว!R34+[1]มหาสารคราม!R34+[1]อุบล!R34+[1]ศรีสะเกษ!R34+[1]อำนาจ!R34+[1]ร้อยเอ็ด!R34+[1]ยโสธร!R34+[1]นครสวรรค์!R34+[1]พิจิตร!R34+[1]กำแพงเพชร!R34+[1]ตาก!R34+[1]พิษณุโลก!R34+[1]เลย!R34+[1]เพชรบูลย์!R34+[1]อุดรดิต!R34+[1]สุโขทัย!R34+[1]ลำปาง!R34+[1]ลำพูน!R34+[1]แพร่!R34+[1]สุราษ!R34+[1]ชุมพร!R34+[1]ระนอง!R34+[1]สงขลา!R34+[1]สตูล!R34+[1]กรุงเทพ!R34+[1]ปทุม!R34+[1]นนทบุรี!R34+[1]นครนายก!R34+[1]อยุธยา!R34+[1]อ่างทอง!R34+[1]สระบุรี!R34+[1]ลพบุรี!R34+[1]นครปฐม!R34+[1]สมุทรสงคราม!R34+[1]สมุทรสาคร!R34+[1]ระยอง!R34+[1]จันทบุรี!R34+[1]ตราด!R34+[1]อุดร!R34+[1]หนองคาย!R34+[1]บึงกาฬ!R34+[1]สกลนคร!R34+[1]นครพนม!R34+[1]เชียงใหม่!R34+[1]แม่ฮ่องสอน!R34+[1]เชียงราย!R34+[1]พะเยา!R34+[1]น่าน!R34+[1]ภูเก็ต!R34+[1]พังงา!R34+[1]กระบี่!R34+[1]นครศรี!R34+[1]พัทลุง!R34+[1]ตรัง!R34+[1]ปัตตานี!R34+[1]ยะลา!R34+[1]นราธิวาส!R34+[1]เชียงแสน!R34+[1]ยานยนต!R34+[1]สถาบันสุขภาพ!R34 -> 0
A32: - ค่าซ่อมแซมบำรุงรักษายานพาหนะและขนส่ง | O32: =+[1]สมุทรปราการ!Q35+[1]ฉะเชิงเทรา!Q35+[1]สุพรรณ!Q35+[1]สิงห์บุรี!Q35+[1]ชัยนาท!Q35+[1]อุทัย!Q35+[1]ชลบุรี!Q35+[1]ปราจีน!Q35+[1]สระแก้ว!Q35+[1]ราชบุรี!Q35+[1]เพชรบุรี!Q35+[1]กาญจนบุรี!Q35+[1]ประจวบ!Q35+[1]นครราชสีมา!Q35+[1]ชัยภูมิ!Q35+[1]สุรินทร์!Q35+[1]บุรีรัมย์!Q35+[1]ขอนแก่น!Q35+[1]กาฬสินทร์!Q35+[1]มุกดาหาร!Q35+[1]หนองบัว!Q35+[1]มหาสารคราม!Q35+[1]อุบล!Q35+[1]ศรีสะเกษ!Q35+[1]อำนาจ!Q35+[1]ร้อยเอ็ด!Q35+[1]ยโสธร!Q35+[1]นครสวรรค์!Q35+[1]พิจิตร!Q35+[1]กำแพงเพชร!Q35+[1]ตาก!Q35+[1]พิษณุโลก!Q35+[1]เลย!Q35+[1]เพชรบูลย์!Q35+[1]อุดรดิต!Q35+[1]สุโขทัย!Q35+[1]ลำปาง!Q35+[1]ลำพูน!Q35+[1]แพร่!Q35+[1]สุราษ!Q35+[1]ชุมพร!Q35+[1]ระนอง!Q35+[1]สงขลา!Q35+[1]สตูล!Q35+[1]กรุงเทพ!Q35+[1]ปทุม!Q35+[1]นนทบุรี!Q35+[1]นครนายก!Q35+[1]อยุธยา!Q35+[1]อ่างทอง!Q35+[1]สระบุรี!Q35+[1]ลพบุรี!Q35+[1]นครปฐม!Q35+[1]สมุทรสงคราม!Q35+[1]สมุทรสาคร!Q35+[1]ระยอง!Q35+[1]จันทบุรี!Q35+[1]ตราด!Q35+[1]อุดร!Q35+[1]หนองคาย!Q35+[1]บึงกาฬ!Q35+[1]สกลนคร!Q35+[1]นครพนม!Q35+[1]เชียงใหม่!Q35+[1]แม่ฮ่องสอน!Q35+[1]เชียงราย!Q35+[1]พะเยา!Q35+[1]น่าน!Q35+[1]ภูเก็ต!Q35+[1]พังงา!Q35+[1]กระบี่!Q35+[1]นครศรี!Q35+[1]พัทลุง!Q35+[1]ตรัง!Q35+[1]ปัตตานี!Q35+[1]ยะลา!Q35+[1]นราธิวาส!Q35+[1]เชียงแสน!Q35+[1]ยานยนต!Q35+[1]สถาบันสุขภาพ!Q35 -> 0 | P32: =+[1]สมุทรปราการ!R35+[1]ฉะเชิงเทรา!R35+[1]สุพรรณ!R35+[1]สิงห์บุรี!R35+[1]ชัยนาท!R35+[1]อุทัย!R35+[1]ชลบุรี!R35+[1]ปราจีน!R35+[1]สระแก้ว!R35+[1]ราชบุรี!R35+[1]เพชรบุรี!R35+[1]กาญจนบุรี!R35+[1]ประจวบ!R35+[1]นครราชสีมา!R35+[1]ชัยภูมิ!R35+[1]สุรินทร์!R35+[1]บุรีรัมย์!R35+[1]ขอนแก่น!R35+[1]กาฬสินทร์!R35+[1]มุกดาหาร!R35+[1]หนองบัว!R35+[1]มหาสารคราม!R35+[1]อุบล!R35+[1]ศรีสะเกษ!R35+[1]อำนาจ!R35+[1]ร้อยเอ็ด!R35+[1]ยโสธร!R35+[1]นครสวรรค์!R35+[1]พิจิตร!R35+[1]กำแพงเพชร!R35+[1]ตาก!R35+[1]พิษณุโลก!R35+[1]เลย!R35+[1]เพชรบูลย์!R35+[1]อุดรดิต!R35+[1]สุโขทัย!R35+[1]ลำปาง!R35+[1]ลำพูน!R35+[1]แพร่!R35+[1]สุราษ!R35+[1]ชุมพร!R35+[1]ระนอง!R35+[1]สงขลา!R35+[1]สตูล!R35+[1]กรุงเทพ!R35+[1]ปทุม!R35+[1]นนทบุรี!R35+[1]นครนายก!R35+[1]อยุธยา!R35+[1]อ่างทอง!R35+[1]สระบุรี!R35+[1]ลพบุรี!R35+[1]นครปฐม!R35+[1]สมุทรสงคราม!R35+[1]สมุทรสาคร!R35+[1]ระยอง!R35+[1]จันทบุรี!R35+[1]ตราด!R35+[1]อุดร!R35+[1]หนองคาย!R35+[1]บึงกาฬ!R35+[1]สกลนคร!R35+[1]นครพนม!R35+[1]เชียงใหม่!R35+[1]แม่ฮ่องสอน!R35+[1]เชียงราย!R35+[1]พะเยา!R35+[1]น่าน!R35+[1]ภูเก็ต!R35+[1]พังงา!R35+[1]กระบี่!R35+[1]นครศรี!R35+[1]พัทลุง!R35+[1]ตรัง!R35+[1]ปัตตานี!R35+[1]ยะลา!R35+[1]นราธิวาส!R35+[1]เชียงแสน!R35+[1]ยานยนต!R35+[1]สถาบันสุขภาพ!R35 -> 0
A33: - ค่าซ่อมแซมบำรุงรักษาครุภัณฑ์ | O33: =+[1]สมุทรปราการ!Q36+[1]ฉะเชิงเทรา!Q36+[1]สุพรรณ!Q36+[1]สิงห์บุรี!Q36+[1]ชัยนาท!Q36+[1]อุทัย!Q36+[1]ชลบุรี!Q36+[1]ปราจีน!Q36+[1]สระแก้ว!Q36+[1]ราชบุรี!Q36+[1]เพชรบุรี!Q36+[1]กาญจนบุรี!Q36+[1]ประจวบ!Q36+[1]นครราชสีมา!Q36+[1]ชัยภูมิ!Q36+[1]สุรินทร์!Q36+[1]บุรีรัมย์!Q36+[1]ขอนแก่น!Q36+[1]กาฬสินทร์!Q36+[1]มุกดาหาร!Q36+[1]หนองบัว!Q36+[1]มหาสารคราม!Q36+[1]อุบล!Q36+[1]ศรีสะเกษ!Q36+[1]อำนาจ!Q36+[1]ร้อยเอ็ด!Q36+[1]ยโสธร!Q36+[1]นครสวรรค์!Q36+[1]พิจิตร!Q36+[1]กำแพงเพชร!Q36+[1]ตาก!Q36+[1]พิษณุโลก!Q36+[1]เลย!Q36+[1]เพชรบูลย์!Q36+[1]อุดรดิต!Q36+[1]สุโขทัย!Q36+[1]ลำปาง!Q36+[1]ลำพูน!Q36+[1]แพร่!Q36+[1]สุราษ!Q36+[1]ชุมพร!Q36+[1]ระนอง!Q36+[1]สงขลา!Q36+[1]สตูล!Q36+[1]กรุงเทพ!Q36+[1]ปทุม!Q36+[1]นนทบุรี!Q36+[1]นครนายก!Q36+[1]อยุธยา!Q36+[1]อ่างทอง!Q36+[1]สระบุรี!Q36+[1]ลพบุรี!Q36+[1]นครปฐม!Q36+[1]สมุทรสงคราม!Q36+[1]สมุทรสาคร!Q36+[1]ระยอง!Q36+[1]จันทบุรี!Q36+[1]ตราด!Q36+[1]อุดร!Q36+[1]หนองคาย!Q36+[1]บึงกาฬ!Q36+[1]สกลนคร!Q36+[1]นครพนม!Q36+[1]เชียงใหม่!Q36+[1]แม่ฮ่องสอน!Q36+[1]เชียงราย!Q36+[1]พะเยา!Q36+[1]น่าน!Q36+[1]ภูเก็ต!Q36+[1]พังงา!Q36+[1]กระบี่!Q36+[1]นครศรี!Q36+[1]พัทลุง!Q36+[1]ตรัง!Q36+[1]ปัตตานี!Q36+[1]ยะลา!Q36+[1]นราธิวาส!Q36+[1]เชียงแสน!Q36+[1]ยานยนต!Q36+[1]สถาบันสุขภาพ!Q36 -> 0 | P33: =+[1]สมุทรปราการ!R36+[1]ฉะเชิงเทรา!R36+[1]สุพรรณ!R36+[1]สิงห์บุรี!R36+[1]ชัยนาท!R36+[1]อุทัย!R36+[1]ชลบุรี!R36+[1]ปราจีน!R36+[1]สระแก้ว!R36+[1]ราชบุรี!R36+[1]เพชรบุรี!R36+[1]กาญจนบุรี!R36+[1]ประจวบ!R36+[1]นครราชสีมา!R36+[1]ชัยภูมิ!R36+[1]สุรินทร์!R36+[1]บุรีรัมย์!R36+[1]ขอนแก่น!R36+[1]กาฬสินทร์!R36+[1]มุกดาหาร!R36+[1]หนองบัว!R36+[1]มหาสารคราม!R36+[1]อุบล!R36+[1]ศรีสะเกษ!R36+[1]อำนาจ!R36+[1]ร้อยเอ็ด!R36+[1]ยโสธร!R36+[1]นครสวรรค์!R36+[1]พิจิตร!R36+[1]กำแพงเพชร!R36+[1]ตาก!R36+[1]พิษณุโลก!R36+[1]เลย!R36+[1]เพชรบูลย์!R36+[1]อุดรดิต!R36+[1]สุโขทัย!R36+[1]ลำปาง!R36+[1]ลำพูน!R36+[1]แพร่!R36+[1]สุราษ!R36+[1]ชุมพร!R36+[1]ระนอง!R36+[1]สงขลา!R36+[1]สตูล!R36+[1]กรุงเทพ!R36+[1]ปทุม!R36+[1]นนทบุรี!R36+[1]นครนายก!R36+[1]อยุธยา!R36+[1]อ่างทอง!R36+[1]สระบุรี!R36+[1]ลพบุรี!R36+[1]นครปฐม!R36+[1]สมุทรสงคราม!R36+[1]สมุทรสาคร!R36+[1]ระยอง!R36+[1]จันทบุรี!R36+[1]ตราด!R36+[1]อุดร!R36+[1]หนองคาย!R36+[1]บึงกาฬ!R36+[1]สกลนคร!R36+[1]นครพนม!R36+[1]เชียงใหม่!R36+[1]แม่ฮ่องสอน!R36+[1]เชียงราย!R36+[1]พะเยา!R36+[1]น่าน!R36+[1]ภูเก็ต!R36+[1]พังงา!R36+[1]กระบี่!R36+[1]นครศรี!R36+[1]พัทลุง!R36+[1]ตรัง!R36+[1]ปัตตานี!R36+[1]ยะลา!R36+[1]นราธิวาส!R36+[1]เชียงแสน!R36+[1]ยานยนต!R36+[1]สถาบันสุขภาพ!R36 -> 0
A34: -ค่าซ่อมแซมบำรุงรักษาสิ่งก่อสร้าง | O34: =+[1]สมุทรปราการ!Q37+[1]ฉะเชิงเทรา!Q37+[1]สุพรรณ!Q37+[1]สิงห์บุรี!Q37+[1]ชัยนาท!Q37+[1]อุทัย!Q37+[1]ชลบุรี!Q37+[1]ปราจีน!Q37+[1]สระแก้ว!Q37+[1]ราชบุรี!Q37+[1]เพชรบุรี!Q37+[1]กาญจนบุรี!Q37+[1]ประจวบ!Q37+[1]นครราชสีมา!Q37+[1]ชัยภูมิ!Q37+[1]สุรินทร์!Q37+[1]บุรีรัมย์!Q37+[1]ขอนแก่น!Q37+[1]กาฬสินทร์!Q37+[1]มุกดาหาร!Q37+[1]หนองบัว!Q37+[1]มหาสารคราม!Q37+[1]อุบล!Q37+[1]ศรีสะเกษ!Q37+[1]อำนาจ!Q37+[1]ร้อยเอ็ด!Q37+[1]ยโสธร!Q37+[1]นครสวรรค์!Q37+[1]พิจิตร!Q37+[1]กำแพงเพชร!Q37+[1]ตาก!Q37+[1]พิษณุโลก!Q37+[1]เลย!Q37+[1]เพชรบูลย์!Q37+[1]อุดรดิต!Q37+[1]สุโขทัย!Q37+[1]ลำปาง!Q37+[1]ลำพูน!Q37+[1]แพร่!Q37+[1]สุราษ!Q37+[1]ชุมพร!Q37+[1]ระนอง!Q37+[1]สงขลา!Q37+[1]สตูล!Q37+[1]กรุงเทพ!Q37+[1]ปทุม!Q37+[1]นนทบุรี!Q37+[1]นครนายก!Q37+[1]อยุธยา!Q37+[1]อ่างทอง!Q37+[1]สระบุรี!Q37+[1]ลพบุรี!Q37+[1]นครปฐม!Q37+[1]สมุทรสงคราม!Q37+[1]สมุทรสาคร!Q37+[1]ระยอง!Q37+[1]จันทบุรี!Q37+[1]ตราด!Q37+[1]อุดร!Q37+[1]หนองคาย!Q37+[1]บึงกาฬ!Q37+[1]สกลนคร!Q37+[1]นครพนม!Q37+[1]เชียงใหม่!Q37+[1]แม่ฮ่องสอน!Q37+[1]เชียงราย!Q37+[1]พะเยา!Q37+[1]น่าน!Q37+[1]ภูเก็ต!Q37+[1]พังงา!Q37+[1]กระบี่!Q37+[1]นครศรี!Q37+[1]พัทลุง!Q37+[1]ตรัง!Q37+[1]ปัตตานี!Q37+[1]ยะลา!Q37+[1]นราธิวาส!Q37+[1]เชียงแสน!Q37+[1]ยานยนต!Q37+[1]สถาบันสุขภาพ!Q37 -> 0 | P34: =+[1]สมุทรปราการ!R37+[1]ฉะเชิงเทรา!R37+[1]สุพรรณ!R37+[1]สิงห์บุรี!R37+[1]ชัยนาท!R37+[1]อุทัย!R37+[1]ชลบุรี!R37+[1]ปราจีน!R37+[1]สระแก้ว!R37+[1]ราชบุรี!R37+[1]เพชรบุรี!R37+[1]กาญจนบุรี!R37+[1]ประจวบ!R37+[1]นครราชสีมา!R37+[1]ชัยภูมิ!R37+[1]สุรินทร์!R37+[1]บุรีรัมย์!R37+[1]ขอนแก่น!R37+[1]กาฬสินทร์!R37+[1]มุกดาหาร!R37+[1]หนองบัว!R37+[1]มหาสารคราม!R37+[1]อุบล!R37+[1]ศรีสะเกษ!R37+[1]อำนาจ!R37+[1]ร้อยเอ็ด!R37+[1]ยโสธร!R37+[1]นครสวรรค์!R37+[1]พิจิตร!R37+[1]กำแพงเพชร!R37+[1]ตาก!R37+[1]พิษณุโลก!R37+[1]เลย!R37+[1]เพชรบูลย์!R37+[1]อุดรดิต!R37+[1]สุโขทัย!R37+[1]ลำปาง!R37+[1]ลำพูน!R37+[1]แพร่!R37+[1]สุราษ!R37+[1]ชุมพร!R37+[1]ระนอง!R37+[1]สงขลา!R37+[1]สตูล!R37+[1]กรุงเทพ!R37+[1]ปทุม!R37+[1]นนทบุรี!R37+[1]นครนายก!R37+[1]อยุธยา!R37+[1]อ่างทอง!R37+[1]สระบุรี!R37+[1]ลพบุรี!R37+[1]นครปฐม!R37+[1]สมุทรสงคราม!R37+[1]สมุทรสาคร!R37+[1]ระยอง!R37+[1]จันทบุรี!R37+[1]ตราด!R37+[1]อุดร!R37+[1]หนองคาย!R37+[1]บึงกาฬ!R37+[1]สกลนคร!R37+[1]นครพนม!R37+[1]เชียงใหม่!R37+[1]แม่ฮ่องสอน!R37+[1]เชียงราย!R37+[1]พะเยา!R37+[1]น่าน!R37+[1]ภูเก็ต!R37+[1]พังงา!R37+[1]กระบี่!R37+[1]นครศรี!R37+[1]พัทลุง!R37+[1]ตรัง!R37+[1]ปัตตานี!R37+[1]ยะลา!R37+[1]นราธิวาส!R37+[1]เชียงแสน!R37+[1]ยานยนต!R37+[1]สถาบันสุขภาพ!R37 -> 0
A35: - ค่าจ้างเหมาบริการ | B35: =SUM(C35:P35) -> 0 | C35: =SUM(C36:C54) -> 0 | D35: =SUM(D36:D54) -> 0 | E35: =SUM(E36:E54) -> 0 | F35: =SUM(F36:F54) -> 0 | G35: =SUM(G36:G54) -> 0 | H35: =SUM(H36:H54) -> 0 | I35: =SUM(I36:I54) -> 0 | J35: =SUM(J36:J54) -> 0 | ... P35: =SUM(P36:P54) -> 0
A36: * ค่าจ้างเหมาทำความสะอาด | O36: =+[1]สมุทรปราการ!Q39+[1]ฉะเชิงเทรา!Q39+[1]สุพรรณ!Q39+[1]สิงห์บุรี!Q39+[1]ชัยนาท!Q39+[1]อุทัย!Q39+[1]ชลบุรี!Q39+[1]ปราจีน!Q39+[1]สระแก้ว!Q39+[1]ราชบุรี!Q39+[1]เพชรบุรี!Q39+[1]กาญจนบุรี!Q39+[1]ประจวบ!Q39+[1]นครราชสีมา!Q39+[1]ชัยภูมิ!Q39+[1]สุรินทร์!Q39+[1]บุรีรัมย์!Q39+[1]ขอนแก่น!Q39+[1]กาฬสินทร์!Q39+[1]มุกดาหาร!Q39+[1]หนองบัว!Q39+[1]มหาสารคราม!Q39+[1]อุบล!Q39+[1]ศรีสะเกษ!Q39+[1]อำนาจ!Q39+[1]ร้อยเอ็ด!Q39+[1]ยโสธร!Q39+[1]นครสวรรค์!Q39+[1]พิจิตร!Q39+[1]กำแพงเพชร!Q39+[1]ตาก!Q39+[1]พิษณุโลก!Q39+[1]เลย!Q39+[1]เพชรบูลย์!Q39+[1]อุดรดิต!Q39+[1]สุโขทัย!Q39+[1]ลำปาง!Q39+[1]ลำพูน!Q39+[1]แพร่!Q39+[1]สุราษ!Q39+[1]ชุมพร!Q39+[1]ระนอง!Q39+[1]สงขลา!Q39+[1]สตูล!Q39+[1]กรุงเทพ!Q39+[1]ปทุม!Q39+[1]นนทบุรี!Q39+[1]นครนายก!Q39+[1]อยุธยา!Q39+[1]อ่างทอง!Q39+[1]สระบุรี!Q39+[1]ลพบุรี!Q39+[1]นครปฐม!Q39+[1]สมุทรสงคราม!Q39+[1]สมุทรสาคร!Q39+[1]ระยอง!Q39+[1]จันทบุรี!Q39+[1]ตราด!Q39+[1]อุดร!Q39+[1]หนองคาย!Q39+[1]บึงกาฬ!Q39+[1]สกลนคร!Q39+[1]นครพนม!Q39+[1]เชียงใหม่!Q39+[1]แม่ฮ่องสอน!Q39+[1]เชียงราย!Q39+[1]พะเยา!Q39+[1]น่าน!Q39+[1]ภูเก็ต!Q39+[1]พังงา!Q39+[1]กระบี่!Q39+[1]นครศรี!Q39+[1]พัทลุง!Q39+[1]ตรัง!Q39+[1]ปัตตานี!Q39+[1]ยะลา!Q39+[1]นราธิวาส!Q39+[1]เชียงแสน!Q39+[1]ยานยนต!Q39+[1]สถาบันสุขภาพ!Q39 -> 0 | P36: =+[1]สมุทรปราการ!R39+[1]ฉะเชิงเทรา!R39+[1]สุพรรณ!R39+[1]สิงห์บุรี!R39+[1]ชัยนาท!R39+[1]อุทัย!R39+[1]ชลบุรี!R39+[1]ปราจีน!R39+[1]สระแก้ว!R39+[1]ราชบุรี!R39+[1]เพชรบุรี!R39+[1]กาญจนบุรี!R39+[1]ประจวบ!R39+[1]นครราชสีมา!R39+[1]ชัยภูมิ!R39+[1]สุรินทร์!R39+[1]บุรีรัมย์!R39+[1]ขอนแก่น!R39+[1]กาฬสินทร์!R39+[1]มุกดาหาร!R39+[1]หนองบัว!R39+[1]มหาสารคราม!R39+[1]อุบล!R39+[1]ศรีสะเกษ!R39+[1]อำนาจ!R39+[1]ร้อยเอ็ด!R39+[1]ยโสธร!R39+[1]นครสวรรค์!R39+[1]พิจิตร!R39+[1]กำแพงเพชร!R39+[1]ตาก!R39+[1]พิษณุโลก!R39+[1]เลย!R39+[1]เพชรบูลย์!R39+[1]อุดรดิต!R39+[1]สุโขทัย!R39+[1]ลำปาง!R39+[1]ลำพูน!R39+[1]แพร่!R39+[1]สุราษ!R39+[1]ชุมพร!R39+[1]ระนอง!R39+[1]สงขลา!R39+[1]สตูล!R39+[1]กรุงเทพ!R39+[1]ปทุม!R39+[1]นนทบุรี!R39+[1]นครนายก!R39+[1]อยุธยา!R39+[1]อ่างทอง!R39+[1]สระบุรี!R39+[1]ลพบุรี!R39+[1]นครปฐม!R39+[1]สมุทรสงคราม!R39+[1]สมุทรสาคร!R39+[1]ระยอง!R39+[1]จันทบุรี!R39+[1]ตราด!R39+[1]อุดร!R39+[1]หนองคาย!R39+[1]บึงกาฬ!R39+[1]สกลนคร!R39+[1]นครพนม!R39+[1]เชียงใหม่!R39+[1]แม่ฮ่องสอน!R39+[1]เชียงราย!R39+[1]พะเยา!R39+[1]น่าน!R39+[1]ภูเก็ต!R39+[1]พังงา!R39+[1]กระบี่!R39+[1]นครศรี!R39+[1]พัทลุง!R39+[1]ตรัง!R39+[1]ปัตตานี!R39+[1]ยะลา!R39+[1]นราธิวาส!R39+[1]เชียงแสน!R39+[1]ยานยนต!R39+[1]สถาบันสุขภาพ!R39 -> 0
A37: * ค่าจ้างเหมารักษาความปลอดภัย | O37: =+[1]สมุทรปราการ!Q40+[1]ฉะเชิงเทรา!Q40+[1]สุพรรณ!Q40+[1]สิงห์บุรี!Q40+[1]ชัยนาท!Q40+[1]อุทัย!Q40+[1]ชลบุรี!Q40+[1]ปราจีน!Q40+[1]สระแก้ว!Q40+[1]ราชบุรี!Q40+[1]เพชรบุรี!Q40+[1]กาญจนบุรี!Q40+[1]ประจวบ!Q40+[1]นครราชสีมา!Q40+[1]ชัยภูมิ!Q40+[1]สุรินทร์!Q40+[1]บุรีรัมย์!Q40+[1]ขอนแก่น!Q40+[1]กาฬสินทร์!Q40+[1]มุกดาหาร!Q40+[1]หนองบัว!Q40+[1]มหาสารคราม!Q40+[1]อุบล!Q40+[1]ศรีสะเกษ!Q40+[1]อำนาจ!Q40+[1]ร้อยเอ็ด!Q40+[1]ยโสธร!Q40+[1]นครสวรรค์!Q40+[1]พิจิตร!Q40+[1]กำแพงเพชร!Q40+[1]ตาก!Q40+[1]พิษณุโลก!Q40+[1]เลย!Q40+[1]เพชรบูลย์!Q40+[1]อุดรดิต!Q40+[1]สุโขทัย!Q40+[1]ลำปาง!Q40+[1]ลำพูน!Q40+[1]แพร่!Q40+[1]สุราษ!Q40+[1]ชุมพร!Q40+[1]ระนอง!Q40+[1]สงขลา!Q40+[1]สตูล!Q40+[1]กรุงเทพ!Q40+[1]ปทุม!Q40+[1]นนทบุรี!Q40+[1]นครนายก!Q40+[1]อยุธยา!Q40+[1]อ่างทอง!Q40+[1]สระบุรี!Q40+[1]ลพบุรี!Q40+[1]นครปฐม!Q40+[1]สมุทรสงคราม!Q40+[1]สมุทรสาคร!Q40+[1]ระยอง!Q40+[1]จันทบุรี!Q40+[1]ตราด!Q40+[1]อุดร!Q40+[1]หนองคาย!Q40+[1]บึงกาฬ!Q40+[1]สกลนคร!Q40+[1]นครพนม!Q40+[1]เชียงใหม่!Q40+[1]แม่ฮ่องสอน!Q40+[1]เชียงราย!Q40+[1]พะเยา!Q40+[1]น่าน!Q40+[1]ภูเก็ต!Q40+[1]พังงา!Q40+[1]กระบี่!Q40+[1]นครศรี!Q40+[1]พัทลุง!Q40+[1]ตรัง!Q40+[1]ปัตตานี!Q40+[1]ยะลา!Q40+[1]นราธิวาส!Q40+[1]เชียงแสน!Q40+[1]ยานยนต!Q40+[1]สถาบันสุขภาพ!Q40 -> 0 | P37: =+[1]สมุทรปราการ!R40+[1]ฉะเชิงเทรา!R40+[1]สุพรรณ!R40+[1]สิงห์บุรี!R40+[1]ชัยนาท!R40+[1]อุทัย!R40+[1]ชลบุรี!R40+[1]ปราจีน!R40+[1]สระแก้ว!R40+[1]ราชบุรี!R40+[1]เพชรบุรี!R40+[1]กาญจนบุรี!R40+[1]ประจวบ!R40+[1]นครราชสีมา!R40+[1]ชัยภูมิ!R40+[1]สุรินทร์!R40+[1]บุรีรัมย์!R40+[1]ขอนแก่น!R40+[1]กาฬสินทร์!R40+[1]มุกดาหาร!R40+[1]หนองบัว!R40+[1]มหาสารคราม!R40+[1]อุบล!R40+[1]ศรีสะเกษ!R40+[1]อำนาจ!R40+[1]ร้อยเอ็ด!R40+[1]ยโสธร!R40+[1]นครสวรรค์!R40+[1]พิจิตร!R40+[1]กำแพงเพชร!R40+[1]ตาก!R40+[1]พิษณุโลก!R40+[1]เลย!R40+[1]เพชรบูลย์!R40+[1]อุดรดิต!R40+[1]สุโขทัย!R40+[1]ลำปาง!R40+[1]ลำพูน!R40+[1]แพร่!R40+[1]สุราษ!R40+[1]ชุมพร!R40+[1]ระนอง!R40+[1]สงขลา!R40+[1]สตูล!R40+[1]กรุงเทพ!R40+[1]ปทุม!R40+[1]นนทบุรี!R40+[1]นครนายก!R40+[1]อยุธยา!R40+[1]อ่างทอง!R40+[1]สระบุรี!R40+[1]ลพบุรี!R40+[1]นครปฐม!R40+[1]สมุทรสงคราม!R40+[1]สมุทรสาคร!R40+[1]ระยอง!R40+[1]จันทบุรี!R40+[1]ตราด!R40+[1]อุดร!R40+[1]หนองคาย!R40+[1]บึงกาฬ!R40+[1]สกลนคร!R40+[1]นครพนม!R40+[1]เชียงใหม่!R40+[1]แม่ฮ่องสอน!R40+[1]เชียงราย!R40+[1]พะเยา!R40+[1]น่าน!R40+[1]ภูเก็ต!R40+[1]พังงา!R40+[1]กระบี่!R40+[1]นครศรี!R40+[1]พัทลุง!R40+[1]ตรัง!R40+[1]ปัตตานี!R40+[1]ยะลา!R40+[1]นราธิวาส!R40+[1]เชียงแสน!R40+[1]ยานยนต!R40+[1]สถาบันสุขภาพ!R40 -> 0
A38: * ค่าจ้างเหมาดูแลสวน | O38: =+[1]สมุทรปราการ!Q41+[1]ฉะเชิงเทรา!Q41+[1]สุพรรณ!Q41+[1]สิงห์บุรี!Q41+[1]ชัยนาท!Q41+[1]อุทัย!Q41+[1]ชลบุรี!Q41+[1]ปราจีน!Q41+[1]สระแก้ว!Q41+[1]ราชบุรี!Q41+[1]เพชรบุรี!Q41+[1]กาญจนบุรี!Q41+[1]ประจวบ!Q41+[1]นครราชสีมา!Q41+[1]ชัยภูมิ!Q41+[1]สุรินทร์!Q41+[1]บุรีรัมย์!Q41+[1]ขอนแก่น!Q41+[1]กาฬสินทร์!Q41+[1]มุกดาหาร!Q41+[1]หนองบัว!Q41+[1]มหาสารคราม!Q41+[1]อุบล!Q41+[1]ศรีสะเกษ!Q41+[1]อำนาจ!Q41+[1]ร้อยเอ็ด!Q41+[1]ยโสธร!Q41+[1]นครสวรรค์!Q41+[1]พิจิตร!Q41+[1]กำแพงเพชร!Q41+[1]ตาก!Q41+[1]พิษณุโลก!Q41+[1]เลย!Q41+[1]เพชรบูลย์!Q41+[1]อุดรดิต!Q41+[1]สุโขทัย!Q41+[1]ลำปาง!Q41+[1]ลำพูน!Q41+[1]แพร่!Q41+[1]สุราษ!Q41+[1]ชุมพร!Q41+[1]ระนอง!Q41+[1]สงขลา!Q41+[1]สตูล!Q41+[1]กรุงเทพ!Q41+[1]ปทุม!Q41+[1]นนทบุรี!Q41+[1]นครนายก!Q41+[1]อยุธยา!Q41+[1]อ่างทอง!Q41+[1]สระบุรี!Q41+[1]ลพบุรี!Q41+[1]นครปฐม!Q41+[1]สมุทรสงคราม!Q41+[1]สมุทรสาคร!Q41+[1]ระยอง!Q41+[1]จันทบุรี!Q41+[1]ตราด!Q41+[1]อุดร!Q41+[1]หนองคาย!Q41+[1]บึงกาฬ!Q41+[1]สกลนคร!Q41+[1]นครพนม!Q41+[1]เชียงใหม่!Q41+[1]แม่ฮ่องสอน!Q41+[1]เชียงราย!Q41+[1]พะเยา!Q41+[1]น่าน!Q41+[1]ภูเก็ต!Q41+[1]พังงา!Q41+[1]กระบี่!Q41+[1]นครศรี!Q41+[1]พัทลุง!Q41+[1]ตรัง!Q41+[1]ปัตตานี!Q41+[1]ยะลา!Q41+[1]นราธิวาส!Q41+[1]เชียงแสน!Q41+[1]ยานยนต!Q41+[1]สถาบันสุขภาพ!Q41 -> 0 | P38: =+[1]สมุทรปราการ!R41+[1]ฉะเชิงเทรา!R41+[1]สุพรรณ!R41+[1]สิงห์บุรี!R41+[1]ชัยนาท!R41+[1]อุทัย!R41+[1]ชลบุรี!R41+[1]ปราจีน!R41+[1]สระแก้ว!R41+[1]ราชบุรี!R41+[1]เพชรบุรี!R41+[1]กาญจนบุรี!R41+[1]ประจวบ!R41+[1]นครราชสีมา!R41+[1]ชัยภูมิ!R41+[1]สุรินทร์!R41+[1]บุรีรัมย์!R41+[1]ขอนแก่น!R41+[1]กาฬสินทร์!R41+[1]มุกดาหาร!R41+[1]หนองบัว!R41+[1]มหาสารคราม!R41+[1]อุบล!R41+[1]ศรีสะเกษ!R41+[1]อำนาจ!R41+[1]ร้อยเอ็ด!R41+[1]ยโสธร!R41+[1]นครสวรรค์!R41+[1]พิจิตร!R41+[1]กำแพงเพชร!R41+[1]ตาก!R41+[1]พิษณุโลก!R41+[1]เลย!R41+[1]เพชรบูลย์!R41+[1]อุดรดิต!R41+[1]สุโขทัย!R41+[1]ลำปาง!R41+[1]ลำพูน!R41+[1]แพร่!R41+[1]สุราษ!R41+[1]ชุมพร!R41+[1]ระนอง!R41+[1]สงขลา!R41+[1]สตูล!R41+[1]กรุงเทพ!R41+[1]ปทุม!R41+[1]นนทบุรี!R41+[1]นครนายก!R41+[1]อยุธยา!R41+[1]อ่างทอง!R41+[1]สระบุรี!R41+[1]ลพบุรี!R41+[1]นครปฐม!R41+[1]สมุทรสงคราม!R41+[1]สมุทรสาคร!R41+[1]ระยอง!R41+[1]จันทบุรี!R41+[1]ตราด!R41+[1]อุดร!R41+[1]หนองคาย!R41+[1]บึงกาฬ!R41+[1]สกลนคร!R41+[1]นครพนม!R41+[1]เชียงใหม่!R41+[1]แม่ฮ่องสอน!R41+[1]เชียงราย!R41+[1]พะเยา!R41+[1]น่าน!R41+[1]ภูเก็ต!R41+[1]พังงา!R41+[1]กระบี่!R41+[1]นครศรี!R41+[1]พัทลุง!R41+[1]ตรัง!R41+[1]ปัตตานี!R41+[1]ยะลา!R41+[1]นราธิวาส!R41+[1]เชียงแสน!R41+[1]ยานยนต!R41+[1]สถาบันสุขภาพ!R41 -> 0
A39: * ค่าจ้างเหมาบุคคลภายนอกปฏิบัติงานให้หน่วยงาน | O39: =+[1]สมุทรปราการ!Q42+[1]ฉะเชิงเทรา!Q42+[1]สุพรรณ!Q42+[1]สิงห์บุรี!Q42+[1]ชัยนาท!Q42+[1]อุทัย!Q42+[1]ชลบุรี!Q42+[1]ปราจีน!Q42+[1]สระแก้ว!Q42+[1]ราชบุรี!Q42+[1]เพชรบุรี!Q42+[1]กาญจนบุรี!Q42+[1]ประจวบ!Q42+[1]นครราชสีมา!Q42+[1]ชัยภูมิ!Q42+[1]สุรินทร์!Q42+[1]บุรีรัมย์!Q42+[1]ขอนแก่น!Q42+[1]กาฬสินทร์!Q42+[1]มุกดาหาร!Q42+[1]หนองบัว!Q42+[1]มหาสารคราม!Q42+[1]อุบล!Q42+[1]ศรีสะเกษ!Q42+[1]อำนาจ!Q42+[1]ร้อยเอ็ด!Q42+[1]ยโสธร!Q42+[1]นครสวรรค์!Q42+[1]พิจิตร!Q42+[1]กำแพงเพชร!Q42+[1]ตาก!Q42+[1]พิษณุโลก!Q42+[1]เลย!Q42+[1]เพชรบูลย์!Q42+[1]อุดรดิต!Q42+[1]สุโขทัย!Q42+[1]ลำปาง!Q42+[1]ลำพูน!Q42+[1]แพร่!Q42+[1]สุราษ!Q42+[1]ชุมพร!Q42+[1]ระนอง!Q42+[1]สงขลา!Q42+[1]สตูล!Q42+[1]กรุงเทพ!Q42+[1]ปทุม!Q42+[1]นนทบุรี!Q42+[1]นครนายก!Q42+[1]อยุธยา!Q42+[1]อ่างทอง!Q42+[1]สระบุรี!Q42+[1]ลพบุรี!Q42+[1]นครปฐม!Q42+[1]สมุทรสงคราม!Q42+[1]สมุทรสาคร!Q42+[1]ระยอง!Q42+[1]จันทบุรี!Q42+[1]ตราด!Q42+[1]อุดร!Q42+[1]หนองคาย!Q42+[1]บึงกาฬ!Q42+[1]สกลนคร!Q42+[1]นครพนม!Q42+[1]เชียงใหม่!Q42+[1]แม่ฮ่องสอน!Q42+[1]เชียงราย!Q42+[1]พะเยา!Q42+[1]น่าน!Q42+[1]ภูเก็ต!Q42+[1]พังงา!Q42+[1]กระบี่!Q42+[1]นครศรี!Q42+[1]พัทลุง!Q42+[1]ตรัง!Q42+[1]ปัตตานี!Q42+[1]ยะลา!Q42+[1]นราธิวาส!Q42+[1]เชียงแสน!Q42+[1]ยานยนต!Q42+[1]สถาบันสุขภาพ!Q42 -> 0 | P39: =+[1]สมุทรปราการ!R42+[1]ฉะเชิงเทรา!R42+[1]สุพรรณ!R42+[1]สิงห์บุรี!R42+[1]ชัยนาท!R42+[1]อุทัย!R42+[1]ชลบุรี!R42+[1]ปราจีน!R42+[1]สระแก้ว!R42+[1]ราชบุรี!R42+[1]เพชรบุรี!R42+[1]กาญจนบุรี!R42+[1]ประจวบ!R42+[1]นครราชสีมา!R42+[1]ชัยภูมิ!R42+[1]สุรินทร์!R42+[1]บุรีรัมย์!R42+[1]ขอนแก่น!R42+[1]กาฬสินทร์!R42+[1]มุกดาหาร!R42+[1]หนองบัว!R42+[1]มหาสารคราม!R42+[1]อุบล!R42+[1]ศรีสะเกษ!R42+[1]อำนาจ!R42+[1]ร้อยเอ็ด!R42+[1]ยโสธร!R42+[1]นครสวรรค์!R42+[1]พิจิตร!R42+[1]กำแพงเพชร!R42+[1]ตาก!R42+[1]พิษณุโลก!R42+[1]เลย!R42+[1]เพชรบูลย์!R42+[1]อุดรดิต!R42+[1]สุโขทัย!R42+[1]ลำปาง!R42+[1]ลำพูน!R42+[1]แพร่!R42+[1]สุราษ!R42+[1]ชุมพร!R42+[1]ระนอง!R42+[1]สงขลา!R42+[1]สตูล!R42+[1]กรุงเทพ!R42+[1]ปทุม!R42+[1]นนทบุรี!R42+[1]นครนายก!R42+[1]อยุธยา!R42+[1]อ่างทอง!R42+[1]สระบุรี!R42+[1]ลพบุรี!R42+[1]นครปฐม!R42+[1]สมุทรสงคราม!R42+[1]สมุทรสาคร!R42+[1]ระยอง!R42+[1]จันทบุรี!R42+[1]ตราด!R42+[1]อุดร!R42+[1]หนองคาย!R42+[1]บึงกาฬ!R42+[1]สกลนคร!R42+[1]นครพนม!R42+[1]เชียงใหม่!R42+[1]แม่ฮ่องสอน!R42+[1]เชียงราย!R42+[1]พะเยา!R42+[1]น่าน!R42+[1]ภูเก็ต!R42+[1]พังงา!R42+[1]กระบี่!R42+[1]นครศรี!R42+[1]พัทลุง!R42+[1]ตรัง!R42+[1]ปัตตานี!R42+[1]ยะลา!R42+[1]นราธิวาส!R42+[1]เชียงแสน!R42+[1]ยานยนต!R42+[1]สถาบันสุขภาพ!R42 -> 0
A40: * ค่าจ้างเหมาเช่าเครื่องถ่ายเอกสาร | O40: =+[1]สมุทรปราการ!Q43+[1]ฉะเชิงเทรา!Q43+[1]สุพรรณ!Q43+[1]สิงห์บุรี!Q43+[1]ชัยนาท!Q43+[1]อุทัย!Q43+[1]ชลบุรี!Q43+[1]ปราจีน!Q43+[1]สระแก้ว!Q43+[1]ราชบุรี!Q43+[1]เพชรบุรี!Q43+[1]กาญจนบุรี!Q43+[1]ประจวบ!Q43+[1]นครราชสีมา!Q43+[1]ชัยภูมิ!Q43+[1]สุรินทร์!Q43+[1]บุรีรัมย์!Q43+[1]ขอนแก่น!Q43+[1]กาฬสินทร์!Q43+[1]มุกดาหาร!Q43+[1]หนองบัว!Q43+[1]มหาสารคราม!Q43+[1]อุบล!Q43+[1]ศรีสะเกษ!Q43+[1]อำนาจ!Q43+[1]ร้อยเอ็ด!Q43+[1]ยโสธร!Q43+[1]นครสวรรค์!Q43+[1]พิจิตร!Q43+[1]กำแพงเพชร!Q43+[1]ตาก!Q43+[1]พิษณุโลก!Q43+[1]เลย!Q43+[1]เพชรบูลย์!Q43+[1]อุดรดิต!Q43+[1]สุโขทัย!Q43+[1]ลำปาง!Q43+[1]ลำพูน!Q43+[1]แพร่!Q43+[1]สุราษ!Q43+[1]ชุมพร!Q43+[1]ระนอง!Q43+[1]สงขลา!Q43+[1]สตูล!Q43+[1]กรุงเทพ!Q43+[1]ปทุม!Q43+[1]นนทบุรี!Q43+[1]นครนายก!Q43+[1]อยุธยา!Q43+[1]อ่างทอง!Q43+[1]สระบุรี!Q43+[1]ลพบุรี!Q43+[1]นครปฐม!Q43+[1]สมุทรสงคราม!Q43+[1]สมุทรสาคร!Q43+[1]ระยอง!Q43+[1]จันทบุรี!Q43+[1]ตราด!Q43+[1]อุดร!Q43+[1]หนองคาย!Q43+[1]บึงกาฬ!Q43+[1]สกลนคร!Q43+[1]นครพนม!Q43+[1]เชียงใหม่!Q43+[1]แม่ฮ่องสอน!Q43+[1]เชียงราย!Q43+[1]พะเยา!Q43+[1]น่าน!Q43+[1]ภูเก็ต!Q43+[1]พังงา!Q43+[1]กระบี่!Q43+[1]นครศรี!Q43+[1]พัทลุง!Q43+[1]ตรัง!Q43+[1]ปัตตานี!Q43+[1]ยะลา!Q43+[1]นราธิวาส!Q43+[1]เชียงแสน!Q43+[1]ยานยนต!Q43+[1]สถาบันสุขภาพ!Q43 -> 0 | P40: =+[1]สมุทรปราการ!R43+[1]ฉะเชิงเทรา!R43+[1]สุพรรณ!R43+[1]สิงห์บุรี!R43+[1]ชัยนาท!R43+[1]อุทัย!R43+[1]ชลบุรี!R43+[1]ปราจีน!R43+[1]สระแก้ว!R43+[1]ราชบุรี!R43+[1]เพชรบุรี!R43+[1]กาญจนบุรี!R43+[1]ประจวบ!R43+[1]นครราชสีมา!R43+[1]ชัยภูมิ!R43+[1]สุรินทร์!R43+[1]บุรีรัมย์!R43+[1]ขอนแก่น!R43+[1]กาฬสินทร์!R43+[1]มุกดาหาร!R43+[1]หนองบัว!R43+[1]มหาสารคราม!R43+[1]อุบล!R43+[1]ศรีสะเกษ!R43+[1]อำนาจ!R43+[1]ร้อยเอ็ด!R43+[1]ยโสธร!R43+[1]นครสวรรค์!R43+[1]พิจิตร!R43+[1]กำแพงเพชร!R43+[1]ตาก!R43+[1]พิษณุโลก!R43+[1]เลย!R43+[1]เพชรบูลย์!R43+[1]อุดรดิต!R43+[1]สุโขทัย!R43+[1]ลำปาง!R43+[1]ลำพูน!R43+[1]แพร่!R43+[1]สุราษ!R43+[1]ชุมพร!R43+[1]ระนอง!R43+[1]สงขลา!R43+[1]สตูล!R43+[1]กรุงเทพ!R43+[1]ปทุม!R43+[1]นนทบุรี!R43+[1]นครนายก!R43+[1]อยุธยา!R43+[1]อ่างทอง!R43+[1]สระบุรี!R43+[1]ลพบุรี!R43+[1]นครปฐม!R43+[1]สมุทรสงคราม!R43+[1]สมุทรสาคร!R43+[1]ระยอง!R43+[1]จันทบุรี!R43+[1]ตราด!R43+[1]อุดร!R43+[1]หนองคาย!R43+[1]บึงกาฬ!R43+[1]สกลนคร!R43+[1]นครพนม!R43+[1]เชียงใหม่!R43+[1]แม่ฮ่องสอน!R43+[1]เชียงราย!R43+[1]พะเยา!R43+[1]น่าน!R43+[1]ภูเก็ต!R43+[1]พังงา!R43+[1]กระบี่!R43+[1]นครศรี!R43+[1]พัทลุง!R43+[1]ตรัง!R43+[1]ปัตตานี!R43+[1]ยะลา!R43+[1]นราธิวาส!R43+[1]เชียงแสน!R43+[1]ยานยนต!R43+[1]สถาบันสุขภาพ!R43 -> 0
A41: * ค่าจ้างเหมาพนักงานขับรถยนต์ | O41: =+[1]สมุทรปราการ!Q44+[1]ฉะเชิงเทรา!Q44+[1]สุพรรณ!Q44+[1]สิงห์บุรี!Q44+[1]ชัยนาท!Q44+[1]อุทัย!Q44+[1]ชลบุรี!Q44+[1]ปราจีน!Q44+[1]สระแก้ว!Q44+[1]ราชบุรี!Q44+[1]เพชรบุรี!Q44+[1]กาญจนบุรี!Q44+[1]ประจวบ!Q44+[1]นครราชสีมา!Q44+[1]ชัยภูมิ!Q44+[1]สุรินทร์!Q44+[1]บุรีรัมย์!Q44+[1]ขอนแก่น!Q44+[1]กาฬสินทร์!Q44+[1]มุกดาหาร!Q44+[1]หนองบัว!Q44+[1]มหาสารคราม!Q44+[1]อุบล!Q44+[1]ศรีสะเกษ!Q44+[1]อำนาจ!Q44+[1]ร้อยเอ็ด!Q44+[1]ยโสธร!Q44+[1]นครสวรรค์!Q44+[1]พิจิตร!Q44+[1]กำแพงเพชร!Q44+[1]ตาก!Q44+[1]พิษณุโลก!Q44+[1]เลย!Q44+[1]เพชรบูลย์!Q44+[1]อุดรดิต!Q44+[1]สุโขทัย!Q44+[1]ลำปาง!Q44+[1]ลำพูน!Q44+[1]แพร่!Q44+[1]สุราษ!Q44+[1]ชุมพร!Q44+[1]ระนอง!Q44+[1]สงขลา!Q44+[1]สตูล!Q44+[1]กรุงเทพ!Q44+[1]ปทุม!Q44+[1]นนทบุรี!Q44+[1]นครนายก!Q44+[1]อยุธยา!Q44+[1]อ่างทอง!Q44+[1]สระบุรี!Q44+[1]ลพบุรี!Q44+[1]นครปฐม!Q44+[1]สมุทรสงคราม!Q44+[1]สมุทรสาคร!Q44+[1]ระยอง!Q44+[1]จันทบุรี!Q44+[1]ตราด!Q44+[1]อุดร!Q44+[1]หนองคาย!Q44+[1]บึงกาฬ!Q44+[1]สกลนคร!Q44+[1]นครพนม!Q44+[1]เชียงใหม่!Q44+[1]แม่ฮ่องสอน!Q44+[1]เชียงราย!Q44+[1]พะเยา!Q44+[1]น่าน!Q44+[1]ภูเก็ต!Q44+[1]พังงา!Q44+[1]กระบี่!Q44+[1]นครศรี!Q44+[1]พัทลุง!Q44+[1]ตรัง!Q44+[1]ปัตตานี!Q44+[1]ยะลา!Q44+[1]นราธิวาส!Q44+[1]เชียงแสน!Q44+[1]ยานยนต!Q44+[1]สถาบันสุขภาพ!Q44 -> 0 | P41: =+[1]สมุทรปราการ!R44+[1]ฉะเชิงเทรา!R44+[1]สุพรรณ!R44+[1]สิงห์บุรี!R44+[1]ชัยนาท!R44+[1]อุทัย!R44+[1]ชลบุรี!R44+[1]ปราจีน!R44+[1]สระแก้ว!R44+[1]ราชบุรี!R44+[1]เพชรบุรี!R44+[1]กาญจนบุรี!R44+[1]ประจวบ!R44+[1]นครราชสีมา!R44+[1]ชัยภูมิ!R44+[1]สุรินทร์!R44+[1]บุรีรัมย์!R44+[1]ขอนแก่น!R44+[1]กาฬสินทร์!R44+[1]มุกดาหาร!R44+[1]หนองบัว!R44+[1]มหาสารคราม!R44+[1]อุบล!R44+[1]ศรีสะเกษ!R44+[1]อำนาจ!R44+[1]ร้อยเอ็ด!R44+[1]ยโสธร!R44+[1]นครสวรรค์!R44+[1]พิจิตร!R44+[1]กำแพงเพชร!R44+[1]ตาก!R44+[1]พิษณุโลก!R44+[1]เลย!R44+[1]เพชรบูลย์!R44+[1]อุดรดิต!R44+[1]สุโขทัย!R44+[1]ลำปาง!R44+[1]ลำพูน!R44+[1]แพร่!R44+[1]สุราษ!R44+[1]ชุมพร!R44+[1]ระนอง!R44+[1]สงขลา!R44+[1]สตูล!R44+[1]กรุงเทพ!R44+[1]ปทุม!R44+[1]นนทบุรี!R44+[1]นครนายก!R44+[1]อยุธยา!R44+[1]อ่างทอง!R44+[1]สระบุรี!R44+[1]ลพบุรี!R44+[1]นครปฐม!R44+[1]สมุทรสงคราม!R44+[1]สมุทรสาคร!R44+[1]ระยอง!R44+[1]จันทบุรี!R44+[1]ตราด!R44+[1]อุดร!R44+[1]หนองคาย!R44+[1]บึงกาฬ!R44+[1]สกลนคร!R44+[1]นครพนม!R44+[1]เชียงใหม่!R44+[1]แม่ฮ่องสอน!R44+[1]เชียงราย!R44+[1]พะเยา!R44+[1]น่าน!R44+[1]ภูเก็ต!R44+[1]พังงา!R44+[1]กระบี่!R44+[1]นครศรี!R44+[1]พัทลุง!R44+[1]ตรัง!R44+[1]ปัตตานี!R44+[1]ยะลา!R44+[1]นราธิวาส!R44+[1]เชียงแสน!R44+[1]ยานยนต!R44+[1]สถาบันสุขภาพ!R44 -> 0
A42: * ค่าจ้างเหมารักษาลิฟท์ | O42: =+[1]สมุทรปราการ!Q45+[1]ฉะเชิงเทรา!Q45+[1]สุพรรณ!Q45+[1]สิงห์บุรี!Q45+[1]ชัยนาท!Q45+[1]อุทัย!Q45+[1]ชลบุรี!Q45+[1]ปราจีน!Q45+[1]สระแก้ว!Q45+[1]ราชบุรี!Q45+[1]เพชรบุรี!Q45+[1]กาญจนบุรี!Q45+[1]ประจวบ!Q45+[1]นครราชสีมา!Q45+[1]ชัยภูมิ!Q45+[1]สุรินทร์!Q45+[1]บุรีรัมย์!Q45+[1]ขอนแก่น!Q45+[1]กาฬสินทร์!Q45+[1]มุกดาหาร!Q45+[1]หนองบัว!Q45+[1]มหาสารคราม!Q45+[1]อุบล!Q45+[1]ศรีสะเกษ!Q45+[1]อำนาจ!Q45+[1]ร้อยเอ็ด!Q45+[1]ยโสธร!Q45+[1]นครสวรรค์!Q45+[1]พิจิตร!Q45+[1]กำแพงเพชร!Q45+[1]ตาก!Q45+[1]พิษณุโลก!Q45+[1]เลย!Q45+[1]เพชรบูลย์!Q45+[1]อุดรดิต!Q45+[1]สุโขทัย!Q45+[1]ลำปาง!Q45+[1]ลำพูน!Q45+[1]แพร่!Q45+[1]สุราษ!Q45+[1]ชุมพร!Q45+[1]ระนอง!Q45+[1]สงขลา!Q45+[1]สตูล!Q45+[1]กรุงเทพ!Q45+[1]ปทุม!Q45+[1]นนทบุรี!Q45+[1]นครนายก!Q45+[1]อยุธยา!Q45+[1]อ่างทอง!Q45+[1]สระบุรี!Q45+[1]ลพบุรี!Q45+[1]นครปฐม!Q45+[1]สมุทรสงคราม!Q45+[1]สมุทรสาคร!Q45+[1]ระยอง!Q45+[1]จันทบุรี!Q45+[1]ตราด!Q45+[1]อุดร!Q45+[1]หนองคาย!Q45+[1]บึงกาฬ!Q45+[1]สกลนคร!Q45+[1]นครพนม!Q45+[1]เชียงใหม่!Q45+[1]แม่ฮ่องสอน!Q45+[1]เชียงราย!Q45+[1]พะเยา!Q45+[1]น่าน!Q45+[1]ภูเก็ต!Q45+[1]พังงา!Q45+[1]กระบี่!Q45+[1]นครศรี!Q45+[1]พัทลุง!Q45+[1]ตรัง!Q45+[1]ปัตตานี!Q45+[1]ยะลา!Q45+[1]นราธิวาส!Q45+[1]เชียงแสน!Q45+[1]ยานยนต!Q45+[1]สถาบันสุขภาพ!Q45 -> 0 | P42: =+[1]สมุทรปราการ!R45+[1]ฉะเชิงเทรา!R45+[1]สุพรรณ!R45+[1]สิงห์บุรี!R45+[1]ชัยนาท!R45+[1]อุทัย!R45+[1]ชลบุรี!R45+[1]ปราจีน!R45+[1]สระแก้ว!R45+[1]ราชบุรี!R45+[1]เพชรบุรี!R45+[1]กาญจนบุรี!R45+[1]ประจวบ!R45+[1]นครราชสีมา!R45+[1]ชัยภูมิ!R45+[1]สุรินทร์!R45+[1]บุรีรัมย์!R45+[1]ขอนแก่น!R45+[1]กาฬสินทร์!R45+[1]มุกดาหาร!R45+[1]หนองบัว!R45+[1]มหาสารคราม!R45+[1]อุบล!R45+[1]ศรีสะเกษ!R45+[1]อำนาจ!R45+[1]ร้อยเอ็ด!R45+[1]ยโสธร!R45+[1]นครสวรรค์!R45+[1]พิจิตร!R45+[1]กำแพงเพชร!R45+[1]ตาก!R45+[1]พิษณุโลก!R45+[1]เลย!R45+[1]เพชรบูลย์!R45+[1]อุดรดิต!R45+[1]สุโขทัย!R45+[1]ลำปาง!R45+[1]ลำพูน!R45+[1]แพร่!R45+[1]สุราษ!R45+[1]ชุมพร!R45+[1]ระนอง!R45+[1]สงขลา!R45+[1]สตูล!R45+[1]กรุงเทพ!R45+[1]ปทุม!R45+[1]นนทบุรี!R45+[1]นครนายก!R45+[1]อยุธยา!R45+[1]อ่างทอง!R45+[1]สระบุรี!R45+[1]ลพบุรี!R45+[1]นครปฐม!R45+[1]สมุทรสงคราม!R45+[1]สมุทรสาคร!R45+[1]ระยอง!R45+[1]จันทบุรี!R45+[1]ตราด!R45+[1]อุดร!R45+[1]หนองคาย!R45+[1]บึงกาฬ!R45+[1]สกลนคร!R45+[1]นครพนม!R45+[1]เชียงใหม่!R45+[1]แม่ฮ่องสอน!R45+[1]เชียงราย!R45+[1]พะเยา!R45+[1]น่าน!R45+[1]ภูเก็ต!R45+[1]พังงา!R45+[1]กระบี่!R45+[1]นครศรี!R45+[1]พัทลุง!R45+[1]ตรัง!R45+[1]ปัตตานี!R45+[1]ยะลา!R45+[1]นราธิวาส!R45+[1]เชียงแสน!R45+[1]ยานยนต!R45+[1]สถาบันสุขภาพ!R45 -> 0
A43: * ค่าจ้างเหมากำจัดปลวก | O43: =+[1]สมุทรปราการ!Q46+[1]ฉะเชิงเทรา!Q46+[1]สุพรรณ!Q46+[1]สิงห์บุรี!Q46+[1]ชัยนาท!Q46+[1]อุทัย!Q46+[1]ชลบุรี!Q46+[1]ปราจีน!Q46+[1]สระแก้ว!Q46+[1]ราชบุรี!Q46+[1]เพชรบุรี!Q46+[1]กาญจนบุรี!Q46+[1]ประจวบ!Q46+[1]นครราชสีมา!Q46+[1]ชัยภูมิ!Q46+[1]สุรินทร์!Q46+[1]บุรีรัมย์!Q46+[1]ขอนแก่น!Q46+[1]กาฬสินทร์!Q46+[1]มุกดาหาร!Q46+[1]หนองบัว!Q46+[1]มหาสารคราม!Q46+[1]อุบล!Q46+[1]ศรีสะเกษ!Q46+[1]อำนาจ!Q46+[1]ร้อยเอ็ด!Q46+[1]ยโสธร!Q46+[1]นครสวรรค์!Q46+[1]พิจิตร!Q46+[1]กำแพงเพชร!Q46+[1]ตาก!Q46+[1]พิษณุโลก!Q46+[1]เลย!Q46+[1]เพชรบูลย์!Q46+[1]อุดรดิต!Q46+[1]สุโขทัย!Q46+[1]ลำปาง!Q46+[1]ลำพูน!Q46+[1]แพร่!Q46+[1]สุราษ!Q46+[1]ชุมพร!Q46+[1]ระนอง!Q46+[1]สงขลา!Q46+[1]สตูล!Q46+[1]กรุงเทพ!Q46+[1]ปทุม!Q46+[1]นนทบุรี!Q46+[1]นครนายก!Q46+[1]อยุธยา!Q46+[1]อ่างทอง!Q46+[1]สระบุรี!Q46+[1]ลพบุรี!Q46+[1]นครปฐม!Q46+[1]สมุทรสงคราม!Q46+[1]สมุทรสาคร!Q46+[1]ระยอง!Q46+[1]จันทบุรี!Q46+[1]ตราด!Q46+[1]อุดร!Q46+[1]หนองคาย!Q46+[1]บึงกาฬ!Q46+[1]สกลนคร!Q46+[1]นครพนม!Q46+[1]เชียงใหม่!Q46+[1]แม่ฮ่องสอน!Q46+[1]เชียงราย!Q46+[1]พะเยา!Q46+[1]น่าน!Q46+[1]ภูเก็ต!Q46+[1]พังงา!Q46+[1]กระบี่!Q46+[1]นครศรี!Q46+[1]พัทลุง!Q46+[1]ตรัง!Q46+[1]ปัตตานี!Q46+[1]ยะลา!Q46+[1]นราธิวาส!Q46+[1]เชียงแสน!Q46+[1]ยานยนต!Q46+[1]สถาบันสุขภาพ!Q46 -> 0 | P43: =+[1]สมุทรปราการ!R46+[1]ฉะเชิงเทรา!R46+[1]สุพรรณ!R46+[1]สิงห์บุรี!R46+[1]ชัยนาท!R46+[1]อุทัย!R46+[1]ชลบุรี!R46+[1]ปราจีน!R46+[1]สระแก้ว!R46+[1]ราชบุรี!R46+[1]เพชรบุรี!R46+[1]กาญจนบุรี!R46+[1]ประจวบ!R46+[1]นครราชสีมา!R46+[1]ชัยภูมิ!R46+[1]สุรินทร์!R46+[1]บุรีรัมย์!R46+[1]ขอนแก่น!R46+[1]กาฬสินทร์!R46+[1]มุกดาหาร!R46+[1]หนองบัว!R46+[1]มหาสารคราม!R46+[1]อุบล!R46+[1]ศรีสะเกษ!R46+[1]อำนาจ!R46+[1]ร้อยเอ็ด!R46+[1]ยโสธร!R46+[1]นครสวรรค์!R46+[1]พิจิตร!R46+[1]กำแพงเพชร!R46+[1]ตาก!R46+[1]พิษณุโลก!R46+[1]เลย!R46+[1]เพชรบูลย์!R46+[1]อุดรดิต!R46+[1]สุโขทัย!R46+[1]ลำปาง!R46+[1]ลำพูน!R46+[1]แพร่!R46+[1]สุราษ!R46+[1]ชุมพร!R46+[1]ระนอง!R46+[1]สงขลา!R46+[1]สตูล!R46+[1]กรุงเทพ!R46+[1]ปทุม!R46+[1]นนทบุรี!R46+[1]นครนายก!R46+[1]อยุธยา!R46+[1]อ่างทอง!R46+[1]สระบุรี!R46+[1]ลพบุรี!R46+[1]นครปฐม!R46+[1]สมุทรสงคราม!R46+[1]สมุทรสาคร!R46+[1]ระยอง!R46+[1]จันทบุรี!R46+[1]ตราด!R46+[1]อุดร!R46+[1]หนองคาย!R46+[1]บึงกาฬ!R46+[1]สกลนคร!R46+[1]นครพนม!R46+[1]เชียงใหม่!R46+[1]แม่ฮ่องสอน!R46+[1]เชียงราย!R46+[1]พะเยา!R46+[1]น่าน!R46+[1]ภูเก็ต!R46+[1]พังงา!R46+[1]กระบี่!R46+[1]นครศรี!R46+[1]พัทลุง!R46+[1]ตรัง!R46+[1]ปัตตานี!R46+[1]ยะลา!R46+[1]นราธิวาส!R46+[1]เชียงแสน!R46+[1]ยานยนต!R46+[1]สถาบันสุขภาพ!R46 -> 0
A44: * ค่าจ้างเหมาพิมพ์วุฒิบัตร | O44: =+[1]สมุทรปราการ!Q47+[1]ฉะเชิงเทรา!Q47+[1]สุพรรณ!Q47+[1]สิงห์บุรี!Q47+[1]ชัยนาท!Q47+[1]อุทัย!Q47+[1]ชลบุรี!Q47+[1]ปราจีน!Q47+[1]สระแก้ว!Q47+[1]ราชบุรี!Q47+[1]เพชรบุรี!Q47+[1]กาญจนบุรี!Q47+[1]ประจวบ!Q47+[1]นครราชสีมา!Q47+[1]ชัยภูมิ!Q47+[1]สุรินทร์!Q47+[1]บุรีรัมย์!Q47+[1]ขอนแก่น!Q47+[1]กาฬสินทร์!Q47+[1]มุกดาหาร!Q47+[1]หนองบัว!Q47+[1]มหาสารคราม!Q47+[1]อุบล!Q47+[1]ศรีสะเกษ!Q47+[1]อำนาจ!Q47+[1]ร้อยเอ็ด!Q47+[1]ยโสธร!Q47+[1]นครสวรรค์!Q47+[1]พิจิตร!Q47+[1]กำแพงเพชร!Q47+[1]ตาก!Q47+[1]พิษณุโลก!Q47+[1]เลย!Q47+[1]เพชรบูลย์!Q47+[1]อุดรดิต!Q47+[1]สุโขทัย!Q47+[1]ลำปาง!Q47+[1]ลำพูน!Q47+[1]แพร่!Q47+[1]สุราษ!Q47+[1]ชุมพร!Q47+[1]ระนอง!Q47+[1]สงขลา!Q47+[1]สตูล!Q47+[1]กรุงเทพ!Q47+[1]ปทุม!Q47+[1]นนทบุรี!Q47+[1]นครนายก!Q47+[1]อยุธยา!Q47+[1]อ่างทอง!Q47+[1]สระบุรี!Q47+[1]ลพบุรี!Q47+[1]นครปฐม!Q47+[1]สมุทรสงคราม!Q47+[1]สมุทรสาคร!Q47+[1]ระยอง!Q47+[1]จันทบุรี!Q47+[1]ตราด!Q47+[1]อุดร!Q47+[1]หนองคาย!Q47+[1]บึงกาฬ!Q47+[1]สกลนคร!Q47+[1]นครพนม!Q47+[1]เชียงใหม่!Q47+[1]แม่ฮ่องสอน!Q47+[1]เชียงราย!Q47+[1]พะเยา!Q47+[1]น่าน!Q47+[1]ภูเก็ต!Q47+[1]พังงา!Q47+[1]กระบี่!Q47+[1]นครศรี!Q47+[1]พัทลุง!Q47+[1]ตรัง!Q47+[1]ปัตตานี!Q47+[1]ยะลา!Q47+[1]นราธิวาส!Q47+[1]เชียงแสน!Q47+[1]ยานยนต!Q47+[1]สถาบันสุขภาพ!Q47 -> 0 | P44: =+[1]สมุทรปราการ!R47+[1]ฉะเชิงเทรา!R47+[1]สุพรรณ!R47+[1]สิงห์บุรี!R47+[1]ชัยนาท!R47+[1]อุทัย!R47+[1]ชลบุรี!R47+[1]ปราจีน!R47+[1]สระแก้ว!R47+[1]ราชบุรี!R47+[1]เพชรบุรี!R47+[1]กาญจนบุรี!R47+[1]ประจวบ!R47+[1]นครราชสีมา!R47+[1]ชัยภูมิ!R47+[1]สุรินทร์!R47+[1]บุรีรัมย์!R47+[1]ขอนแก่น!R47+[1]กาฬสินทร์!R47+[1]มุกดาหาร!R47+[1]หนองบัว!R47+[1]มหาสารคราม!R47+[1]อุบล!R47+[1]ศรีสะเกษ!R47+[1]อำนาจ!R47+[1]ร้อยเอ็ด!R47+[1]ยโสธร!R47+[1]นครสวรรค์!R47+[1]พิจิตร!R47+[1]กำแพงเพชร!R47+[1]ตาก!R47+[1]พิษณุโลก!R47+[1]เลย!R47+[1]เพชรบูลย์!R47+[1]อุดรดิต!R47+[1]สุโขทัย!R47+[1]ลำปาง!R47+[1]ลำพูน!R47+[1]แพร่!R47+[1]สุราษ!R47+[1]ชุมพร!R47+[1]ระนอง!R47+[1]สงขลา!R47+[1]สตูล!R47+[1]กรุงเทพ!R47+[1]ปทุม!R47+[1]นนทบุรี!R47+[1]นครนายก!R47+[1]อยุธยา!R47+[1]อ่างทอง!R47+[1]สระบุรี!R47+[1]ลพบุรี!R47+[1]นครปฐม!R47+[1]สมุทรสงคราม!R47+[1]สมุทรสาคร!R47+[1]ระยอง!R47+[1]จันทบุรี!R47+[1]ตราด!R47+[1]อุดร!R47+[1]หนองคาย!R47+[1]บึงกาฬ!R47+[1]สกลนคร!R47+[1]นครพนม!R47+[1]เชียงใหม่!R47+[1]แม่ฮ่องสอน!R47+[1]เชียงราย!R47+[1]พะเยา!R47+[1]น่าน!R47+[1]ภูเก็ต!R47+[1]พังงา!R47+[1]กระบี่!R47+[1]นครศรี!R47+[1]พัทลุง!R47+[1]ตรัง!R47+[1]ปัตตานี!R47+[1]ยะลา!R47+[1]นราธิวาส!R47+[1]เชียงแสน!R47+[1]ยานยนต!R47+[1]สถาบันสุขภาพ!R47 -> 0
A45: * ค่าจ้างเหมากำจัดปลวก | O45: =+[1]สมุทรปราการ!Q47+[1]ฉะเชิงเทรา!Q47+[1]สุพรรณ!Q47+[1]สิงห์บุรี!Q47+[1]ชัยนาท!Q47+[1]อุทัย!Q47+[1]ชลบุรี!Q47+[1]ปราจีน!Q47+[1]สระแก้ว!Q47+[1]ราชบุรี!Q47+[1]เพชรบุรี!Q47+[1]กาญจนบุรี!Q47+[1]ประจวบ!Q47+[1]นครราชสีมา!Q47+[1]ชัยภูมิ!Q47+[1]สุรินทร์!Q47+[1]บุรีรัมย์!Q47+[1]ขอนแก่น!Q47+[1]กาฬสินทร์!Q47+[1]มุกดาหาร!Q47+[1]หนองบัว!Q47+[1]มหาสารคราม!Q47+[1]อุบล!Q47+[1]ศรีสะเกษ!Q47+[1]อำนาจ!Q47+[1]ร้อยเอ็ด!Q47+[1]ยโสธร!Q47+[1]นครสวรรค์!Q47+[1]พิจิตร!Q47+[1]กำแพงเพชร!Q47+[1]ตาก!Q47+[1]พิษณุโลก!Q47+[1]เลย!Q47+[1]เพชรบูลย์!Q47+[1]อุดรดิต!Q47+[1]สุโขทัย!Q47+[1]ลำปาง!Q47+[1]ลำพูน!Q47+[1]แพร่!Q47+[1]สุราษ!Q47+[1]ชุมพร!Q47+[1]ระนอง!Q47+[1]สงขลา!Q47+[1]สตูล!Q47+[1]กรุงเทพ!Q47+[1]ปทุม!Q47+[1]นนทบุรี!Q47+[1]นครนายก!Q47+[1]อยุธยา!Q47+[1]อ่างทอง!Q47+[1]สระบุรี!Q47+[1]ลพบุรี!Q47+[1]นครปฐม!Q47+[1]สมุทรสงคราม!Q47+[1]สมุทรสาคร!Q47+[1]ระยอง!Q47+[1]จันทบุรี!Q47+[1]ตราด!Q47+[1]อุดร!Q47+[1]หนองคาย!Q47+[1]บึงกาฬ!Q47+[1]สกลนคร!Q47+[1]นครพนม!Q47+[1]เชียงใหม่!Q47+[1]แม่ฮ่องสอน!Q47+[1]เชียงราย!Q47+[1]พะเยา!Q47+[1]น่าน!Q47+[1]ภูเก็ต!Q47+[1]พังงา!Q47+[1]กระบี่!Q47+[1]นครศรี!Q47+[1]พัทลุง!Q47+[1]ตรัง!Q47+[1]ปัตตานี!Q47+[1]ยะลา!Q47+[1]นราธิวาส!Q47+[1]เชียงแสน!Q47+[1]ยานยนต!Q47+[1]สถาบันสุขภาพ!Q47 -> 0 | P45: =+[1]สมุทรปราการ!R47+[1]ฉะเชิงเทรา!R47+[1]สุพรรณ!R47+[1]สิงห์บุรี!R47+[1]ชัยนาท!R47+[1]อุทัย!R47+[1]ชลบุรี!R47+[1]ปราจีน!R47+[1]สระแก้ว!R47+[1]ราชบุรี!R47+[1]เพชรบุรี!R47+[1]กาญจนบุรี!R47+[1]ประจวบ!R47+[1]นครราชสีมา!R47+[1]ชัยภูมิ!R47+[1]สุรินทร์!R47+[1]บุรีรัมย์!R47+[1]ขอนแก่น!R47+[1]กาฬสินทร์!R47+[1]มุกดาหาร!R47+[1]หนองบัว!R47+[1]มหาสารคราม!R47+[1]อุบล!R47+[1]ศรีสะเกษ!R47+[1]อำนาจ!R47+[1]ร้อยเอ็ด!R47+[1]ยโสธร!R47+[1]นครสวรรค์!R47+[1]พิจิตร!R47+[1]กำแพงเพชร!R47+[1]ตาก!R47+[1]พิษณุโลก!R47+[1]เลย!R47+[1]เพชรบูลย์!R47+[1]อุดรดิต!R47+[1]สุโขทัย!R47+[1]ลำปาง!R47+[1]ลำพูน!R47+[1]แพร่!R47+[1]สุราษ!R47+[1]ชุมพร!R47+[1]ระนอง!R47+[1]สงขลา!R47+[1]สตูล!R47+[1]กรุงเทพ!R47+[1]ปทุม!R47+[1]นนทบุรี!R47+[1]นครนายก!R47+[1]อยุธยา!R47+[1]อ่างทอง!R47+[1]สระบุรี!R47+[1]ลพบุรี!R47+[1]นครปฐม!R47+[1]สมุทรสงคราม!R47+[1]สมุทรสาคร!R47+[1]ระยอง!R47+[1]จันทบุรี!R47+[1]ตราด!R47+[1]อุดร!R47+[1]หนองคาย!R47+[1]บึงกาฬ!R47+[1]สกลนคร!R47+[1]นครพนม!R47+[1]เชียงใหม่!R47+[1]แม่ฮ่องสอน!R47+[1]เชียงราย!R47+[1]พะเยา!R47+[1]น่าน!R47+[1]ภูเก็ต!R47+[1]พังงา!R47+[1]กระบี่!R47+[1]นครศรี!R47+[1]พัทลุง!R47+[1]ตรัง!R47+[1]ปัตตานี!R47+[1]ยะลา!R47+[1]นราธิวาส!R47+[1]เชียงแสน!R47+[1]ยานยนต!R47+[1]สถาบันสุขภาพ!R47 -> 0
A46: *ค่าจ้างจัดเก็บขยะ
A47: *ค่าจ้างเหมาจัดเก็บสิ่งปฎิกูล
A48: - ค่ารับรองและพิธีกร (อาหารว่างและเครื่องดื่มในการประชุม,จัดงาน/โครงการต่างๆ) | O48: =+[1]สมุทรปราการ!Q49+[1]ฉะเชิงเทรา!Q49+[1]สุพรรณ!Q49+[1]สิงห์บุรี!Q49+[1]ชัยนาท!Q49+[1]อุทัย!Q49+[1]ชลบุรี!Q49+[1]ปราจีน!Q49+[1]สระแก้ว!Q49+[1]ราชบุรี!Q49+[1]เพชรบุรี!Q49+[1]กาญจนบุรี!Q49+[1]ประจวบ!Q49+[1]นครราชสีมา!Q49+[1]ชัยภูมิ!Q49+[1]สุรินทร์!Q49+[1]บุรีรัมย์!Q49+[1]ขอนแก่น!Q49+[1]กาฬสินทร์!Q49+[1]มุกดาหาร!Q49+[1]หนองบัว!Q49+[1]มหาสารคราม!Q49+[1]อุบล!Q49+[1]ศรีสะเกษ!Q49+[1]อำนาจ!Q49+[1]ร้อยเอ็ด!Q49+[1]ยโสธร!Q49+[1]นครสวรรค์!Q49+[1]พิจิตร!Q49+[1]กำแพงเพชร!Q49+[1]ตาก!Q49+[1]พิษณุโลก!Q49+[1]เลย!Q49+[1]เพชรบูลย์!Q49+[1]อุดรดิต!Q49+[1]สุโขทัย!Q49+[1]ลำปาง!Q49+[1]ลำพูน!Q49+[1]แพร่!Q49+[1]สุราษ!Q49+[1]ชุมพร!Q49+[1]ระนอง!Q49+[1]สงขลา!Q49+[1]สตูล!Q49+[1]กรุงเทพ!Q49+[1]ปทุม!Q49+[1]นนทบุรี!Q49+[1]นครนายก!Q49+[1]อยุธยา!Q49+[1]อ่างทอง!Q49+[1]สระบุรี!Q49+[1]ลพบุรี!Q49+[1]นครปฐม!Q49+[1]สมุทรสงคราม!Q49+[1]สมุทรสาคร!Q49+[1]ระยอง!Q49+[1]จันทบุรี!Q49+[1]ตราด!Q49+[1]อุดร!Q49+[1]หนองคาย!Q49+[1]บึงกาฬ!Q49+[1]สกลนคร!Q49+[1]นครพนม!Q49+[1]เชียงใหม่!Q49+[1]แม่ฮ่องสอน!Q49+[1]เชียงราย!Q49+[1]พะเยา!Q49+[1]น่าน!Q49+[1]ภูเก็ต!Q49+[1]พังงา!Q49+[1]กระบี่!Q49+[1]นครศรี!Q49+[1]พัทลุง!Q49+[1]ตรัง!Q49+[1]ปัตตานี!Q49+[1]ยะลา!Q49+[1]นราธิวาส!Q49+[1]เชียงแสน!Q49+[1]ยานยนต!Q49+[1]สถาบันสุขภาพ!Q49 -> 0 | P48: =+[1]สมุทรปราการ!R49+[1]ฉะเชิงเทรา!R49+[1]สุพรรณ!R49+[1]สิงห์บุรี!R49+[1]ชัยนาท!R49+[1]อุทัย!R49+[1]ชลบุรี!R49+[1]ปราจีน!R49+[1]สระแก้ว!R49+[1]ราชบุรี!R49+[1]เพชรบุรี!R49+[1]กาญจนบุรี!R49+[1]ประจวบ!R49+[1]นครราชสีมา!R49+[1]ชัยภูมิ!R49+[1]สุรินทร์!R49+[1]บุรีรัมย์!R49+[1]ขอนแก่น!R49+[1]กาฬสินทร์!R49+[1]มุกดาหาร!R49+[1]หนองบัว!R49+[1]มหาสารคราม!R49+[1]อุบล!R49+[1]ศรีสะเกษ!R49+[1]อำนาจ!R49+[1]ร้อยเอ็ด!R49+[1]ยโสธร!R49+[1]นครสวรรค์!R49+[1]พิจิตร!R49+[1]กำแพงเพชร!R49+[1]ตาก!R49+[1]พิษณุโลก!R49+[1]เลย!R49+[1]เพชรบูลย์!R49+[1]อุดรดิต!R49+[1]สุโขทัย!R49+[1]ลำปาง!R49+[1]ลำพูน!R49+[1]แพร่!R49+[1]สุราษ!R49+[1]ชุมพร!R49+[1]ระนอง!R49+[1]สงขลา!R49+[1]สตูล!R49+[1]กรุงเทพ!R49+[1]ปทุม!R49+[1]นนทบุรี!R49+[1]นครนายก!R49+[1]อยุธยา!R49+[1]อ่างทอง!R49+[1]สระบุรี!R49+[1]ลพบุรี!R49+[1]นครปฐม!R49+[1]สมุทรสงคราม!R49+[1]สมุทรสาคร!R49+[1]ระยอง!R49+[1]จันทบุรี!R49+[1]ตราด!R49+[1]อุดร!R49+[1]หนองคาย!R49+[1]บึงกาฬ!R49+[1]สกลนคร!R49+[1]นครพนม!R49+[1]เชียงใหม่!R49+[1]แม่ฮ่องสอน!R49+[1]เชียงราย!R49+[1]พะเยา!R49+[1]น่าน!R49+[1]ภูเก็ต!R49+[1]พังงา!R49+[1]กระบี่!R49+[1]นครศรี!R49+[1]พัทลุง!R49+[1]ตรัง!R49+[1]ปัตตานี!R49+[1]ยะลา!R49+[1]นราธิวาส!R49+[1]เชียงแสน!R49+[1]ยานยนต!R49+[1]สถาบันสุขภาพ!R49 -> 0
A49: - ค่าภาษีและค่าธรรมเนียม | O49: =+[1]สมุทรปราการ!Q51+[1]ฉะเชิงเทรา!Q51+[1]สุพรรณ!Q51+[1]สิงห์บุรี!Q51+[1]ชัยนาท!Q51+[1]อุทัย!Q51+[1]ชลบุรี!Q51+[1]ปราจีน!Q51+[1]สระแก้ว!Q51+[1]ราชบุรี!Q51+[1]เพชรบุรี!Q51+[1]กาญจนบุรี!Q51+[1]ประจวบ!Q51+[1]นครราชสีมา!Q51+[1]ชัยภูมิ!Q51+[1]สุรินทร์!Q51+[1]บุรีรัมย์!Q51+[1]ขอนแก่น!Q51+[1]กาฬสินทร์!Q51+[1]มุกดาหาร!Q51+[1]หนองบัว!Q51+[1]มหาสารคราม!Q51+[1]อุบล!Q51+[1]ศรีสะเกษ!Q51+[1]อำนาจ!Q51+[1]ร้อยเอ็ด!Q51+[1]ยโสธร!Q51+[1]นครสวรรค์!Q51+[1]พิจิตร!Q51+[1]กำแพงเพชร!Q51+[1]ตาก!Q51+[1]พิษณุโลก!Q51+[1]เลย!Q51+[1]เพชรบูลย์!Q51+[1]อุดรดิต!Q51+[1]สุโขทัย!Q51+[1]ลำปาง!Q51+[1]ลำพูน!Q51+[1]แพร่!Q51+[1]สุราษ!Q51+[1]ชุมพร!Q51+[1]ระนอง!Q51+[1]สงขลา!Q51+[1]สตูล!Q51+[1]กรุงเทพ!Q51+[1]ปทุม!Q51+[1]นนทบุรี!Q51+[1]นครนายก!Q51+[1]อยุธยา!Q51+[1]อ่างทอง!Q51+[1]สระบุรี!Q51+[1]ลพบุรี!Q51+[1]นครปฐม!Q51+[1]สมุทรสงคราม!Q51+[1]สมุทรสาคร!Q51+[1]ระยอง!Q51+[1]จันทบุรี!Q51+[1]ตราด!Q51+[1]อุดร!Q51+[1]หนองคาย!Q51+[1]บึงกาฬ!Q51+[1]สกลนคร!Q51+[1]นครพนม!Q51+[1]เชียงใหม่!Q51+[1]แม่ฮ่องสอน!Q51+[1]เชียงราย!Q51+[1]พะเยา!Q51+[1]น่าน!Q51+[1]ภูเก็ต!Q51+[1]พังงา!Q51+[1]กระบี่!Q51+[1]นครศรี!Q51+[1]พัทลุง!Q51+[1]ตรัง!Q51+[1]ปัตตานี!Q51+[1]ยะลา!Q51+[1]นราธิวาส!Q51+[1]เชียงแสน!Q51+[1]ยานยนต!Q51+[1]สถาบันสุขภาพ!Q51 -> 0 | P49: =+[1]สมุทรปราการ!R51+[1]ฉะเชิงเทรา!R51+[1]สุพรรณ!R51+[1]สิงห์บุรี!R51+[1]ชัยนาท!R51+[1]อุทัย!R51+[1]ชลบุรี!R51+[1]ปราจีน!R51+[1]สระแก้ว!R51+[1]ราชบุรี!R51+[1]เพชรบุรี!R51+[1]กาญจนบุรี!R51+[1]ประจวบ!R51+[1]นครราชสีมา!R51+[1]ชัยภูมิ!R51+[1]สุรินทร์!R51+[1]บุรีรัมย์!R51+[1]ขอนแก่น!R51+[1]กาฬสินทร์!R51+[1]มุกดาหาร!R51+[1]หนองบัว!R51+[1]มหาสารคราม!R51+[1]อุบล!R51+[1]ศรีสะเกษ!R51+[1]อำนาจ!R51+[1]ร้อยเอ็ด!R51+[1]ยโสธร!R51+[1]นครสวรรค์!R51+[1]พิจิตร!R51+[1]กำแพงเพชร!R51+[1]ตาก!R51+[1]พิษณุโลก!R51+[1]เลย!R51+[1]เพชรบูลย์!R51+[1]อุดรดิต!R51+[1]สุโขทัย!R51+[1]ลำปาง!R51+[1]ลำพูน!R51+[1]แพร่!R51+[1]สุราษ!R51+[1]ชุมพร!R51+[1]ระนอง!R51+[1]สงขลา!R51+[1]สตูล!R51+[1]กรุงเทพ!R51+[1]ปทุม!R51+[1]นนทบุรี!R51+[1]นครนายก!R51+[1]อยุธยา!R51+[1]อ่างทอง!R51+[1]สระบุรี!R51+[1]ลพบุรี!R51+[1]นครปฐม!R51+[1]สมุทรสงคราม!R51+[1]สมุทรสาคร!R51+[1]ระยอง!R51+[1]จันทบุรี!R51+[1]ตราด!R51+[1]อุดร!R51+[1]หนองคาย!R51+[1]บึงกาฬ!R51+[1]สกลนคร!R51+[1]นครพนม!R51+[1]เชียงใหม่!R51+[1]แม่ฮ่องสอน!R51+[1]เชียงราย!R51+[1]พะเยา!R51+[1]น่าน!R51+[1]ภูเก็ต!R51+[1]พังงา!R51+[1]กระบี่!R51+[1]นครศรี!R51+[1]พัทลุง!R51+[1]ตรัง!R51+[1]ปัตตานี!R51+[1]ยะลา!R51+[1]นราธิวาส!R51+[1]เชียงแสน!R51+[1]ยานยนต!R51+[1]สถาบันสุขภาพ!R51 -> 0
A50: - ค่าโฆษณาและเผยแพร่ | O50: =+[1]สมุทรปราการ!Q52+[1]ฉะเชิงเทรา!Q52+[1]สุพรรณ!Q52+[1]สิงห์บุรี!Q52+[1]ชัยนาท!Q52+[1]อุทัย!Q52+[1]ชลบุรี!Q52+[1]ปราจีน!Q52+[1]สระแก้ว!Q52+[1]ราชบุรี!Q52+[1]เพชรบุรี!Q52+[1]กาญจนบุรี!Q52+[1]ประจวบ!Q52+[1]นครราชสีมา!Q52+[1]ชัยภูมิ!Q52+[1]สุรินทร์!Q52+[1]บุรีรัมย์!Q52+[1]ขอนแก่น!Q52+[1]กาฬสินทร์!Q52+[1]มุกดาหาร!Q52+[1]หนองบัว!Q52+[1]มหาสารคราม!Q52+[1]อุบล!Q52+[1]ศรีสะเกษ!Q52+[1]อำนาจ!Q52+[1]ร้อยเอ็ด!Q52+[1]ยโสธร!Q52+[1]นครสวรรค์!Q52+[1]พิจิตร!Q52+[1]กำแพงเพชร!Q52+[1]ตาก!Q52+[1]พิษณุโลก!Q52+[1]เลย!Q52+[1]เพชรบูลย์!Q52+[1]อุดรดิต!Q52+[1]สุโขทัย!Q52+[1]ลำปาง!Q52+[1]ลำพูน!Q52+[1]แพร่!Q52+[1]สุราษ!Q52+[1]ชุมพร!Q52+[1]ระนอง!Q52+[1]สงขลา!Q52+[1]สตูล!Q52+[1]กรุงเทพ!Q52+[1]ปทุม!Q52+[1]นนทบุรี!Q52+[1]นครนายก!Q52+[1]อยุธยา!Q52+[1]อ่างทอง!Q52+[1]สระบุรี!Q52+[1]ลพบุรี!Q52+[1]นครปฐม!Q52+[1]สมุทรสงคราม!Q52+[1]สมุทรสาคร!Q52+[1]ระยอง!Q52+[1]จันทบุรี!Q52+[1]ตราด!Q52+[1]อุดร!Q52+[1]หนองคาย!Q52+[1]บึงกาฬ!Q52+[1]สกลนคร!Q52+[1]นครพนม!Q52+[1]เชียงใหม่!Q52+[1]แม่ฮ่องสอน!Q52+[1]เชียงราย!Q52+[1]พะเยา!Q52+[1]น่าน!Q52+[1]ภูเก็ต!Q52+[1]พังงา!Q52+[1]กระบี่!Q52+[1]นครศรี!Q52+[1]พัทลุง!Q52+[1]ตรัง!Q52+[1]ปัตตานี!Q52+[1]ยะลา!Q52+[1]นราธิวาส!Q52+[1]เชียงแสน!Q52+[1]ยานยนต!Q52+[1]สถาบันสุขภาพ!Q52 -> 0 | P50: =+[1]สมุทรปราการ!R52+[1]ฉะเชิงเทรา!R52+[1]สุพรรณ!R52+[1]สิงห์บุรี!R52+[1]ชัยนาท!R52+[1]อุทัย!R52+[1]ชลบุรี!R52+[1]ปราจีน!R52+[1]สระแก้ว!R52+[1]ราชบุรี!R52+[1]เพชรบุรี!R52+[1]กาญจนบุรี!R52+[1]ประจวบ!R52+[1]นครราชสีมา!R52+[1]ชัยภูมิ!R52+[1]สุรินทร์!R52+[1]บุรีรัมย์!R52+[1]ขอนแก่น!R52+[1]กาฬสินทร์!R52+[1]มุกดาหาร!R52+[1]หนองบัว!R52+[1]มหาสารคราม!R52+[1]อุบล!R52+[1]ศรีสะเกษ!R52+[1]อำนาจ!R52+[1]ร้อยเอ็ด!R52+[1]ยโสธร!R52+[1]นครสวรรค์!R52+[1]พิจิตร!R52+[1]กำแพงเพชร!R52+[1]ตาก!R52+[1]พิษณุโลก!R52+[1]เลย!R52+[1]เพชรบูลย์!R52+[1]อุดรดิต!R52+[1]สุโขทัย!R52+[1]ลำปาง!R52+[1]ลำพูน!R52+[1]แพร่!R52+[1]สุราษ!R52+[1]ชุมพร!R52+[1]ระนอง!R52+[1]สงขลา!R52+[1]สตูล!R52+[1]กรุงเทพ!R52+[1]ปทุม!R52+[1]นนทบุรี!R52+[1]นครนายก!R52+[1]อยุธยา!R52+[1]อ่างทอง!R52+[1]สระบุรี!R52+[1]ลพบุรี!R52+[1]นครปฐม!R52+[1]สมุทรสงคราม!R52+[1]สมุทรสาคร!R52+[1]ระยอง!R52+[1]จันทบุรี!R52+[1]ตราด!R52+[1]อุดร!R52+[1]หนองคาย!R52+[1]บึงกาฬ!R52+[1]สกลนคร!R52+[1]นครพนม!R52+[1]เชียงใหม่!R52+[1]แม่ฮ่องสอน!R52+[1]เชียงราย!R52+[1]พะเยา!R52+[1]น่าน!R52+[1]ภูเก็ต!R52+[1]พังงา!R52+[1]กระบี่!R52+[1]นครศรี!R52+[1]พัทลุง!R52+[1]ตรัง!R52+[1]ปัตตานี!R52+[1]ยะลา!R52+[1]นราธิวาส!R52+[1]เชียงแสน!R52+[1]ยานยนต!R52+[1]สถาบันสุขภาพ!R52 -> 0
A51: - ค่าใช้จ่ายในการฝึกอาชีพ (เฉพาะ สพร.เชียงใหม่) | O51: =+[1]สมุทรปราการ!Q53+[1]ฉะเชิงเทรา!Q53+[1]สุพรรณ!Q53+[1]สิงห์บุรี!Q53+[1]ชัยนาท!Q53+[1]อุทัย!Q53+[1]ชลบุรี!Q53+[1]ปราจีน!Q53+[1]สระแก้ว!Q53+[1]ราชบุรี!Q53+[1]เพชรบุรี!Q53+[1]กาญจนบุรี!Q53+[1]ประจวบ!Q53+[1]นครราชสีมา!Q53+[1]ชัยภูมิ!Q53+[1]สุรินทร์!Q53+[1]บุรีรัมย์!Q53+[1]ขอนแก่น!Q53+[1]กาฬสินทร์!Q53+[1]มุกดาหาร!Q53+[1]หนองบัว!Q53+[1]มหาสารคราม!Q53+[1]อุบล!Q53+[1]ศรีสะเกษ!Q53+[1]อำนาจ!Q53+[1]ร้อยเอ็ด!Q53+[1]ยโสธร!Q53+[1]นครสวรรค์!Q53+[1]พิจิตร!Q53+[1]กำแพงเพชร!Q53+[1]ตาก!Q53+[1]พิษณุโลก!Q53+[1]เลย!Q53+[1]เพชรบูลย์!Q53+[1]อุดรดิต!Q53+[1]สุโขทัย!Q53+[1]ลำปาง!Q53+[1]ลำพูน!Q53+[1]แพร่!Q53+[1]สุราษ!Q53+[1]ชุมพร!Q53+[1]ระนอง!Q53+[1]สงขลา!Q53+[1]สตูล!Q53+[1]กรุงเทพ!Q53+[1]ปทุม!Q53+[1]นนทบุรี!Q53+[1]นครนายก!Q53+[1]อยุธยา!Q53+[1]อ่างทอง!Q53+[1]สระบุรี!Q53+[1]ลพบุรี!Q53+[1]นครปฐม!Q53+[1]สมุทรสงคราม!Q53+[1]สมุทรสาคร!Q53+[1]ระยอง!Q53+[1]จันทบุรี!Q53+[1]ตราด!Q53+[1]อุดร!Q53+[1]หนองคาย!Q53+[1]บึงกาฬ!Q53+[1]สกลนคร!Q53+[1]นครพนม!Q53+[1]เชียงใหม่!Q53+[1]แม่ฮ่องสอน!Q53+[1]เชียงราย!Q53+[1]พะเยา!Q53+[1]น่าน!Q53+[1]ภูเก็ต!Q53+[1]พังงา!Q53+[1]กระบี่!Q53+[1]นครศรี!Q53+[1]พัทลุง!Q53+[1]ตรัง!Q53+[1]ปัตตานี!Q53+[1]ยะลา!Q53+[1]นราธิวาส!Q53+[1]เชียงแสน!Q53+[1]ยานยนต!Q53+[1]สถาบันสุขภาพ!Q53 -> 0 | P51: =+[1]สมุทรปราการ!R53+[1]ฉะเชิงเทรา!R53+[1]สุพรรณ!R53+[1]สิงห์บุรี!R53+[1]ชัยนาท!R53+[1]อุทัย!R53+[1]ชลบุรี!R53+[1]ปราจีน!R53+[1]สระแก้ว!R53+[1]ราชบุรี!R53+[1]เพชรบุรี!R53+[1]กาญจนบุรี!R53+[1]ประจวบ!R53+[1]นครราชสีมา!R53+[1]ชัยภูมิ!R53+[1]สุรินทร์!R53+[1]บุรีรัมย์!R53+[1]ขอนแก่น!R53+[1]กาฬสินทร์!R53+[1]มุกดาหาร!R53+[1]หนองบัว!R53+[1]มหาสารคราม!R53+[1]อุบล!R53+[1]ศรีสะเกษ!R53+[1]อำนาจ!R53+[1]ร้อยเอ็ด!R53+[1]ยโสธร!R53+[1]นครสวรรค์!R53+[1]พิจิตร!R53+[1]กำแพงเพชร!R53+[1]ตาก!R53+[1]พิษณุโลก!R53+[1]เลย!R53+[1]เพชรบูลย์!R53+[1]อุดรดิต!R53+[1]สุโขทัย!R53+[1]ลำปาง!R53+[1]ลำพูน!R53+[1]แพร่!R53+[1]สุราษ!R53+[1]ชุมพร!R53+[1]ระนอง!R53+[1]สงขลา!R53+[1]สตูล!R53+[1]กรุงเทพ!R53+[1]ปทุม!R53+[1]นนทบุรี!R53+[1]นครนายก!R53+[1]อยุธยา!R53+[1]อ่างทอง!R53+[1]สระบุรี!R53+[1]ลพบุรี!R53+[1]นครปฐม!R53+[1]สมุทรสงคราม!R53+[1]สมุทรสาคร!R53+[1]ระยอง!R53+[1]จันทบุรี!R53+[1]ตราด!R53+[1]อุดร!R53+[1]หนองคาย!R53+[1]บึงกาฬ!R53+[1]สกลนคร!R53+[1]นครพนม!R53+[1]เชียงใหม่!R53+[1]แม่ฮ่องสอน!R53+[1]เชียงราย!R53+[1]พะเยา!R53+[1]น่าน!R53+[1]ภูเก็ต!R53+[1]พังงา!R53+[1]กระบี่!R53+[1]นครศรี!R53+[1]พัทลุง!R53+[1]ตรัง!R53+[1]ปัตตานี!R53+[1]ยะลา!R53+[1]นราธิวาส!R53+[1]เชียงแสน!R53+[1]ยานยนต!R53+[1]สถาบันสุขภาพ!R53 -> 0
A52: - ค่าใช้จ่ายพัฒนาศักยภาพแรงงานเพื่อรองรับการจ่ายค่าจ้างตามมาตรฐานฝีมือ | O52: =+[1]สมุทรปราการ!Q54+[1]ฉะเชิงเทรา!Q54+[1]สุพรรณ!Q54+[1]สิงห์บุรี!Q54+[1]ชัยนาท!Q54+[1]อุทัย!Q54+[1]ชลบุรี!Q54+[1]ปราจีน!Q54+[1]สระแก้ว!Q54+[1]ราชบุรี!Q54+[1]เพชรบุรี!Q54+[1]กาญจนบุรี!Q54+[1]ประจวบ!Q54+[1]นครราชสีมา!Q54+[1]ชัยภูมิ!Q54+[1]สุรินทร์!Q54+[1]บุรีรัมย์!Q54+[1]ขอนแก่น!Q54+[1]กาฬสินทร์!Q54+[1]มุกดาหาร!Q54+[1]หนองบัว!Q54+[1]มหาสารคราม!Q54+[1]อุบล!Q54+[1]ศรีสะเกษ!Q54+[1]อำนาจ!Q54+[1]ร้อยเอ็ด!Q54+[1]ยโสธร!Q54+[1]นครสวรรค์!Q54+[1]พิจิตร!Q54+[1]กำแพงเพชร!Q54+[1]ตาก!Q54+[1]พิษณุโลก!Q54+[1]เลย!Q54+[1]เพชรบูลย์!Q54+[1]อุดรดิต!Q54+[1]สุโขทัย!Q54+[1]ลำปาง!Q54+[1]ลำพูน!Q54+[1]แพร่!Q54+[1]สุราษ!Q54+[1]ชุมพร!Q54+[1]ระนอง!Q54+[1]สงขลา!Q54+[1]สตูล!Q54+[1]กรุงเทพ!Q54+[1]ปทุม!Q54+[1]นนทบุรี!Q54+[1]นครนายก!Q54+[1]อยุธยา!Q54+[1]อ่างทอง!Q54+[1]สระบุรี!Q54+[1]ลพบุรี!Q54+[1]นครปฐม!Q54+[1]สมุทรสงคราม!Q54+[1]สมุทรสาคร!Q54+[1]ระยอง!Q54+[1]จันทบุรี!Q54+[1]ตราด!Q54+[1]อุดร!Q54+[1]หนองคาย!Q54+[1]บึงกาฬ!Q54+[1]สกลนคร!Q54+[1]นครพนม!Q54+[1]เชียงใหม่!Q54+[1]แม่ฮ่องสอน!Q54+[1]เชียงราย!Q54+[1]พะเยา!Q54+[1]น่าน!Q54+[1]ภูเก็ต!Q54+[1]พังงา!Q54+[1]กระบี่!Q54+[1]นครศรี!Q54+[1]พัทลุง!Q54+[1]ตรัง!Q54+[1]ปัตตานี!Q54+[1]ยะลา!Q54+[1]นราธิวาส!Q54+[1]เชียงแสน!Q54+[1]ยานยนต!Q54+[1]สถาบันสุขภาพ!Q54 -> 0 | P52: =+[1]สมุทรปราการ!R54+[1]ฉะเชิงเทรา!R54+[1]สุพรรณ!R54+[1]สิงห์บุรี!R54+[1]ชัยนาท!R54+[1]อุทัย!R54+[1]ชลบุรี!R54+[1]ปราจีน!R54+[1]สระแก้ว!R54+[1]ราชบุรี!R54+[1]เพชรบุรี!R54+[1]กาญจนบุรี!R54+[1]ประจวบ!R54+[1]นครราชสีมา!R54+[1]ชัยภูมิ!R54+[1]สุรินทร์!R54+[1]บุรีรัมย์!R54+[1]ขอนแก่น!R54+[1]กาฬสินทร์!R54+[1]มุกดาหาร!R54+[1]หนองบัว!R54+[1]มหาสารคราม!R54+[1]อุบล!R54+[1]ศรีสะเกษ!R54+[1]อำนาจ!R54+[1]ร้อยเอ็ด!R54+[1]ยโสธร!R54+[1]นครสวรรค์!R54+[1]พิจิตร!R54+[1]กำแพงเพชร!R54+[1]ตาก!R54+[1]พิษณุโลก!R54+[1]เลย!R54+[1]เพชรบูลย์!R54+[1]อุดรดิต!R54+[1]สุโขทัย!R54+[1]ลำปาง!R54+[1]ลำพูน!R54+[1]แพร่!R54+[1]สุราษ!R54+[1]ชุมพร!R54+[1]ระนอง!R54+[1]สงขลา!R54+[1]สตูล!R54+[1]กรุงเทพ!R54+[1]ปทุม!R54+[1]นนทบุรี!R54+[1]นครนายก!R54+[1]อยุธยา!R54+[1]อ่างทอง!R54+[1]สระบุรี!R54+[1]ลพบุรี!R54+[1]นครปฐม!R54+[1]สมุทรสงคราม!R54+[1]สมุทรสาคร!R54+[1]ระยอง!R54+[1]จันทบุรี!R54+[1]ตราด!R54+[1]อุดร!R54+[1]หนองคาย!R54+[1]บึงกาฬ!R54+[1]สกลนคร!R54+[1]นครพนม!R54+[1]เชียงใหม่!R54+[1]แม่ฮ่องสอน!R54+[1]เชียงราย!R54+[1]พะเยา!R54+[1]น่าน!R54+[1]ภูเก็ต!R54+[1]พังงา!R54+[1]กระบี่!R54+[1]นครศรี!R54+[1]พัทลุง!R54+[1]ตรัง!R54+[1]ปัตตานี!R54+[1]ยะลา!R54+[1]นราธิวาส!R54+[1]เชียงแสน!R54+[1]ยานยนต!R54+[1]สถาบันสุขภาพ!R54 -> 0
A53: - ค่าใช้จ่ายในการทดสอบมาตรฐานฝีมือแรงงานให้มีสมรรถนะ | O53: =+[1]สมุทรปราการ!Q55+[1]ฉะเชิงเทรา!Q55+[1]สุพรรณ!Q55+[1]สิงห์บุรี!Q55+[1]ชัยนาท!Q55+[1]อุทัย!Q55+[1]ชลบุรี!Q55+[1]ปราจีน!Q55+[1]สระแก้ว!Q55+[1]ราชบุรี!Q55+[1]เพชรบุรี!Q55+[1]กาญจนบุรี!Q55+[1]ประจวบ!Q55+[1]นครราชสีมา!Q55+[1]ชัยภูมิ!Q55+[1]สุรินทร์!Q55+[1]บุรีรัมย์!Q55+[1]ขอนแก่น!Q55+[1]กาฬสินทร์!Q55+[1]มุกดาหาร!Q55+[1]หนองบัว!Q55+[1]มหาสารคราม!Q55+[1]อุบล!Q55+[1]ศรีสะเกษ!Q55+[1]อำนาจ!Q55+[1]ร้อยเอ็ด!Q55+[1]ยโสธร!Q55+[1]นครสวรรค์!Q55+[1]พิจิตร!Q55+[1]กำแพงเพชร!Q55+[1]ตาก!Q55+[1]พิษณุโลก!Q55+[1]เลย!Q55+[1]เพชรบูลย์!Q55+[1]อุดรดิต!Q55+[1]สุโขทัย!Q55+[1]ลำปาง!Q55+[1]ลำพูน!Q55+[1]แพร่!Q55+[1]สุราษ!Q55+[1]ชุมพร!Q55+[1]ระนอง!Q55+[1]สงขลา!Q55+[1]สตูล!Q55+[1]กรุงเทพ!Q55+[1]ปทุม!Q55+[1]นนทบุรี!Q55+[1]นครนายก!Q55+[1]อยุธยา!Q55+[1]อ่างทอง!Q55+[1]สระบุรี!Q55+[1]ลพบุรี!Q55+[1]นครปฐม!Q55+[1]สมุทรสงคราม!Q55+[1]สมุทรสาคร!Q55+[1]ระยอง!Q55+[1]จันทบุรี!Q55+[1]ตราด!Q55+[1]อุดร!Q55+[1]หนองคาย!Q55+[1]บึงกาฬ!Q55+[1]สกลนคร!Q55+[1]นครพนม!Q55+[1]เชียงใหม่!Q55+[1]แม่ฮ่องสอน!Q55+[1]เชียงราย!Q55+[1]พะเยา!Q55+[1]น่าน!Q55+[1]ภูเก็ต!Q55+[1]พังงา!Q55+[1]กระบี่!Q55+[1]นครศรี!Q55+[1]พัทลุง!Q55+[1]ตรัง!Q55+[1]ปัตตานี!Q55+[1]ยะลา!Q55+[1]นราธิวาส!Q55+[1]เชียงแสน!Q55+[1]ยานยนต!Q55+[1]สถาบันสุขภาพ!Q55 -> 0 | P53: =+[1]สมุทรปราการ!R55+[1]ฉะเชิงเทรา!R55+[1]สุพรรณ!R55+[1]สิงห์บุรี!R55+[1]ชัยนาท!R55+[1]อุทัย!R55+[1]ชลบุรี!R55+[1]ปราจีน!R55+[1]สระแก้ว!R55+[1]ราชบุรี!R55+[1]เพชรบุรี!R55+[1]กาญจนบุรี!R55+[1]ประจวบ!R55+[1]นครราชสีมา!R55+[1]ชัยภูมิ!R55+[1]สุรินทร์!R55+[1]บุรีรัมย์!R55+[1]ขอนแก่น!R55+[1]กาฬสินทร์!R55+[1]มุกดาหาร!R55+[1]หนองบัว!R55+[1]มหาสารคราม!R55+[1]อุบล!R55+[1]ศรีสะเกษ!R55+[1]อำนาจ!R55+[1]ร้อยเอ็ด!R55+[1]ยโสธร!R55+[1]นครสวรรค์!R55+[1]พิจิตร!R55+[1]กำแพงเพชร!R55+[1]ตาก!R55+[1]พิษณุโลก!R55+[1]เลย!R55+[1]เพชรบูลย์!R55+[1]อุดรดิต!R55+[1]สุโขทัย!R55+[1]ลำปาง!R55+[1]ลำพูน!R55+[1]แพร่!R55+[1]สุราษ!R55+[1]ชุมพร!R55+[1]ระนอง!R55+[1]สงขลา!R55+[1]สตูล!R55+[1]กรุงเทพ!R55+[1]ปทุม!R55+[1]นนทบุรี!R55+[1]นครนายก!R55+[1]อยุธยา!R55+[1]อ่างทอง!R55+[1]สระบุรี!R55+[1]ลพบุรี!R55+[1]นครปฐม!R55+[1]สมุทรสงคราม!R55+[1]สมุทรสาคร!R55+[1]ระยอง!R55+[1]จันทบุรี!R55+[1]ตราด!R55+[1]อุดร!R55+[1]หนองคาย!R55+[1]บึงกาฬ!R55+[1]สกลนคร!R55+[1]นครพนม!R55+[1]เชียงใหม่!R55+[1]แม่ฮ่องสอน!R55+[1]เชียงราย!R55+[1]พะเยา!R55+[1]น่าน!R55+[1]ภูเก็ต!R55+[1]พังงา!R55+[1]กระบี่!R55+[1]นครศรี!R55+[1]พัทลุง!R55+[1]ตรัง!R55+[1]ปัตตานี!R55+[1]ยะลา!R55+[1]นราธิวาส!R55+[1]เชียงแสน!R55+[1]ยานยนต!R55+[1]สถาบันสุขภาพ!R55 -> 0
A54: - คชจ. ในการขับเคลื่อนยุทธศาสตร์การพัฒนากำลังคนระดับชาติฯ | O54: =+[1]สมุทรปราการ!Q56+[1]ฉะเชิงเทรา!Q56+[1]สุพรรณ!Q56+[1]สิงห์บุรี!Q56+[1]ชัยนาท!Q56+[1]อุทัย!Q56+[1]ชลบุรี!Q56+[1]ปราจีน!Q56+[1]สระแก้ว!Q56+[1]ราชบุรี!Q56+[1]เพชรบุรี!Q56+[1]กาญจนบุรี!Q56+[1]ประจวบ!Q56+[1]นครราชสีมา!Q56+[1]ชัยภูมิ!Q56+[1]สุรินทร์!Q56+[1]บุรีรัมย์!Q56+[1]ขอนแก่น!Q56+[1]กาฬสินทร์!Q56+[1]มุกดาหาร!Q56+[1]หนองบัว!Q56+[1]มหาสารคราม!Q56+[1]อุบล!Q56+[1]ศรีสะเกษ!Q56+[1]อำนาจ!Q56+[1]ร้อยเอ็ด!Q56+[1]ยโสธร!Q56+[1]นครสวรรค์!Q56+[1]พิจิตร!Q56+[1]กำแพงเพชร!Q56+[1]ตาก!Q56+[1]พิษณุโลก!Q56+[1]เลย!Q56+[1]เพชรบูลย์!Q56+[1]อุดรดิต!Q56+[1]สุโขทัย!Q56+[1]ลำปาง!Q56+[1]ลำพูน!Q56+[1]แพร่!Q56+[1]สุราษ!Q56+[1]ชุมพร!Q56+[1]ระนอง!Q56+[1]สงขลา!Q56+[1]สตูล!Q56+[1]กรุงเทพ!Q56+[1]ปทุม!Q56+[1]นนทบุรี!Q56+[1]นครนายก!Q56+[1]อยุธยา!Q56+[1]อ่างทอง!Q56+[1]สระบุรี!Q56+[1]ลพบุรี!Q56+[1]นครปฐม!Q56+[1]สมุทรสงคราม!Q56+[1]สมุทรสาคร!Q56+[1]ระยอง!Q56+[1]จันทบุรี!Q56+[1]ตราด!Q56+[1]อุดร!Q56+[1]หนองคาย!Q56+[1]บึงกาฬ!Q56+[1]สกลนคร!Q56+[1]นครพนม!Q56+[1]เชียงใหม่!Q56+[1]แม่ฮ่องสอน!Q56+[1]เชียงราย!Q56+[1]พะเยา!Q56+[1]น่าน!Q56+[1]ภูเก็ต!Q56+[1]พังงา!Q56+[1]กระบี่!Q56+[1]นครศรี!Q56+[1]พัทลุง!Q56+[1]ตรัง!Q56+[1]ปัตตานี!Q56+[1]ยะลา!Q56+[1]นราธิวาส!Q56+[1]เชียงแสน!Q56+[1]ยานยนต!Q56+[1]สถาบันสุขภาพ!Q56 -> 0 | P54: =+[1]สมุทรปราการ!R56+[1]ฉะเชิงเทรา!R56+[1]สุพรรณ!R56+[1]สิงห์บุรี!R56+[1]ชัยนาท!R56+[1]อุทัย!R56+[1]ชลบุรี!R56+[1]ปราจีน!R56+[1]สระแก้ว!R56+[1]ราชบุรี!R56+[1]เพชรบุรี!R56+[1]กาญจนบุรี!R56+[1]ประจวบ!R56+[1]นครราชสีมา!R56+[1]ชัยภูมิ!R56+[1]สุรินทร์!R56+[1]บุรีรัมย์!R56+[1]ขอนแก่น!R56+[1]กาฬสินทร์!R56+[1]มุกดาหาร!R56+[1]หนองบัว!R56+[1]มหาสารคราม!R56+[1]อุบล!R56+[1]ศรีสะเกษ!R56+[1]อำนาจ!R56+[1]ร้อยเอ็ด!R56+[1]ยโสธร!R56+[1]นครสวรรค์!R56+[1]พิจิตร!R56+[1]กำแพงเพชร!R56+[1]ตาก!R56+[1]พิษณุโลก!R56+[1]เลย!R56+[1]เพชรบูลย์!R56+[1]อุดรดิต!R56+[1]สุโขทัย!R56+[1]ลำปาง!R56+[1]ลำพูน!R56+[1]แพร่!R56+[1]สุราษ!R56+[1]ชุมพร!R56+[1]ระนอง!R56+[1]สงขลา!R56+[1]สตูล!R56+[1]กรุงเทพ!R56+[1]ปทุม!R56+[1]นนทบุรี!R56+[1]นครนายก!R56+[1]อยุธยา!R56+[1]อ่างทอง!R56+[1]สระบุรี!R56+[1]ลพบุรี!R56+[1]นครปฐม!R56+[1]สมุทรสงคราม!R56+[1]สมุทรสาคร!R56+[1]ระยอง!R56+[1]จันทบุรี!R56+[1]ตราด!R56+[1]อุดร!R56+[1]หนองคาย!R56+[1]บึงกาฬ!R56+[1]สกลนคร!R56+[1]นครพนม!R56+[1]เชียงใหม่!R56+[1]แม่ฮ่องสอน!R56+[1]เชียงราย!R56+[1]พะเยา!R56+[1]น่าน!R56+[1]ภูเก็ต!R56+[1]พังงา!R56+[1]กระบี่!R56+[1]นครศรี!R56+[1]พัทลุง!R56+[1]ตรัง!R56+[1]ปัตตานี!R56+[1]ยะลา!R56+[1]นราธิวาส!R56+[1]เชียงแสน!R56+[1]ยานยนต!R56+[1]สถาบันสุขภาพ!R56 -> 0
A55: ค่าวัสดุ | B55: =SUM(C55:P55) -> 0 | C55: =SUM(C56:C62) -> 0 | D55: =SUM(D56:D62) -> 0 | E55: =SUM(E56:E62) -> 0 | F55: =SUM(F56:F62) -> 0 | G55: =SUM(G56:G62) -> 0 | H55: =SUM(H56:H62) -> 0 | I55: =SUM(I56:I62) -> 0 | J55: =SUM(J56:J62) -> 0 | ... P55: =SUM(P56:P62) -> 0
A56: - วัสดุสำนักงาน | O56: =+[1]สมุทรปราการ!Q61+[1]ฉะเชิงเทรา!Q61+[1]สุพรรณ!Q61+[1]สิงห์บุรี!Q61+[1]ชัยนาท!Q61+[1]อุทัย!Q61+[1]ชลบุรี!Q61+[1]ปราจีน!Q61+[1]สระแก้ว!Q61+[1]ราชบุรี!Q61+[1]เพชรบุรี!Q61+[1]กาญจนบุรี!Q61+[1]ประจวบ!Q61+[1]นครราชสีมา!Q61+[1]ชัยภูมิ!Q61+[1]สุรินทร์!Q61+[1]บุรีรัมย์!Q61+[1]ขอนแก่น!Q61+[1]กาฬสินทร์!Q61+[1]มุกดาหาร!Q61+[1]หนองบัว!Q61+[1]มหาสารคราม!Q61+[1]อุบล!Q61+[1]ศรีสะเกษ!Q61+[1]อำนาจ!Q61+[1]ร้อยเอ็ด!Q61+[1]ยโสธร!Q61+[1]นครสวรรค์!Q61+[1]พิจิตร!Q61+[1]กำแพงเพชร!Q61+[1]ตาก!Q61+[1]พิษณุโลก!Q61+[1]เลย!Q61+[1]เพชรบูลย์!Q61+[1]อุดรดิต!Q61+[1]สุโขทัย!Q61+[1]ลำปาง!Q61+[1]ลำพูน!Q61+[1]แพร่!Q61+[1]สุราษ!Q61+[1]ชุมพร!Q61+[1]ระนอง!Q61+[1]สงขลา!Q61+[1]สตูล!Q61+[1]กรุงเทพ!Q61+[1]ปทุม!Q61+[1]นนทบุรี!Q61+[1]นครนายก!Q61+[1]อยุธยา!Q61+[1]อ่างทอง!Q61+[1]สระบุรี!Q61+[1]ลพบุรี!Q61+[1]นครปฐม!Q61+[1]สมุทรสงคราม!Q61+[1]สมุทรสาคร!Q61+[1]ระยอง!Q61+[1]จันทบุรี!Q61+[1]ตราด!Q61+[1]อุดร!Q61+[1]หนองคาย!Q61+[1]บึงกาฬ!Q61+[1]สกลนคร!Q61+[1]นครพนม!Q61+[1]เชียงใหม่!Q61+[1]แม่ฮ่องสอน!Q61+[1]เชียงราย!Q61+[1]พะเยา!Q61+[1]น่าน!Q61+[1]ภูเก็ต!Q61+[1]พังงา!Q61+[1]กระบี่!Q61+[1]นครศรี!Q61+[1]พัทลุง!Q61+[1]ตรัง!Q61+[1]ปัตตานี!Q61+[1]ยะลา!Q61+[1]นราธิวาส!Q61+[1]เชียงแสน!Q61+[1]ยานยนต!Q61+[1]สถาบันสุขภาพ!Q61 -> 0 | P56: =+[1]สมุทรปราการ!R61+[1]ฉะเชิงเทรา!R61+[1]สุพรรณ!R61+[1]สิงห์บุรี!R61+[1]ชัยนาท!R61+[1]อุทัย!R61+[1]ชลบุรี!R61+[1]ปราจีน!R61+[1]สระแก้ว!R61+[1]ราชบุรี!R61+[1]เพชรบุรี!R61+[1]กาญจนบุรี!R61+[1]ประจวบ!R61+[1]นครราชสีมา!R61+[1]ชัยภูมิ!R61+[1]สุรินทร์!R61+[1]บุรีรัมย์!R61+[1]ขอนแก่น!R61+[1]กาฬสินทร์!R61+[1]มุกดาหาร!R61+[1]หนองบัว!R61+[1]มหาสารคราม!R61+[1]อุบล!R61+[1]ศรีสะเกษ!R61+[1]อำนาจ!R61+[1]ร้อยเอ็ด!R61+[1]ยโสธร!R61+[1]นครสวรรค์!R61+[1]พิจิตร!R61+[1]กำแพงเพชร!R61+[1]ตาก!R61+[1]พิษณุโลก!R61+[1]เลย!R61+[1]เพชรบูลย์!R61+[1]อุดรดิต!R61+[1]สุโขทัย!R61+[1]ลำปาง!R61+[1]ลำพูน!R61+[1]แพร่!R61+[1]สุราษ!R61+[1]ชุมพร!R61+[1]ระนอง!R61+[1]สงขลา!R61+[1]สตูล!R61+[1]กรุงเทพ!R61+[1]ปทุม!R61+[1]นนทบุรี!R61+[1]นครนายก!R61+[1]อยุธยา!R61+[1]อ่างทอง!R61+[1]สระบุรี!R61+[1]ลพบุรี!R61+[1]นครปฐม!R61+[1]สมุทรสงคราม!R61+[1]สมุทรสาคร!R61+[1]ระยอง!R61+[1]จันทบุรี!R61+[1]ตราด!R61+[1]อุดร!R61+[1]หนองคาย!R61+[1]บึงกาฬ!R61+[1]สกลนคร!R61+[1]นครพนม!R61+[1]เชียงใหม่!R61+[1]แม่ฮ่องสอน!R61+[1]เชียงราย!R61+[1]พะเยา!R61+[1]น่าน!R61+[1]ภูเก็ต!R61+[1]พังงา!R61+[1]กระบี่!R61+[1]นครศรี!R61+[1]พัทลุง!R61+[1]ตรัง!R61+[1]ปัตตานี!R61+[1]ยะลา!R61+[1]นราธิวาส!R61+[1]เชียงแสน!R61+[1]ยานยนต!R61+[1]สถาบันสุขภาพ!R61 -> 0
A57: - วัสดุเชื้อเพลิงและหล่อลื่น | O57: =+[1]สมุทรปราการ!Q62+[1]ฉะเชิงเทรา!Q62+[1]สุพรรณ!Q62+[1]สิงห์บุรี!Q62+[1]ชัยนาท!Q62+[1]อุทัย!Q62+[1]ชลบุรี!Q62+[1]ปราจีน!Q62+[1]สระแก้ว!Q62+[1]ราชบุรี!Q62+[1]เพชรบุรี!Q62+[1]กาญจนบุรี!Q62+[1]ประจวบ!Q62+[1]นครราชสีมา!Q62+[1]ชัยภูมิ!Q62+[1]สุรินทร์!Q62+[1]บุรีรัมย์!Q62+[1]ขอนแก่น!Q62+[1]กาฬสินทร์!Q62+[1]มุกดาหาร!Q62+[1]หนองบัว!Q62+[1]มหาสารคราม!Q62+[1]อุบล!Q62+[1]ศรีสะเกษ!Q62+[1]อำนาจ!Q62+[1]ร้อยเอ็ด!Q62+[1]ยโสธร!Q62+[1]นครสวรรค์!Q62+[1]พิจิตร!Q62+[1]กำแพงเพชร!Q62+[1]ตาก!Q62+[1]พิษณุโลก!Q62+[1]เลย!Q62+[1]เพชรบูลย์!Q62+[1]อุดรดิต!Q62+[1]สุโขทัย!Q62+[1]ลำปาง!Q62+[1]ลำพูน!Q62+[1]แพร่!Q62+[1]สุราษ!Q62+[1]ชุมพร!Q62+[1]ระนอง!Q62+[1]สงขลา!Q62+[1]สตูล!Q62+[1]กรุงเทพ!Q62+[1]ปทุม!Q62+[1]นนทบุรี!Q62+[1]นครนายก!Q62+[1]อยุธยา!Q62+[1]อ่างทอง!Q62+[1]สระบุรี!Q62+[1]ลพบุรี!Q62+[1]นครปฐม!Q62+[1]สมุทรสงคราม!Q62+[1]สมุทรสาคร!Q62+[1]ระยอง!Q62+[1]จันทบุรี!Q62+[1]ตราด!Q62+[1]อุดร!Q62+[1]หนองคาย!Q62+[1]บึงกาฬ!Q62+[1]สกลนคร!Q62+[1]นครพนม!Q62+[1]เชียงใหม่!Q62+[1]แม่ฮ่องสอน!Q62+[1]เชียงราย!Q62+[1]พะเยา!Q62+[1]น่าน!Q62+[1]ภูเก็ต!Q62+[1]พังงา!Q62+[1]กระบี่!Q62+[1]นครศรี!Q62+[1]พัทลุง!Q62+[1]ตรัง!Q62+[1]ปัตตานี!Q62+[1]ยะลา!Q62+[1]นราธิวาส!Q62+[1]เชียงแสน!Q62+[1]ยานยนต!Q62+[1]สถาบันสุขภาพ!Q62 -> 0 | P57: =+[1]สมุทรปราการ!R62+[1]ฉะเชิงเทรา!R62+[1]สุพรรณ!R62+[1]สิงห์บุรี!R62+[1]ชัยนาท!R62+[1]อุทัย!R62+[1]ชลบุรี!R62+[1]ปราจีน!R62+[1]สระแก้ว!R62+[1]ราชบุรี!R62+[1]เพชรบุรี!R62+[1]กาญจนบุรี!R62+[1]ประจวบ!R62+[1]นครราชสีมา!R62+[1]ชัยภูมิ!R62+[1]สุรินทร์!R62+[1]บุรีรัมย์!R62+[1]ขอนแก่น!R62+[1]กาฬสินทร์!R62+[1]มุกดาหาร!R62+[1]หนองบัว!R62+[1]มหาสารคราม!R62+[1]อุบล!R62+[1]ศรีสะเกษ!R62+[1]อำนาจ!R62+[1]ร้อยเอ็ด!R62+[1]ยโสธร!R62+[1]นครสวรรค์!R62+[1]พิจิตร!R62+[1]กำแพงเพชร!R62+[1]ตาก!R62+[1]พิษณุโลก!R62+[1]เลย!R62+[1]เพชรบูลย์!R62+[1]อุดรดิต!R62+[1]สุโขทัย!R62+[1]ลำปาง!R62+[1]ลำพูน!R62+[1]แพร่!R62+[1]สุราษ!R62+[1]ชุมพร!R62+[1]ระนอง!R62+[1]สงขลา!R62+[1]สตูล!R62+[1]กรุงเทพ!R62+[1]ปทุม!R62+[1]นนทบุรี!R62+[1]นครนายก!R62+[1]อยุธยา!R62+[1]อ่างทอง!R62+[1]สระบุรี!R62+[1]ลพบุรี!R62+[1]นครปฐม!R62+[1]สมุทรสงคราม!R62+[1]สมุทรสาคร!R62+[1]ระยอง!R62+[1]จันทบุรี!R62+[1]ตราด!R62+[1]อุดร!R62+[1]หนองคาย!R62+[1]บึงกาฬ!R62+[1]สกลนคร!R62+[1]นครพนม!R62+[1]เชียงใหม่!R62+[1]แม่ฮ่องสอน!R62+[1]เชียงราย!R62+[1]พะเยา!R62+[1]น่าน!R62+[1]ภูเก็ต!R62+[1]พังงา!R62+[1]กระบี่!R62+[1]นครศรี!R62+[1]พัทลุง!R62+[1]ตรัง!R62+[1]ปัตตานี!R62+[1]ยะลา!R62+[1]นราธิวาส!R62+[1]เชียงแสน!R62+[1]ยานยนต!R62+[1]สถาบันสุขภาพ!R62 -> 0
A58: - วัสดุงานบ้านงานครัว | O58: =+[1]สมุทรปราการ!Q63+[1]ฉะเชิงเทรา!Q63+[1]สุพรรณ!Q63+[1]สิงห์บุรี!Q63+[1]ชัยนาท!Q63+[1]อุทัย!Q63+[1]ชลบุรี!Q63+[1]ปราจีน!Q63+[1]สระแก้ว!Q63+[1]ราชบุรี!Q63+[1]เพชรบุรี!Q63+[1]กาญจนบุรี!Q63+[1]ประจวบ!Q63+[1]นครราชสีมา!Q63+[1]ชัยภูมิ!Q63+[1]สุรินทร์!Q63+[1]บุรีรัมย์!Q63+[1]ขอนแก่น!Q63+[1]กาฬสินทร์!Q63+[1]มุกดาหาร!Q63+[1]หนองบัว!Q63+[1]มหาสารคราม!Q63+[1]อุบล!Q63+[1]ศรีสะเกษ!Q63+[1]อำนาจ!Q63+[1]ร้อยเอ็ด!Q63+[1]ยโสธร!Q63+[1]นครสวรรค์!Q63+[1]พิจิตร!Q63+[1]กำแพงเพชร!Q63+[1]ตาก!Q63+[1]พิษณุโลก!Q63+[1]เลย!Q63+[1]เพชรบูลย์!Q63+[1]อุดรดิต!Q63+[1]สุโขทัย!Q63+[1]ลำปาง!Q63+[1]ลำพูน!Q63+[1]แพร่!Q63+[1]สุราษ!Q63+[1]ชุมพร!Q63+[1]ระนอง!Q63+[1]สงขลา!Q63+[1]สตูล!Q63+[1]กรุงเทพ!Q63+[1]ปทุม!Q63+[1]นนทบุรี!Q63+[1]นครนายก!Q63+[1]อยุธยา!Q63+[1]อ่างทอง!Q63+[1]สระบุรี!Q63+[1]ลพบุรี!Q63+[1]นครปฐม!Q63+[1]สมุทรสงคราม!Q63+[1]สมุทรสาคร!Q63+[1]ระยอง!Q63+[1]จันทบุรี!Q63+[1]ตราด!Q63+[1]อุดร!Q63+[1]หนองคาย!Q63+[1]บึงกาฬ!Q63+[1]สกลนคร!Q63+[1]นครพนม!Q63+[1]เชียงใหม่!Q63+[1]แม่ฮ่องสอน!Q63+[1]เชียงราย!Q63+[1]พะเยา!Q63+[1]น่าน!Q63+[1]ภูเก็ต!Q63+[1]พังงา!Q63+[1]กระบี่!Q63+[1]นครศรี!Q63+[1]พัทลุง!Q63+[1]ตรัง!Q63+[1]ปัตตานี!Q63+[1]ยะลา!Q63+[1]นราธิวาส!Q63+[1]เชียงแสน!Q63+[1]ยานยนต!Q63+[1]สถาบันสุขภาพ!Q63 -> 0 | P58: =+[1]สมุทรปราการ!R63+[1]ฉะเชิงเทรา!R63+[1]สุพรรณ!R63+[1]สิงห์บุรี!R63+[1]ชัยนาท!R63+[1]อุทัย!R63+[1]ชลบุรี!R63+[1]ปราจีน!R63+[1]สระแก้ว!R63+[1]ราชบุรี!R63+[1]เพชรบุรี!R63+[1]กาญจนบุรี!R63+[1]ประจวบ!R63+[1]นครราชสีมา!R63+[1]ชัยภูมิ!R63+[1]สุรินทร์!R63+[1]บุรีรัมย์!R63+[1]ขอนแก่น!R63+[1]กาฬสินทร์!R63+[1]มุกดาหาร!R63+[1]หนองบัว!R63+[1]มหาสารคราม!R63+[1]อุบล!R63+[1]ศรีสะเกษ!R63+[1]อำนาจ!R63+[1]ร้อยเอ็ด!R63+[1]ยโสธร!R63+[1]นครสวรรค์!R63+[1]พิจิตร!R63+[1]กำแพงเพชร!R63+[1]ตาก!R63+[1]พิษณุโลก!R63+[1]เลย!R63+[1]เพชรบูลย์!R63+[1]อุดรดิต!R63+[1]สุโขทัย!R63+[1]ลำปาง!R63+[1]ลำพูน!R63+[1]แพร่!R63+[1]สุราษ!R63+[1]ชุมพร!R63+[1]ระนอง!R63+[1]สงขลา!R63+[1]สตูล!R63+[1]กรุงเทพ!R63+[1]ปทุม!R63+[1]นนทบุรี!R63+[1]นครนายก!R63+[1]อยุธยา!R63+[1]อ่างทอง!R63+[1]สระบุรี!R63+[1]ลพบุรี!R63+[1]นครปฐม!R63+[1]สมุทรสงคราม!R63+[1]สมุทรสาคร!R63+[1]ระยอง!R63+[1]จันทบุรี!R63+[1]ตราด!R63+[1]อุดร!R63+[1]หนองคาย!R63+[1]บึงกาฬ!R63+[1]สกลนคร!R63+[1]นครพนม!R63+[1]เชียงใหม่!R63+[1]แม่ฮ่องสอน!R63+[1]เชียงราย!R63+[1]พะเยา!R63+[1]น่าน!R63+[1]ภูเก็ต!R63+[1]พังงา!R63+[1]กระบี่!R63+[1]นครศรี!R63+[1]พัทลุง!R63+[1]ตรัง!R63+[1]ปัตตานี!R63+[1]ยะลา!R63+[1]นราธิวาส!R63+[1]เชียงแสน!R63+[1]ยานยนต!R63+[1]สถาบันสุขภาพ!R63 -> 0
A59: - วัสดุไฟฟ้าและวิทยุ | O59: =+[1]สมุทรปราการ!Q64+[1]ฉะเชิงเทรา!Q64+[1]สุพรรณ!Q64+[1]สิงห์บุรี!Q64+[1]ชัยนาท!Q64+[1]อุทัย!Q64+[1]ชลบุรี!Q64+[1]ปราจีน!Q64+[1]สระแก้ว!Q64+[1]ราชบุรี!Q64+[1]เพชรบุรี!Q64+[1]กาญจนบุรี!Q64+[1]ประจวบ!Q64+[1]นครราชสีมา!Q64+[1]ชัยภูมิ!Q64+[1]สุรินทร์!Q64+[1]บุรีรัมย์!Q64+[1]ขอนแก่น!Q64+[1]กาฬสินทร์!Q64+[1]มุกดาหาร!Q64+[1]หนองบัว!Q64+[1]มหาสารคราม!Q64+[1]อุบล!Q64+[1]ศรีสะเกษ!Q64+[1]อำนาจ!Q64+[1]ร้อยเอ็ด!Q64+[1]ยโสธร!Q64+[1]นครสวรรค์!Q64+[1]พิจิตร!Q64+[1]กำแพงเพชร!Q64+[1]ตาก!Q64+[1]พิษณุโลก!Q64+[1]เลย!Q64+[1]เพชรบูลย์!Q64+[1]อุดรดิต!Q64+[1]สุโขทัย!Q64+[1]ลำปาง!Q64+[1]ลำพูน!Q64+[1]แพร่!Q64+[1]สุราษ!Q64+[1]ชุมพร!Q64+[1]ระนอง!Q64+[1]สงขลา!Q64+[1]สตูล!Q64+[1]กรุงเทพ!Q64+[1]ปทุม!Q64+[1]นนทบุรี!Q64+[1]นครนายก!Q64+[1]อยุธยา!Q64+[1]อ่างทอง!Q64+[1]สระบุรี!Q64+[1]ลพบุรี!Q64+[1]นครปฐม!Q64+[1]สมุทรสงคราม!Q64+[1]สมุทรสาคร!Q64+[1]ระยอง!Q64+[1]จันทบุรี!Q64+[1]ตราด!Q64+[1]อุดร!Q64+[1]หนองคาย!Q64+[1]บึงกาฬ!Q64+[1]สกลนคร!Q64+[1]นครพนม!Q64+[1]เชียงใหม่!Q64+[1]แม่ฮ่องสอน!Q64+[1]เชียงราย!Q64+[1]พะเยา!Q64+[1]น่าน!Q64+[1]ภูเก็ต!Q64+[1]พังงา!Q64+[1]กระบี่!Q64+[1]นครศรี!Q64+[1]พัทลุง!Q64+[1]ตรัง!Q64+[1]ปัตตานี!Q64+[1]ยะลา!Q64+[1]นราธิวาส!Q64+[1]เชียงแสน!Q64+[1]ยานยนต!Q64+[1]สถาบันสุขภาพ!Q64 -> 0 | P59: =+[1]สมุทรปราการ!R64+[1]ฉะเชิงเทรา!R64+[1]สุพรรณ!R64+[1]สิงห์บุรี!R64+[1]ชัยนาท!R64+[1]อุทัย!R64+[1]ชลบุรี!R64+[1]ปราจีน!R64+[1]สระแก้ว!R64+[1]ราชบุรี!R64+[1]เพชรบุรี!R64+[1]กาญจนบุรี!R64+[1]ประจวบ!R64+[1]นครราชสีมา!R64+[1]ชัยภูมิ!R64+[1]สุรินทร์!R64+[1]บุรีรัมย์!R64+[1]ขอนแก่น!R64+[1]กาฬสินทร์!R64+[1]มุกดาหาร!R64+[1]หนองบัว!R64+[1]มหาสารคราม!R64+[1]อุบล!R64+[1]ศรีสะเกษ!R64+[1]อำนาจ!R64+[1]ร้อยเอ็ด!R64+[1]ยโสธร!R64+[1]นครสวรรค์!R64+[1]พิจิตร!R64+[1]กำแพงเพชร!R64+[1]ตาก!R64+[1]พิษณุโลก!R64+[1]เลย!R64+[1]เพชรบูลย์!R64+[1]อุดรดิต!R64+[1]สุโขทัย!R64+[1]ลำปาง!R64+[1]ลำพูน!R64+[1]แพร่!R64+[1]สุราษ!R64+[1]ชุมพร!R64+[1]ระนอง!R64+[1]สงขลา!R64+[1]สตูล!R64+[1]กรุงเทพ!R64+[1]ปทุม!R64+[1]นนทบุรี!R64+[1]นครนายก!R64+[1]อยุธยา!R64+[1]อ่างทอง!R64+[1]สระบุรี!R64+[1]ลพบุรี!R64+[1]นครปฐม!R64+[1]สมุทรสงคราม!R64+[1]สมุทรสาคร!R64+[1]ระยอง!R64+[1]จันทบุรี!R64+[1]ตราด!R64+[1]อุดร!R64+[1]หนองคาย!R64+[1]บึงกาฬ!R64+[1]สกลนคร!R64+[1]นครพนม!R64+[1]เชียงใหม่!R64+[1]แม่ฮ่องสอน!R64+[1]เชียงราย!R64+[1]พะเยา!R64+[1]น่าน!R64+[1]ภูเก็ต!R64+[1]พังงา!R64+[1]กระบี่!R64+[1]นครศรี!R64+[1]พัทลุง!R64+[1]ตรัง!R64+[1]ปัตตานี!R64+[1]ยะลา!R64+[1]นราธิวาส!R64+[1]เชียงแสน!R64+[1]ยานยนต!R64+[1]สถาบันสุขภาพ!R64 -> 0
A60: - วัสดุโฆษณาและเผยแพร่ | O60: =+[1]สมุทรปราการ!Q65+[1]ฉะเชิงเทรา!Q65+[1]สุพรรณ!Q65+[1]สิงห์บุรี!Q65+[1]ชัยนาท!Q65+[1]อุทัย!Q65+[1]ชลบุรี!Q65+[1]ปราจีน!Q65+[1]สระแก้ว!Q65+[1]ราชบุรี!Q65+[1]เพชรบุรี!Q65+[1]กาญจนบุรี!Q65+[1]ประจวบ!Q65+[1]นครราชสีมา!Q65+[1]ชัยภูมิ!Q65+[1]สุรินทร์!Q65+[1]บุรีรัมย์!Q65+[1]ขอนแก่น!Q65+[1]กาฬสินทร์!Q65+[1]มุกดาหาร!Q65+[1]หนองบัว!Q65+[1]มหาสารคราม!Q65+[1]อุบล!Q65+[1]ศรีสะเกษ!Q65+[1]อำนาจ!Q65+[1]ร้อยเอ็ด!Q65+[1]ยโสธร!Q65+[1]นครสวรรค์!Q65+[1]พิจิตร!Q65+[1]กำแพงเพชร!Q65+[1]ตาก!Q65+[1]พิษณุโลก!Q65+[1]เลย!Q65+[1]เพชรบูลย์!Q65+[1]อุดรดิต!Q65+[1]สุโขทัย!Q65+[1]ลำปาง!Q65+[1]ลำพูน!Q65+[1]แพร่!Q65+[1]สุราษ!Q65+[1]ชุมพร!Q65+[1]ระนอง!Q65+[1]สงขลา!Q65+[1]สตูล!Q65+[1]กรุงเทพ!Q65+[1]ปทุม!Q65+[1]นนทบุรี!Q65+[1]นครนายก!Q65+[1]อยุธยา!Q65+[1]อ่างทอง!Q65+[1]สระบุรี!Q65+[1]ลพบุรี!Q65+[1]นครปฐม!Q65+[1]สมุทรสงคราม!Q65+[1]สมุทรสาคร!Q65+[1]ระยอง!Q65+[1]จันทบุรี!Q65+[1]ตราด!Q65+[1]อุดร!Q65+[1]หนองคาย!Q65+[1]บึงกาฬ!Q65+[1]สกลนคร!Q65+[1]นครพนม!Q65+[1]เชียงใหม่!Q65+[1]แม่ฮ่องสอน!Q65+[1]เชียงราย!Q65+[1]พะเยา!Q65+[1]น่าน!Q65+[1]ภูเก็ต!Q65+[1]พังงา!Q65+[1]กระบี่!Q65+[1]นครศรี!Q65+[1]พัทลุง!Q65+[1]ตรัง!Q65+[1]ปัตตานี!Q65+[1]ยะลา!Q65+[1]นราธิวาส!Q65+[1]เชียงแสน!Q65+[1]ยานยนต!Q65+[1]สถาบันสุขภาพ!Q65 -> 0 | P60: =+[1]สมุทรปราการ!R65+[1]ฉะเชิงเทรา!R65+[1]สุพรรณ!R65+[1]สิงห์บุรี!R65+[1]ชัยนาท!R65+[1]อุทัย!R65+[1]ชลบุรี!R65+[1]ปราจีน!R65+[1]สระแก้ว!R65+[1]ราชบุรี!R65+[1]เพชรบุรี!R65+[1]กาญจนบุรี!R65+[1]ประจวบ!R65+[1]นครราชสีมา!R65+[1]ชัยภูมิ!R65+[1]สุรินทร์!R65+[1]บุรีรัมย์!R65+[1]ขอนแก่น!R65+[1]กาฬสินทร์!R65+[1]มุกดาหาร!R65+[1]หนองบัว!R65+[1]มหาสารคราม!R65+[1]อุบล!R65+[1]ศรีสะเกษ!R65+[1]อำนาจ!R65+[1]ร้อยเอ็ด!R65+[1]ยโสธร!R65+[1]นครสวรรค์!R65+[1]พิจิตร!R65+[1]กำแพงเพชร!R65+[1]ตาก!R65+[1]พิษณุโลก!R65+[1]เลย!R65+[1]เพชรบูลย์!R65+[1]อุดรดิต!R65+[1]สุโขทัย!R65+[1]ลำปาง!R65+[1]ลำพูน!R65+[1]แพร่!R65+[1]สุราษ!R65+[1]ชุมพร!R65+[1]ระนอง!R65+[1]สงขลา!R65+[1]สตูล!R65+[1]กรุงเทพ!R65+[1]ปทุม!R65+[1]นนทบุรี!R65+[1]นครนายก!R65+[1]อยุธยา!R65+[1]อ่างทอง!R65+[1]สระบุรี!R65+[1]ลพบุรี!R65+[1]นครปฐม!R65+[1]สมุทรสงคราม!R65+[1]สมุทรสาคร!R65+[1]ระยอง!R65+[1]จันทบุรี!R65+[1]ตราด!R65+[1]อุดร!R65+[1]หนองคาย!R65+[1]บึงกาฬ!R65+[1]สกลนคร!R65+[1]นครพนม!R65+[1]เชียงใหม่!R65+[1]แม่ฮ่องสอน!R65+[1]เชียงราย!R65+[1]พะเยา!R65+[1]น่าน!R65+[1]ภูเก็ต!R65+[1]พังงา!R65+[1]กระบี่!R65+[1]นครศรี!R65+[1]พัทลุง!R65+[1]ตรัง!R65+[1]ปัตตานี!R65+[1]ยะลา!R65+[1]นราธิวาส!R65+[1]เชียงแสน!R65+[1]ยานยนต!R65+[1]สถาบันสุขภาพ!R65 -> 0
A61: - วัสดุหนังสือ วารสาร และตำรา | O61: =+[1]สมุทรปราการ!Q66+[1]ฉะเชิงเทรา!Q66+[1]สุพรรณ!Q66+[1]สิงห์บุรี!Q66+[1]ชัยนาท!Q66+[1]อุทัย!Q66+[1]ชลบุรี!Q66+[1]ปราจีน!Q66+[1]สระแก้ว!Q66+[1]ราชบุรี!Q66+[1]เพชรบุรี!Q66+[1]กาญจนบุรี!Q66+[1]ประจวบ!Q66+[1]นครราชสีมา!Q66+[1]ชัยภูมิ!Q66+[1]สุรินทร์!Q66+[1]บุรีรัมย์!Q66+[1]ขอนแก่น!Q66+[1]กาฬสินทร์!Q66+[1]มุกดาหาร!Q66+[1]หนองบัว!Q66+[1]มหาสารคราม!Q66+[1]อุบล!Q66+[1]ศรีสะเกษ!Q66+[1]อำนาจ!Q66+[1]ร้อยเอ็ด!Q66+[1]ยโสธร!Q66+[1]นครสวรรค์!Q66+[1]พิจิตร!Q66+[1]กำแพงเพชร!Q66+[1]ตาก!Q66+[1]พิษณุโลก!Q66+[1]เลย!Q66+[1]เพชรบูลย์!Q66+[1]อุดรดิต!Q66+[1]สุโขทัย!Q66+[1]ลำปาง!Q66+[1]ลำพูน!Q66+[1]แพร่!Q66+[1]สุราษ!Q66+[1]ชุมพร!Q66+[1]ระนอง!Q66+[1]สงขลา!Q66+[1]สตูล!Q66+[1]กรุงเทพ!Q66+[1]ปทุม!Q66+[1]นนทบุรี!Q66+[1]นครนายก!Q66+[1]อยุธยา!Q66+[1]อ่างทอง!Q66+[1]สระบุรี!Q66+[1]ลพบุรี!Q66+[1]นครปฐม!Q66+[1]สมุทรสงคราม!Q66+[1]สมุทรสาคร!Q66+[1]ระยอง!Q66+[1]จันทบุรี!Q66+[1]ตราด!Q66+[1]อุดร!Q66+[1]หนองคาย!Q66+[1]บึงกาฬ!Q66+[1]สกลนคร!Q66+[1]นครพนม!Q66+[1]เชียงใหม่!Q66+[1]แม่ฮ่องสอน!Q66+[1]เชียงราย!Q66+[1]พะเยา!Q66+[1]น่าน!Q66+[1]ภูเก็ต!Q66+[1]พังงา!Q66+[1]กระบี่!Q66+[1]นครศรี!Q66+[1]พัทลุง!Q66+[1]ตรัง!Q66+[1]ปัตตานี!Q66+[1]ยะลา!Q66+[1]นราธิวาส!Q66+[1]เชียงแสน!Q66+[1]ยานยนต!Q66+[1]สถาบันสุขภาพ!Q66 -> 0 | P61: =+[1]สมุทรปราการ!R66+[1]ฉะเชิงเทรา!R66+[1]สุพรรณ!R66+[1]สิงห์บุรี!R66+[1]ชัยนาท!R66+[1]อุทัย!R66+[1]ชลบุรี!R66+[1]ปราจีน!R66+[1]สระแก้ว!R66+[1]ราชบุรี!R66+[1]เพชรบุรี!R66+[1]กาญจนบุรี!R66+[1]ประจวบ!R66+[1]นครราชสีมา!R66+[1]ชัยภูมิ!R66+[1]สุรินทร์!R66+[1]บุรีรัมย์!R66+[1]ขอนแก่น!R66+[1]กาฬสินทร์!R66+[1]มุกดาหาร!R66+[1]หนองบัว!R66+[1]มหาสารคราม!R66+[1]อุบล!R66+[1]ศรีสะเกษ!R66+[1]อำนาจ!R66+[1]ร้อยเอ็ด!R66+[1]ยโสธร!R66+[1]นครสวรรค์!R66+[1]พิจิตร!R66+[1]กำแพงเพชร!R66+[1]ตาก!R66+[1]พิษณุโลก!R66+[1]เลย!R66+[1]เพชรบูลย์!R66+[1]อุดรดิต!R66+[1]สุโขทัย!R66+[1]ลำปาง!R66+[1]ลำพูน!R66+[1]แพร่!R66+[1]สุราษ!R66+[1]ชุมพร!R66+[1]ระนอง!R66+[1]สงขลา!R66+[1]สตูล!R66+[1]กรุงเทพ!R66+[1]ปทุม!R66+[1]นนทบุรี!R66+[1]นครนายก!R66+[1]อยุธยา!R66+[1]อ่างทอง!R66+[1]สระบุรี!R66+[1]ลพบุรี!R66+[1]นครปฐม!R66+[1]สมุทรสงคราม!R66+[1]สมุทรสาคร!R66+[1]ระยอง!R66+[1]จันทบุรี!R66+[1]ตราด!R66+[1]อุดร!R66+[1]หนองคาย!R66+[1]บึงกาฬ!R66+[1]สกลนคร!R66+[1]นครพนม!R66+[1]เชียงใหม่!R66+[1]แม่ฮ่องสอน!R66+[1]เชียงราย!R66+[1]พะเยา!R66+[1]น่าน!R66+[1]ภูเก็ต!R66+[1]พังงา!R66+[1]กระบี่!R66+[1]นครศรี!R66+[1]พัทลุง!R66+[1]ตรัง!R66+[1]ปัตตานี!R66+[1]ยะลา!R66+[1]นราธิวาส!R66+[1]เชียงแสน!R66+[1]ยานยนต!R66+[1]สถาบันสุขภาพ!R66 -> 0
A62: - วัสดุคอมพิวเตอร์ | O62: =+[1]สมุทรปราการ!Q67+[1]ฉะเชิงเทรา!Q67+[1]สุพรรณ!Q67+[1]สิงห์บุรี!Q67+[1]ชัยนาท!Q67+[1]อุทัย!Q67+[1]ชลบุรี!Q67+[1]ปราจีน!Q67+[1]สระแก้ว!Q67+[1]ราชบุรี!Q67+[1]เพชรบุรี!Q67+[1]กาญจนบุรี!Q67+[1]ประจวบ!Q67+[1]นครราชสีมา!Q67+[1]ชัยภูมิ!Q67+[1]สุรินทร์!Q67+[1]บุรีรัมย์!Q67+[1]ขอนแก่น!Q67+[1]กาฬสินทร์!Q67+[1]มุกดาหาร!Q67+[1]หนองบัว!Q67+[1]มหาสารคราม!Q67+[1]อุบล!Q67+[1]ศรีสะเกษ!Q67+[1]อำนาจ!Q67+[1]ร้อยเอ็ด!Q67+[1]ยโสธร!Q67+[1]นครสวรรค์!Q67+[1]พิจิตร!Q67+[1]กำแพงเพชร!Q67+[1]ตาก!Q67+[1]พิษณุโลก!Q67+[1]เลย!Q67+[1]เพชรบูลย์!Q67+[1]อุดรดิต!Q67+[1]สุโขทัย!Q67+[1]ลำปาง!Q67+[1]ลำพูน!Q67+[1]แพร่!Q67+[1]สุราษ!Q67+[1]ชุมพร!Q67+[1]ระนอง!Q67+[1]สงขลา!Q67+[1]สตูล!Q67+[1]กรุงเทพ!Q67+[1]ปทุม!Q67+[1]นนทบุรี!Q67+[1]นครนายก!Q67+[1]อยุธยา!Q67+[1]อ่างทอง!Q67+[1]สระบุรี!Q67+[1]ลพบุรี!Q67+[1]นครปฐม!Q67+[1]สมุทรสงคราม!Q67+[1]สมุทรสาคร!Q67+[1]ระยอง!Q67+[1]จันทบุรี!Q67+[1]ตราด!Q67+[1]อุดร!Q67+[1]หนองคาย!Q67+[1]บึงกาฬ!Q67+[1]สกลนคร!Q67+[1]นครพนม!Q67+[1]เชียงใหม่!Q67+[1]แม่ฮ่องสอน!Q67+[1]เชียงราย!Q67+[1]พะเยา!Q67+[1]น่าน!Q67+[1]ภูเก็ต!Q67+[1]พังงา!Q67+[1]กระบี่!Q67+[1]นครศรี!Q67+[1]พัทลุง!Q67+[1]ตรัง!Q67+[1]ปัตตานี!Q67+[1]ยะลา!Q67+[1]นราธิวาส!Q67+[1]เชียงแสน!Q67+[1]ยานยนต!Q67+[1]สถาบันสุขภาพ!Q67 -> 0 | P62: =+[1]สมุทรปราการ!R67+[1]ฉะเชิงเทรา!R67+[1]สุพรรณ!R67+[1]สิงห์บุรี!R67+[1]ชัยนาท!R67+[1]อุทัย!R67+[1]ชลบุรี!R67+[1]ปราจีน!R67+[1]สระแก้ว!R67+[1]ราชบุรี!R67+[1]เพชรบุรี!R67+[1]กาญจนบุรี!R67+[1]ประจวบ!R67+[1]นครราชสีมา!R67+[1]ชัยภูมิ!R67+[1]สุรินทร์!R67+[1]บุรีรัมย์!R67+[1]ขอนแก่น!R67+[1]กาฬสินทร์!R67+[1]มุกดาหาร!R67+[1]หนองบัว!R67+[1]มหาสารคราม!R67+[1]อุบล!R67+[1]ศรีสะเกษ!R67+[1]อำนาจ!R67+[1]ร้อยเอ็ด!R67+[1]ยโสธร!R67+[1]นครสวรรค์!R67+[1]พิจิตร!R67+[1]กำแพงเพชร!R67+[1]ตาก!R67+[1]พิษณุโลก!R67+[1]เลย!R67+[1]เพชรบูลย์!R67+[1]อุดรดิต!R67+[1]สุโขทัย!R67+[1]ลำปาง!R67+[1]ลำพูน!R67+[1]แพร่!R67+[1]สุราษ!R67+[1]ชุมพร!R67+[1]ระนอง!R67+[1]สงขลา!R67+[1]สตูล!R67+[1]กรุงเทพ!R67+[1]ปทุม!R67+[1]นนทบุรี!R67+[1]นครนายก!R67+[1]อยุธยา!R67+[1]อ่างทอง!R67+[1]สระบุรี!R67+[1]ลพบุรี!R67+[1]นครปฐม!R67+[1]สมุทรสงคราม!R67+[1]สมุทรสาคร!R67+[1]ระยอง!R67+[1]จันทบุรี!R67+[1]ตราด!R67+[1]อุดร!R67+[1]หนองคาย!R67+[1]บึงกาฬ!R67+[1]สกลนคร!R67+[1]นครพนม!R67+[1]เชียงใหม่!R67+[1]แม่ฮ่องสอน!R67+[1]เชียงราย!R67+[1]พะเยา!R67+[1]น่าน!R67+[1]ภูเก็ต!R67+[1]พังงา!R67+[1]กระบี่!R67+[1]นครศรี!R67+[1]พัทลุง!R67+[1]ตรัง!R67+[1]ปัตตานี!R67+[1]ยะลา!R67+[1]นราธิวาส!R67+[1]เชียงแสน!R67+[1]ยานยนต!R67+[1]สถาบันสุขภาพ!R67 -> 0
A63: 2. ค่าสาธารณูปโภค | B63: =SUM(C63:P63) -> 0 | C63: =SUM(C64:C68) -> 0 | D63: =SUM(D64:D68) -> 0 | E63: =SUM(E64:E68) -> 0 | F63: =SUM(F64:F68) -> 0 | G63: =SUM(G64:G68) -> 0 | H63: =SUM(H64:H68) -> 0 | I63: =SUM(I64:I68) -> 0 | J63: =SUM(J64:J68) -> 0 | ... P63: =SUM(P64:P68) -> 0
A64: - ค่าไฟฟ้า
A65: - ค่าน้ำประปา
A66: - ค่าโทรศัพท์
A67: - ค่าไปรษณีย์
A68: - ค่าบริการสื่อสารและโทรคมนาคม
B104: *จัดส่งทาง E-mail:siripa_54@hotmail.com ติดต่อสอบถาม ศิริภา รักกมล/02-2451828/022458626
