Workbook

Sheet ผลปี 61
B1: แผน/ผลพัฒนาฝีมือแรงงาน ปี งบประมาณ พ.ศ. 2561
B2: สำนักงานพัฒนาฝีมือแรงงานบุรีรัมย์
B3: ณ วันที่ 31 ธันวาคม 2560
A5: ลำดับ | B5: ผลผลิต/โครงการ/กิจกรรม/รายการ | C5: รวมทั้งสิ้น | D5: ผู้เข้า | E5: ร้อยละ | F5: ผู้ผ่าน | G5: ร้อยละ | H5: คงเหลือ
B6: รวมทั้งสิ้น | C6: =SUM(C7:C8) -> 6214 | D6: =SUM(D7:D8) -> 2046 | E6: =D6*100/C6 -> 32.925652 | F6: =SUM(F7:F8) -> 1864 | G6: =F6*100/D6 -> 91.104594 | H6: =C6-D6 -> 4168
B7: กรมพัฒนาฝีมือแรงงานดำเนินการเอง | C7: =+C12+C41+C58+C60+C67+C68+C71+C82+C84+C124+C134+C136 -> 2214 | D7: =+D12+D41+D58+D60+D67+D68+D71+D82+D84+D124+D134+D136 -> 795 | E7: =D7*100/C7 -> 35.907859 | F7: =+F12+F41+F58+F60+F67+F68+F71+F82+F84+F124+F134+F136 -> 613 | G7: =F7*100/D7 -> 77.106918 | H7: =C7-D7 -> 1419
B8: ส่งเสริมสถานประกอบกิจการดำเนินการ | C8: =C86 -> 4000 | D8: =D86 -> 1251 | E8: =D8*100/C8 -> 31.275 | F8: =F86 -> 1251 | G8: =F8*100/D8 -> 100 | H8: =C8-D8 -> 2749
B9: 1. โครงการฝึกอบรมฝีมือแรงงานในพื้นที่จังหวัดชายแดนภาคใต้ (เจ้าภาพ สพร. สงขลา สำรองยะลา)
B10: (1) กิจกรรม ฝึกทักษะอาชีพให้กับกลุ่มเป้าหมายในพื้นที่จังหวัดชายแดนภาคใต้
B11: (2) กิจกรรม ฝึกอบรมฝีมือให้กับกลุ่มเป้าหมายตามโครงการพาคนกลับบ้าน
B12: 2. โครงการ เพิ่มศักยภาพแรงงานรองรับ Thailand 4.0 | C12: =+C13+C14 -> 1360 | D12: =D14+D13+D39 -> 365 | E12: =D12*100/C12 -> 26.838235 | F12: =F14+F13 -> 240 | G12: =F12*100/D12 -> 65.753425 | H12: =H14+H13 -> 635
A13: 1 | B13: 2.1 กิจกรรม เพิ่มศักยภาพแรงงานเตรียมเข้าสู่อุตสาหกรรมเป้าหมายแห่งอนาคต | C13: 80
B14: 2.2 กิจกรรม เพิ่มศักยภาพกำลังแรงงานภาคอุตสาหกรรมและบริการไปสู่ Thailand 4.0 | C14: =+C15+C39+C40 -> 1280 | D14: =+D15+D39 -> 365 | E14: =D14*100/C14 -> 28.515625 | F14: =+F18+F21+F24+F27+F30+F33+F36 -> 240 | G14: =F14*100/D14 -> 65.753425 | H14: =+H18+H21+H24+H27+H30+H33+H36 -> 635
B15: 2.2.1 ฝึกอาชีพ ราย sector และ Core Technologies ตามโมเดล Thailand 4.0 | C15: =+C18+C21+C24+C27+C30++C33+C36 -> 1080 | D15: =+D18+D21+D24+D27+D30+D33+D36 -> 365 | E15: =D15*100/C15 -> 33.796296 | F15: =+F18+F21+F24+F27+F30+F33+F36 -> 240 | G15: =F15*100/D15 -> 65.753425 | H15: =+H18+H21+H24+H27+H30+H33+H36 -> 635
B16: รวมเตรียมเข้าทำงาน ตามข้อ 1) - 7) (ระยะเวลาฝึก 2-4 เดือน แล้วแต่สาขา) | C16: =+C19+C22+C25+C28+C37+C34 -> 120 | D16: =+D19+D25+D37+D34 -> 115 | E16: =D16*100/C16 -> 95.833333 | F16: =+F19+F25+F37+F34 -> 0 | G16: =F16*100/D16 -> 0 | H16: =C16-D16 -> 5
B17: รวมยกระดับฝีมือแรงงาน ตามข้อ 1) - 7) (ระยะเวลาฝึก 18 - 60 ชม. แล้วแต่สาขา) | C17: =+C20+C23+C26+C29+C32+C35+C38 -> 960 | D17: =+D20+D23+D26+D29+D32+D38 -> 250 | E17: =D17*100/C17 -> 26.041667 | F17: =+F20+F23+F26+F29+F32+F38 -> 240 | G17: =F17*100/D17 -> 96 | H17: =+H20+H23+H26+H29+H32+H38 -> 530
B18: 1) อุตสาหกรรมอาหาร/ครัวไทยสู่ครัวโลก นวัตกรรมด้านอาหาร | C18: =SUM(C19:C20) -> 80 | D18: =+D19+D20 -> 46 | E18: =D18*100/C18 -> 57.5 | F18: =+F19+F20 -> 19 | G18: =F18*100/D18 -> 41.304348 | H18: =C18-D18 -> 34
A19: 2 | B19: เตรียมเข้าทำงาน | C19: 40 | D19: ='2ครัวไทย เตรียม'!E9 -> 25 | E19: =D19*100/C19 -> 62.5 | H19: =C19-D19 -> 15
A20: 3 | B20: ยกระดับฝีมือแรงงาน | C20: 40 | D20: ='3ครัวไทย ยก'!E10 -> 21 | E20: =D20*100/C20 -> 52.5 | F20: ='3ครัวไทย ยก'!H10 -> 19 | H20: =C20-D20 -> 19
B21: 2) เกษตรแปรรูป และเทคโนโลยีชีวภาพ | C21: =SUM(C22:C23) -> 80
B22: เตรียมเข้าทำงาน | C22: 0
A23: 4 | B23: ยกระดับฝีมือแรงงาน | C23: 80
B24: 3) อุตสาหกรรมยานยนต์และชิ้นส่วน เครื่องมืออุปกรณ์อัจฉริยะ หุ่นยนต์ ระบบเครื่องกลที่ใช้ระบบอิเล็กทรอนิกส์ควบคุม | C24: =SUM(C25:C26) -> 120 | D24: =+D25+D26 -> 20 | E24: =D24*100/C24 -> 16.666667 | F24: =+F25+F26 -> 0 | G24: =F24*100/D24 -> 0 | H24: =C24-D24 -> 100
A25: 5 | B25: เตรียมเข้าทำงาน | C25: 20 | D25: ='5 ยนต์ เตรียม'!E9 -> 20 | E25: =D25*100/C25 -> 100 | F25: ='5 ยนต์ เตรียม'!K9 -> 0 | G25: =F25*100/D25 -> 0 | H25: =C25-D25 -> 0
A26: 6 | B26: ยกระดับฝีมือแรงงาน | C26: 100
B27: 4) ท่องเที่ยว/การบริการ บริการด้านสุขภาพ กลุ่มอุตสาหกรรมสร้างสรรค์/วัฒนธรรม | C27: =SUM(C28:C29) -> 300 | D27: =D29 -> 122 | E27: =D27*100/C27 -> 40.666667 | F27: =+F29 -> 116 | G27: =F27*100/D27 -> 95.081967 | H27: =C27-D27 -> 178
B28: เตรียมเข้าทำงาน | C28: 0
A29: 7 | B29: ยกระดับฝีมือแรงงาน | C29: 300 | D29: ='7 บริการ ยก'!E10 -> 122 | E29: =D29*100/C29 -> 40.666667 | F29: ='7 บริการ ยก'!H10 -> 116 | G29: =F29*100/D29 -> 95.081967 | H29: =C29-D29 -> 178
B30: 5) ระบบขนส่ง/โลจิสติกส์ | C30: =SUM(C31:C32) -> 100 | D30: =+D32 -> 20 | E30: =D30*100/C30 -> 20 | F30: =F32 -> 18 | G30: =F30*100/D30 -> 90 | H30: =C30-D30 -> 80
B31: เตรียมเข้าทำงาน | C31: 0
A32: 8 | B32: ยกระดับฝีมือแรงงาน | C32: 100 | D32: ='8 จิสติกส์ ยก'!E10 -> 20 | E32: =D32*100/C32 -> 20 | F32: ='8 จิสติกส์ ยก'!H10 -> 18 | G32: =F32*100/D32 -> 90 | H32: =C32-D32 -> 80
B33: 6) อุตสาหกรรมไฟฟ้าและอิเล็กทรอนิกส์ ไอที ดิจิทัล โทรคมนาคม หรืองานที่เกี่ยวข้องกับอินเตอร์เน็ตที่เชื่อมต่อและบังคับอุปกรณ์ต่างๆ เทคโนโลยีสมองกลฝังตัว | C33: =SUM(C34:C35) -> 20 | D33: =+D34 -> 20 | E33: =D33*100/C33 -> 100 | F33: =+F34 -> 0 | G33: =F33*100/D33 -> 0 | H33: =C33-D33 -> 0
A34: 9 | B34: เตรียมเข้าทำงาน | C34: 20 | D34: ='9ไฟฟ้า เตรียม'!E9 -> 20 | E34: =D34*100/C34 -> 100 | F34: ='9ไฟฟ้า เตรียม'!K9 -> 0 | G34: =F34*100/D34 -> 0 | H34: =C34-D34 -> 0
B35: ยกระดับฝีมือแรงงาน | C35: 0
B36: 7) อุตสาหกรรมศักยภาพอื่น (เช่น อุตสาหกรรมพลังงานสะอาด อัญมณี เครื่องประดับ เครื่องหนัง เย็บจักรอุตสาหกรรม สิ่งทอ/เครื่องนุ่งห่ม การออกแบบผลิตภัณฑ์สมัยใหม่ ฯลฯ) | C36: =SUM(C37:C38) -> 380 | D36: =+D37+D38 -> 137 | E36: =D36*100/C36 -> 36.052632 | F36: =+F37+F38 -> 87 | G36: =F36*100/D36 -> 63.50365 | H36: =C36-D36 -> 243
A37: 10 | B37: เตรียมเข้าทำงาน | C37: 40 | D37: ='10 อื่น เตรียม'!E10 -> 50 | E37: =D37*100/C37 -> 125 | F37: ='10 อื่น เตรียม'!K10 -> 0 | G37: =F37*100/D37 -> 0 | H37: =C37-D37 -> -10
A38: 11 | B38: ยกระดับฝีมือแรงงาน | C38: 340 | D38: ='11อื่น ยก'!E11 -> 87 | E38: =D38*100/C38 -> 25.588235 | F38: ='11อื่น ยก'!H11 -> 87 | G38: =F38*100/D38 -> 100 | H38: =C38-D38 -> 253
A39: 12 | B39: 2.2.2 อบรมเพิ่มขีดความสามารถด้านภาษาต่างประเทศ (ระยะเวลาอบรม 30 ชม.) | C39: 200
B40: 2.2.3 ค่าใช้จ่ายในการติดตามประเมินผล (ส่วนกลาง)
B41: 3 โครงการศูนย์ฝึกอบรมเทคโนโลยีชั้นสูงรองรับอุตสาหกรรมแห่งอนาคต (เจ้าภาพ สพท.)
B42: กิจกรรม ศูนย์ฝึกอบรมเทคโนโลยีชั้นสูงรองรับอุตสาหกรรมแห่งอนาคต (เจ้าภาพ สพท.)
B43: - สพร. เทคโนโลยีชั้นสูงฯ (สมุทรปราการ)(สาขา Automation & Robotics)
B44: - สพร. เทคโนโลยีชั้นสูงฯ (สุพรรรณบุรี) (สาขาเกษตรแปรรูป)
B45: - สพร. เทคโนโลยีชั้นสูงฯ (ชลบุรี) (สาขา Automation & Robotics)
B46: - สพร. เทคโนโลยีชั้นสูงฯ (นครราชสีมา) (สาขาไฟฟ้าอิเล็กทรอนิกส์และโทรคมนาคม)
B47: - สพร. เทคโนโลยีชั้นสูงฯ (ขอนแก่น) (สาขาโลจิสติกส์/เมคาทรอนิกส์/ออโตเมชั่น)
B48: - สพร. เทคโนโลยีชั้นสูงฯ (อุบลราชธานี) (สาขาสียานยนต์)
B49: - สพร. เทคโนโลยีชั้นสูงฯ (สงขลา) (สาขางานเชื่อม/เกษตรแปรรูปจากผลิตภัณฑ์ยาง)
B50: - สพร. เทคโนโลยีชั้นสูงฯ (ระยอง) (สาขา Automotive & Robotics)
B51: - สพร. เทคโนโลยีชั้นสูงฯ (อุดรธานี) (สาขาเกษตรแปรรูปและอาหาร))
... B54: - สพร. เทคโนโลยีชั้นสูงฯ (ภูเก็ต) (สาขา Digital/ท่องเที่ยวและบริการ)
B55: 4. โครงการบูรณาการจัดทำมาตรฐานฝีมือแรงงาน และพัฒนาหลักสูตรรองรับ Thailand 4.0 | C55: =+C56+C57 -> 0
B56: 4.1 กิจกรรมจัดทำมาตรฐานฝีมือแรงงานแห่งชาติและวิธีการทดสอบมาตรฐานฝีมือเพื่อรองรับ Thailand 4.0
B57: 4.2 กิจกรรม พัฒนาหลักสูตรยกระดับฝีมือตามความสามารถ (competency Based Curriculum)
B58: 5. โครงการ เพิ่มผลิตภาพแรงงานสู่ SME 4.0 (180 แห่ง) (เจ้าภาพ ศป.)
B59: กิจกรรม เพิ่มผลิตภาพแรงงานสู่ SME 4.0
B60: 6. โครงการเพิ่มทักษะกำลังแรงงานในพื้นที่ 10 จังหวัด ในพื้นที่เขตพัฒนาเศรษฐกิจพิเศษ (เจ้าภาพ ผส.)
B61: เตรียมเข้าทำงาน ( 280 ชม.)
B62: ยกระดับฝีมือแรงงาน (12 - 60 ชม.)
B63: 7. โครงการ วิจัยเพื่อขับเคลื่อนผลิตภาพแรงงานสู่ Thailand 4.0
B64: - วิจัยเกี่ยวกับการฝึกอบรมฝีมือแรงงานกับการเพิ่มผลิตภาพแรงงานใน 5 อุตสาหกรรมเป้าหมาย (First S - Curves)
B65: - วิจัยเกี่ยวกับสาขาอาชีพที่อาจเป็นอันตรายต่อสาธารณะที่ประกอบอาชีพผ่านการรับรองความรู้ความสามารถ
B66: - วิจัยเกี่ยวกับการจัดทำสถิติผลิตภาพแรงงานในสถานประกอบกิจการที่จัดฝึกอบรมตาม พ.ร.บ.ฯ พ.ศ. 2545
B67: 8. โครงการ พัฒนาอุตสาหกรรมเทคโนโลยีชั้นสูงและอุตสาหกรรมแห่งอนาคตในพื้นที่ระเบียงเศรษฐกิจภาคตะวันออก (จังหวัดชลบุรี ระยอง ฉะเชิงเทรา)
B68: 9. โครงการ ควบคุมและกำกับดูแลการประกอบอาชีพที่อาจเป็นอันตรายต่อสาธารณะหริอต้องใช้ความรู้ความสามารถสู่ Safety At Work | C68: =+C69+C70 -> 224 | D68: =+D69 -> 62 | E68: =D68*100/C68 -> 27.678571 | F68: =+F69 -> 62 | G68: =F68*100/D68 -> 100 | H68: =C68-D68 -> 162
B69: - รับรองความรู้ความสามารถให้แก่แรงงาน | C69: 224 | D69: =14+48 -> 62 | E69: =D69*100/C69 -> 27.678571 | F69: =14+48 -> 62 | G69: =F69*100/D69 -> 100 | H69: =C69-D69 -> 162
B70: - อบรมผู้ประเมิน * | C70: 0
B71: 10. โครงการ ยกระดับแรงงานไทยให้ได้มาตรฐานฝีมือแรงงานเพื่อรองรับการแข่งขัน | C71: =+C72+C75+C77+C81 -> 130 | D71: =+D72+D75+D77+D81 -> 125 | E71: =D71*100/C71 -> 96.153846 | F71: =+F72+F75+F77+F81 -> 68 | G71: =F71*100/D71 -> 54.4 | H71: =+H72+H75+H77+H81 -> -15
B72: 10.1 กิจกรรม พัฒนาศักยภาพแรงงานเพื่อรองรับการจ่ายค่าจ้างตามมาตรฐานฝีมือ | C72: 20
A73: 13 | B73: - ยกระดับเพื่อรองรับค่าจ้างฯ | C73: 20
A74: 14 | B74: - ทดสอบมาตรฐานเพื่อรองรับค่าจ้างฯ | C74: 20
B75: 10.2 กิจกรรม ทดสอบมาตรฐานฝีมือแรงงานให้มีสมรรถนะ | C75: =+C76 -> 110 | D75: =D76 -> 125 | E75: =D75*100/C75 -> 113.63636 | F75: =F76 -> 68 | G75: =F75*100/D75 -> 54.4 | H75: =H76 -> -15
A76: 15 | B76: - ทดสอบมาตรฐานฝีมือแรงงานแห่งชาติ | C76: 110 | D76: ='15 ทดสอบ'!E9 -> 125 | E76: =D76*100/C76 -> 113.63636 | F76: ='15 ทดสอบ'!H9 -> 68 | G76: =F76*100/D76 -> 54.4 | H76: =C76-D76 -> -15
B77: 10.3 กิจกรรม ส่งเสริมมาตรฐานฝีมือแรงงานแห่งชาติ | C77: =+C78 -> 0
B78: - รายการ จัดตั้งศูนย์ทดสอบมาตรฐานฝีมือแรงงาน
B79: สปก. ได้รับเครื่องหมายมาตรฐานฝีมือแรงงานแห่งชาติ
B80: หน่วยงานภาครัฐ ภาคเอกชน ขอจัดตั้งเป็นศูนย์ทดสอบฯ ฝีมือแรงงานแห่งชาติ
B81: 10.4 กิจกรรม พัฒนาศักยภาพมาตรฐานฝีมือแรงงานไทยในต่างประเทศ
A82: 16 | B82: 11. โครงการ พัฒนาฝีมือให้แก่กลุ่มวิสาหกิจชุมชน และผู้มีรายได้น้อย | C82: =+C83 -> 200 | D82: ='16 รายได้น้อย'!E10 -> 45 | E82: =D82*100/C82 -> 22.5 | F82: ='16 รายได้น้อย'!H10 -> 45 | G82: =F82*100/D82 -> 100 | H82: =C82-D82 -> 155
B83: กิจกรรม พัฒนาฝีมือให้แก่กลุ่มวิสาหกิจชุมชน และผู้มีรายได้น้อย | C83: 200
B84: 12. โครงการ พัฒนาฝีมือแรงงานนานาชาติเพื่อการพัฒนาความร่วมมือทางเศรษฐกิจในอนุภูมิภาค ลุ่มแม่น้ำโขงและภูมิภาคเอเซียตะวันออกเฉียงใต้ (GMS - ASEAN) (เจ้าภาพ สพน.เชียงแสน)
B85: กิจกรรม พัฒนาฝีมือแรงงานนานาชาติ
B86: 13. ผลผลิต พัฒนา/ขับเคลื่อนความร่วมมือเครือข่าย และส่งเสริมการพัฒนาฝีมือแรงงาน | C86: =+C87+C97+C111+C115+C123 -> 4000 | D86: =+D112 -> 1251 | E86: =D86*100/C86 -> 31.275 | F86: =+F112 -> 1251 | G86: =F86*100/D86 -> 100 | H86: =C86-D86 -> 2749
B87: 13.1 กิจกรรม จัดทำหลักเกณฑ์ พัฒนาระบบ ส่งเสริมและรับรองมาตรฐานฝีมือแรงงาน (เจ้าภาพ สมฐ.)
B88: 1) รายการ กำหนดมาตรฐานฝีมือแรงงานแห่งชาติหรือวิธีทดสอบมาตรฐานฝีมือแรงงานแห่งชาติ
B89: 2) รายการ พัฒนาระบบการทดสอบมาตรฐานฝีมือแรงงานด้วยระบบอิเล็กทรอนิกส์ (E - Testing System)
B90: 3) รายการ ขับเคลื่อนระบบประกันคุณภาพสำหรับการทดสอบมาตรฐานฝีมือแรงงาน
B91: 4) รายการ ส่งเสริมและรับรองมาตรฐานฝีมือแรงงานของผู้ประกอบอาชีพ
B92: 5) รายการ วันมาตรฐานฝีมือแรงงานแห่งชาติ เทิดทูน "พระบิดาแห่งมาตรฐานการช่างไทย"
B93: 6) รายการ เพิ่มประสิทธิภาพการทดสอบมาตรฐานฝีมือแรงงานแห่งชาติ
B94: 7) รายการ เตรียมการและจัดส่งเยาวชนเข้าร่วมการแข่งขันฝีมือแรงงานอาเซียน ครั้งที่ 12
B95: 8) รายการ เตรียมการและจัดงานแข่งขันฝีมือแรงงานแห่งชาติ ครั้งที่ 27
B96: 9) รายการ เตรียมการและจัดส่งเยาวชนเข้าร่วมการแข่งขันฝีมือแรงงานนานาชาติ ครั้งที่ 44
B97: 13.2 กิจกรรม พัฒนาระบบการฝึกอบรมฝีมือแรงงาน (เจ้าภาพ สพท.)
B98: 1) รายการ พัฒนาหลักสูตร
... B110: - ประชุมวิชาการเชิงปฏิบัติการ การจัดวางระบบสารสนเทศเกี่ยวกับอาคารสถานที่ ครุภัณฑ์การฝึก
B111: 13.3 กิจกรรม ส่งเสริมและสนับสนุนให้สถานประกอบกิจการดำเนินการพัฒนาฝีมือแรงงาน | C111: =+C112 -> 4000
B112: 1) รายการ รับรองหลักสูตร และค่าใช้จ่ายในการฝึกอบรมฝีมือแรงงานของ สปก. ฯ | C112: 4000 | D112: =1237+14 -> 1251 | E112: =D112*100/C112 -> 31.275 | F112: =1237+14 -> 1251 | G112: =F112*100/D112 -> 100 | H112: =C112-D112 -> 2749
B114: 2) รายการ ตรวจติดตามสถานประกอบกิจการดำเนินการ ฝึกอบรมตาม พ.ร.บ.ส่งเสริมฯ | C114: 24 | D114: 6 | E114: =D114*100/C114 -> 25 | H114: =C114-D114 -> 18
B115: 13.4 กิจกรรมหลัก ขับเคลื่อนยุทธศาสตร์การพัฒนากำลังคนระดับชาติรองรับการพัฒนาอุตสาหกรรมศักยภาพของประเทศ (เจ้าภาพ ยร.)
...

Sheet 1อนาคต
A1: ทะเบียนคุมรุ่น (มือ)
A2: 2. โครงการ เพิ่มศักยภาพแรงงานรองรับ Thailand 4.0
A3: 2.1 กิจกรรม เพิ่มศักยภาพแรงงานเตรียมเข้าสู่อุตสาหกรรมเป้าหมายแห่งอนาคต
A4: ระหว่างวันที่ 1 ตุลาคม 2560 - 30 กันยายน 2561
A6: ยกระดับ เป้าหมาย 80 คน
A7: รุ่นที่ | B7: กลุ่มอาชีพ/สาขา | C7: จำนวนชั่วโมง | D7: ฝึกระหว่างวันที่ | E7: เข้าฝึก | H7: จบฝึก | K7: สถานที่ดำเนินการ | L7: งบประมาณ | M7: ผู้รับผิดชอบ | N7: คีย์ในระบบ | O7: วิทยากร | P7: ค่าวิทยาการ | Q7: ค่าวัสดุ | R7: ค่าป้าย | S7: ค่าOT
E8: รวม | F8: ชาย | G8: หญิง | H8: รวม | I8: ชาย | J8: หญิง

Sheet 2ครัวไทย เตรียม
A1: ทะเบียนคุมรุ่น (มือ)
A2: 2. โครงการ เพิ่มศักยภาพแรงงานรองรับ Thailand 4.0
A3: 2.2 กิจกรรม เพิ่มศักยภาพกำลังแรงงานภาคอุตสาหกรรมและบริการไปสู่ Thailand 4.0
A4: 1) อุตสาหกรรมอาหาร/ครัวไทยสู่ครัวโลก นวัตกรรมด้านอาหาร
A5: ระหว่างวันที่ 1 ตุลาคม 2560 - 30 กันยายน 2561
A6: เตรียมเข้าทำงาน (280 ชม.) เป้าหมาย 40 คน
A7: รุ่นที่ | B7: กลุ่มอาชีพ/สาขา | C7: จำนวนชั่วโมง | D7: ฝึกระหว่างวันที่ | E7: ผู้เข้ารับการฝึก | H7: จบการฝึก ใน ศพจ. | K7: จบการฝึก ในกิจการ | N7: ฝึกในสปก. | P7: สถานที่ดำเนินการ | Q7: งบประมาณ | R7: ผู้รับผิดชอบ | S7: คีย์ในระบบ | T7: วิทยากร | U7: ค่าวิทยาการ | V7: ค่าวัสดุ
E8: รวม | F8: ชาย | G8: หญิง | H8: รวม | I8: ชาย | J8: หญิง | K8: รวม | L8: ชาย | M8: หญิง | N8: เปิดฝึก | O8: จบฝึก
E9: =E10 -> 25 | F9: =F10 -> 6 | G9: =G10 -> 19 | H9: =H10 -> 0 | I9: =I10 -> 0 | J9: =J10 -> 0 | K9: =K10 -> 0 | L9: =L10 -> 0 | ... O9: =O10 -> 0 | Q9: =Q10 -> 74000 | S9: =S10 -> 25 | U9: =U10 -> 24000 | V9: =V10 -> 50000
A10: 1 | B10: ผู้ประกอบอาหารไทย | C10: 280 | D10: 20 พ.ย. 60 | E10: 25 | F10: 6 | G10: 19 | P10: ห้องครัวไทย | Q10: 74000 | R10: เชิดไชย | S10: 25 | T10: นางชวนชน | U10: 24000 | V10: =1000*2*25 -> 50000
C11: 140 | D11: 19 ม.ค. 61 | P11: สนพ.บุรีรัมย์ | T11: พรหมเจริญ

Sheet 3ครัวไทย ยก
A1: ทะเบียนคุมรุ่น (มือ)
A2: 2. โครงการ เพิ่มศักยภาพแรงงานรองรับ Thailand 4.0
A3: 2.2 กิจกรรม เพิ่มศักยภาพกำลังแรงงานภาคอุตสาหกรรมและบริการไปสู่ Thailand 4.0
A4: 1) อุตสาหกรรมอาหาร/ครัวไทยสู่ครัวโลก นวัตกรรมด้านอาหาร
A5: ระหว่างวันที่ 1 ตุลาคม 2560 - 30 กันยายน 2561
A7: ยกระดับ เป้าหมาย 40 คน
A8: รุ่นที่ | B8: กลุ่มอาชีพ/สาขา | C8: จำนวนชั่วโมง | D8: ฝึกระหว่างวันที่ | E8: เข้าฝึก | H8: จบฝึก | K8: สถานที่ดำเนินการ | L8: งบประมาณ | M8: ผู้รับผิดชอบ | N8: คีย์ในระบบ | O8: วิทยากร | P8: ค่าวิทยาการ | Q8: ค่าวัสดุ | R8: ค่าป้าย | S8: ค่าOT
E9: รวม | F9: ชาย | G9: หญิง | H9: รวม | I9: ชาย | J9: หญิง
E10: =SUM(E11:E22) -> 21 | F10: =SUM(F11:F22) -> 2 | G10: =SUM(G11:G22) -> 19 | H10: =SUM(H11:H22) -> 19 | I10: =SUM(I11:I22) -> 2 | J10: =SUM(J11:J22) -> 17 | L10: =SUM(L11:L22) -> 28400 | N10: =SUM(N11:N22) -> 21 | P10: =SUM(P11:P22) -> 18000 | Q10: =SUM(Q11:Q22) -> 10000 | R10: =SUM(R11:R22) -> 400 | S10: =SUM(S11:S22) -> 0
A11: 1 | B11: ครัวไทย 4.0 สู่ครัวโลก | C11: 30 | D11: 23-27 พ.ย. 60 | E11: 21 | F11: 2 | G11: 19 | H11: 19 | I11: 2 | J11: 17 | K11: ร้านนัวเฮง | L11: 28400 | M11: เฉลิมพงษ์ | N11: 21 | O11: นางธัญวลัย | P11: =600*30 -> 18000 | Q11: 10000 | R11: 400
O12: ทัศนสนวิจารณ์

Sheet 4เกษตร
A1: ทะเบียนคุมรุ่น (มือ)
A2: 2. โครงการ เพิ่มศักยภาพแรงงานรองรับ Thailand 4.0
A3: 2.2 กิจกรรม เพิ่มศักยภาพกำลังแรงงานภาคอุตสาหกรรมและบริการไปสู่ Thailand 4.0
A4: 2) เกษตรแปรรูป และเทคโนโลยีชีวภาพ
A5: ระหว่างวันที่ 1 ตุลาคม 2560 - 30 กันยายน 2561
A7: ยกระดับ เป้าหมาย 80 คน
A8: รุ่นที่ | B8: กลุ่มอาชีพ/สาขา | C8: จำนวนชั่วโมง | D8: ฝึกระหว่างวันที่ | E8: เข้าฝึก | H8: จบฝึก | K8: สถานที่ดำเนินการ | L8: งบประมาณ | M8: ผู้รับผิดชอบ | N8: คีย์ในระบบ | O8: วิทยากร | P8: ค่าวิทยาการ | Q8: ค่าวัสดุ | R8: ค่าป้าย | S8: ค่าOT
E9: รวม | F9: ชาย | G9: หญิง | H9: รวม | I9: ชาย | J9: หญิง

Sheet 5 ยนต์ เตรียม
A1: ทะเบียนคุมรุ่น (มือ)
A2: 2. โครงการ เพิ่มศักยภาพแรงงานรองรับ Thailand 4.0
A3: 2.2 กิจกรรม เพิ่มศักยภาพกำลังแรงงานภาคอุตสาหกรรมและบริการไปสู่ Thailand 4.0
A4: 3) อุตสาหกรรมยานยนต์และชิ้นส่วน เครื่องมืออุปกรณ์อัจฉริยะ หุ่นยนต์ ระบบเครื่องกลที่ใช้ระบบอิเล็กทรอนิกส์ควบคุม
A5: ระหว่างวันที่ 1 ตุลาคม 2560 - 30 กันยายน 2561
A6: เตรียมเข้าทำงาน เป้าหมาย 20 คน
A7: รุ่นที่ | B7: กลุ่มอาชีพ/สาขา | C7: จำนวนชั่วโมง | D7: ฝึกระหว่างวันที่ | E7: ผู้เข้ารับการฝึก | H7: จบการฝึก ใน ศพจ. | K7: จบการฝึก ในกิจการ | N7: ฝึกในสปก. | P7: สถานที่ดำเนินการ | Q7: งบประมาณ | R7: ผู้รับผิดชอบ | S7: คีย์ในระบบ | T7: วิทยากร | U7: ค่าวิทยาการ | V7: ค่าวัสดุ | W7: ค่าป้าย | X7: ค่าOT
E8: รวม | F8: ชาย | G8: หญิง | H8: รวม | I8: ชาย | J8: หญิง | K8: รวม | L8: ชาย | M8: หญิง | N8: เปิดฝึก | O8: จบฝึก
E9: =SUM(E10:E15) -> 20 | F9: =SUM(F10:F15) -> 0 | G9: =SUM(G10:G15) -> 0 | H9: =SUM(H10:H15) -> 0 | I9: =SUM(I10:I15) -> 0 | J9: =SUM(J10:J15) -> 0 | K9: =SUM(K10:K15) -> 0 | L9: =SUM(L10:L15) -> 0 | ... O9: =SUM(O10:O15) -> 0 | Q9: =SUM(Q10:Q15) -> 80000 | S9: =SUM(S10:S15) -> 0 | T9: =SUM(T10:T15) -> 0 | U9: =SUM(U10:U15) -> 0 | V9: =SUM(V10:V15) -> 80000 | W9: =SUM(W10:W15) -> 0 | X9: =SUM(X10:X15) -> 0
A10: 1 | B10: ช่างซ่อมเครื่องยนต์ | C10: 560 | D10: 20 พ.ย. 60- | E10: 20 | P10: สนพ.บร | Q10: 80000 | R10: นายนิพนธ์ | T10: นายนิพนธ์ | U10: 0 | V10: 80000 | W10: 0 | X10: 0
C11: 280 | D11: 20 มี.ค. 61

Sheet 6 ยนต์ ยก
A1: ทะเบียนคุมรุ่น (มือ)
A2: 2. โครงการ เพิ่มศักยภาพแรงงานรองรับ Thailand 4.0
A3: 2.2 กิจกรรม เพิ่มศักยภาพกำลังแรงงานภาคอุตสาหกรรมและบริการไปสู่ Thailand 4.0
A4: 3) อุตสาหกรรมยานยนต์และชิ้นส่วน เครื่องมืออุปกรณ์อัจฉริยะ หุ่นยนต์ ระบบเครื่องกลที่ใช้ระบบอิเล็กทรอนิกส์ควบคุม
A5: ระหว่างวันที่ 1 ตุลาคม 2560 - 30 กันยายน 2561
A7: ยกระดับ เป้าหมาย 100 คน
A8: รุ่นที่ | B8: กลุ่มอาชีพ/สาขา | C8: จำนวนชั่วโมง | D8: ฝึกระหว่างวันที่ | E8: เข้าฝึก | H8: จบฝึก | K8: สถานที่ดำเนินการ | L8: งบประมาณ | M8: ผู้รับผิดชอบ | N8: คีย์ในระบบ | O8: วิทยากร | P8: ค่าวิทยาการ | Q8: ค่าวัสดุ | R8: ค่าป้าย | S8: ค่าOT
E9: รวม | F9: ชาย | G9: หญิง | H9: รวม | I9: ชาย | J9: หญิง

Sheet 7 บริการ ยก
A1: ทะเบียนคุมรุ่น (มือ)
A2: 2. โครงการ เพิ่มศักยภาพแรงงานรองรับ Thailand 4.0
A3: 2.2 กิจกรรม เพิ่มศักยภาพกำลังแรงงานภาคอุตสาหกรรมและบริการไปสู่ Thailand 4.0
A4: 4) ท่องเที่ยว/การบริการ บริการด้านสุขภาพ กลุ่มอุตสาหกรรมสร้างสรรค์/วัฒนธรรม
A5: ระหว่างวันที่ 1 ตุลาคม 2560 - 30 กันยายน 2561
A7: ยกระดับ เป้าหมาย 300 คน
A8: รุ่นที่ | B8: กลุ่มอาชีพ/สาขา | C8: จำนวนชั่วโมง | D8: ฝึกระหว่างวันที่ | E8: เข้าฝึก | H8: จบฝึก | K8: สถานที่ดำเนินการ | L8: งบประมาณ | M8: ผู้รับผิดชอบ | N8: คีย์ในระบบ | O8: วิทยากร | P8: ค่าวิทยาการ | Q8: ค่าวัสดุ | R8: ค่าป้าย | S8: ค่าOT
E9: รวม | F9: ชาย | G9: หญิง | H9: รวม | I9: ชาย | J9: หญิง
E10: =SUM(E11:E22) -> 122 | F10: =SUM(F11:F22) -> 51 | G10: =SUM(G11:G22) -> 71 | H10: =SUM(H11:H22) -> 116 | I10: =SUM(I11:I22) -> 45 | J10: =SUM(J11:J22) -> 71 | L10: =SUM(L11:L22) -> 103200 | N10: =SUM(N11:N22) -> 122 | O10: =SUM(O11:O22) -> 0 | P10: =SUM(P11:P22) -> 61200 | Q10: =SUM(Q11:Q22) -> 44000 | R10: =SUM(R11:R22) -> 2000 | S10: =SUM(S11:S22) -> 0
A11: 1 | B11: การทำงานเป็นทีมอย่างมีประสิทธิภาพ | C11: 18 | D11: 6-8 พ.ย. 60 | E11: 30 | F11: 13 | G11: 17 | H11: 30 | I11: 13 | J11: 17 | K11: บ.เพลาเพลิน บูติค รีสอร์ท | L11: 26400 | M11: วัชรินทร์ | N11: 30 | O11: นางมณีรัตน์ | P11: =1000*18 -> 18000 | Q11: =400*30 -> 12000 | R11: =400 -> 400
K12: ต.หนองขมาร อ.คูเมือง | O12: สุขบุญ
A13: 2 | B13: เทคนิคการให้บริการอย่างมืออาชีพ | C13: 18 | D13: 14-16 พ.ย. 60 | E13: 20 | F13: 9 | G13: 11 | H13: 20 | I13: 9 | J13: 11 | K13: บ.สยามแม็คโคร จก.(มหาชน) | L13: 19200 | M13: วัชรินทร์ | N13: 20 | O13: นางอนงค์ | P13: =600*18 -> 10800 | Q13: =400*20 -> 8000 | R13: 400 | S13: 0
K14: 151 ม.7 ต.อิสาน อ.เมือง | O14: ทองเรือง
A15: 3 | B15: เทคนิคการให้บริการอย่างมืออาชีพ | C15: 18 | D15: 27-29 พ.ย. 60 | E15: 20 | F15: 11 | G15: 9 | H15: 17 | I15: 8 | J15: 9 | K15: บ.สยามแม็คโคร จก.(มหาชน) | L15: 19200 | M15: เอกภพ | N15: 20 | O15: นางอนงค์ | P15: =600*18 -> 10800 | Q15: =400*20 -> 8000 | R15: 400 | S15: 0
K16: 151 ม.7 ต.อิสาน อ.เมือง | O16: ทองเรือง
A17: 4 | B17: พนักงานทำความสะอาดห้องพัก | C17: 18 | D17: 22-24 พ.ย. 60 | E17: 27 | F17: 6 | G17: 21 | H17: 24 | I17: 3 | J17: 21 | K17: โรงแรมเทพนคร อ.เมือง | L17: 19200 | M17: นิพนธ์ | N17: 27 | O17: นายนรินทร์ | P17: =600*18 -> 10800 | Q17: 8000 | R17: 400
O18: เจตธำรงค์
A19: 5 | B19: พนักงานบริการอาหารและเครื่องดื่ม | C19: 18 | D19: 28-30 พ.ย. 60 | E19: 25 | F19: 12 | G19: 13 | H19: 25 | I19: 12 | J19: 13 | K19: โรงแรมเทพนคร อ.เมือง | L19: 19200 | M19: เฉลิมพงษ์ | N19: 25 | O19: นายนรินทร์ | P19: =600*18 -> 10800 | Q19: 8000 | R19: 400
O20: เจตธำรงค์

Sheet 8 จิสติกส์ ยก
A1: ทะเบียนคุมรุ่น (มือ)
A2: 2. โครงการ เพิ่มศักยภาพแรงงานรองรับ Thailand 4.0
A3: 2.2 กิจกรรม เพิ่มศักยภาพกำลังแรงงานภาคอุตสาหกรรมและบริการไปสู่ Thailand 4.0
A4: 5) ระบบขนส่ง/โลจิสติกส์
A5: ระหว่างวันที่ 1 ตุลาคม 2560 - 30 กันยายน 2561
A7: ยกระดับ เป้าหมาย 100 คน
A8: รุ่นที่ | B8: กลุ่มอาชีพ/สาขา | C8: จำนวนชั่วโมง | D8: ฝึกระหว่างวันที่ | E8: เข้าฝึก | H8: จบฝึก | K8: สถานที่ดำเนินการ | L8: งบประมาณ | M8: ผู้รับผิดชอบ | N8: คีย์ในระบบ | O8: วิทยากร | P8: ค่าวิทยาการ | Q8: ค่าวัสดุ | R8: ค่าป้าย | S8: ค่าOT
E9: รวม | F9: ชาย | G9: หญิง | H9: รวม | I9: ชาย | J9: หญิง
E10: =SUM(E11:E22) -> 20 | F10: =SUM(F11:F22) -> 20 | G10: =SUM(G11:G22) -> 0 | H10: =SUM(H11:H22) -> 18 | I10: =SUM(I11:I22) -> 18 | J10: =SUM(J11:J22) -> 0 | L10: =SUM(L11:L22) -> 32400 | N10: =SUM(N11:N22) -> 20 | O10: =SUM(O11:O22) -> 0 | P10: =SUM(P11:P22) -> 24000 | Q10: =SUM(Q11:Q22) -> 8000 | R10: =SUM(R11:R22) -> 400 | S10: =SUM(S11:S22) -> 0
A11: 1 | B11: พนักงานควบคุมปั้นจั่นชนิด ปั้นจั่น | C11: 24 | D11: 6 - 9 พ.ย. 60 | E11: 20 | F11: 20 | G11: 0 | H11: 18 | I11: 18 | J11: 0 | K11: หจก.เรืองแสงไทย ต.ชุมเห็ด | L11: 32400 | M11: นิพนธ์ | N11: 20 | O11: นายวิเชียร | P11: =1000*24 -> 24000 | Q11: =400*20 -> 8000 | R11: 400
B12: หอสูง รถ เรือปั้นจั่น (Mobile Crane) | K12: อ.เมือง จ.บุรีรัมยื | O12: ผดงวงษ์

Sheet 9ไฟฟ้า เตรียม
A1: ทะเบียนคุมรุ่น (มือ)
A2: 2. โครงการ เพิ่มศักยภาพแรงงานรองรับ Thailand 4.0
A3: 2.2 กิจกรรม เพิ่มศักยภาพกำลังแรงงานภาคอุตสาหกรรมและบริการไปสู่ Thailand 4.0
A4: 6) อุตสาหกรรมไฟฟ้าและอิเล็กทรอนิกส์ ไอที ดิจิทัล โทรคมนาคม หรืองานที่เกี่ยวข้องกับอินเตอร์เน็ตที่เชื่อมต่อและบังคับอุปกรณ์ต่างๆ เทคโนโลยีสมองกลฝังตัว
A5: ระหว่างวันที่ 1 ตุลาคม 2560 - 30 กันยายน 2561
A6: เตรียมเข้าทำงาน เป้าหมาย 20 คน
A7: รุ่นที่ | B7: กลุ่มอาชีพ/สาขา | C7: จำนวนชั่วโมง | D7: ฝึกระหว่างวันที่ | E7: ผู้เข้ารับการฝึก | H7: จบการฝึก ใน ศพจ. | K7: จบการฝึก ในกิจการ | N7: ฝึกในสปก. | P7: สถานที่ดำเนินการ | Q7: งบประมาณ | R7: ผู้รับผิดชอบ | S7: คีย์ในระบบ | T7: วิทยากร | U7: ค่าวิทยาการ | V7: ค่าวัสดุ | W7: ค่าป้าย | X7: ค่าOT
E8: รวม | F8: ชาย | G8: หญิง | H8: รวม | I8: ชาย | J8: หญิง | K8: รวม | L8: ชาย | M8: หญิง | N8: เปิดฝึก | O8: จบฝึก
E9: =SUM(E10:E15) -> 20 | F9: =SUM(F10:F15) -> 0 | G9: =SUM(G10:G15) -> 0 | H9: =SUM(H10:H15) -> 0 | I9: =SUM(I10:I15) -> 0 | J9: =SUM(J10:J15) -> 0 | K9: =SUM(K10:K15) -> 0 | L9: =SUM(L10:L15) -> 0 | ... O9: =SUM(O10:O15) -> 0 | Q9: =SUM(Q10:Q15) -> 60000 | S9: =SUM(S10:S15) -> 0 | T9: =SUM(T10:T15) -> 0 | U9: =SUM(U10:U15) -> 0 | V9: =SUM(V10:V15) -> 60000 | W9: =SUM(W10:W15) -> 0 | X9: =SUM(X10:X15) -> 0
A10: 1 | B10: ช่างเครื่องปรับอากาศในบ้าน | C10: 360 | D10: 4 ธ.ค. 60 | E10: 20 | P10: สนพ.บร | Q10: 60000 | R10: เอกภพ | T10: โสภี | U10: 0 | V10: 60000 | W10: 0 | X10: 0
B11: และการพาณิชย์ขนาดเล็ก | C11: 280 | D11: 3 มี.ค. 61
B12: ระดับ 1

Sheet 10 อื่น เตรียม
A1: ทะเบียนคุมรุ่น (มือ)
A2: 2. โครงการ เพิ่มศักยภาพแรงงานรองรับ Thailand 4.0
A3: 2.2 กิจกรรม เพิ่มศักยภาพกำลังแรงงานภาคอุตสาหกรรมและบริการไปสู่ Thailand 4.0
A4: 7) อุตสาหกรรมศักยภาพอื่น
A5: (เช่น อุตสาหกรรมพลังงานสะอาด อัญมณี เครื่องประดับ เครื่องหนัง เย็บจักรอุตสาหกรรม สิ่งทอ/เครื่องนุ่งห่ม การออกแบบผลิตภัณฑ์สมัยใหม่ ฯลฯ)
A6: ระหว่างวันที่ 1 ตุลาคม 2560 - 30 กันยายน 2561
A7: เตรียมเข้าทำงาน เป้าหมาย 40 คน
A8: รุ่นที่ | B8: กลุ่มอาชีพ/สาขา | C8: จำนวนชั่วโมง | D8: ฝึกระหว่างวันที่ | E8: ผู้เข้ารับการฝึก | H8: จบการฝึก ใน ศพจ. | K8: จบการฝึก ในกิจการ | N8: ฝึกในสปก. | P8: สถานที่ดำเนินการ | Q8: งบประมาณ | R8: ผู้รับผิดชอบ | S8: คีย์ในระบบ | T8: วิทยากร | U8: ค่าวิทยาการ | V8: ค่าวัสดุ | W8: ค่าป้าย | X8: ค่าOT
E9: รวม | F9: ชาย | G9: หญิง | H9: รวม | I9: ชาย | J9: หญิง | K9: รวม | L9: ชาย | M9: หญิง | N9: เปิดฝึก | O9: จบฝึก
E10: =SUM(E11:E22) -> 50 | F10: =SUM(F11:F22) -> 0 | G10: =SUM(G11:G22) -> 0 | H10: =SUM(H11:H22) -> 0 | I10: =SUM(I11:I22) -> 0 | J10: =SUM(J11:J22) -> 0 | K10: =SUM(K11:K22) -> 0 | L10: =SUM(L11:L22) -> 0 | ... X10: =SUM(X11:X22) -> 0
A11: 1 | B11: ช่างตัดเย็บเสื้อผ้าสตรี | C11: 560 | D11: 20 พ.ย. 60 | E11: 9 | P11: สนพ.บร | Q11: 32000 | R11: สุภานีย์ | S11: 9 | T11: สุภานีย์ | U11: 0 | V11: 32000 | W11: 0 | X11: 0
B12: ระดับต้น | C12: 280 | D12: 20 มี.ค. 61
A14: 2 | B14: ช่างกลึง | C14: 840 | D14: 20 พ.ย. 60 | E14: 9 | P14: สนพ.บร. | Q14: 64800 | R14: เฉลิมพงษ์ | S14: 9 | T14: เฉลิมพงษ์ | U14: 0 | V14: 64800 | W14: 0 | X14: 0
C15: 280 | D15: 20 พ.ค. 61
A16: 3 | B16: ช่างเชื่อมไฟฟ้าด้วยมือ | C16: 700 | D16: 20 พ.ย. 60 | E16: 20 | P16: สนพ.บร. | Q16: 120000 | R16: วัชรินทร์ | S16: 20 | T16: วัชรินทร์ | U16: 0 | V16: 120000 | W16: 0 | X16: 0
C17: 280 | D17: 20 เม.ย. 61
A18: 4 | B18: ช่างซ่อมรถจักรยานยนต์ | C18: 560 | D18: 20 พ.ย. 60 | E18: 12 | P18: สนพ.บร. | Q18: 48000 | R18: มนตรี | S18: 12 | T18: มนตรี | U18: 0 | V18: =1000*12*4 -> 48000 | W18: 0 | X18: 0
C19: 280 | D19: 20 มี.ค. 61

Sheet 11อื่น ยก
A1: ทะเบียนคุมรุ่น (มือ)
A2: 2. โครงการ เพิ่มศักยภาพแรงงานรองรับ Thailand 4.0
A3: 2.2 กิจกรรม เพิ่มศักยภาพกำลังแรงงานภาคอุตสาหกรรมและบริการไปสู่ Thailand 4.0
A4: 7) อุตสาหกรรมศักยภาพอื่น
A5: (เช่น อุตสาหกรรมพลังงานสะอาด อัญมณี เครื่องประดับ เครื่องหนัง เย็บจักรอุตสาหกรรม สิ่งทอ/เครื่องนุ่งห่ม การออกแบบผลิตภัณฑ์สมัยใหม่ ฯลฯ)
A6: ระหว่างวันที่ 1 ตุลาคม 2560 - 30 กันยายน 2561
A8: ยกระดับ เป้าหมาย 340 คน
A9: รุ่นที่ | B9: กลุ่มอาชีพ/สาขา | C9: จำนวนชั่วโมง | D9: ฝึกระหว่างวันที่ | E9: เข้าฝึก | H9: จบฝึก | K9: สถานที่ดำเนินการ | L9: งบประมาณ | M9: ผู้รับผิดชอบ | N9: คีย์ในระบบ | O9: วิทยากร | P9: ค่าวิทยาการ | Q9: ค่าวัสดุ | R9: ค่าป้าย | S9: ค่าOT
E10: รวม | F10: ชาย | G10: หญิง | H10: รวม | I10: ชาย | J10: หญิง
E11: =SUM(E12:E22) -> 87 | F11: =SUM(F12:F22) -> 54 | G11: =SUM(G12:G22) -> 33 | H11: =SUM(H12:H22) -> 87 | I11: =SUM(I12:I22) -> 54 | J11: =SUM(J12:J22) -> 33 | L11: =SUM(L12:L22) -> 83200 | N11: =SUM(N12:N22) -> 87 | P11: =SUM(P12:P22) -> 54000 | Q11: =SUM(Q12:Q22) -> 28000 | R11: =SUM(R12:R22) -> 1200 | S11: =SUM(S12:S22) -> 0
A12: 1 | B12: การทำงานเป็นทีมอย่างมีประสิทธิภาพ | C12: 18 | D12: 15-17 พ.ย. 60 | E12: 26 | F12: 21 | G12: 5 | H12: 26 | I12: 21 | J12: 5 | K12: บ.ศรีวัฒนากรีน เพาเวอร์ | L12: 26400 | M12: สุภานีย์ | N12: 26 | O12: น.ส.มณีรัตน์ | P12: =1000*18 -> 18000 | Q12: =400*20 -> 8000 | R12: 400 | S12: 0
K13: ต.อีสาน อ.เฉลิมพระเกียรติ | O13: สุขบุญ
A14: 2 | B14: จิตสำนึกในการให้บริการและการคิด | C14: 18 | D14: 28-30 พ.ย. 60 | E14: 30 | F14: 16 | G14: 14 | H14: 30 | I14: 16 | J14: 14 | K14: บ.โฮมเมกามาร์ท จก | L14: 30400 | M14: นิพนธ์ | N14: 30 | O14: น.ส.มณีรัตน์ | P14: 18000 | Q14: 12000 | R14: 400 | S14: 0
B15: เชิงบวก | O15: สุขบุญ
A16: 3 | B16: จิตสำนึกในการให้บริการและการคิด | C16: 18 | D16: 12-14 ธ.ค. 60 | E16: 31 | F16: 17 | G16: 14 | H16: 31 | I16: 17 | J16: 14 | K16: บ.โฮมเมกามาร์ท จก | L16: 26400 | M16: นิพนธ์ | N16: 31 | O16: น.ส.มณีรัตน์ | P16: 18000 | Q16: 8000 | R16: 400 | S16: 0
B17: เชิงบวก | O17: สุขบุญ

Sheet 12 ภาษา ยก
A1: ทะเบียนคุมรุ่น (มือ)
A2: 2. โครงการ เพิ่มศักยภาพแรงงานรองรับ Thailand 4.0
A3: 2.2 กิจกรรม เพิ่มศักยภาพกำลังแรงงานภาคอุตสาหกรรมและบริการไปสู่ Thailand 4.0
A4: 2.2.2 อบรมเพิ่มขีดความสามารถด้านภาษาต่างประเทศ (ระยะเวลาอบรม 30 ชม.)
A5: ระหว่างวันที่ 1 ตุลาคม 2560 - 30 กันยายน 2561
A7: ยกระดับ เป้าหมาย 200 คน
A8: รุ่นที่ | B8: กลุ่มอาชีพ/สาขา | C8: จำนวนชั่วโมง | D8: ฝึกระหว่างวันที่ | E8: เข้าฝึก | H8: จบฝึก | K8: สถานที่ดำเนินการ | L8: งบประมาณ | M8: ผู้รับผิดชอบ | N8: คีย์ในระบบ | O8: วิทยากร | P8: ค่าวิทยาการ | Q8: ค่าวัสดุ | R8: ค่าป้าย | S8: ค่าOT
E9: รวม | F9: ชาย | G9: หญิง | H9: รวม | I9: ชาย | J9: หญิง

Sheet 13 ยก มรช
A1: ทะเบียนคุมรุ่น (มือ)
A2: 10. โครงการ ยกระดับแรงงานไทยให้ได้มาตรฐานฝีมือแรงงานเพื่อรองรับการแข่งขัน
A3: 10.1 กิจกรรม พัฒนาศักยภาพแรงงานเพื่อรองรับการจ่ายค่าจ้างตามมาตรฐานฝีมือ
A4: รายการ ฝึกยกระดับฝีมือแรงงาน (เป้าหมาย 20)
A5: ระหว่างวันที่ 1 ตุลาคม 2560 - 30 กันยายน 2561
A7: ยกระดับ เป้าหมาย 20 คน
A8: รุ่นที่ | B8: กลุ่มอาชีพ/สาขา | C8: จำนวนชั่วโมง | D8: ฝึกระหว่างวันที่ | E8: เข้าฝึก | H8: จบฝึก | K8: สถานที่ดำเนินการ | L8: งบประมาณ | M8: ผู้รับผิดชอบ | N8: คีย์ในระบบ | O8: วิทยากร | P8: ค่าวิทยาการ | Q8: ค่าวัสดุ | R8: ค่าป้าย | S8: ค่าOT
E9: รวม | F9: ชาย | G9: หญิง | H9: รวม | I9: ชาย | J9: หญิง

Sheet 14 ทดสอบ มรช
A1: ทะเบียนคุมรุ่น (มือ)
A2: 10. โครงการ ยกระดับแรงงานไทยให้ได้มาตรฐานฝีมือแรงงานเพื่อรองรับการแข่งขัน
A3: 10.1 กิจกรรม พัฒนาศักยภาพแรงงานเพื่อรองรับการจ่ายค่าจ้างตามมาตรฐานฝีมือ
A4: รายการ ทดสอบมาตรฐานฝีมือแรงงานแห่งชาติ (เป้าหมาย 20)
A5: ระหว่างวันที่ 1 ตุลาคม 2560 - 30 กันยายน 2561
A7: รุ่นที่ | B7: กลุ่มอาชีพ/สาขา | C7: จำนวนชั่วโมง | D7: ฝึกระหว่างวันที่ | E7: เข้าทดสอบ | H7: ผ่านทดสอบ | K7: สถานที่ดำเนินการ | L7: งบประมาณ | M7: ผู้รับผิดชอบ | N7: คีย์ในระบบ | O7: วิทยากร | P7: ค่าวิทยาการ | Q7: ค่าวัสดุ | R7: ค่าป้าย | S7: ค่าOT
E8: รวม | F8: ชาย | G8: หญิง | H8: รวม | I8: ชาย | J8: หญิง

Sheet 15 ทดสอบ
A1: ทะเบียนคุมรุ่น (มือ)
A2: 10. โครงการ ยกระดับแรงงานไทยให้ได้มาตรฐานฝีมือแรงงานเพื่อรองรับการแข่งขัน
A3: 10.2 กิจกรรม ทดสอบมาตรฐานฝีมือแรงงานให้มีสมรรถนะ
A4: รายการ ทดสอบมาตรฐานฝีมือแรงงานแห่งชาติ (เป้าหมาย 110)
A5: ระหว่างวันที่ 1 ตุลาคม 2560 - 30 กันยายน 2561
A7: รุ่นที่ | B7: กลุ่มอาชีพ/สาขา | C7: จำนวนชั่วโมง | D7: ฝึกระหว่างวันที่ | E7: เข้าทดสอบ | H7: ผ่านทดสอบ | K7: สถานที่ดำเนินการ | L7: งบประมาณ | M7: ผู้รับผิดชอบ | N7: คีย์ในระบบ | O7: ค่ากรรมการ | P7: ค่าวัสดุ | Q7: ค่าป้าย | R7: ค่าOT
E8: รวม | F8: ชาย | G8: หญิง | H8: รวม | I8: ชาย | J8: หญิง
E9: =SUM(E10:E21) -> 125 | F9: =SUM(F10:F21) -> 122 | G9: =SUM(G10:G21) -> 3 | H9: =SUM(H10:H21) -> 68 | I9: =SUM(I10:I21) -> 65 | J9: =SUM(J10:J21) -> 3 | K9: =SUM(K10:K21) -> 0 | L9: =SUM(L10:L21) -> 69700 | ... R9: =SUM(R10:R21) -> 0
A10: 1 | B10: ช่างไฟฟ้าภายในอาคาร ระดับ 1 | C10: 5 | D10: 10 ต.ค. 60 | E10: 22 | F10: 21 | G10: 1 | H10: 11 | I10: 10 | J10: 1 | K10: สนพ.บร งบผู้เข้าทดสอบ | L10: =500*22 -> 11000 | M10: โสภี | N10: 22 | O10: 0 | P10: 0 | Q10: 0 | R10: 0
A11: 2 | B11: ช่างไฟฟ้าภายในอาคาร ระดับ 1 | C11: 5 | D11: 19 ต.ค. 60 | E11: 22 | F11: 22 | G11: 0 | H11: 13 | I11: 13 | J11: 0 | K11: สนพ.บร งบผู้เข้าทดสอบ | L11: =500*22 -> 11000 | M11: โสภี | N11: 22 | O11: 0 | P11: 0 | Q11: 0 | R11: 0
A12: 3 | B12: ช่างไฟฟ้าภายในอาคาร ระดับ 1 | C12: 5 | D12: 31 ต.ค. 60 | E12: 18 | F12: 16 | G12: 2 | H12: 12 | I12: 10 | J12: 2 | K12: สนพ.บร | L12: 11900 | M12: โสภี | N12: 18 | O12: 0 | P12: 11900 | Q12: 0 | R12: 0
A13: 4 | B13: ช่างไฟฟ้าภายในอาคาร ระดับ 1 | C13: 5 | D13: 7 พ.ย. 60 | E13: 22 | F13: 22 | G13: 0 | H13: 9 | I13: 9 | J13: 0 | K13: สนพ.บร | L13: 15400 | M13: โสภี | N13: 22 | O13: 0 | P13: 15400 | Q13: 0 | R13: 0
A14: 5 | B14: ช่างไฟฟ้าภายในอาคาร ระดับ 1 | C14: 5 | D14: 14 พ.ย. 60 | E14: 21 | F14: 21 | G14: 0 | H14: 10 | I14: 10 | J14: 0 | K14: สนพ.บร | L14: 14700 | M14: โสภี | N14: 21 | O14: 0 | P14: 14700 | Q14: 0 | R14: 0
A15: 6 | B15: ช่างเชื่อมอาร์กโลหะด้วยมือ ระดับ1 | C15: 7 | D15: 4 ธ.ค. 60 | E15: 1 | F15: 1 | G15: 0 | H15: 0 | I15: 0 | J15: 0 | K15: สนพ.บร | L15: 700 | M15: อภิชาต | N15: 1 | P15: 700 | Q15: 0 | R15: 0
A16: 7 | B16: ช่างเครื่องปรับอากาศในบ้านและ | C16: 7 | D16: 7 ธ.ค. 60 | E16: 5 | F16: 5 | G16: 0 | H16: 3 | I16: 3 | J16: 0 | K16: สนพ.บร | L16: 5000 | M16: โสภี | N16: 5 | P16: 5000 | Q16: 0 | R16: 0
B17: การพานิชย์ขนาดเล็ก ระดับ 1
A18: 8 | B18: ช่างไฟฟ้าภายในอาคาร ระดับ 1 | C18: 5 | D18: 20 ธ.ค. 60 | E18: 14 | F18: 14 | G18: 0 | H18: 10 | I18: 10 | J18: 0 | K18: สนพ.บร ใช้วัสดุคงเหลือ | L18: 0 | M18: โสภี | N18: 14 | O18: 0 | P18: 0 | Q18: 0 | R18: 0

Sheet 15.1 ทด บู
A1: ทะเบียนคุมรุ่น (มือ)
A2: บูรณาการร่วมกับหน่วยงานภาครัฐและภาคเอกชน
A3: รายการ ทดสอบมาตรฐานฝีมือแรงงานแห่งชาติ
A4: ระหว่างวันที่ 1 ตุลาคม 2560 - 30 กันยายน 2561
A6: 15.1 โครงการ 1 ตำบล 1 ช่างไฟฟ้า
A7: รุ่นที่ | B7: กลุ่มอาชีพ/สาขา | C7: จำนวนชั่วโมง | D7: ฝึกระหว่างวันที่ | E7: เข้าทดสอบ | H7: ผ่านทดสอบ | K7: สถานที่ดำเนินการ | L7: งบประมาณ | M7: ผู้รับผิดชอบ | N7: คีย์ในระบบ | O7: ค่ากรรมการ | P7: ค่าวัสดุ | Q7: ค่าป้าย | R7: ค่าOT
E8: รวม | F8: ชาย | G8: หญิง | H8: รวม | I8: ชาย | J8: หญิง
E9: =SUM(E10:E13) -> 20 | F9: =SUM(F10:F13) -> 20 | G9: =SUM(G10:G13) -> 0 | H9: =SUM(H10:H13) -> 17 | I9: =SUM(I10:I13) -> 17 | J9: =SUM(J10:J13) -> 0 | K9: =SUM(K10:K13) -> 0 | L9: =SUM(L10:L13) -> 10000 | ... R9: =SUM(R10:R13) -> 0
A10: 1 | B10: ช่างไฟฟ้าภายในอาคาร ระดับ 1 | C10: 5 | D10: 24 พ.ย. 60 | E10: 20 | F10: 20 | G10: 0 | H10: 17 | I10: 17 | J10: 0 | K10: สนพ.บร งบผู้เข้าทดสอบ | L10: 10000 | M10: โสภี | N10: 20 | O10: 0 | P10: 10000 | Q10: 0 | R10: 0
A16: 15.2 บูรณาการภาครัฐและเอกชน
A17: รุ่นที่ | B17: กลุ่มอาชีพ/สาขา | C17: จำนวนชั่วโมง | D17: ฝึกระหว่างวันที่ | E17: เข้าทดสอบ | H17: ผ่านทดสอบ | K17: สถานที่ดำเนินการ | L17: งบประมาณ | M17: ผู้รับผิดชอบ | N17: คีย์ในระบบ | O17: ค่ากรรมการ | P17: ค่าวัสดุ | Q17: ค่าป้าย | R17: ค่าOT
E18: รวม | F18: ชาย | G18: หญิง | H18: รวม | I18: ชาย | J18: หญิง
E19: =SUM(E20:E26) -> 13 | F19: =SUM(F20:F26) -> 13 | G19: =SUM(G20:G26) -> 0 | H19: =SUM(H20:H26) -> 0 | I19: =SUM(I20:I26) -> 0 | J19: =SUM(J20:J26) -> 0 | K19: =SUM(K20:K26) -> 0 | L19: =SUM(L20:L26) -> 12000 | ... R19: =SUM(R20:R26) -> 0
A20: 1 | B20: ช่างเชื่อมโลหะด้วยมือ ระดับ 1 | C20: 5 | D20: 20-22 ธ.ค. 60 | E20: 13 | F20: 13 | G20: 0 | K20: เรือนจำนางรอง งบเรือนจำ | L20: 12000 | M20: โสภี | N20: 13 | O20: 2000 | P20: 10000 | Q20: 0 | R20: 0

Sheet 16 รายได้น้อย
A1: ทะเบียนคุมรุ่น (มือ)
A2: 11. โครงการ พัฒนาฝีมือให้แก่กลุ่มวิสาหกิจชุมชน และผู้มีรายได้น้อย
A3: กิจกรรม พัฒนาฝีมือให้แก่กลุ่มวิสาหกิจชุมชน และผู้มีรายได้น้อย
A4: รายการ ฝึกยกระดับฝีมือแรงงาน (เป้าหมาย 20)
A5: ระหว่างวันที่ 1 ตุลาคม 2560 - 30 กันยายน 2561
A7: เสริม เป้าหมาย 200 คน
A8: รุ่นที่ | B8: กลุ่มอาชีพ/สาขา | C8: จำนวนชั่วโมง | D8: ฝึกระหว่างวันที่ | E8: เข้าฝึก | H8: จบฝึก | K8: สถานที่ดำเนินการ | L8: งบประมาณ | M8: ผู้รับผิดชอบ | N8: คีย์ในระบบ | O8: วิทยากร | P8: ค่าวิทยาการ | Q8: ค่าวัสดุ | R8: ค่าป้าย | S8: อาหารกลางวัน | T8: อาหารว่าง
E9: รวม | F9: ชาย | G9: หญิง | H9: รวม | I9: ชาย | J9: หญิง
E10: =SUM(E11:E21) -> 45 | F10: =SUM(F11:F21) -> 0 | G10: =SUM(G11:G21) -> 45 | H10: =SUM(H11:H21) -> 45 | I10: =SUM(I11:I21) -> 0 | J10: =SUM(J11:J21) -> 45 | L10: =SUM(L11:L21) -> 40900 | N10: =SUM(N11:N21) -> 45 | P10: =SUM(P11:P21) -> 14400 | Q10: =SUM(Q11:Q21) -> 15500 | R10: =SUM(R11:R21) -> 800 | S10: =SUM(S11:S21) -> 7200 | T10: =SUM(T11:T21) -> 1500
A11: 1 | B11: การแปรรูปผลิตภัณฑ์จากกล้วย | C11: 18 | D11: 24-26 พ.ย. 60 | E11: 25 | F11: 0 | G11: 25 | H11: 25 | I11: 0 | J11: 25 | K11: ม.18 บ้านปลื้ม ต.โคกมะม่วง | L11: 15100 | M11: เอกภพ | N11: 25 | O11: นายพิริยะ | P11: 7200 | Q11: 7500 | R11: 400 | S11: 0 | T11: 0
K12: อ.ปะคำ | O12: สุทธิวงค์
A13: 2 | B13: การแปรรูปผลิตภัณฑ์จากกล้วย | C13: 18 | D13: 13-15 ธ.ค. 60 | E13: 20 | F13: 0 | G13: 20 | H13: 20 | I13: 0 | J13: 20 | K13: ณ ศาลาประชาคมบ้านหลักศิลา | L13: 25800 | M13: เอกภพ | N13: 20 | O13: นายพิริยะ | P13: 7200 | Q13: 8000 | R13: 400 | S13: =120*20*3 -> 7200 | T13: =25*20*3 -> 1500
K14: ม. 13 ต.หนองแวง อ.บ้านใหม่ | O14: สุทธิวงค์

Sheet 17-20 เฉพาะ
A1: ทะเบียนคุมรุ่น (มือ)
A2: 14. โครงการ ฝึกอบรมแรงงานกลุ่มเป้าหมายเฉพาะเพื่อเพิ่มโอกาสในการประกอบอาชีพ
A3: กิจกรรม ผู้ผ่านการบำบัดยาเสพติด
A4: รายการ ฝึกยกระดับฝีมือแรงงาน (เป้าหมาย 20)
A5: ระหว่างวันที่ 1 ตุลาคม 2560 - 30 กันยายน 2561
A6: ผู้ผ่านการบำบัดยาเสพติด
A7: เสริม เป้าหมาย 40 คน
A8: รุ่นที่ | B8: กลุ่มอาชีพ/สาขา | C8: จำนวนชั่วโมง | D8: ฝึกระหว่างวันที่ | E8: เข้าฝึก | H8: จบฝึก | K8: สถานที่ดำเนินการ | L8: งบประมาณ | M8: ผู้รับผิดชอบ | N8: คีย์ในระบบ | O8: วิทยากร | P8: ค่าวิทยาการ | Q8: ค่าวัสดุ | R8: ค่าป้าย | S8: ค่าOT
E9: รวม | F9: ชาย | G9: หญิง | H9: รวม | I9: ชาย | J9: หญิง
A23: ทะเบียนคุมรุ่น (มือ)
A24: 14. โครงการ ฝึกอบรมแรงงานกลุ่มเป้าหมายเฉพาะเพื่อเพิ่มโอกาสในการประกอบอาชีพ
A25: กิจกรรม ผู้ต้องขัง/เยาวชนสถานพินิจ
A26: ระหว่างวันที่ 1 ตุลาคม 2560 - 30 กันยายน 2561
A27: ผู้ต้องขัง/เยาวชนสถานพินิจ
A28: เสริม เป้าหมาย 40 คน
A29: รุ่นที่ | B29: กลุ่มอาชีพ/สาขา | C29: จำนวนชั่วโมง | D29: ฝึกระหว่างวันที่ | E29: เข้าฝึก | H29: จบฝึก | K29: สถานที่ดำเนินการ | L29: งบประมาณ | M29: ผู้รับผิดชอบ | N29: คีย์ในระบบ | O29: วิทยากร | P29: ค่าวิทยาการ | Q29: ค่าวัสดุ | R29: ค่าป้าย | S29: ค่าOT
E30: รวม | F30: ชาย | G30: หญิง | H30: รวม | I30: ชาย | J30: หญิง
E31: =SUM(E32:E43) -> 55 | F31: =SUM(F32:F43) -> 55 | G31: =SUM(G32:G43) -> 0 | H31: =SUM(H32:H43) -> 55 | I31: =SUM(I32:I43) -> 55 | J31: =SUM(J32:J43) -> 0 | L31: =SUM(L32:L43) -> 60000 | N31: =SUM(N32:N43) -> 30 | O31: =SUM(O32:O43) -> 0 | P31: =SUM(P32:P43) -> 19000 | Q31: =SUM(Q32:Q43) -> 41000 | R31: =SUM(R32:R43) -> 0 | S31: =SUM(S32:S43) -> 0
A32: 1 | B32: การเชื่อมไฟฟ้า | C32: 60 | D32: 1-18 ธ.ค. 60 | E32: 30 | F32: 30 | G32: 0 | H32: 30 | I32: 30 | J32: 0 | K32: เรือนจำอำเภอนางรอง | M32: วัชรินทร์ | N32: 30 | O32: นายสุรวค์ | P32: 10000 | Q32: 10000 | R32: 0 | S32: 0
K33: งบเรือนจำ วิทยากร | L33: 10000 | O33: ป้องสิมมา
K34: งบสนพ. วัสดุ | L34: 10000
A35: 2 | B35: การก่ออิฐ | C35: 30 | D35: 15-21 ธ.ค.60 | E35: 25 | F35: 25 | G35: 0 | H35: 25 | I35: 25 | J35: 0 | K35: เรือนจำจังหวัดบุรีรัมย์ | L35: 40000 | M35: เชิดไชย | P35: 9000 | Q35: 31000 | R35: 0 | S35: 0
A44: ทะเบียนคุมรุ่น (มือ)
A45: 14. โครงการ ฝึกอบรมแรงงานกลุ่มเป้าหมายเฉพาะเพื่อเพิ่มโอกาสในการประกอบอาชีพ
A46: กิจกรรม แรงงานนอกระบบ
A47: ระหว่างวันที่ 1 ตุลาคม 2560 - 30 กันยายน 2561
A48: แรงงานนอกระบบ
A49: เสริม เป้าหมาย 100 คน
A50: รุ่นที่ | B50: กลุ่มอาชีพ/สาขา | C50: จำนวนชั่วโมง | D50: ฝึกระหว่างวันที่ | E50: เข้าฝึก | H50: จบฝึก | K50: สถานที่ดำเนินการ | L50: งบประมาณ | M50: ผู้รับผิดชอบ | N50: คีย์ในระบบ | O50: วิทยากร | P50: ค่าวิทยาการ | Q50: ค่าวัสดุ | R50: ค่าป้าย | S50: ค่าOT
E51: รวม | F51: ชาย | G51: หญิง | H51: รวม | I51: ชาย | J51: หญิง
E52: =SUM(E53:E63) -> 40 | F52: =SUM(F53:F63) -> 11 | G52: =SUM(G53:G63) -> 29 | H52: =SUM(H53:H63) -> 40 | I52: =SUM(I53:I63) -> 11 | J52: =SUM(J53:J63) -> 29 | K52: =SUM(K53:K63) -> 0 | L52: =SUM(L53:L63) -> 33200 | ... S52: =SUM(S53:S63) -> 0
A53: 1 | B53: การทำน้ำพริก | C53: 18 | D53: 7-9 พ.ย. 60 | E53: 20 | F53: 1 | G53: 19 | H53: 20 | I53: 1 | J53: 19 | K53: บ้านตาฮ้อ ม. 5 ต.ศรีภูมิ | L53: 15600 | M53: สุภานีย์ | N53: 20 | O53: ปีลันธนา | P53: =400*18 -> 7200 | Q53: =400*20 -> 8000 | R53: 400
K54: อ.กระสัง
A55: 2 | B55: การปูกระเบื้อง | C55: 18 | D55: 1-3 ธ.ค. 60 | E55: 20 | F55: 10 | G55: 10 | H55: 20 | I55: 10 | J55: 10 | K55: ม.9 บ้านกอง ต.พุทไธสง | L55: 17600 | M55: เชิดไชย | N55: 20 | O55: นายประสาน | P55: =400*18 -> 7200 | Q55: 10000 | R55: 400
O56: หมอบประโคน
A65: ทะเบียนคุมรุ่น (มือ)
A66: 14. โครงการ ฝึกอบรมแรงงานกลุ่มเป้าหมายเฉพาะเพื่อเพิ่มโอกาสในการประกอบอาชีพ
A67: กิจกรรม ทหารเกณฑ์ก่อนปลดประจำการ
A68: ระหว่างวันที่ 1 ตุลาคม 2560 - 30 กันยายน 2561
A69: ทหารเกณฑ์ก่อนปลดประจำการ
A70: เสริม เป้าหมาย 60 คน
A71: รุ่นที่ | B71: กลุ่มอาชีพ/สาขา | C71: จำนวนชั่วโมง | D71: ฝึกระหว่างวันที่ | E71: เข้าฝึก | H71: จบฝึก | K71: สถานที่ดำเนินการ | L71: งบประมาณ | M71: ผู้รับผิดชอบ | N71: คีย์ในระบบ | O71: วิทยากร | P71: ค่าวิทยาการ | Q71: ค่าวัสดุ | R71: ค่าป้าย | S71: ค่าOT
E72: รวม | F72: ชาย | G72: หญิง | H72: รวม | I72: ชาย | J72: หญิง
E73: =SUM(E74:E86) -> 103 | F73: =SUM(F74:F86) -> 103 | G73: =SUM(G74:G86) -> 0 | H73: =SUM(H74:H86) -> 103 | I73: =SUM(I74:I86) -> 103 | J73: =SUM(J74:J86) -> 0 | L73: =SUM(L74:L86) -> 46800 | P73: =SUM(P74:P86) -> 16200 | Q73: =SUM(Q74:Q86) -> 30600 | R73: =SUM(R74:R86) -> 0 | S73: =SUM(S74:S86) -> 0
A74: 1 | B74: การติดตั้งโซล่าเซลล์และวางระบบน้ำ | C74: 18 | D74: 17-19 ต.ค. 60 | E74: 36 | F74: 36 | G74: 0 | H74: 36 | I74: 36 | J74: 0 | L74: 16200 | M74: เอกภพ | O74: นายพิริยะ | P74: =300*18 -> 5400 | Q74: =300*36 -> 10800 | R74: 0 | S74: 0
B75: เพื่อการเกษตร | O75: สุทธิวงศ์
A77: 2 | B77: ช่างซ่อมและบำรุงเครื่องยนต์เล็กเพื่อ | C77: 18 | D77: 17-19 ต.ค. 60 | E77: 33 | F77: 33 | G77: 0 | H77: 33 | I77: 33 | J77: 0 | K77: มลฑลทหารบกที่ 26 ค่าย | L77: 15000 | M77: นิพนธ์ | O77: อ.นิพนธ์ | P77: 5400 | Q77: =300*32 -> 9600 | R77: 0 | S77: 0
B78: การเกษตร | K78: สมเด็จเจ้าพระยามหากษัตริย์
K79: ศึก ต.เสม็ด อ.เมือง จ.บุรีรัมย์
A80: 3 | B80: ช่างซ่อมและบำรุงรักษารถจักรยาน | C80: 18 | D80: 17-19 ต.ค. 60 | E80: 34 | F80: 34 | G80: 0 | H80: 34 | I80: 34 | J80: 0 | L80: 15600 | M80: อ.มนตรี | O80: อ.มนตรี | P80: =300*18 -> 5400 | Q80: =300*34 -> 10200 | R80: 0 | S80: 0

Sheet 21 สูงอายุ
A1: ทะเบียนคุมรุ่น (มือ)
A2: 15. โครงการ ฝึกอบรมแรงงานผู้สูงอายุเพื่อเพิ่มโอกาสในการประกอบอาชีพ
A3: กิจกรรม ฝึกอบรมแรงงานผู้สูงอายุเพื่อเพิ่มโอกาสในการประกอบอาชีพ
A4: รายการ ฝึกยกระดับฝีมือแรงงาน (เป้าหมาย 20)
A5: ระหว่างวันที่ 1 ตุลาคม 2560 - 30 กันยายน 2561
A7: เสริม เป้าหมาย 60 คน
A8: รุ่นที่ | B8: กลุ่มอาชีพ/สาขา | C8: จำนวนชั่วโมง | D8: ฝึกระหว่างวันที่ | E8: เข้าฝึก | H8: จบฝึก | K8: สถานที่ดำเนินการ | L8: งบประมาณ | M8: ผู้รับผิดชอบ | N8: คีย์ในระบบ | O8: วิทยากร | P8: ค่าวิทยาการ | Q8: ค่าวัสดุ | R8: ค่าป้าย | S8: ค่าOT
E9: รวม | F9: ชาย | G9: หญิง | H9: รวม | I9: ชาย | J9: หญิง

Sheet 22-23 บูรณาการ
A1: ทะเบียนคุมรุ่น (มือ)
A2: บูรณาการร่วมกับหน่วยงานภาครัฐและภาคเอกชน
A4: รายการ ฝึกยกระดับฝีมือแรงงาน (เป้าหมาย 20)
A5: ระหว่างวันที่ 1 ตุลาคม 2560 - 30 กันยายน 2561
A7: เสริม เป้าหมาย คน
A8: รุ่นที่ | B8: กลุ่มอาชีพ/สาขา | C8: จำนวนชั่วโมง | D8: ฝึกระหว่างวันที่ | E8: เข้าฝึก | H8: จบฝึก | K8: สถานที่ดำเนินการ | L8: งบประมาณ | M8: ผู้รับผิดชอบ | N8: คีย์ในระบบ | O8: วิทยากร | P8: ค่าวิทยาการ | Q8: ค่าวัสดุ | R8: ค่าป้าย | S8: ค่าOT
E9: รวม | F9: ชาย | G9: หญิง | H9: รวม | I9: ชาย | J9: หญิง
A25: ทะเบียนคุมรุ่น (มือ)
A26: บูรณาการร่วมกับหน่วยงานภาครัฐและภาคเอกชน
A27: ระหว่างวันที่ 1 ตุลาคม 2560 - 30 กันยายน 2561
A29: ยกระดับ เป้าหมาย คน
A30: รุ่นที่ | B30: กลุ่มอาชีพ/สาขา | C30: จำนวนชั่วโมง | D30: ฝึกระหว่างวันที่ | E30: เข้าฝึก | H30: จบฝึก | K30: สถานที่ดำเนินการ | L30: งบประมาณ | M30: ผู้รับผิดชอบ | N30: คีย์ในระบบ | O30: วิทยากร | P30: ค่าวิทยาการ | Q30: ค่าวัสดุ | R30: ค่าป้าย | S30: ค่าOT | T30: อาหารกลางวัน | U30: อาหารว่าง
E31: รวม | F31: ชาย | G31: หญิง | H31: รวม | I31: ชาย | J31: หญิง
E32: =SUM(E33:E45) -> 45 | F32: =SUM(F33:F45) -> 37 | G32: =SUM(G33:G45) -> 8 | H32: =SUM(H33:H45) -> 42 | I32: =SUM(I33:I45) -> 34 | J32: =SUM(J33:J45) -> 8 | L32: =SUM(L33:L45) -> 55400 | N32: =SUM(N33:N45) -> 45 | O32: =SUM(O33:O45) -> 0 | P32: =SUM(P33:P45) -> 10800 | Q32: =SUM(Q33:Q45) -> 15600 | R32: =SUM(R33:R45) -> 0 | S32: =SUM(S33:S45) -> 0 | T32: =SUM(T33:T45) -> 6000 | U32: =SUM(U33:U45) -> 3000
A33: 1 | B33: ช่างติดตั้งหลังคาและผนังเมทัลชีท | C33: 18 | D33: 28-29 ต.ค. | E33: 25 | F33: 17 | G33: 8 | H33: 25 | I33: 17 | J33: 8 | K33: ม.ราชภัฎบุรีรัมย์ งบบลูสโคบ | L33: 20000 | M33: เชิดไชย | N33: 25 | O33: ไม่ทราบ
B34: ระดับพื้นฐาน | D34: 60 | K34: นักศึกษาราชภัฐ
A35: 2 | B35: ช่างเดินสายไฟฟ้าประจำชุมชน | C35: 15 | D35: 21-23 พ.ย. 60 | E35: 20 | F35: 20 | G35: 0 | H35: 17 | I35: 17 | J35: 0 | K35: บุคคลทั่วไป สนพ.บร | L35: 35400 | M35: เอกภพ | N35: 20 | O35: โสภี | P35: =600*18 -> 10800 | Q35: =780*20 -> 15600 | R35: 0 | S35: 0 | T35: =100*20*3 -> 6000 | U35: =25*20*3*2 -> 3000
K36: (โครงการ 1 ตำบล 1 ช่างไฟฟ้า)

Sheet สารบัญ
A1: ลำดับ | B1: ผลผลิต/โครงการ/กิจกรรม/รายการ | C1: รวมทั้งสิ้น
B2: รวมทั้งสิ้น | C2: =SUM(C3:C4) -> 6214
B3: กรมพัฒนาฝีมือแรงงานดำเนินการเอง | C3: =+C8+C37+C54+C56+C63+C64+C67+C76+C78+C118+C128+C130 -> 2214
B4: ส่งเสริมสถานประกอบกิจการดำเนินการ | C4: =+C105 -> 4000
B5: 1. โครงการฝึกอบรมฝีมือแรงงานในพื้นที่จังหวัดชายแดนภาคใต้ (เจ้าภาพ สพร. สงขลา สำรองยะลา)
B6: (1) กิจกรรม ฝึกทักษะอาชีพให้กับกลุ่มเป้าหมายในพื้นที่จังหวัดชายแดนภาคใต้
B7: (2) กิจกรรม ฝึกอบรมฝีมือให้กับกลุ่มเป้าหมายตามโครงการพาคนกลับบ้าน
B8: 2. โครงการ เพิ่มศักยภาพแรงงานรองรับ Thailand 4.0 | C8: =+C9+C10 -> 1360
A9: 1 | B9: 2.1 กิจกรรม เพิ่มศักยภาพแรงงานเตรียมเข้าสู่อุตสาหกรรมเป้าหมายแห่งอนาคต | C9: 80
B10: 2.2 กิจกรรม เพิ่มศักยภาพกำลังแรงงานภาคอุตสาหกรรมและบริการไปสู่ Thailand 4.0 | C10: =+C11+C35+C36 -> 1280
B11: 2.2.1 ฝึกอาชีพ ราย sector และ Core Technologies ตามโมเดล Thailand 4.0 | C11: =+C14+C17+C20+C23+C26++C29+C32 -> 1080
B12: รวมเตรียมเข้าทำงาน ตามข้อ 1) - 7) (ระยะเวลาฝึก 2-4 เดือน แล้วแต่สาขา) | C12: =+C15+C18+C21+C24+C33+C30 -> 120
B13: รวมยกระดับฝีมือแรงงาน ตามข้อ 1) - 7) (ระยะเวลาฝึก 18 - 60 ชม. แล้วแต่สาขา) | C13: =+C16+C19+C22+C25+C28+C31+C34 -> 960
B14: 1) อุตสาหกรรมอาหาร/ครัวไทยสู่ครัวโลก นวัตกรรมด้านอาหาร | C14: =SUM(C15:C16) -> 80
A15: 2 | B15: เตรียมเข้าทำงาน | C15: 40
A16: 3 | B16: ยกระดับฝีมือแรงงาน | C16: 40
B17: 2) เกษตรแปรรูป และเทคโนโลยีชีวภาพ | C17: =SUM(C18:C19) -> 80
B18: เตรียมเข้าทำงาน | C18: 0
A19: 4 | B19: ยกระดับฝีมือแรงงาน | C19: 80
B20: 3) อุตสาหกรรมยานยนต์และชิ้นส่วน เครื่องมืออุปกรณ์อัจฉริยะ หุ่นยนต์ ระบบเครื่องกลที่ใช้ระบบอิเล็กทรอนิกส์ควบคุม | C20: =SUM(C21:C22) -> 120
A21: 5 | B21: เตรียมเข้าทำงาน | C21: 20
A22: 6 | B22: ยกระดับฝีมือแรงงาน | C22: 100
B23: 4) ท่องเที่ยว/การบริการ บริการด้านสุขภาพ กลุ่มอุตสาหกรรมสร้างสรรค์/วัฒนธรรม | C23: =SUM(C24:C25) -> 300
B24: เตรียมเข้าทำงาน | C24: 0
A25: 7 | B25: ยกระดับฝีมือแรงงาน | C25: 300
B26: 5) ระบบขนส่ง/โลจิสติกส์ | C26: =SUM(C27:C28) -> 100
B27: เตรียมเข้าทำงาน | C27: 0
A28: 8 | B28: ยกระดับฝีมือแรงงาน | C28: 100
B29: 6) อุตสาหกรรมไฟฟ้าและอิเล็กทรอนิกส์ ไอที ดิจิทัล โทรคมนาคม หรืองานที่เกี่ยวข้องกับอินเตอร์เน็ตที่เชื่อมต่อและบังคับอุปกรณ์ต่างๆ เทคโนโลยีสมองกลฝังตัว | C29: =SUM(C30:C31) -> 20
A30: 9 | B30: เตรียมเข้าทำงาน | C30: 20
B31: ยกระดับฝีมือแรงงาน | C31: 0
B32: 7) อุตสาหกรรมศักยภาพอื่น (เช่น อุตสาหกรรมพลังงานสะอาด อัญมณี เครื่องประดับ เครื่องหนัง เย็บจักรอุตสาหกรรม สิ่งทอ/เครื่องนุ่งห่ม การออกแบบผลิตภัณฑ์สมัยใหม่ ฯลฯ) | C32: =SUM(C33:C34) -> 380
A33: 10 | B33: เตรียมเข้าทำงาน | C33: 40
A34: 11 | B34: ยกระดับฝีมือแรงงาน | C34: 340
A35: 12 | B35: 2.2.2 อบรมเพิ่มขีดความสามารถด้านภาษาต่างประเทศ (ระยะเวลาอบรม 30 ชม.) | C35: 200
B36: 2.2.3 ค่าใช้จ่ายในการติดตามประเมินผล (ส่วนกลาง)
B37: 3 โครงการศูนย์ฝึกอบรมเทคโนโลยีชั้นสูงรองรับอุตสาหกรรมแห่งอนาคต (เจ้าภาพ สพท.)
B38: กิจกรรม ศูนย์ฝึกอบรมเทคโนโลยีชั้นสูงรองรับอุตสาหกรรมแห่งอนาคต (เจ้าภาพ สพท.)
B39: - สพร. เทคโนโลยีชั้นสูงฯ (สมุทรปราการ)(สาขา Automation & Robotics)
B40: - สพร. เทคโนโลยีชั้นสูงฯ (สุพรรรณบุรี) (สาขาเกษตรแปรรูป)
B41: - สพร. เทคโนโลยีชั้นสูงฯ (ชลบุรี) (สาขา Automation & Robotics)
B42: - สพร. เทคโนโลยีชั้นสูงฯ (นครราชสีมา) (สาขาไฟฟ้าอิเล็กทรอนิกส์และโทรคมนาคม)
B43: - สพร. เทคโนโลยีชั้นสูงฯ (ขอนแก่น) (สาขาโลจิสติกส์/เมคาทรอนิกส์/ออโตเมชั่น)
B44: - สพร. เทคโนโลยีชั้นสูงฯ (อุบลราชธานี) (สาขาสียานยนต์)
B45: - สพร. เทคโนโลยีชั้นสูงฯ (สงขลา) (สาขางานเชื่อม/เกษตรแปรรูปจากผลิตภัณฑ์ยาง)
B46: - สพร. เทคโนโลยีชั้นสูงฯ (ระยอง) (สาขา Automotive & Robotics)
B47: - สพร. เทคโนโลยีชั้นสูงฯ (อุดรธานี) (สาขาเกษตรแปรรูปและอาหาร))
... B50: - สพร. เทคโนโลยีชั้นสูงฯ (ภูเก็ต) (สาขา Digital/ท่องเที่ยวและบริการ)
B51: 4. โครงการบูรณาการจัดทำมาตรฐานฝีมือแรงงาน และพัฒนาหลักสูตรรองรับ Thailand 4.0 | C51: =+C52+C53 -> 0
B52: 4.1 กิจกรรมจัดทำมาตรฐานฝีมือแรงงานแห่งชาติและวิธีการทดสอบมาตรฐานฝีมือเพื่อรองรับ Thailand 4.0
B53: 4.2 กิจกรรม พัฒนาหลักสูตรยกระดับฝีมือตามความสามารถ (competency Based Curriculum)
B54: 5. โครงการ เพิ่มผลิตภาพแรงงานสู่ SME 4.0 (180 แห่ง) (เจ้าภาพ ศป.)
B55: กิจกรรม เพิ่มผลิตภาพแรงงานสู่ SME 4.0
B56: 6. โครงการเพิ่มทักษะกำลังแรงงานในพื้นที่ 10 จังหวัด ในพื้นที่เขตพัฒนาเศรษฐกิจพิเศษ (เจ้าภาพ ผส.)
B57: เตรียมเข้าทำงาน ( 280 ชม.)
B58: ยกระดับฝีมือแรงงาน (12 - 60 ชม.)
B59: 7. โครงการ วิจัยเพื่อขับเคลื่อนผลิตภาพแรงงานสู่ Thailand 4.0
B60: - วิจัยเกี่ยวกับการฝึกอบรมฝีมือแรงงานกับการเพิ่มผลิตภาพแรงงานใน 5 อุตสาหกรรมเป้าหมาย (First S - Curves)
B61: - วิจัยเกี่ยวกับสาขาอาชีพที่อาจเป็นอันตรายต่อสาธารณะที่ประกอบอาชีพผ่านการรับรองความรู้ความสามารถ
B62: - วิจัยเกี่ยวกับการจัดทำสถิติผลิตภาพแรงงานในสถานประกอบกิจการที่จัดฝึกอบรมตาม พ.ร.บ.ฯ พ.ศ. 2545
B63: 8. โครงการ พัฒนาอุตสาหกรรมเทคโนโลยีชั้นสูงและอุตสาหกรรมแห่งอนาคตในพื้นที่ระเบียงเศรษฐกิจภาคตะวันออก (จังหวัดชลบุรี ระยอง ฉะเชิงเทรา)
B64: 9. โครงการ ควบคุมและกำกับดูแลการประกอบอาชีพที่อาจเป็นอันตรายต่อสาธารณะหริอต้องใช้ความรู้ความสามารถสู่ Safety At Work (เจ้เภาพ สรร.) | C64: =+C65+C66 -> 224
A65: 13 | B65: - รับรองความรู้ความสามารถให้แก่แรงงาน | C65: 224
B66: - อบรมผู้ประเมิน * | C66: 0
B67: 10. โครงการ ยกระดับแรงงานไทยให้ได้มาตรฐานฝีมือแรงงานเพื่อรองรับการแข่งขัน | C67: =+C68+C69+C71+C75 -> 130
A68: 14 | B68: 10.1 กิจกรรม พัฒนาศักยภาพแรงงานเพื่อรองรับการจ่ายค่าจ้างตามมาตรฐานฝีมือ | C68: 20
B69: 10.2 กิจกรรม ทดสอบมาตรฐานฝีมือแรงงานให้มีสมรรถนะ | C69: =+C70 -> 110
A70: 15 | B70: - ทดสอบมาตรฐานฝีมือแรงงานแห่งชาติ | C70: 110
B71: 10.3 กิจกรรม ส่งเสริมมาตรฐานฝีมือแรงงานแห่งชาติ | C71: =+C72 -> 0
B72: - รายการ จัดตั้งศูนย์ทดสอบมาตรฐานฝีมือแรงงาน
B73: สปก. ได้รับเครื่องหมายมาตรฐานฝีมือแรงงานแห่งชาติ
B74: หน่วยงานภาครัฐ ภาคเอกชน ขอจัดตั้งเป็นศูนย์ทดสอบฯ ฝีมือแรงงานแห่งชาติ
B75: 10.4 กิจกรรม พัฒนาศักยภาพมาตรฐานฝีมือแรงงานไทยในต่างประเทศ
A76: 16 | B76: 11. โครงการ พัฒนาฝีมือให้แก่กลุ่มวิสาหกิจชุมชน และผู้มีรายได้น้อย (เจ้าภาพ ศป.) | C76: =+C77 -> 200
B77: กิจกรรม พัฒนาฝีมือให้แก่กลุ่มวิสาหกิจชุมชน และผู้มีรายได้น้อย (20 จังหวัด ได้แก่ สระแก้ว สุรินทร์ บุรีรัมย์ มุกดาหาร กาฬสินธุ์ หนองบัวลำภู อุบลราชธานี มหาสารคาม ศรีสะเกษ ชัยภูมิ อำนาจเจริญ ร้อยเอ็ด ยโสธร บึงกาฬ สกลนคร นครพนม สุโขทัย แม่ฮ่องสอน แพร่ และน่าน) | C77: 200
B78: 12. โครงการ พัฒนาฝีมือแรงงานนานาชาติเพื่อการพัฒนาความร่วมมือทางเศรษฐกิจในอนุภูมิภาค ลุ่มแม่น้ำโขงและภูมิภาคเอเซียตะวันออกเฉียงใต้ (GMS - ASEAN) (เจ้าภาพ สพน.เชียงแสน)
B79: กิจกรรม พัฒนาฝีมือแรงงานนานาชาติ
B80: 13. ผลผลิต พัฒนา/ขับเคลื่อนความร่วมมือเครือข่าย และส่งเสริมการพัฒนาฝีมือแรงงาน | C80: =+C81+C91+C105+C109+C117 -> 4000
B81: 13.1 กิจกรรม จัดทำหลักเกณฑ์ พัฒนาระบบ ส่งเสริมและรับรองมาตรฐานฝีมือแรงงาน (เจ้าภาพ สมฐ.)
B82: 1) รายการ กำหนดมาตรฐานฝีมือแรงงานแห่งชาติหรือวิธีทดสอบมาตรฐานฝีมือแรงงานแห่งชาติ
B83: 2) รายการ พัฒนาระบบการทดสอบมาตรฐานฝีมือแรงงานด้วยระบบอิเล็กทรอนิกส์ (E - Testing System)
B84: 3) รายการ ขับเคลื่อนระบบประกันคุณภาพสำหรับการทดสอบมาตรฐานฝีมือแรงงาน
B85: 4) รายการ ส่งเสริมและรับรองมาตรฐานฝีมือแรงงานของผู้ประกอบอาชีพ
B86: 5) รายการ วันมาตรฐานฝีมือแรงงานแห่งชาติ เทิดทูน "พระบิดาแห่งมาตรฐานการช่างไทย"
B87: 6) รายการ เพิ่มประสิทธิภาพการทดสอบมาตรฐานฝีมือแรงงานแห่งชาติ
B88: 7) รายการ เตรียมการและจัดส่งเยาวชนเข้าร่วมการแข่งขันฝีมือแรงงานอาเซียน ครั้งที่ 12
B89: 8) รายการ เตรียมการและจัดงานแข่งขันฝีมือแรงงานแห่งชาติ ครั้งที่ 27
B90: 9) รายการ เตรียมการและจัดส่งเยาวชนเข้าร่วมการแข่งขันฝีมือแรงงานนานาชาติ ครั้งที่ 44
B91: 13.2 กิจกรรม พัฒนาระบบการฝึกอบรมฝีมือแรงงาน (เจ้าภาพ สพท.)
B92: 1) รายการ พัฒนาหลักสูตร
... B104: - ประชุมวิชาการเชิงปฏิบัติการ การจัดวางระบบสารสนเทศเกี่ยวกับอาคารสถานที่ ครุภัณฑ์การฝึก
B105: 13.3 กิจกรรม ส่งเสริมและสนับสนุนให้สถานประกอบกิจการดำเนินการพัฒนาฝีมือแรงงาน | C105: =+C106 -> 4000
B106: 1) รายการ รับรองหลักสูตร และค่าใช้จ่ายในการฝึกอบรมฝีมือแรงงานของ สปก. ฯ | C106: 4000
B108: 2) รายการ ตรวจติดตามสถานประกอบกิจการดำเนินการ ฝึกอบรมตาม พ.ร.บ.ส่งเสริมฯ | C108: 24
B109: 13.4 กิจกรรมหลัก ขับเคลื่อนยุทธศาสตร์การพัฒนากำลังคนระดับชาติรองรับการพัฒนาอุตสาหกรรมศักยภาพของประเทศ (เจ้าภาพ ยร.)
B110: (1) รายการ ขับเคลื่อนยุทธศาสตร์การพัฒนากำลังคนระดับชาติรองรับการพัฒนาอุตสาหกรรมศักยภาพของประเทศ (เจ้าภาพ ยร.)
B111: - จัดทำแผนแม่บทการเชื่อมโยงระบบฐานข้อมูลอุปสงค์อุปทานแรงงานเพื่อขับเคลื่อนยุทธศาสตร์การพัฒนาแรงงานและประสานงานการฝึกอาชีพแห่งชาติ
B112: - สัมมนาแนวทางและขับเคลื่อนยุทธศาสตร์การพัฒนากำลังแรงงานในอุตสาหกรรมเป้าหมาย เพื่อขับเคลื่อนเศรษฐกิจ New Growth Engine , อุตสาหกรรมอาหาร , เกษตรเทคโนโลยีชีวภาพและวิสาหกิจชุมชน , ดิจิทัลและหุ่นยนต์ , โลจิสติกส์และซัพพลายเซนและระบบขนส่งทางราง , ยานยนต์และชิ้นส่วนอะไหล่ยนยนต์)
B113: 2) รายการ ขับเคลื่อนแผนพัฒนาแรงงานและประสานงานการฝึกอาชีพแห่งชาติ และจังหวัด
B114: 3) รายการ สัมมนาการจัดทำแผนพัฒนาคณะอนุกรรมการพัฒนาแรงงานและประสานงานการฝึกอาชีพจังหวัด เพื่อขับเคลื่อนแผนพัฒนากำลังคน
...

Sheet Sheet1
A1: 1
A2: 2
A3: 3
A4: 4
A5: 5
A6: 6
A7: 7
A8: 8
A9: 9
A10: 10
A11: 11
A12: 12
... A23: 23

Sheet Sheet2
