Workbook

Sheet สรุป
A1: ผลการพัฒนาฝีมือแรงงาน ประจำปีงบประมาณ 2559
A2: ศูนย์พัฒนาฝีมือแรงงานจังหวัดยโสธร | D2: สรุป ณ วันที่ 5 สิงหาคม 2559
A3: ยุทธศาสตร์/แผนงาน/ผลผลิต | B3: แผนงาน ทั้งปี (คน) | C3: ผลการดำเนินงาน (คน) | D3: ผู้ผ่านฯ (คน) | E3: ร้อยละของผลการดำเนินงาน | F3: ร้อยละของผู้ผ่าน
A4: รวมทั้งสิ้น | B4: =B9+B14+B31+B29 -> 2614 | C4: =C5+C6 -> 3564 | D4: =D9+D14+D31+D29 -> 3433 | E4: =(C4/$B$4)*100 -> 136.34277 | F4: =(D4/C4)*100 -> 96.324355
A5: ศูนย์ฯ ดำเนินการเอง | B5: =B4-B6 -> 1814 | C5: =C9+C14+C29+C31-C42 -> 2039 | D5: =D9+D14+D29+D31-D42 -> 1908 | E5: =(C5/$B$5)*100 -> 112.40353 | F5: =(D5/C5)*100 -> 93.575282
A6: เอกชน/สถานประกอบการดำเนินการ | B6: 800 | C6: =C40 -> 1525 | D6: =D40 -> 1525 | E6: =(C6/$B$6)*100 -> 190.625 | F6: =(D6/C6)*100 -> 100
A7: 1.โครงการ เพิ่มผลิตภาพแรงงานไทย
A8: รายการ เพิ่มผลิตภาพแรงงานไทย
A9: 2.โครงการ ฝึกอบรมฝีมือแรงงานรองรับระบบขนส่งด้านโลจิสติกส์ และก่อสร้าง | B9: =SUM(B10:B12) -> 540 | C9: =SUM(C10:C12) -> 688 | D9: =SUM(D10:D12) -> 642 | E9: =(C9/$B$9)*100 -> 127.40741 | F9: =(D9/C9)*100 -> 93.313953
A10: 2.1 เตรียมเข้าทำงาน(280-840 ชม.) | B10: 40 | C10: =โลจิสติกส์!G17 -> 49 | D10: =โลจิสติกส์!I17 -> 27 | E10: =(C10/$B$10)*100 -> 122.5 | F10: =(D10/C10)*100 -> 55.102041
A11: 2.2 ยกระดับฝีมือแรงงาน(12-60 ชม.) | B11: 280 | C11: =โลจิสติกส์!G59 -> 315 | D11: =โลจิสติกส์!I59 -> 309 | E11: =(C11/B11)*100 -> 112.5 | F11: =(D11/C11)*100 -> 98.095238
A12: 2.3 ฝึกอาชีพเสริม(18-30 ชม.) | B12: 220 | C12: =โลจิสติกส์!G40 -> 324 | D12: =โลจิสติกส์!I40 -> 306 | E12: =(C12/$B$12)*100 -> 147.27273 | F12: =(D12/C12)*100 -> 94.444444
A13: 3.ผลผลิต การพัฒนาฝีมือแรงงานรองรับประชาคมอาเซียน
A14: กิจกรรมหลัก : ฝึกอบรมฝีมือแรงงานรองรับภาคอุตสาหกรรมในการเข้าสู่ประชาคมอาเซียน | B14: =B15+B16+B17+B21+B25+B27 -> 714 | C14: =C15+C16+C17+C21+C25+C27 -> 752 | D14: =D15+D16+D17+D21+D25+D27 -> 703 | E14: =(C14/$B$14)*100 -> 105.32213 | F14: =(D14/C14)*100 -> 93.484043
A15: 1)รายการ อบรมความสามารถด้านภาษาให้แก่แรงงานไทยเพื่อรองรับประชาคมอาเซียน | B15: 100 | C15: =ฝึกอบรมภาษา!G19 -> 100 | D15: =ฝึกอบรมภาษา!I19 -> 100 | E15: =(C15/$B$15)*100 -> 100 | F15: =(D15/C15)*100 -> 100
A16: 2)รายการ ฝึกอบรมผู้ประกอบอาหารรองรับครัวไทยสู่ครัวโลก | B16: 120 | C16: =ครัวไทย!G16 -> 124 | D16: =ครัวไทย!I16 -> 124 | E16: =(C16/$B$16)*100 -> 103.33333 | F16: =(D16/C16)*100 -> 100
A17: 3)รายการฝึกอบรมฝีมือแรงงานส่งเสริมศักยภาพอุตสาหกรรม ยานยนต์และชิ้นส่วน | B17: =SUM(B18:B20) -> 184 | C17: =SUM(C18:C20) -> 194 | D17: =SUM(D18:D20) -> 166 | E17: =(C17/$B$17)*100 -> 105.43478 | F17: =(D17/C17)*100 -> 85.56701
A18: -เตรียมเข้าทำงาน(280-560 ชม.) | B18: 24 | C18: =ยานยนต์!G12 -> 28 | D18: =ยานยนต์!I12 -> 0 | E18: =(C18/$B$18)*100 -> 116.66667 | F18: =(D18/C18)*100 -> 0
A19: -ยกระดับฝีมือแรงงาน(18-60 ชม.) | B19: 60 | C19: =ยานยนต์!G29 -> 63 | D19: =ยานยนต์!I29 -> 63 | E19: =(C19/B19)*100 -> 105 | F19: =(D19/C19)*100 -> 100
A20: -ฝึกอาชีพเสริม(18-30 ชม.) | B20: 100 | C20: =ยานยนต์!G20 -> 103 | D20: =ยานยนต์!I20 -> 103 | E20: =(C20/$B$20)*100 -> 103 | F20: =(D20/C20)*100 -> 100
A21: 4)รายการ ฝึกอบรมฝีมือแรงงานไทยเพื่อส่งเสริมความสามารถของภาคบริการและท่องเที่ยว | B21: =SUM(B22:B24) -> 230 | C21: =SUM(C22:C24) -> 248 | D21: =SUM(D22:D24) -> 230 | E21: =(C21/$B$21)*100 -> 107.82609 | F21: =(D21/C21)*100 -> 92.741935
A22: -เตรียมเข้าทำงาน(280-560 ชม.) | B22: 30 | C22: =บริการท่องเที่ยว!G13 -> 55 | D22: =บริการท่องเที่ยว!I13 -> 50 | E22: =(C22/$B$22)*100 -> 183.33333 | F22: =(D22/C22)*100 -> 90.909091
A23: -ยกระดับฝีมือแรงงาน(18-60 ชม.) | B23: 100 | C23: =บริการท่องเที่ยว!G23 -> 100 | D23: =บริการท่องเที่ยว!I23 -> 100 | E23: =(C23/$B$23)*100 -> 100 | F23: =(D23/C23)*100 -> 100
A24: -ฝึกอาชีพเสริม(18-30 ชม.) | B24: 100 | C24: =บริการท่องเที่ยว!G31 -> 93 | D24: =บริการท่องเที่ยว!I31 -> 80 | E24: =(C24/$B$24)*100 -> 93 | F24: =(D24/C24)*100 -> 86.021505
A25: 5)รายการ พัฒนาบุคลากรด้านการท่องเที่ยวให้ได้มาตรฐานสมรรถนะร่วมวิชาชีพการ | B25: 40 | C25: =พัฒนาบุคลากรท่องเที่ยว!G13 -> 25 | D25: =พัฒนาบุคลากรท่องเที่ยว!I13 -> 22 | E25: =(C25/B25)*100 -> 62.5 | F25: =(D25/C25)*100 -> 88
A26: ท่องเที่ยวอาเซียน
A27: 6)รายการ ฝึกอบรมฝีมือแรงงานไทยขับเคลื่อนการแข่งขันภาคอุตสาหกรรม | B27: =SUM(B28:B28) -> 40 | C27: =C28 -> 61 | D27: =D28 -> 61 | E27: =C27/B27*100 -> 152.5 | F27: =D27/C27*100 -> 100
A28: -ยกระดับฝีมือแรงงาน | B28: 40 | C28: =ขับเคลื่อนการแข่งขัน!G13 -> 61 | D28: =ขับเคลื่อนการแข่งขัน!I13 -> 61 | E28: =C28/B28*100 -> 152.5 | F28: =D28/C28*100 -> 100
A29: 4.โครงการ พัฒนาฝีมือแรงงานร่วมเทิดทูนสถาบันพระมหากษัตริย์ | B29: =B30 -> 60 | C29: =C30 -> 66 | D29: =D30 -> 63 | E29: =C29/B29 *100 -> 110 | F29: =D29/C29 *100 -> 95.454545
A30: กิจกรรม : ฝึกอบรมฝีมือแรงงานตามโครงการอันเนื่องมาจากพระราชดำริ | B30: 60 | C30: =พระราชดำริ!G14 -> 66 | D30: =พระราชดำริ!I14 -> 63 | E30: =C30/B30 *100 -> 110 | F30: =D30/C30 *100 -> 95.454545
A31: 5.ผลผลิต พัฒนาศักยภาพฝีมือแรงงานทั้งระบบให้สอดคล้องกับความต้องการของตลาด | B31: =B33+B35+B36+B40+B46 -> 1300 | C31: =C33+C35+C36+C40+C46 -> 2058 | D31: =D33+D35+D36+D40+D46 -> 2025 | E31: =(C31/$B$31)*100 -> 158.30769 | F31: =(D31/C31)*100 -> 98.396501
A32: แรงงานและการประกอบอาชีพ
A33: กิจกรรม :พัฒนาฝีมือเพื่อเพิ่มโอกาสในการประกอบอาชีพ | B33: =SUM(B34:B34) -> 120 | C33: =C34 -> 173 | D33: =D34 -> 171 | E33: =E34 -> 144.16667 | F33: =F34 -> 98.843931
A34: แรงงานนอกระบบที่ขึ้นทะเบียน | B34: 120 | C34: =เพิ่มโอกาส!G21 -> 173 | D34: =เพิ่มโอกาส!I21 -> 171 | E34: =(C34/$B$34)*100 -> 144.16667 | F34: =(D34/C34)*100 -> 98.843931
A35: กิจกรรม : พัฒนา/ส่งเสริมการประกอบอาชีพอิสระ | B35: 40 | C35: =อาชีพอิสระ!G13 -> 40 | D35: =อาชีพอิสระ!I13 -> 40 | E35: =(C35/$B$35)*100 -> 100 | F35: =(D35/C35)*100 -> 100
A36: กิจกรรม : ทดสอบมาตรฐานฝีมือแรงงาน | B36: =B37 -> 300 | C36: =C37 -> 274 | D36: =D37 -> 249 | E36: =E37 -> 91.333333 | F36: =F37 -> 90.875912
A37: รายการ ทดสอบมาตรฐานฝีมือแรงงานแห่งชาติ | B37: =SUM(B38:B39) -> 300 | C37: =C38+C39 -> 274 | D37: =D38+D39 -> 249 | E37: =(C37/$B$37)*100 -> 91.333333 | F37: =(D37/C37)*100 -> 90.875912
A38: -แรงงานทั่วไป | B38: 120 | C38: =ทดสอบ!F29 -> 213 | D38: =ทดสอบ!H29 -> 191 | E38: =(C38/$B$38)*100 -> 177.5 | F38: =(D38/C38)*100 -> 89.671362
A39: -กลุ่มนักศึกษาสังกัดอาชีวศึกษา | B39: 180 | C39: =ทดสอบ!F45 -> 61 | D39: =ทดสอบ!H45 -> 58 | E39: =(C39/B39)*100 -> 33.888889 | F39: =(D39/C39)*100 -> 95.081967
A40: กิจกรรม : ส่งเสริมและสนับสนุนให้สถานประกอบกิจการดำเนินการฝึกอบรมฝีมือแรงงาน | B40: =B42 -> 800 | C40: =C42 -> 1525 | D40: =D42 -> 1525 | E40: =(C40/$B$40)*100 -> 190.625 | F40: =(D40/C40)*100 -> 100
...

Sheet เพิ่มโอกาส
A1: แผนงาน เพิ่มประสิทธิภาพการบริหารจัดการและคุ้มครองแรงงาน
A2: ผลผลิต พัฒนาศักยภาพฝีมือแรงงานทั้งระบบให้สอดคล้องกับความต้องการของตลาดแรงงาน
A3: กิจกรรม พัฒนาฝีมือเพื่อเพิ่มโอกาสในการประกอบอาชีพ
A4: ลำดับ ที่ | B4: หลักสูตร | C4: สาขา | D4: ชั่วโมงฝึก | E4: สถานที่ฝึก | F4: ระยะเวลาฝึก | G4: จำนวนผู้รับการฝึก | I4: จำนวนผู้ผ่านการฝึก | K4: หมายเหตุ
D5: (ชม.) | G5: ชาย(คน) | H5: หญิง(คน) | I5: ชาย(คน) | J5: หญิง(คน)
A6: 1 | B6: อาชีพเสริม | C6: การซ่อมอุปกรณ์ไฟฟ้าภายในบ้าน | D6: 30 | E6: กรมทหารราบที่ 16 | F6: 19 - 23 ต.ค. 58 | G6: 37 | H6: - | I6: 37 | J6: - | K6: อ.ศักดิ์เดช
E7: ค่ายบดินทรเดชา
A8: 2 | B8: อาชีพเสริม | C8: การซ่อมอุปกรณ์ไฟฟ้าภายในบ้าน | D8: 30 | E8: กรมทหารราบที่ 16 | F8: 19 - 23 ต.ค. 58 | G8: 51 | H8: - | I8: 51 | J8: - | K8: อ.บุญส่ง
E9: ค่ายบดินทรเดชา
A10: 3 | B10: อาชีพเสริม | C10: การทำตะกร้าจากเส้นเชือกฟาง | D10: 30 | E10: บ.โพนขวาว ต.ขั้นไดใหญ่ | F10: 5 - 9 ก.พ. 59 | G10: - | H10: 20 | I10: - | J10: 20 | K10: อ.สมพร
E11: อ.เมือง
A12: 4 | B12: อาชีพเสริม
C13: การทำไม้กวาดดอกหญ้า | D13: 30 | E13: บ.หนองสองห้อง | F13: 25 - 29 ก.พ. 59 | G13: 3 | H13: 22 | I13: 3 | J13: 20
E14: ต.คำไผ่ อ.ไทยเจริญ
A15: 5 | B15: อาชีพเสริม | C15: การตัดเย็บหมอนขิด | D15: 30 | E15: บ.บึงแก ต.บึงแก | F15: 29 ก.พ - 4 มี.ค. 59 | G15: - | H15: 20 | I15: - | J15: 20
E16: อ.มหาชนะชัย
A17: 6 | B17: อาชีพเสริม | C17: การเย็บจักรอุตสาหกรรม | D17: 60 | E17: บ.โคกยาว อ.ไทยเจริญ | F17: 14 - 23 มี.ค. 59 | G17: - | H17: 20 | I17: - | J17: 20
G20: =SUM(G6:G19) -> 91 | H20: =SUM(H6:H19) -> 82 | I20: =SUM(I6:I19) -> 91 | J20: =SUM(J6:J19) -> 80
F21: รวม | G21: =SUM(G20:H20) -> 173 | I21: =SUM(I20:J20) -> 171

Sheet อาชีพอิสระ
A1: แผนงาน เพิ่มประสิทธิภาพการบริหารจัดการและคุ้มครองแรงงาน
A2: ผลผลิต พัฒนาศักยภาพฝีมือแรงงานทั้งระบบให้สอดคล้องกับความต้องการของตลาดแรงาน
A3: กิจกรรม พัฒนา/ส่งเสริมการประกอบอาชีพอิสระ
A4: ลำดับ ที่ | B4: หลักสูตร | C4: สาขา | D4: ชั่วโมงฝึก | E4: สถานที่ฝึก | F4: ระยะเวลาฝึก | G4: จำนวนผู้รับการฝึก | I4: จำนวนผู้ผ่านการฝึก | K4: หมายเหตุ
D5: (ชม.) | G5: ชาย(คน) | H5: หญิง(คน) | I5: ชาย(คน) | J5: หญิง(คน)
A6: 1 | B6: อาชีพเสริม | C6: การทำตะกร้าจากเส้นเชือกฟาง | D6: 30 | E6: บ.คอนสาย ต.ตาดทอง | F6: 14 - 18 ธันวาคม 58 | G6: 0 | H6: 20 | I6: 0 | J6: 20 | K6: อ.สมพร
E7: อ.เมือง
A8: 2 | B8: อาชีพเสริม | C8: การทำตะกร้าจากเส้นเชือกฟาง | D8: 30 | E8: บ.หนองทองหลาง | F8: 21 - 25 ธันวาคม 58 | G8: 0 | H8: 20 | I8: 0 | J8: 20 | K8: อ.สมพร
E9: ต.หนองหิน อ.เมือง
G12: =SUM(G6:G11) -> 0 | H12: =SUM(H6:H11) -> 40 | I12: =SUM(I6:I11) -> 0 | J12: =SUM(J6:J11) -> 40
F13: รวม | G13: =SUM(G12:H12) -> 40 | I13: =SUM(I12:J12) -> 40

Sheet ทดสอบ
A1: แผนงาน เพิ่มประสิทธิภาพการบริหารจัดการและคุ้มครองแรงงาน
A2: ผลผลิต พัฒนาศักยภาพฝีมือแรงงานทั้งระบบให้สอดคล้องกับความต้องการของตลาดแรงาน
A3: กิจกรรม ทดสอบมาตรฐานฝีมือแรงงาน
A4: ลำดับ ที่ | B4: สาขา | C4: ระดับ | D4: สถานที่ทดสอบ | E4: ช่วงวันที่ทดสอบ | F4: จำนวนผู้เข้าทดสอบ | H4: จำนวนผู้ผ่านการทดสอบ | J4: หมายเหตุ
F5: ชาย(คน) | G5: หญิง(คน) | H5: ชาย(คน) | I5: หญิง(คน)
A6: บุคคลทั่วไป
A7: 1 | B7: ช่างไฟฟ้าภายในอาคาร | C7: 1 | D7: ศพจ.ยโสธร | E7: 24 - 25 ตุลาคม 58 | F7: 15 | G7: - | H7: 15 | I7: -
A8: 2 | B8: ช่างไฟฟ้าภายในอาคาร | C8: 1 | D8: ศพจ.ยโสธร | E8: 31 ต.ค. - 1 พ.ย. 58 | F8: 15 | G8: - | H8: 15 | I8: -
A9: 3 | B9: ช่างไฟฟ้าภายในอาคาร | C9: 1 | D9: ศพจ.ยโสธร | E9: 7 - 8 พ.ย. 58 | F9: 18 | G9: - | H9: 18 | I9: -
A10: 4 | B10: ช่างเครื่องปรับอากาศในบ้านและ | C10: 1 | D10: ศพจ.ยโสธร | E10: 16 พฤศจิกายน 58 | F10: 5 | G10: - | H10: 5 | I10: -
B11: การพาณิชย์ขนาดเล็ก
A12: 5 | B12: ช่างก่ออิฐ | C12: 1 | D12: เรือนจำจังหวัดยโสธร | E12: 23 - 24 ธ.ค. 58 | F12: 25 | G12: - | H12: 18 | I12: -
A13: 6 | B13: ช่างก่ออิฐ | C13: 1 | D13: เรือนจำจังหวัดยโสธร | E13: 26 - 27 ธ.ค. 58 | F13: 14 | G13: 8 | H13: 6 | I13: 2
A14: 7 | B14: พนักงานนวดไทย | C14: 1 | D14: สมาคมคนตาบอดจ.ยโสธร | E14: 14 - 15 ม.ค. 59 | F14: 8 | G14: 12 | H14: 8 | I14: 12
A15: 8 | B15: ช่างไฟฟ้าภายในอาคาร | C15: 1 | D15: ศพจ.ยโสธร | E15: 18 เม.ย. 59 | F15: 2 | G15: 1 | H15: 2 | I15: -
A16: 9 | B16: ฃ่างไฟฟ้าภายในอาคาร | C16: 1 | D16: ศพจ.ยโสธร | E16: 21 พ.ค. 59 | F16: 9 | G16: - | H16: 9 | I16: -
A17: 10 | B17: ฃ่างไฟฟ้าภายในอาคาร | C17: 1 | D17: ศพจ.ยโสธร | E17: 9 มิ.ย. 59 | F17: 5 | G17: - | H17: 5 | I17: -
A18: 11 | B18: ฃ่างไฟฟ้าภายในอาคาร | C18: 1 | D18: ศพจ.ยโสธร | E18: 14 มิ.ย. 59 | F18: 1 | G18: 1 | H18: 1 | I18: 1
A19: 12 | B19: ฃ่างไฟฟ้าภายในอาคาร | C19: 1 | D19: ศพจ.ยโสธร | E19: 16 มิ.ย.59 | F19: 13 | G19: - | H19: 13 | I19: -
A20: 13 | B20: ฃ่างไฟฟ้าภายในอาคาร | C20: 1 | D20: ศพจ.ยโสธร | E20: 17 มิ.ย. 59 | F20: 13 | G20: - | H20: 13 | I20: -
A21: 14 | B21: ช่างไฟฟ้าภายในอาคาร | C21: 1 | D21: ศพจ.ยโสธร | E21: 4 ก.ค. 59 | F21: 1 | G21: - | H21: 1 | I21: -
A22: 15 | B22: ช่างไฟฟ้าภายในอาคาร | C22: 1 | D22: ศพจ.ยโสธร | E22: 16 ก.ค. 59 | F22: 12 | G22: 1 | H22: 12 | I22: 1
A23: 16 | B23: ช่างไฟฟ้าภายในอาคาร | C23: 1 | D23: ศพจ.ยโสธร | E23: 17 ก.ค. 59 | F23: 10 | G23: - | H23: 10 | I23: -
A24: 17 | B24: ช่างไฟฟ้าภายในอาคาร | C24: 1 | D24: ศพจ.ยโสธร | E24: 30 ก.ค. 59 | F24: 15 | G24: 2 | H24: 15 | I24: 2
A25: 18 | B25: ช่างไฟฟ้าภายในอาคาร | C25: 1 | D25: ศพจ.ยโสธร | E25: 31 ก.ค. 59 | F25: 7 | G25: - | H25: 7 | I25: -
F28: =SUM(F6:F27) -> 188 | G28: =SUM(G6:G27) -> 25 | H28: =SUM(H6:H27) -> 173 | I28: =SUM(I6:I27) -> 18
E29: รวม | F29: =SUM(F28:G28) -> 213 | H29: =SUM(H28:I28) -> 191
A35: นักศึกษา
A36: 1 | B36: ช่างบำรุงรักษารถยนต์ | C36: 1 | D36: ศพจ.ยโสธร | E36: 26 - 27 ม.ค. 59 | F36: 19 | G36: - | H36: 18 | I36: -
A37: 2 | B37: ช่างบำรุงรักษารถยนต์ | C37: 1 | D37: ศพจ.ยโสธร | E37: 28 - 29 ม.ค. 59 | F37: 20 | G37: - | H37: 18 | I37: -
A38: 3 | B38: ช่างไฟฟ้าภายในอาคาร | C38: 1 | D38: วิทยาลัยเทคนิคยโสธร | E38: 30 - 31 ม.ค. 59 | F38: 21 | G38: 1 | H38: 21 | I38: 1
F44: =SUM(F36:F43) -> 60 | G44: =SUM(G36:G43) -> 1 | H44: =SUM(H36:H43) -> 57 | I44: =SUM(I36:I43) -> 1
E45: รวม | F45: =SUM(F44:G44) -> 61 | H45: =SUM(H44:I44) -> 58

Sheet ยานยนต์
A1: แผนงาน ส่งเสริมบทบาทและการใช้โอกาสในการเข้าสู่ประชาคมอาเซียน
A2: ผลผลิต การพัฒนาฝีมือแรงงานรองรับประชาคมอาเซียน
A3: กิจกรรม ฝึกอบรมฝีมือแรงงานรองรับภาคอุตสาหกรรมในการเข้าสู่ประชาคมอาเซียน
A4: รายการ ฝึกอบรมฝีมือแรงงานส่งเสริมศักยภาพอุตสาหกรรม ยานยนต์และชิ้นส่วน
A6: ลำดับ ที่ | B6: หลักสูตร | C6: สาขา | D6: ชั่วโมงฝึก | E6: สถานที่ฝึก | F6: ระยะเวลาฝึก | G6: จำนวนผู้รับการฝึก | I6: จำนวนผู้ผ่านการฝึก | K6: หมายเหตุ
D7: (ชม.) | G7: ชาย(คน) | H7: หญิง(คน) | I7: ชาย(คน) | J7: หญิง(คน)
A8: 1 | B8: เตรียมเข้าทำงาน | C8: ช่างซ่อมเครื่องยนต์ | D8: 840 | E8: ศพจ.ยโสธร | F8: 28 ต.ค. 58 - 1 มี.ค. 59 | G8: 16 | H8: -
A9: 2 | B9: เตรียมเข้าทำงาน | C9: ช่างซ่อมเครื่องยนต์ | D9: 840 | E9: ศพจ.ยโสธร | F9: 18 เม.ย. 59 - 15 ต.ค. 59 | G9: 12 | H9: -
F11: รวม | G11: =SUM(G8:G10) -> 28 | H11: =SUM(H8:H10) -> 0 | I11: =SUM(I8:I10) -> 0 | J11: =SUM(J8:J10) -> 0
G12: =SUM(G11:H11) -> 28 | I12: =SUM(I11:J11) -> 0
A14: 1 | B14: อาชีพเสริม | C14: ช่างซ่อมเครื่องยนต์เล็กเพื่อการ | D14: 30 | E14: ศพจ.ยโสธร | F14: 29 ก.พ. - 4 มี.ค. 59 | G14: 25 | H14: - | I14: 25 | J14: -
C15: เกษตร
A16: 2 | B16: อาชีพเสริม | C16: การบำรุงรักษารถจักรยานยนต์ | D16: 30 | E16: ศพจ.ยโสธร | F16: 29 ก.พ. - 4 มี.ค. 59 | G16: 25 | H16: - | I16: 25 | J16: -
A17: 3 | B17: อาชีพเสริม | C17: การบำรุงรักษารถยนต์ | D17: 30 | E17: ค่ายบดินทรเดชา | F17: 7 - 11 เม.ย. 59 | G17: 31 | H17: - | I17: 31 | J17: -
A18: 4 | B18: อาชีพเสริม | C18: เครื่องยนต์เล็กเพื่อการเกษตร | D18: 60 | E18: ค่ายบดินทรเดชา | F18: 7 - 20 มิ.ย. 59 | G18: 22 | H18: - | I18: 22 | J18: -
F19: รวม | G19: =SUM(G14:G18) -> 103 | H19: =SUM(H14:H18) -> 0 | I19: =SUM(I14:I18) -> 103 | J19: =SUM(J14:J18) -> 0
G20: =SUM(G19:H19) -> 103 | I20: =SUM(I19:J19) -> 103
A23: 1 | B23: ยกระดับฝีมือ | C23: พนักงานควบคุมเครื่องจักรรถยก | D23: 18 | E23: บ.บิ๊กแค็ทมาร์ท | F23: 10 - 12 มิ.ย. 59 | G23: 24 | H23: 0 | I23: 24 | J23: 0
A24: 2 | B24: ยกระดับฝีมือ | C24: พนักงานควบคุมเครื่องจักรรถยก | D24: 18 | E24: บ.นานาภัณฑ์ | F24: 24 - 26 มิ.ย. 59 | G24: 19 | H24: 0 | I24: 19 | J24: 0
E25: ยโสธร แค็ทวัน
A26: 3 | B26: ยกระดับฝีมือ | C26: การบำรุงรักษาเครื่องปรับอากาศ | D26: 18 | E26: ศพจ.ยโสธร | F26: 24 - 26 มิ.ย. 59 | G26: 20 | H26: 0 | I26: 20 | J26: 0
C27: รถยนต์
F28: รวม | G28: =SUM(G23:G27) -> 63 | H28: =SUM(H23:H27) -> 0 | I28: =SUM(I23:I27) -> 63 | J28: =SUM(J23:J27) -> 0
G29: =SUM(G28:H28) -> 63 | I29: =SUM(I28:J28) -> 63

Sheet บริการท่องเที่ยว
A1: แผนงาน ส่งเสริมบทบาทและการใช้โอกาสในการเข้าสู่ประชาคมอาเซียน
A2: ผลผลิต การพัฒนาฝีมือแรงงานรองรับประชาคมอาเซียน
A3: กิจกรรม ฝึกอบรมฝีมือแรงงานรองรับภาคอุตสาหกรรมในการเข้าสู่ประชาคมอาเซียน
A4: รายการ ฝึกอบรมฝีมือแรงงานไทยเพื่อส่งเสริมความสามารถของภาคบริการและท่องเที่ยว
A6: ลำดับ ที่ | B6: หลักสูตร | C6: สาขา | D6: ชั่วโมงฝึก | E6: สถานที่ฝึก | F6: ระยะเวลาฝึก | G6: จำนวนผู้รับการฝึก | I6: จำนวนผู้ผ่านการฝึก | K6: หมายเหตุ
D7: (ชม.) | G7: ชาย(คน) | H7: หญิง(คน) | I7: ชาย(คน) | J7: หญิง(คน)
A8: 1 | B8: เตรียมเข้าทำงาน | C8: นวดไทยและนวดเท้าเพื่อสุขภาพ | D8: 449 | E8: ศพจ.ยโสธร | F8: 28 ต.ค. 58 - 8 ม.ค. 59 | G8: 4 | H8: 22 | I8: 3 | J8: 20
A9: 2 | B9: เตรียมเข้าทำงาน | C9: นวดไทยและนวดเท้าเพื่อสุขภาพ | D9: 449 | E9: ศพจ.ยโสธร | F9: 18 เม.ย. - 21 ก.ค. 59 | G9: 5 | H9: 24 | I9: 4 | J9: 23
F12: รวม | G12: =SUM(G8:G11) -> 9 | H12: =SUM(H8:H11) -> 46 | I12: =SUM(I8:I11) -> 7 | J12: =SUM(J8:J11) -> 43
G13: =SUM(G12:H12) -> 55 | I13: =SUM(I12:J12) -> 50
A14: 1 | B14: ยกระดับฝีมือแรงงาน | C14: การพัฒนาทีมงานเพื่อความเป็นเลิศ | D14: 30 | E14: ศพจ.ยโสธร, | F14: 21 - 26 พ.ย. 58 | G14: 15 | H14: 15 | I14: 15 | J14: 15 | K14: รุ่น1
E15: รพ.นายแพทย์หาญ
A16: 2 | C16: การพัฒนาทีมงานเพื่อความเป็นเลิศ | D16: 30 | E16: ศพจ.ยโสธร, | F16: 21 - 26 พ.ย. 58 | G16: 8 | H16: 22 | I16: 8 | J16: 22 | K16: รุ่น2
E17: รพ.นายแพทย์หาญ
A18: 3 | C18: การบริการอาหารและเครื่องดื่ม | D18: 18 | E18: ศพจ.ยโสธร, | F18: 30 ม.ค. - 2 ก.พ. 59 | G18: 2 | H18: 18 | I18: 2 | J18: 18
A19: 4 | C19: แม่บ้านทันสมัย | D19: 18 | E19: ศพจ.ยโสธร, | F19: 30 ม.ค. - 2 ก.พ. 59 | G19: 0 | H19: 20 | I19: 0 | J19: 20
F22: รวม | G22: =SUM(G14:G21) -> 25 | H22: =SUM(H14:H21) -> 75 | I22: =SUM(I14:I21) -> 25 | J22: =SUM(J14:J21) -> 75
G23: =SUM(G22:H22) -> 100 | I23: =SUM(I22:J22) -> 100
A24: 1 | B24: อาชีพเสริม | C24: ช่างตัดและซอยผมสตรี | D24: 30 | E24: เรือนจำยโสธร | F24: 16 - 20 พ.ย. 58 | G24: - | H24: 23 | I24: - | J24: 23
A25: 2 | B25: อาชีพเสริม | C25: ช่างตัดและซอยผมสตรี | D25: 30 | E25: บ.ตูม อ.กุดน้ำใส | F25: 29 ก.พ. - 4 มี.ค. 59 | G25: - | H25: 20 | I25: - | J25: 20
E26: อ.ค้อวัง
A27: 3 | B27: อาชีพเสริม | C27: พนักงานนวดแผนไทย | D27: 150 | E27: ต.สามัคคี อ.เลิงนกทา | F27: 17 มี.ค. - 10 เม.ย. 59 | G27: 4 | H27: 26 | I27: 3 | J27: 14
A28: 4 | B28: อาชีพเสริม | C28: ช่างตัดและซอยผมสตรี | D28: 30 | E28: บ.กุดน้ำใส | F28: 20 - 24 เม.ย.59 | G28: 1 | H28: 19 | I28: 1 | J28: 19
E29: ต.กุดน้ำใส อ.ค้อวัง
F30: รวม | G30: =SUM(G24:G29) -> 5 | H30: =SUM(H24:H29) -> 88 | I30: =SUM(I24:I29) -> 4 | J30: =SUM(J24:J29) -> 76
G31: =SUM(G30:H30) -> 93 | I31: =SUM(I30:J30) -> 80

Sheet พัฒนาบุคลากรท่องเที่ยว
A1: แผนงาน ส่งเสริมบทบาทและการใช้โอกาสในการเข้าสู่ประชาคมอาเซียน
A2: ผลผลิต การพัฒนาฝีมือแรงงานรองรับประชาคมอาเซียน
A3: กิจกรรม ฝึกอบรมฝีมือแรงงานรองรับภาคอุตสาหกรรมในการเข้าสู่ประชาคมอาเซียน
A4: รายการ พัฒนาบุคลากรด้านการท่องเที่ยวให้ได้มาตรฐานสมรรถนะร่วมวิชาชีพการท่องเที่ยวอาเซียน
A6: ลำดับ ที่ | B6: หลักสูตร | C6: สาขา | D6: ชั่วโมงฝึก | E6: สถานที่ฝึก | F6: ระยะเวลาฝึก | G6: จำนวนผู้รับการฝึก | I6: จำนวนผู้ผ่านการฝึก | K6: หมายเหตุ
D7: (ชม.) | G7: ชาย(คน) | H7: หญิง(คน) | I7: ชาย(คน) | J7: หญิง(คน)
A8: 1 | B8: ยกระดับฝีมือ | C8: พนักงานที่ปรึกษาการนำเที่ยว | D8: 30 | E8: ศพจ.ยโสธร | F8: 6 - 10 มิ.ย. 59 | G8: 12 | H8: 13 | I8: 9 | J8: 13
G12: =SUM(G8:G11) -> 12 | H12: =SUM(H8:H11) -> 13 | I12: =SUM(I8:I11) -> 9 | J12: =SUM(J8:J11) -> 13
G13: =SUM(G12:H12) -> 25 | I13: =SUM(I12:J12) -> 22

Sheet ขับเคลื่อนการแข่งขัน
A1: แผนงาน ส่งเสริมบทบาทและการใช้โอกาสในการเข้าสู่ประชาคมอาเซียน
A2: ผลผลิต การพัฒนาฝีมือแรงงานรองรับประชาคมอาเซียน
A3: กิจกรรม ฝึกอบรมฝีมือแรงงานรองรับภาคอุตสาหกรรมในการเข้าสู่ประชาคมอาเซียน
A4: รายการ ขับเคลื่อนการแข่งขันของภาคอุตสาหกรรม
A6: ลำดับ ที่ | B6: หลักสูตร | C6: สาขา | D6: ชั่วโมงฝึก | E6: สถานที่ฝึก | F6: ระยะเวลาฝึก | G6: จำนวนผู้รับการฝึก | I6: จำนวนผู้ผ่านการฝึก | K6: หมายเหตุ
D7: (ชม.) | G7: ชาย(คน) | H7: หญิง(คน) | I7: ชาย(คน) | J7: หญิง(คน)
A8: 1 | B8: ยกระดับฝีมือ | C8: ช่างไฟฟ้าภายในอาคาร | D8: 18 | E8: ศพจ.ยโสธร | F8: 24 - 26 มิ.ย. 59 | G8: 23 | H8: 1 | I8: 23 | J8: 1
A9: 2 | B9: ยกระดับฝีมือ | C9: การพัฒนาทีมงานเพื่อความเป็นเลิศ | D9: 18 | E9: บ.ซาบีน่าจำกัด(มหาชน) | F9: 22-24 ก.ค. 59 | G9: 11 | H9: 26 | I9: 11 | J9: 26
G12: =SUM(G8:G11) -> 34 | H12: =SUM(H8:H11) -> 27 | I12: =SUM(I8:I11) -> 34 | J12: =SUM(J8:J11) -> 27
G13: =SUM(G12:H12) -> 61 | I13: =SUM(I12:J12) -> 61

Sheet ฝึกอบรมภาษา
A1: แผนงาน ส่งเสริมบทบาทและการใช้โอกาสในการเข้าสู่ประชาคมอาเซียน
A2: ผลผลิต การพัฒนาฝีมือแรงงานรองรับประชาคมอาเซียน
A3: กิจกรรม ฝึกอบรมฝีมือแรงงานรองรับภาคอุตสาหกรรมในการเข้าสู่ประชาคมอาเซียน
A4: รายการ อบรมความสามารถด้านภาษาให้แก่แรงงานไทยเพื่อรองรับประชาคมอาเซียน
A6: ลำดับ ที่ | B6: หลักสูตร | C6: สาขา | D6: ชั่วโมงฝึก | E6: สถานที่ฝึก | F6: ระยะเวลาฝึก | G6: จำนวนผู้รับการฝึก | I6: จำนวนผู้ผ่านการฝึก | K6: หมายเหตุ
D7: (ชม.) | G7: ชาย(คน) | H7: หญิง(คน) | I7: ชาย(คน) | J7: หญิง(คน)
A8: 1 | B8: ยกระดับฝีมือ | C8: พูดอังกฤษคำค่อคำเพื่อการทำงาน | D8: 30 | E8: บ.บิ๊กซีซุปเปอร์ | F8: 14 - 18 ธันวาคม 2558 | G8: 6 | H8: 19 | I8: 6 | J8: 19
C9: ระดับ 1 | E9: เซ็นเตอร์จำกัด(มหาชน)
A10: 2 | B10: ยกระดับฝีมือ | C10: พูดอังกฤษคำค่อคำเพื่อการทำงาน | D10: 30 | E10: บ.โตโยต้ายโสธรจำกัด | F10: 23 พ.ค. -3 มิ.ย. 59 | G10: 10 | H10: 20 | I10: 10 | J10: 20
C11: ระดับ 1
A12: 3 | B12: ยกระดับฝีมือ | C12: พูดอังกฤษคำค่อคำเพื่อการทำงาน | D12: 30 | E12: บ.สยามแม็คโครจำกัด | F12: 23 พ.ค. -3 มิ.ย. 59 | G12: 8 | H12: 12 | I12: 8 | J12: 12
C13: ระดับ 1
A14: 4 | B14: ยกระดับฝีมือ | C14: พูดอังกฤษคำค่อคำเพื่อการทำงาน | D14: 30 | E14: กรมทหารราบที่ 26 | F14: 11 - 15 ก.ค. 59 | G14: 25 | H14: 0 | I14: 25 | J14: 0
E15: ค่ายบดินทรเดชา
F18: รวม | G18: =SUM(G8:G17) -> 49 | H18: =SUM(H8:H17) -> 51 | I18: =SUM(I8:I17) -> 49 | J18: =SUM(J8:J17) -> 51
G19: =SUM(G18:H18) -> 100 | I19: =SUM(I18:J18) -> 100

Sheet ครัวไทย
A1: แผนงาน ส่งเสริมบทบาทและการใช้โอกาสในการเข้าสู่ประชาคมอาเซียน
A2: ผลผลิต การพัฒนาฝีมือแรงงานรองรับประชาคมอาเซียน
A3: กิจกรรม ฝึกอบรมฝีมือแรงงานรองรับภาคอุตสาหกรรมในการเข้าสู่ประชาคมอาเซียน
A4: รายการ ฝึกอบรมผู้ประกอบอาหารรองรับครัวไทยสู่ครัวโลก
A6: ลำดับ ที่ | B6: หลักสูตร | C6: สาขา | D6: ชั่วโมงฝึก | E6: สถานที่ฝึก | F6: ระยะเวลาฝึก | G6: จำนวนผู้รับการฝึก | I6: จำนวนผู้ผ่านการฝึก | K6: หมายเหตุ
D7: (ชม.) | G7: ชาย(คน) | H7: หญิง(คน) | I7: ชาย(คน) | J7: หญิง(คน)
A8: 1 | B8: ยกระดับฝีมือ | C8: ผู้ประกอบอาหารไทย ระดับ1 | D8: 30 | E8: บ.หนองบัว ต.ขั้นไดใหญ่ | F8: 30 พ.ค. - 3 มิ.ย. 59 | G8: 1 | H8: 34 | I8: 1 | J8: 34
E9: อ.เมือง
A10: 2 | B10: ยกระดับฝีมือ | C10: ผู้ประกอบอาหารไทย ระดับ1 | D10: 30 | E10: บ.คำน้ำสร้าง ต.ค้อเหนือ | F10: 6 - 10 มิ.ย. 59 | G10: 0 | H10: 26 | I10: 0 | J10: 26
E11: อ.เมือง
A12: 3 | B12: ยกระดับฝีมือ | C12: ผู้ประกอบอาหารไทย ระดับ1 | D12: 30 | E12: อบต.ขุมเงิน อ.เมือง | F12: 13-17 มิ.ย. 59 | G12: 0 | H12: 31 | I12: 0 | J12: 31
A13: 4 | B13: ยกระดับฝีมือ | C13: ผู้ประกอบอาหารไทย ระดับ1 | D13: 30 | E13: ต.ดู่ทุ่ง อ.เมือง | F13: 21-25 ก.ค. 59 | G13: 3 | H13: 29 | I13: 3 | J13: 29
F15: รวม | G15: =SUM(G8:G14) -> 4 | H15: =SUM(H8:H14) -> 120 | I15: =SUM(I8:I14) -> 4 | J15: =SUM(J8:J14) -> 120
G16: =SUM(G15:H15) -> 124 | I16: =SUM(I15:J15) -> 124

Sheet โลจิสติกส์
A1: แผนงาน พัฒนาระบบบริหารจัดการขนส่งสินค้าและบริการของประเทศ
A2: โครงการ ฝึกอบรมฝีมือรองรับระบบขนส่งด้านโลจิสติกส์ และก่อสร้าง
A3: กิจกรรม ฝึกอบรมฝีมือแรงงานรองรับระบบขนส่งบริการด้านโลจิสติกส์ และก่อสร้าง
A5: ลำดับ ที่ | B5: หลักสูตร | C5: สาขา | D5: ชั่วโมงฝึก | E5: สถานที่ฝึก | F5: ระยะเวลาฝึก | G5: จำนวนผู้รับการฝึก | I5: จำนวนผู้ผ่านการฝึก | K5: หมายเหตุ
D6: (ชม.) | G6: ชาย(คน) | H6: หญิง(คน) | I6: ชาย(คน) | J6: หญิง(คน)
A7: 1 | B7: เตรียมเข้าทำงาน | C7: ช่างซ่อมไมโครคอมพิวเตอร์ | D7: 840 | E7: ศพจ.ยโสธร | F7: 28 ต.ค. 58 - 6 พ.ค. 59 | G7: 5 | H7: 0 | I7: 3 | J7: -
A8: 2 | B8: " | C8: ช่างซ่อมโทรทัศน์สี | D8: 780 | E8: " | F8: 28 ต.ค. 58 - 5 เม.ย. 59 | G8: 3 | H8: 0 | I8: 3 | J8: -
A9: 3 | B9: " | C9: ช่างควบคุมมอเตอร์ด้วยวงจรไฟฟ้า | D9: 780 | E9: " | F9: 28 ต.ค. 58 - 5 เม.ย. 59 | G9: 9 | H9: 0 | I9: 4 | J9: -
A10: 4 | B10: " | C10: ช่างเครื่องทำความเย็นและปรับ | D10: 700 | E10: " | F10: 28 ต.ค. 58 - 5 เม.ย.59 | G10: 10 | H10: 0 | I10: 8 | J10: -
C11: อากาศในบ้านและการพาณิชย์
C12: ขนาดเล็ก
A13: 5 | B13: " | C13: ช่างซ่อมรถจักรยานยนต์ | D13: 920 | E13: " | F13: 28 ต.ค. 58 - 6 พ.ค. 59 | G13: 10 | H13: 0 | I13: 7 | J13: -
A14: 6 | B14: " | C14: ช่างประกอบโครงอะลูมิเนียม | D14: 700 | E14: " | F14: 28 ต.ค. 58 - 5 เม.ย. 59 | G14: 4 | H14: 0 | I14: 2 | J14: -
A15: 7 | B15: " | C15: ช่างซ่อมรถจักรยานยนต์ | D15: 920 | E15: ศพจ.ยโสธร | F15: 18 เม.ย. 59 - 15 ต.ค. 59 | G15: 8 | H15: -
F16: รวม | G16: =SUM(G7:G15) -> 49 | H16: =SUM(H7:H15) -> 0 | I16: =SUM(I7:I15) -> 27 | J16: =SUM(J7:J15) -> 0
G17: =SUM(G16:H16) -> 49 | I17: =SUM(I16:J16) -> 27
A18: 1 | B18: อาชีพเสริม | C18: ช่างก่ออิฐ | D18: 30 | E18: วัดบ้านนาจาน | F18: 9 - 13 พ.ย. 58 | G18: 13 | H18: 9 | I18: 13 | J18: 9
E19: ต.สามัคคี อ.เลิงนกทา
A20: 2 | B20: " | C20: ช่างก่ออิฐ ระดับ 1 | D20: 60 | E20: เรือนจำจังหวัดยโสธร | F20: 8 - 22 ธ.ค. 58 | G20: 25 | H20: - | I20: 25 | J20: -
A21: 3 | B21: " | C21: ช่างซ่อมอุปกรณ์ไฟฟ้าภายในอาคาร | D21: 18 | E21: ศพจ.ยโสธร | F21: 30 มค. - 2 กพ. 59 | G21: 18 | H21: 2 | I21: 18 | J21: 2
A22: 4 | B22: " | C22: การบริการการซ่อมเครื่องปรับอากาศ | D22: 30 | E22: ศพจ.ยโสธร | F22: 29 ก.พ. - 4 มี.ค. 59 | G22: 25 | H22: - | I22: 21 | J22: -
C23: ในสำนักงาน
A24: 5 | B24: " | C24: การซ่อมไมโครคอมพิวเตอร์ | D24: 30 | E24: ศพจ.ยโสธร | F24: 29 ก.พ. - 4 มี.ค. 59 | G24: 15 | H24: 6 | I24: 14 | J24: 5
A25: 6 | B25: " | C25: การซ่อมบำรุงอุปกรณ์ไฟฟ้าภายในบ้าน | D25: 30 | E25: ศพจ.ยโสธร | F25: 29 ก.พ. - 4 มี.ค. 59 | G25: 28 | H25: 1 | I25: 28 | J25: 1
A26: 7 | B26: " | C26: การเทและบ่มคอนกรีต | D26: 30 | E26: วัดบ้านกว้าง
E27: ต.เขื่องคำ อ.เมือง | F27: 4 - 8 มี.ค. 59 | G27: 10 | H27: 10 | I27: 10 | J27: 10
A28: 8 | B28: " | C28: การซ่อมอุปกรณ์ไฟฟ้าภายในบ้าน | D28: 30 | E28: กองพันทหารราบที่3 | F28: 7 - 11 เม.ย. 59 | G28: 33 | H28: - | I28: 33 | J28: -
E29: กรมทหารราบที่16
E30: ค่ายบดินทรเดชา
A31: 9 | B31: " | C31: เทคนิคการติดตั้งจานรับสัญญาณ | D31: 18 | E31: กองพันทหารราบที่3 | F31: 20 - 22 เม.ย. 59 | G31: 29 | H31: - | I31: 27 | J31: -
C32: ดาวเทียม | E32: กรมทหารราบที่16
E33: ค่ายบดินทรเดชา
A34: 10 | B34: " | C34: ช่างปูกระเบื้อง | D34: 30 | E34: ต.ขั้นไดใหญ่ อ.เมือง | F34: 25- 29 เม.ย. 59 | G34: 26 | H34: 1 | I34: 20 | J34: 0
A35: 11 | B35: " | C35: ช่างก่ออิฐ | D35: 30 | E35: ต.ขุมเงิน อ.เมือง | F35: 2 - 6 พ.ค. 59 | G35: 11 | H35: 14 | I35: 11 | J35: 11
A36: 12 | B36: " | C36: เทคนิคการตรวจซ่อมและปรับปรุง | D36: 60 | E36: ค่ายบดินทรเดชา | F36: 7 - 20 มิ.ย. 59 | G36: 18 | H36: - | I36: 18 | J36: -
C37: ไมโครคอมพิวเตอร์
A38: 13 | B38: " | C38: ช่างไฟฟ้าภายในอาคาร | D38: 18 | E38: เรือนจำยโสธร | F38: 26-28 ก.ค. 59 | G38: 30 | H38: - | I38: 30 | J38: -
F39: รวม | G39: =SUM(G18:G38) -> 281 | H39: =SUM(H18:H38) -> 43 | I39: =SUM(I18:I38) -> 268 | J39: =SUM(J18:J38) -> 38
G40: =SUM(G39:H39) -> 324 | I40: =SUM(I39:J39) -> 306
A41: 1 | B41: ยกระดับฝีมือ | C41: 5 ส เพื่อเพิ่มผลผลิต(ห้อง1) | D41: 18 | E41: ศพจ.ยโสธร | F41: 23 - 25 มกราคม 2559 | G41: 2 | H41: 18 | I41: 2 | J41: 18
...

Sheet พระราชดำริ
A1: แผนงาน เทิดทูน พิทักษ์ และรักษาสถาบันพระมหากษัตริย์
A2: โครงการ พัฒนาฝีมือแรงงานร่วมเทิดทูนสถาบันพระมหากษัตริย์
A3: กิจกรรม ฝึกอบรมฝีมือแรงงานตามโครงการอันเนื่องมาจากพระราชดำริ
A5: ลำดับ ที่ | B5: หลักสูตร | C5: สาขา | D5: ชั่วโมงฝึก | E5: สถานที่ฝึก | F5: ระยะเวลาฝึก | G5: จำนวนผู้รับการฝึก | I5: จำนวนผู้ผ่านการฝึก | K5: หมายเหตุ
D6: (ชม.) | G6: ชาย(คน) | H6: หญิง(คน) | I6: ชาย(คน) | J6: หญิง(คน)
A7: 1 | B7: อาชีพเสริม | C7: พนักงานนวดแผนไทย | D7: 60 | E7: บ.น้อมเกล้า ต.บุ่งค้า | F7: 17 - 26 ธันวาคม 2558 | G7: 1 | H7: 21 | I7: 1 | J7: 21
E8: อ.เลิงนกทา
A9: 2 | B9: อาชีพเสริม | C9: พนักงานนวดแผนไทย | D9: 60 | E9: บ.แสนสำราญ | F9: 3 - 12 กุมภาพันธ์ 2559 | G9: 2 | H9: 18 | I9: 2 | J9: 15
E10: ต.สร้างมิ่ง อ.เลิงนกทา
A11: 3 | B11: อาชีพเสริม | C11: พนักงานนวดแผนไทย | D11: 60 | E11: บ.คำน้ำสร้าง | F11: 6 - 15 มิ.ย. 2559 | G11: - | H11: 24 | I11: - | J11: 24
E12: ต.ค้อเหนือ อ.เมือง
F13: รวม | G13: =SUM(G7:G12) -> 3 | H13: =SUM(H7:H12) -> 63 | I13: =SUM(I7:I12) -> 3 | J13: =SUM(J7:J12) -> 60
G14: =SUM(G13:H13) -> 66 | I14: =SUM(I13:J13) -> 63

Sheet กิจกรรมเพิ่มขีด
A1: แผนงาน เพิ่มประสิทธิภาพการบริหารจัดการและคุ้มครองแรงงาน
A2: ผลผลิต พัฒนาศักยภาพฝีมือแรงงานทั้งระบบให้สอดคล้องกับความต้องการของตลาดแรงาน
A3: กิจกรรม พัฒนาศักยภาพแรงงานเพื่อรองรับการจ่ายค่าจ้างตามมาตรฐานฝีมือแรงงาน
A4: ลำดับ ที่ | B4: สาขา | C4: ระดับ | D4: สถานที่ทดสอบ | E4: ช่วงวันที่ทดสอบ | F4: จำนวนผู้เข้าฝึก | H4: จำนวนผู้ผ่านการทดสอบ | J4: หมายเหตุ
F5: ชาย(คน) | G5: หญิง(คน) | H5: ชาย(คน) | I5: หญิง(คน)
A6: บุคคลทั่วไป
A7: 1 | B7: ช่างไฟฟ้าภายในอาคาร | C7: 1 | D7: ศพจ.ยโสธร | E7: 26 - 27 มีนาคม 59 | F7: 24 | G7: - | H7: 18 | I7: -
A8: 2 | B8: ช่างไฟฟ้าภายในอาคาร | C8: 1 | D8: ศพจ.ยโสธร | E8: 240816 | F8: 11 | G8: - | H8: 11 | I8: -
A9: 3 | B9: ช่างไฟฟ้าภายในอาคาร | C9: 1 | D9: ศพจ.ยโสธร | E9: 21671 | F9: 10 | G9: 1 | H9: 10 | I9: 1
F13: =SUM(F6:F12) -> 45 | G13: =SUM(G6:G12) -> 1 | H13: =SUM(H6:H12) -> 39 | I13: =SUM(I6:I12) -> 1
E14: รวม | F14: =SUM(F13:G13) -> 46 | H14: =SUM(H13:I13) -> 40
