Workbook

Sheet สรุป
A1: ผลการพัฒนาฝีมือแรงงาน ประจำปีงบประมาณ 2560
A2: ศูนย์พัฒนาฝีมือแรงงานจังหวัดยโสธร | D2: ข้อมูลวันที่ 14 ธันวาคม 2559
A3: ยุทธศาสตร์/แผนงาน/ผลผลิต | B3: แผนงาน ทั้งปี (คน) | C3: ผลการดำเนินงาน (คน) | D3: ผู้ผ่านฯ (คน) | E3: ร้อยละของผลการดำเนินงาน | F3: ร้อยละของผู้ผ่าน
A4: รวมทั้งสิ้น | B4: =B5+B6 -> 2570 | C4: =C5+C6 -> 1016 | D4: =D5+D6 -> 809 | E4: =C4/B4*100 -> 39.533074 | F4: =D4/C4*100 -> 79.625984
A5: ศูนย์ฯ ดำเนินการเอง | B5: =SUM(B7,B9,B16,B39,B50,B57) -> 1770 | C5: =SUM(C7,C9,C16,C39,C50,C57) -> 646 | D5: =SUM(D7,D9,D16,D39,D50,D57) -> 439 | E5: =C5/B5*100 -> 36.497175 | F5: =D5/C5*100 -> 67.956656
A6: เอกชน/สถานประกอบการดำเนินการ | B6: =B47 -> 800 | C6: =C47 -> 370 | D6: =D47 -> 370 | E6: =C6/B6*100 -> 46.25 | F6: =D6/C6*100 -> 100
A7: โครงการ 1 พัฒนาฝีมือแรงงานร่วมเทิดทูนสถาบันพระมหากษัตริย์ | B7: =B8 -> 40
A8: กิจกรรม ฝึกอบรมฝีมือแรงงานตามโครงการอันเนื่องมาจากพระราชดำริ | B8: 40
A9: โครงการ 5 ฝึกอบรมฝีมือแรงงานรองรับระบบขนส่งด้านโลจิสติกส์และก่อสร้าง | B9: =SUM(B10,B13) -> 320
A10: ยกระดับฝีมือแรงงาน(18-60 ชม.) | B10: 200
A11: -โลจิสติกส์ | B11: 60
A12: -ก่อสร้างรองรับการพัฒนาโครงสร้างพื้นฐาน | B12: 140
A13: ฝึกอาชีพเสริม(18-30 ชม.)(ก่อสร้าง) | B13: 120
A14: โครงการ 7 เพิ่มผลิตภาพแรงงานไทย
A15: รายการ เพิ่มผลิตภาพแรงงานไทย
A16: โครงการ 8 พัฒนาศักยภาพแรงงานรองรับภาคอุตสาหกรรมและบริการเพื่อการแข่งขัน | B16: =SUM(B17,B32) -> 750 | C16: =SUM(C17,C32) -> 360 | D16: =SUM(D17,D32) -> 154 | E16: =C16/B16*100 -> 48 | F16: =D16/C16*100 -> 42.777778
A17: กิจกรรมหลัก : ฝึกอบรมฝีมือแรงงานรองรับภาคอุตสาหกรรมและบริการ | B17: =SUM(B18,B19,B20,B23,B27,B29) -> 440 | C17: =SUM(C18,C19,C20,C23,C27,C29) -> 233 | D17: =SUM(D18,D19,D20,D23,D27,D29) -> 42 | E17: =C17/B17*100 -> 52.954545 | F17: =D17/C17*100 -> 18.025751
A18: 1) รายการ อบรมเพิ่มขีดความสามารถด้านภาษาให้แก่แรงงานไทย | B18: 60
A19: 2) รายการ ฝึกอบรมผู้ประกอบอาหารรองรับครัวไทยสู่ครัวโลก | B19: 80
A20: 3) รายการ ฝึกอบรมฝีมือแรงงานส่งเสริมภาคอุตสาหกรรมยานยนต์และชิ้นส่วน | B20: =SUM(B21:B22) -> 80 | C20: =SUM(C21:C22) -> 20 | D20: =ยานยนต์!I11 -> 0 | E20: =C20/B20*100 -> 25 | F20: =D20/C20*100 -> 0
A21: -เตรียมเข้าทำงาน(280-560 ชม.) | B21: 20 | C21: =ยานยนต์!G12 -> 20 | D21: =ยานยนต์!I12 -> 0 | E21: =C21/B21*100 -> 100 | F21: =D21/C21*100 -> 0
A22: -ยกระดับฝีมือแรงงาน(18-60 ชม.) | B22: 60
A23: 4) รายการ ฝึกอบรมฝีมือแรงงานไทยเพื่อส่งเสริมความสามารถของภาคบริการ | B23: =SUM(B25:B26) -> 140 | C23: =SUM(C25:C26) -> 145 | D23: =ท่องเที่ยว!I10 -> 0 | E23: =C23/B23*100 -> 103.57143 | F23: =D23/C23*100 -> 0
A24: และการท่องเที่ยว
A25: -เตรียมเข้าทำงาน(280-560 ชม.) | B25: 40 | C25: =ท่องเที่ยว!G12 -> 45 | D25: =ท่องเที่ยว!I12 -> 0 | E25: =C25/B25*100 -> 112.5 | F25: =D25/C25*100 -> 0
A26: -ยกระดับฝีมือแรงงาน(18-60 ชม.) | B26: 100 | C26: =ท่องเที่ยว!G19 -> 100 | D26: =ท่องเที่ยว!I19 -> 100 | E26: =C26/B26*100 -> 100 | F26: =D26/C26*100 -> 100
A27: 5) รายการ พัฒนาบุคลากรด้านการท่องเที่ยวให้ได้มาตรฐานสมรรถนะร่วมวิชาชีพ | B27: 20
A28: การท่องเที่ยวอาเซียน
A29: 6) รายการ ฝึกอบรมฝีมือแรงงานไทยขับเคลื่อนการแข่งขันภาคอุตสาหกรรม | B29: =SUM(B30:B31) -> 60 | C29: =SUM(C30:C31) -> 68 | D29: =SUM(D30:D31) -> 42 | E29: =C29/B29*100 -> 113.33333 | F29: =D29/C29*100 -> 61.764706
A30: -เตรียมเข้าทำงาน(280-840 ชม.) | B30: 20 | C30: =ภาคอุตสาหกรรม!G14 -> 23 | D30: =ภาคอุตสาหกรรม!I14 -> 0 | E30: =C30/B30*100 -> 115 | F30: =D30/C30*100 -> 0
A31: -ยกระดับฝีมือแรงงาน(18-60 ชม.) | B31: 40 | C31: =ภาคอุตสาหกรรม!G22 -> 45 | D31: =ภาคอุตสาหกรรม!I22 -> 42 | E31: =C31/B31*100 -> 112.5 | F31: =D31/C31*100 -> 93.333333
A32: กิจกรรมหลัก : ทดสอบมาตรฐานฝีมือแรงงาน | B32: =SUM(B34:B35) -> 310 | C32: =SUM(C34:C35) -> 127 | D32: =SUM(D34:D35) -> 112 | E32: =C32/B32*100 -> 40.967742 | F32: =D32/C32*100 -> 88.188976
A33: 1) รายการ ทดสอบมาตรฐานฝีมือแรงงานแห่งชาติ | B33: =B34 -> 250
A34: -แรงงานทั่วไป หรือนักศึกษาที่จบการศึกษาระดับ ปวช.ขึ้นไป | B34: 250 | C34: =ทดสอบ!F18 -> 49 | D34: =ทดสอบ!H18 -> 47 | E34: =C34/B34*100 -> 19.6 | F34: =D34/C34*100 -> 95.918367
A35: 2) รายการ พัฒนาศักยภาพแรงงานเพื่อรองรับการจ่ายค่าจ้างตามมาตรฐานฝีมือ | B35: 60 | C35: =รองรับการจ่ายค่าจ้าง!G16 -> 78 | D35: =รองรับการจ่ายค่าจ้าง!I16 -> 65 | E35: =C35/B35*100 -> 130 | F35: =D35/C35*100 -> 83.333333
A37: ผลผลิตที่ 1 พัฒนาศักยภาพฝีมือแรงงานทั้งระบบให้สอดคล้องกับความต้องการของตลาด | B37: =SUM(B39,B47) -> 1200 | C37: =SUM(C39,C47) -> 656 | D37: =SUM(D39,D47) -> 655 | E37: =C37/B37*100 -> 54.666667 | F37: =D37/C37*100 -> 99.847561
A38: แรงงาน และการประกอบอาชีพ
A39: กิจกรรม พัฒนาฝีมือเพื่อส่งเสริมการประกอบอาชีพ | B39: =SUM(B40:B44) -> 400 | C39: =SUM(C40:C44) -> 286 | D39: =SUM(D40:D44) -> 285 | E39: =C39/B39*100 -> 71.5 | F39: =D39/C39*100 -> 99.65035
A40: -กลุ่ม OTOP และกลุ่มอาชีพ | B40: 60
A41: -ทหารก่อนปลดประจำการ | B41: 100 | C41: =ส่งเสริมการประกอบอาชีพ!G17 -> 181 | D41: =ส่งเสริมการประกอบอาชีพ!I17 -> 181 | E41: =C41/B41*100 -> 181 | F41: =D41/C41*100 -> 100
A42: -แรงงานนอกระบบ | B42: 100 | C42: =ส่งเสริมการประกอบอาชีพ!G34 -> 61 | D42: =ส่งเสริมการประกอบอาชีพ!I34 -> 61 | E42: =C42/B42*100 -> 61 | F42: =D42/C42*100 -> 100
A43: -กลุ่มเกษตรกรที่ต้องการฝึกสาขาช่างและบริการ | B43: 60 | C43: =ส่งเสริมการประกอบอาชีพ!G52 -> 44 | D43: =ส่งเสริมการประกอบอาชีพ!I52 -> 43 | E43: =C43/B43*100 -> 73.333333 | F43: =D43/C43*100 -> 97.727273
A44: -ผู้ถูกเลิกจ้าง ว่างงาน | B44: 80
A45: กิจกรรม ส่งเสริมและสนับสนุนให้สถานประกอบกิจการดำเนินการฝึกอบรมฝีมือแรงงาน
A46: ตาม พ.ร.บ. ส่งเสริมฯ
A47: 1) รายการ รับรองหลักสูตร และค่าใช้จ่ายในการฝึกอบรมฝีมือแรงงานของสถานประกอบ | B47: 800 | C47: 370 | D47: 370 | E47: =C47/B47*100 -> 46.25 | F47: =D47/C47*100 -> 100
A48: กิจการ ตาม พ.ร.บ. ส่งเสริมฯ(คน)
A49: 2) รายการตรวจติดตามสถานประกอบกิจการดำเนินการฝึกอบรมตาม พ.ร.บ. ส่งเสริมฯ(แห่ง) | B49: 2 | C49: 3
A50: โครงการที่ 9 ฝึกอบรมแรงงานกลุ่มเป้าหมายเฉพาะเพื่อเพิ่มโอกาสในการประกอบอาชีพ | B50: =B51 -> 180
A51: กิจกรรม ฝึกอบรมแรงงานกลุ่มเป้าหมายเฉพาะเพื่อเพื่อมโอกาสในการประกอบอาชีพ | B51: =SUM(B52:B54) -> 180
A52: -ผู้ประสบภัยธรรมชาติ | B52: 60
A53: -ผู้ผ่านการบำบัดยาเสพติด | B53: 100
A54: -ผู้ต้องขัง | B54: 20
A55: -กลุ่มเกษตรกรที่ต้องการฝึกสาขาช่างและบริการ
A56: -ผู้ถูกเลิกจ้าง ว่างงาน
A57: โครงการที่ 10 ฝึกอบรมแรงงานผู้สูงอายุเพื่อเพิ่มโอกาสในการประกอบอาชีพ | B57: =B58 -> 80
A58: กิจกรรม ฝึกอบรมแรงงานผู้สูงอายุเพื่อเพิ่มโอกาสในการประกอบอาชีพ | B58: 80

Sheet ยานยนต์
A1: แผนงาน พัฒนาและยกระดับผลิตภาพแรงงาน
A2: โครงการ พัฒนาศักยภาพแรงงานรองรับภาคอุตสาหกรรมและบริการเพื่อการแข่งขัน
A3: กิจกรรม ฝึกอบรมฝีมือแรงงานรองรับภาคอุตสาหกรรมและบริการ
A4: รายการ ฝึกอบรมฝีมือแรงงานส่งเสริมภาคอุตสาหกรรมยานยนต์และชิ้นส่วน
A6: ลำดับ ที่ | B6: หลักสูตร | C6: สาขา | D6: ชั่วโมงฝึก | E6: สถานที่ฝึก | F6: ระยะเวลาฝึก | G6: จำนวนผู้รับการฝึก | I6: จำนวนผู้ผ่านการฝึก | K6: หมายเหตุ
D7: (ชม.) | G7: ชาย(คน) | H7: หญิง(คน) | I7: ชาย(คน) | J7: หญิง(คน)
A8: 1 | B8: เตรียมเข้าทำงาน | C8: ช่างซ่อมรถจักรยานยนต์ | D8: 920 | E8: ศพจ.ยโสธร | F8: 10 ต.ค. 59 - 5 เม.ย. 60 | G8: 12 | H8: -
A9: 2 | B9: เตรียมเข้าทำงาน | C9: ช่างซ่อมเครื่องยนต์ | D9: 920 | E9: ศพจ.ยโสธร | F9: 10 ต.ค. 59 - 5 เม.ย. 60 | G9: 8 | H9: -
F11: รวม | G11: =SUM(G8:G10) -> 20 | H11: =SUM(H8:H10) -> 0 | I11: =SUM(I8:I10) -> 0 | J11: =SUM(J8:J10) -> 0
G12: =SUM(G11:H11) -> 20 | I12: =SUM(I11:J11) -> 0
A14: 1 | B14: ยกระดับ
A15: 2
A16: 3
A17: 4
F18: รวม | G18: =SUM(G14:G17) -> 0 | H18: =SUM(H14:H17) -> 0 | I18: =SUM(I14:I17) -> 0 | J18: =SUM(J14:J17) -> 0
G19: =SUM(G18:H18) -> 0 | I19: =SUM(I18:J18) -> 0

Sheet ท่องเที่ยว
A1: แผนงาน พัฒนาและยกระดับผลิตภาพแรงงาน
A2: โครงการ พัฒนาศักยภาพแรงงานรองรับภาคอุตสาหกรรมและบริการเพื่อการแข่งขัน
A3: กิจกรรม ฝึกอบรมฝีมือแรงงานรองรับภาคอุตสาหกรรมและบริการ
A4: รายการ ฝึกอบรมฝีมือแรงงานไทยเพื่อส่งเสริมความสามารถของภาคบริการและการท่องเที่ยว
A6: ลำดับ ที่ | B6: หลักสูตร | C6: สาขา | D6: ชั่วโมงฝึก | E6: สถานที่ฝึก | F6: ระยะเวลาฝึก | G6: จำนวนผู้รับการฝึก | I6: จำนวนผู้ผ่านการฝึก | K6: หมายเหตุ
D7: (ชม.) | G7: ชาย(คน) | H7: หญิง(คน) | I7: ชาย(คน) | J7: หญิง(คน)
A8: 1 | B8: เตรียมเข้าทำงาน | C8: ช่างแต่งผมสตรี | D8: 420 | E8: ศพจ.ยโสธร | F8: 10 ต.ค. 59 - 12 ม.ค. 60 | G8: 4 | H8: 17
A9: 2 | B9: เตรียมเข้าทำงาน | C9: นวดไทยและยวดเท้าเพื่อสุขภาพ | D9: 449 | E9: ศพจ.ยโสธร | F9: 10 ต.ค. 59 - 18 ม.ค. 60 | G9: 1 | H9: 23
F11: รวม | G11: =SUM(G8:G10) -> 5 | H11: =SUM(H8:H10) -> 40 | I11: =SUM(I8:I10) -> 0 | J11: =SUM(J8:J10) -> 0
G12: =SUM(G11:H11) -> 45 | I12: =SUM(I11:J11) -> 0
A14: 1 | B14: ยกระดับ | C14: การพัฒนาทีมงานเพื่อความเป็นเลิศ | D14: 18 | E14: ศพจ.ยโสธร | F14: 3 - 5 ธันวาคม 2559 | G14: 16 | H14: 34 | I14: 16 | J14: 34
A15: 2 | B15: ยกระดับ | C15: การพัฒนาทีมงานเพื่อความเป็นเลิศ | D15: 18 | E15: ศพจ.ยโสธร | F15: 3 - 5 ธันวาคม 2559 | G15: 19 | H15: 31 | I15: 19 | J15: 31
A16: 3
A17: 4
F18: รวม | G18: =SUM(G14:G17) -> 35 | H18: =SUM(H14:H17) -> 65 | I18: =SUM(I14:I17) -> 35 | J18: =SUM(J14:J17) -> 65
G19: =SUM(G18:H18) -> 100 | I19: =SUM(I18:J18) -> 100

Sheet ภาคอุตสาหกรรม
A1: แผนงาน พัฒนาและยกระดับผลิตภาพแรงงาน
A2: โครงการ พัฒนาศักยภาพแรงงานรองรับภาคอุตสาหกรรมและบริการเพื่อการแข่งขัน
A3: กิจกรรม ฝึกอบรมฝีมือแรงงานรองรับภาคอุตสาหกรรมและบริการ
A4: รายการ ฝึกอบรมฝีมือแรงงานไทยขับเคลื่อนการแข่งขันภาคอุตสาหกรรม
A6: ลำดับ ที่ | B6: หลักสูตร | C6: สาขา | D6: ชั่วโมงฝึก | E6: สถานที่ฝึก | F6: ระยะเวลาฝึก | G6: จำนวนผู้รับการฝึก | I6: จำนวนผู้ผ่านการฝึก | K6: หมายเหตุ
D7: (ชม.) | G7: ชาย(คน) | H7: หญิง(คน) | I7: ชาย(คน) | J7: หญิง(คน)
A8: 1 | B8: เตรียมเข้าทำงาน | C8: ช่างเครื่องทำความเย็นและปรับ | D8: 700 | E8: ศพจ.ยโสธร | F8: 10 ต.ค. 59 - 5 มี.ค. 60 | G8: 15 | H8: -
C9: อากาศในบ้านและการพาณิชย์
C10: ขนาดเล็ก
A11: 2 | B11: " | C11: ช่างซ่อมไมโครคอมพิวเตอร์ | D11: 840 | E11: ศพจ.ยโสธร | F11: 10 ต.ค. 59 - 5 เม.ย. 60 | G11: 6 | H11: 2
F13: รวม | G13: =SUM(G8:G12) -> 21 | H13: =SUM(H8:H12) -> 2 | I13: =SUM(I8:I12) -> 0 | J13: =SUM(J8:J12) -> 0
G14: =SUM(G13:H13) -> 23 | I14: =SUM(I13:J13) -> 0
A16: 1 | B16: ยกระดับฝีมือ | C16: การซ่อมบำรุงระบบเครือข่าย | D16: 30 | E16: ศพจ.ยโสธร | F16: 31 ต.ค. 59 - 4 พ.ย. 59 | G16: 14 | H16: 11 | I16: 13 | J16: 9
C17: คอมพิวเตอร์
A18: 2 | B18: " | C18: ช่างไฟฟ้าภายในอาคาร | D18: 18 | E18: ศพจ.ยโสธร | F18: 18 - 20 พ.ย. 59 | G18: 20 | H18: - | I18: 20 | J18: -
F21: รวม | G21: =SUM(G16:G20) -> 34 | H21: =SUM(H16:H20) -> 11 | I21: =SUM(I16:I20) -> 33 | J21: =SUM(J16:J20) -> 9
G22: =SUM(G21:H21) -> 45 | I22: =SUM(I21:J21) -> 42

Sheet ส่งเสริมการประกอบอาชีพ
A1: ผลผลิตที่ 1 พัฒนาศักยภาพฝีมือแรงงานทั้งระบบให้สอดคล้องกับความต้องการของตลาด
A2: กิจกรรม พัฒนาฝีมือเพื่อส่งเสริมการประกอบอาชีพ
A4: กลุ่มทหารก่อนปลดประจำการ
A5: ลำดับ ที่ | B5: หลักสูตร | C5: สาขา | D5: ชั่วโมงฝึก | E5: สถานที่ฝึก | F5: ระยะเวลาฝึก | G5: จำนวนผู้รับการฝึก | I5: จำนวนผู้ผ่านการฝึก | K5: หมายเหตุ
D6: (ชม.) | G6: ชาย(คน) | H6: หญิง(คน) | I6: ชาย(คน) | J6: หญิง(คน)
A7: 1 | B7: อาชีพเสริม | C7: การซ่อมบำรุงอุปกรณ์ไฟฟ้า | D7: 30 | E7: กรมทหารราบที่ 16 | F7: 20 - 24 ต.ค. 59 | G7: 46 | H7: - | I7: 46
A8: 2 | B8: " | C8: เทคนิคการติดตั้งจานดาวเทียม | D8: 30 | E8: " | F8: 20 - 24 ต.ค. 59 | G8: 36 | H8: - | I8: 36 | J8: -
A9: 3 | B9: " | C9: ช่างซ่อมเครื่องยนต์เล็กเพื่อ | D9: 30 | E9: " | F9: 20 - 24 ต.ค. 59 | G9: 40 | H9: - | I9: 40 | J9: -
C10: การเกษตร
A11: 4 | B11: " | C11: ช่างปูกระเบื้อง | D11: 30 | E11: " | F11: 20 - 24 ต.ค. 59 | G11: 31 | H11: - | I11: 31
A12: 5 | B12: " | C12: การทาสีอาคาร | D12: 30 | E12: " | F12: 20 - 24 ต.ค. 59 | G12: 28 | H12: - | I12: 28 | J12: -
F16: รวม | G16: =SUM(G7:G15) -> 181 | H16: =SUM(H7:H15) -> 0 | I16: =SUM(I7:I15) -> 181 | J16: =SUM(J7:J15) -> 0
G17: =SUM(G16:H16) -> 181 | I17: =SUM(I16:J16) -> 181
A23: กลุ่มแรงงานนอกระบบ
A24: ลำดับ ที่ | B24: หลักสูตร | C24: สาขา | D24: ชั่วโมงฝึก | E24: สถานที่ฝึก | F24: ระยะเวลาฝึก | G24: จำนวนผู้รับการฝึก | I24: จำนวนผู้ผ่านการฝึก | K24: หมายเหตุ
D25: (ชม.) | G25: ชาย(คน) | H25: หญิง(คน) | I25: ชาย(คน) | J25: หญิง(คน)
A26: 1 | B26: อาชีพเสริม | C26: การทำตะกร้าจากเส้นเชือกฟาง | D26: 30 | E26: บ.ดงจงอาง ต.บึงแก | F26: 26 - 30 ต.ค. 59 | G26: - | H26: 20 | I26: - | J26: 20
E27: อ.มหาชนะชัย
A28: 2 | B28: อาชีพเสริม | C28: การทำตะกร้าจากเส้นเชือกฟาง | D28: 30 | E28: บ.หนองเทา | F28: 1 - 5 พ.ย. 59 | G28: - | H28: 21 | I28: - | J28: 21
E29: ต.นาแก อ.มหาชนะชัย
A30: 3 | B30: อาชีพเสริม | C30: การทำกระเป๋าจากเชือกร่ม | D30: 30 | E30: บ.ทรัพย์เจริญ | F30: 1 - 5 พ.ย. 59 | G30: - | H30: 20 | I30: - | J30: 20
E31: ต.คำไผ่ อ.ไทบเจริญ
F33: รวม | G33: =SUM(G26:G32) -> 0 | H33: =SUM(H26:H32) -> 61 | I33: =SUM(I26:I32) -> 0 | J33: =SUM(J26:J32) -> 61
G34: =SUM(G33:H33) -> 61 | I34: =SUM(I33:J33) -> 61
A42: กลุ่มเกษตรกรที่ต้องการฝึกสาขาช่างและบริการ
A43: ลำดับ ที่ | B43: หลักสูตร | C43: สาขา | D43: ชั่วโมงฝึก | E43: สถานที่ฝึก | F43: ระยะเวลาฝึก | G43: จำนวนผู้รับการฝึก | I43: จำนวนผู้ผ่านการฝึก | K43: หมายเหตุ
D44: (ชม.) | G44: ชาย(คน) | H44: หญิง(คน) | I44: ชาย(คน) | J44: หญิง(คน)
A45: 1 | B45: อาชีพเสริม | C45: การเย็บจักรอุตสาหกรรม | D45: 60 | E45: บ.โนนเปือย | F45: 27 ต.ค. - 5 พ.ย. 59 | G45: - | H45: 24 | I45: - | J45: 23
E46: ต.โนนเปือย อ.กุดชุม
A47: 2 | B47: " | C47: การเดินสายไฟฟ้าภายในอาคาร | D47: 30 | E47: วัดบ้านขั้นไดใหญ่ | F47: 10 - 14 พ.ย. 59 | G47: 20 | H47: - | I47: 20 | J47: -
E48: ต. ขั้นไดใหญ่ อ.เมือง
F51: รวม | G51: =SUM(G45:G50) -> 20 | H51: =SUM(H45:H50) -> 24 | I51: =SUM(I45:I50) -> 20 | J51: =SUM(J45:J50) -> 23
G52: =SUM(G51:H51) -> 44 | I52: =SUM(I51:J51) -> 43

Sheet ทดสอบ
A1: โครงการ พัฒนาศักยภาพแรงงานรองรับภาคอุตสาหกรรมและบริการเพื่อการแข่งขัน
A2: กิจกรรม กิจกรรมหลัก : ทดสอบมาตรฐานฝีมือแรงงาน
A3: รายการ พัฒนาศักยภาพแรงงานเพื่อรองรับการจ่ายค่าจ้างตามมาตรฐานฝีมือ
A5: ลำดับ ที่ | B5: สาขา | C5: ระดับ | D5: สถานที่ทดสอบ | E5: ช่วงวันที่ทดสอบ | F5: จำนวนผู้เข้าทดสอบ | H5: จำนวนผู้ผ่านการทดสอบ | J5: หมายเหตุ
F6: ชาย(คน) | G6: หญิง(คน) | H6: ชาย(คน) | I6: หญิง(คน)
A7: แรงงานทั่วไป หรือนักศึกษาที่จบการศึกษาระดับ ปวช.ขึ้นไป
A8: 1 | B8: ช่างไฟฟ้าภายในอาคาร | C8: 1 | D8: ศพจ.ยโสธร | E8: 21843 | F8: 11 | G8: - | H8: 11 | I8: -
A9: 2 | B9: ช่างไฟฟ้าภายในอาคาร | C9: 1 | D9: ศพจ.ยโสธร | E9: 24 - 25 ต.ค. 59 | F9: 15 | G9: - | H9: 15 | I9: -
A10: 3 | B10: ช่างไฟฟ้าภายในอาคาร | C10: 1 | D10: ศพจ.ยโสธร | E10: 21850 | F10: 13 | G10: - | H10: 13 | I10: -
A11: 4 | B11: ช่างตัดเย็บเสื้อผ้าสตรี | C11: 1 | D11: ศพจ.ยโสธร | E11: 8 พ.ย. 59 | F11: - | G11: 6 | H11: - | I11: 4
A12: 5 | B12: ช่างไฟฟ้าภายในอาคาร | C12: 1 | D12: ศพจ.ยโสธร | E12: 12 พ.ย. 59 | F12: 1 | G12: - | H12: 1 | I12: -
A13: 6 | B13: ช่างไฟฟ้าภายในอาคาร | C13: 1 | D13: ศพจ.ยโสธร | E13: 6 ธ.ค. 59 | F13: 3 | G13: - | H13: 3 | I13: -
F17: =SUM(F8:F16) -> 43 | G17: =SUM(G8:G16) -> 6 | H17: =SUM(H8:H16) -> 43 | I17: =SUM(I8:I16) -> 4
E18: รวม | F18: =SUM(F17:G17) -> 49 | H18: =SUM(H17:I17) -> 47

Sheet รองรับการจ่ายค่าจ้าง
A1: โครงการ พัฒนาศักยภาพแรงงานรองรับภาคอุตสาหกรรมและบริการเพื่อการแข่งขัน
A2: กิจกรรม กิจกรรมหลัก : ทดสอบมาตรฐานฝีมือแรงงาน
A3: รายการ พัฒนาศักยภาพแรงงานเพื่อรองรับการจ่ายค่าจ้างตามมาตรฐานฝีมือ
A5: ลำดับ ที่ | B5: หลักสูตร | C5: สาขา | D5: ชั่วโมงฝึก | E5: สถานที่ฝึก | F5: ระยะเวลาฝึก | G5: จำนวนผู้รับการฝึก | I5: จำนวนผู้ผ่านการฝึก | K5: หมายเหตุ
D6: (ชม.) | G6: ชาย(คน) | H6: หญิง(คน) | I6: ชาย(คน) | J6: หญิง(คน)
A7: 1 | B7: ยกระดับฝีมือ | C7: ช่างไฟฟ้าภายในอาคาร ระดับ 1 | D7: 18 | E7: ศพจ.ยโสธร | F7: 22 - 24 ต.ค. 59 | G7: 29 | H7: 3 | I7: 29 | J7: 3
A8: 2 | B8: " | C8: ช่างไฟฟ้าภายในอาคาร ระดับ 1 | D8: 18 | E8: ศพจ.ยโสธร | F8: 5 - 7 พ.ย. 59 | G8: 22 | H8: - | I8: 18 | J8: -
A9: 3 | B9: " | C9: ช่างไฟฟ้าภายในอาคาร ระดับ 1 | D9: 18 | F9: 26 - 28 พ.ย. 59 | G9: 23 | H9: 1 | I9: 14 | J9: 1
F15: รวม | G15: =SUM(G7:G14) -> 74 | H15: =SUM(H7:H14) -> 4 | I15: =SUM(I7:I14) -> 61 | J15: =SUM(J7:J14) -> 4
G16: =SUM(G15:H15) -> 78 | I16: =SUM(I15:J15) -> 65
