Workbook

Sheet ActionPlan2558
A1: ปฏิทินแผนปฏิบัติการ (Action Plan Schedule) ประจำปีงบประมาณ พ.ศ.2558
A2: สถาบันพัฒนาฝีมือแรงงาน ภาค 6 ขอนแก่น
A3: ผลผลิต/กิจกรรมหลัก/หลักสูตรสาขาการฝึก | B3: ผู้รับผิดชอบ | C3: เป้าหมายดำเนินงาน
C4: พ.ศ.2557 | F4: พ.ศ.2558
C5: ตุลาคม | D5: พฤศจิกายน | E5: ธันวาคม | F5: มกราคม | G5: กุมภาพันธ์ | H5: มีนาคม | I5: เมษายน | J5: พฤษภาคม | K5: มิถุนายน | L5: กรกฎาคม | M5: สิงหาคม | N5: กันยายน
A6: รวมเป้าหมายทั้งสิ้น | B6: =B7+B8 -> 12893
A7: สถาบันพัฒนาฝีมือแรงงานภาค 6 ขอนแก่น ดำเนินการเอง | B7: =SUM(C7:N7) -> 5393 | C7: =C12+C29+C31+C44+C54+C85+C103+C113+C163+C177+C187+C193+C195+C197+C199+C306+C318+C326 -> 221 | D7: =D12+D29+D31+D44+D54+D85+D103+D113+D163+D177+D187+D193+D195+D197+D199+D306+D318+D326 -> 1288 | E7: =E12+E29+E31+E44+E54+E85+E103+E113+E163+E177+E187+E193+E195+E197+E199+E306+E318+E326 -> 1110 | F7: =F12+F29+F31+F44+F54+F85+F103+F113+F163+F177+F187+F193+F195+F197+F199+F306+F318+F326 -> 382 | G7: =G12+G29+G31+G44+G54+G85+G103+G113+G163+G177+G187+G193+G195+G197+G199+G306+G318+G326 -> 734 | H7: =H12+H29+H31+H44+H54+H85+H103+H113+H163+H177+H187+H193+H195+H197+H199+H306+H318+H326 -> 424 | I7: =I12+I29+I31+I44+I54+I85+I103+I113+I163+I177+I187+I193+I195+I197+I199+I306+I318+I326 -> 106 | J7: =J12+J29+J31+J44+J54+J85+J103+J113+J163+J177+J187+J193+J195+J197+J199+J306+J318+J326 -> 532 | ... N7: =N12+N29+N31+N44+N54+N85+N103+N113+N163+N177+N187+N193+N195+N197+N199+N306+N318+N326 -> 0
A8: เอกชน/สถานประกอบการดำเนินการ (คน) | B8: =SUM(C8:N8) -> 7500 | C8: =C303 -> 0 | D8: =D303 -> 750 | E8: =E303 -> 750 | F8: =F303 -> 750 | G8: =G303 -> 750 | H8: =H303 -> 750 | I8: =I303 -> 750 | J8: =J303 -> 750 | ... N8: =N303 -> 0
A9: ผลผลิต 2 : เพิ่มประสิทธิภาพของแรงงานรองรับประชาคมอาเซียน
A10: กิจกรรมหลัก 2.2 : เพิ่มขีดความสามารถของแรงงานรองรับประชาคมอาเซียน | B10: =SUM(B12:B54) -> 1244
A11: (1) รายการ พัฒนาขีดความสามารถด้านภาษาให้แก่แรงงานไทยเพื่อรองรับประชาคมอาเซียน (พัฒนาทักษะด้านภาษาเพื่อเพิ่มศักยภาพในการแข่งขันรองรับอาเซียนพลัสทรี (ASEAN + Summit)
A12: - ฝึกยกระดับฝีมือแรงงาน | B12: =SUM(C12:N12) -> 300 | C12: =SUM(C13:C27) -> 60 | D12: =SUM(D13:D27) -> 100 | E12: =SUM(E13:E27) -> 20 | F12: =SUM(F13:F27) -> 20 | G12: =SUM(G13:G27) -> 0 | H12: =SUM(H13:H27) -> 40 | I12: =SUM(I13:I27) -> 0 | J12: =SUM(J13:J27) -> 40 | ... N12: =SUM(N13:N27) -> 0
A13: ภาษาและวัฒนธรรมเกาหลีเบื้องต้นก่อนเดินทางไปทำงานสาธารณรัฐเกาหลีตามระบบการจ้างงานอรงงานต่างชาติ (45 ชั่วโมง) | B13: ปส. | C13: 20
A14: ภาษาและวัฒนธรรมเกาหลีเบื้องต้นก่อนเดินทางไปทำงานสาธารณรัฐเกาหลีตามระบบการจ้างงานอรงงานต่างชาติ (45 ชั่วโมง) | B14: ปส. | C14: 20
A15: ภาษาและวัฒนธรรมเกาหลีเบื้องต้นก่อนเดินทางไปทำงานสาธารณรัฐเกาหลีตามระบบการจ้างงานอรงงานต่างชาติ (45 ชั่วโมง) | B15: ปส. | D15: 20
A16: ภาษาและวัฒนธรรมเกาหลีเบื้องต้นก่อนเดินทางไปทำงานสาธารณรัฐเกาหลีตามระบบการจ้างงานอรงงานต่างชาติ (45 ชั่วโมง) | B16: ปส. | D16: 20
A17: ภาษาอังกฤษเพื่อการทำงาน (30 ชั่วโมง) | B17: สส. | C17: 20
A18: ภาษาอังกฤษเพื่อการสื่อสาร (30 ชั่วโมง) | B18: สส. | D18: 20
A19: ภาษาอังกฤษเพื่อการสื่อสาร (30 ชั่วโมง) | B19: สส. | H19: 20
A20: ภาษาอังกฤษเพื่อการสื่อสาร (30 ชั่วโมง) | B20: สส. | J20: 20
A21: ภาษาอังกฤษเพื่อการสื่อสาร (30 ชั่วโมง) | B21: กท. | F21: 20
A22: ภาษาอังกฤษเพื่อการสื่อสาร (30 ชั่วโมง) | B22: กท. | H22: 20
A23: ภาษาพม่าเพื่อการสื่อสาร (30 ชั่วโมง) | B23: กท. | J23: 20
A24: ภาษาอังกฤษเพื่อการทำงาน (30 ชั่วโมง) | B24: กท. | L24: 20
A25: ภาษาอังกฤษคำต่อคำเพื่อการทำงานระดับ ๑ (30 ชั่วโมง) | B25: ปชส. | D25: 20
A26: ภาษาอังกฤษคำต่อคำเพื่อการทำงานระดับ ๑ (30 ชั่วโมง) | B26: ปชส. | D26: 20
A27: ภาษาอังกฤษคำต่อคำเพื่อการทำงานระดับ ๒ (30 ชั่วโมง) | B27: ปชส. | E27: 20
A28: (4) รายการ ฝึกอบรมผู้ประกอบอาหารรองรับครัวไทยสู่ครัวโลก
A29: - ฝึกเตรียมเข้าทำงาน | B29: =SUM(C29:N29) -> 16 | C29: =C30 -> 0 | D29: =D30 -> 0 | E29: =E30 -> 0 | F29: =F30 -> 0 | G29: =G30 -> 16 | H29: =H30 -> 0 | I29: =I30 -> 0 | J29: =J30 -> 0 | ... N29: =N30 -> 0
A30: การประกอบอาหารไทย (280 ชั่วโมง) | B30: ธบ. | G30: 16
A31: - ฝึกยกระดับฝีมือแรงงาน | B31: =SUM(C31:N31) -> 212 | C31: =SUM(C32:C42) -> 0 | D31: =SUM(D32:D42) -> 60 | E31: =SUM(E32:E42) -> 20 | F31: =SUM(F32:F42) -> 0 | G31: =SUM(G32:G42) -> 80 | H31: =SUM(H32:H42) -> 0 | I31: =SUM(I32:I42) -> 0 | J31: =SUM(J32:J42) -> 52 | ... N31: =SUM(N32:N42) -> 0
A32: 10 เมนูอาหารไทยยอดนิยม (30 ชั่วโมง) | B32: ธบ. | D32: 20
A33: การทำขนมไทย (30 ชั่วโมง) | B33: ธบ. | D33: 20
A34: การประกอบอาหารไทย (30 ชั่วโมง) | B34: ธบ. | G34: 20
A35: การประกอบอาหารว่าง (30 ชั่วโมง) | B35: ธบ. | G35: 20
A36: การประกอบอาหารอบ (30 ชั่วโมง) | B36: ธบ. | G36: 20
A37: การประกอบอาหารตามสั่ง (30 ชั่วโมง) | B37: ธบ. | J37: 16
A38: พนักงานบริการเสริฟอาหาร (จำนวน 30 ชั่วโมง) | B38: ธบ. | J38: 16
A39: การประกอบอาหารไทย (30 ชั่วโมง) | B39: ฟฟ. | D39: 20
A40: การประกอบอาหารไทย (30 ชั่วโมง) | B40: ฟฟ. | E40: 20
A41: การประกอบอาหารไทย (30 ชั่วโมง) | B41: ฟฟ. | G41: 20
A42: การประกอบอาหารไทย (30 ชั่วโมง) | B42: ฟฟ. | J42: 20
A43: (6) รายการ พัฒนาศักยภาพแรงงานไทยเพื่อส่งเสริมความสามารถของภาคบริการและการท่องเที่ยวสู่รายได้และการแข่งขัน
A44: - ฝึกเตรียมเข้าทำงาน | B44: =SUM(C44:N44) -> 144 | C44: =SUM(C45:C53) -> 0 | D44: =SUM(D45:D53) -> 32 | E44: =SUM(E45:E53) -> 16 | F44: =SUM(F45:F53) -> 0 | G44: =SUM(G45:G53) -> 48 | H44: =SUM(H45:H53) -> 0 | I44: =SUM(I45:I53) -> 0 | J44: =SUM(J45:J53) -> 48 | ... N44: =SUM(N45:N53) -> 0
A45: ช่างแต่งผมสตรี (ระดับต้น) 280 ชั่วโมง | B45: ชอก. | D45: 16
A46: ช่างแต่งผมสตรี (ระดับต้น) 280 ชั่วโมง | B46: ชอก. | G46: 16
A47: ช่างแต่งผมสตรี (ระดับต้น) 280 ชั่วโมง | B47: ชอก. | J47: 16
A48: พนักงานนวดแผนไทย 280 ชั่วโมง) | B48: ชอก. | D48: 16
A49: พนักงานนวดแผนไทย 280 ชั่วโมง) | B49: ชอก. | G49: 16
A50: พนักงานนวดแผนไทย 280 ชั่วโมง) | B50: ชอก. | J50: 16
A51: พนักงานบริการอาหารและเครื่องดื่ม (280 ชั่วโมง) | B51: ชอก. | E51: 16
A52: พนักงานบริการอาหารและเครื่องดื่ม (280 ชั่วโมง) | B52: ชอก. | G52: 16
A53: พนักงานบริการอาหารและเครื่องดื่ม (280 ชั่วโมง) | B53: ชอก. | J53: 16
A54: - ฝึกยกระดับฝีมือแรงงาน | B54: =SUM(C54:N54) -> 572 | C54: =SUM(C55:C83) -> 0 | D54: =SUM(D55:D83) -> 180 | E54: =SUM(E55:E83) -> 160 | F54: =SUM(F55:F83) -> 20 | G54: =SUM(G55:G83) -> 112 | H54: =SUM(H55:H83) -> 20 | I54: =SUM(I55:I83) -> 0 | J54: =SUM(J55:J83) -> 40 | ... N54: =SUM(N55:N83) -> 0
A55: การสร้างการบริการที่ประทับใจ (30 ชั่วโมง) | B55: คก. | D55: 20
A56: การสร้างการบริการที่ประทับใจ (30 ชั่วโมง) | B56: คก. | D56: 20
A57: การสร้างการบริการที่ประทับใจ (30 ชั่วโมง) | B57: คก. | E57: 20
A58: การสร้างการบริการที่ประทับใจ (30 ชั่วโมง) | B58: คก. | E58: 20
A59: การสร้างจิตบริการ (30 ชั่วโมง) | B59: ฟฟ. | D59: 20
A60: การสร้างจิตบริการ (30 ชั่วโมง) | B60: ฟฟ. | E60: 20
A61: การสร้างจิตบริการ (30 ชั่วโมง) | B61: ฟฟ. | G61: 20
A62: การสร้างจิตบริการ (30 ชั่วโมง) | B62: ฟฟ. | J62: 20
A63: ภาษาอังกฤษสำหรับงานบริการ (30 ชั่วโมง) | B63: ชก. | D63: 20
A64: ภาษาอังกฤษสำหรับงานบริการ (30 ชั่วโมง) | B64: ชก. | D64: 20
A65: ภาษาอังกฤษสำหรับงานบริการ (30 ชั่วโมง) | B65: ชก. | G65: 20
A66: ภาษาอังกฤษสำหรับงานบริการ (30 ชั่วโมง) | B66: ชก. | H66: 20
A67: ฝึกภาษาอังกฤษเพื่อการสื่อสาร (30 ชั่วโมง) | B67: ชอก. | F67: 20
A68: ฝึกภาษาอังกฤษเพื่อการสื่อสาร (30 ชั่วโมง) | B68: ชอก. | G68: 20
A69: ฝึกภาษาอังกฤษเพื่อการสื่อสาร (30 ชั่วโมง) | B69: ชช. | J69: 20
A70: ฝึกภาษาอังกฤษเพื่อการสื่อสาร (30 ชั่วโมง) | B70: ชช. | K70: 20
A71: กลุ่มสาขาอาชีพด้านภาษา (30 ชั่วโมง) | B71: กส. | E71: 20
A72: กลุ่มสาขาอาชีพด้านภาษา (30 ชั่วโมง) | B72: กส. | E72: 20
A73: กลุ่มสาขาอาชีพด้านภาษา (30 ชั่วโมง) | B73: กส. | E73: 20
A74: กลุ่มสาขาอาชีพด้านภาษา (30 ชั่วโมง) | B74: กส. | G74: 20
A75: การพัฒนาศักยภาพครูฝึกและพี่เลี้ยงในสถานประกอบการ (30 ชั่วโมง) | B75: ปส. | D75: 20
A76: การสร้างบริการที่ประทับใจ (30 ชั่วโมง) | B76: สส. | K76: 20
A77: ภาษาอังกฤษคำต่อคำเพื่อการทำงานระดับ 2 (30 ชั่วโมง) | B77: ปชส. | G77: 16
A78: ภาษาอังกฤษคำต่อคำเพื่อการทำงานระดับ 2 (30 ชั่วโมง) | B78: ปชส. | G78: 16
A79: 9 พฤติกรรม 9 สู่ความสำเร็จ (30 ชั่วโมง) | B79: ปมฐ. | D79: 20
A80: 9 พฤติกรรม 9 สู่ความสำเร็จ (30 ชั่วโมง) | B80: ปมฐ. | E80: 20
A81: การสร้างบริการที่ประทับใจ (30 ชั่วโมง) | B81: ปมฐ. | D81: 20
A82: การสร้างบริการที่ประทับใจ (30 ชั่วโมง) | B82: ปมฐ. | E82: 20
A83: การเป็นหัวหน้างาน (30 ชั่วโมง) | B83: ปมฐ. | D83: 20
A84: (7) รายการ เพิ่มศักยภาพแรงงานไทยขับเคลื่อนการแข่งขันของภาคอุตสาหกรรมในการเข้าสู่ประชาคมอาเซียน
A85: - ฝึกยกระดับฝีมือแรงงาน | B85: =SUM(C85:N85) -> 320 | C85: =SUM(C86:C101) -> 0 | D85: =SUM(D86:D101) -> 60 | E85: =SUM(E86:E101) -> 60 | F85: =SUM(F86:F101) -> 80 | G85: =SUM(G86:G101) -> 80 | H85: =SUM(H86:H101) -> 0 | I85: =SUM(I86:I101) -> 0 | J85: =SUM(J86:J101) -> 20 | ... N85: =SUM(N86:N101) -> 0
A86: การควบคุมเครื่องกลึง (CNC) ระดับ 1 | B86: ศทส. | D86: 20
A87: การควบคุมเครื่องกลึง (CNC) ระดับ 1 | B87: ศทส. | E87: 20
A88: การควบคุมเครื่องกลึง (CNC) ระดับ 2 | B88: ศทส. | F88: 20
A89: การควบคุมเครื่องกลึง (CNC) ระดับ 2 | B89: ศทส. | G89: 20
A90: การควบคุมเครื่องกัด (CNC) ระดับ 1 | B90: ศทส. | D90: 20
A91: การควบคุมเครื่องกัด (CNC) ระดับ 1 | B91: ศทส. | E91: 20
A92: การควบคุมเครื่องกัด (CNC) ระดับ 2 | B92: ศทส. | F92: 20
A93: การควบคุมเครื่องกัด (CNC) ระดับ 2 | B93: ศทส. | G93: 20
A94: เขียนแบบเครื่องกลด้วยคอมพิวเตอร์ ระดับ 1 | B94: ศทส. | D94: 20
A95: เขียนแบบเครื่องกลด้วยคอมพิวเตอร์ ระดับ 1 | B95: ศทส. | F95: 20
A96: เขียนแบบเครื่องกลด้วยคอมพิวเตอร์ ระดับ 1 | B96: ศทส. | G96: 20
A97: เขียนแบบเครื่องกลด้วยคอมพิวเตอร์ ระดับ 1 | B97: ศทส. | J97: 20
A98: เขียนแบบเครื่องกลด้วยคอมพิวเตอร์ ระดับ 1 | B98: ศทส. | K98: 20
A99: เขียนแบบเครื่องกลด้วยคอมพิวเตอร์ ระดับ 2 | B99: ศทส. | E99: 20
A100: เขียนแบบเครื่องกลด้วยคอมพิวเตอร์ ระดับ 2 | B100: ศทส. | G100: 20
...

Sheet Control
A2: สถาบันพัฒนาฝีมือแรงงาน ภาค 6 ขอนแก่น
A3: ผลผลิต/กิจกรรมหลัก/หลักสูตรสาขาการฝึก | B3: ผู้รับผิดชอบ | C3: จำนวนผู้รับการฝึก | E3: ช่วงเวลาฝึก | G3: งบประมาณที่ใช้ (บาท) | K3: เลขอนุมัติ | L3: วันที่คุมยอด
C4: ชาย | D4: หญิง | E4: วันเปิดฝึก | F4: วันจบฝึก | G4: วิทยากร | H4: วัสดุ | I4: บริหารจัดการ | J4: อื่นๆ
A5: รวมผลงาน ณ ขณะนี้ | B5: =B6+B7 -> 4224 | C5: =C6+C7 -> 2650 | D5: =D6+D7 -> 1574
A6: ผลการดำเนินการโดย สพภ.6 ขอนแก่น (คน) | B6: =SUM(C6:D6) -> 4224 | C6: =C11+C31+C33+C49+C63+C99+C122+C154+C209+C224+C239+C248+C250+C259+C261+C382+C395+C403 -> 2650 | D6: =D11+D31+D33+D49+D63+D99+D122+D154+D209+D224+D239+D248+D250+D259+D261+D382+D395+D403 -> 1574
A7: ผลการดำเนินการโดยหน่วยงานเอกชน (คน) | B7: =SUM(C7:D7) -> 0 | C7: =C366 -> 0 | D7: =D366 -> 0
A8: ผลผลิต 2 : เพิ่มประสิทธิภาพของแรงงานรองรับประชาคมอาเซียน
A9: กิจกรรมหลัก 2.2 : เพิ่มขีดความสามารถของแรงงานรองรับประชาคมอาเซียน | B9: =SUM(B11:B63) -> 1403
A10: (1) รายการ พัฒนาขีดความสามารถด้านภาษาให้แก่แรงงานไทยเพื่อรองรับประชาคมอาเซียน (พัฒนาทักษะด้านภาษาเพื่อเพิ่มศักยภาพในการแข่งขันรองรับอาเซียนพลัสทรี (ASEAN + Summit)
A11: - ฝึกยกระดับฝีมือแรงงาน | B11: =SUM(C11:D11) -> 338 | C11: =SUM(C12:C29) -> 137 | D11: =SUM(D12:D29) -> 201 | G11: =SUM(G12:G29) -> 371400 | H11: =SUM(H12:H29) -> 34418 | I11: =SUM(I12:I29) -> 4980 | J11: =SUM(J12:J29) -> 3260
A12: ภาษาและวัฒนธรรมเกาหลีเบื้องต้นก่อนเดินทางไปทำงานสาธารณรัฐเกาหลีตามระบบการจ้างงานแรงงานต่างชาติ (45 ชั่วโมง) | B12: ปส. | C12: 20 | E12: 28/10/2557 | F12: 5/11/2557 | G12: 17700 | H12: 2209 | I12: 0 | J12: 745 | L12: วรรณนิสา
A13: ภาษาและวัฒนธรรมเกาหลีเบื้องต้นก่อนเดินทางไปทำงานสาธารณรัฐเกาหลีตามระบบการจ้างงานแรงงานต่างชาติ (45 ชั่วโมง) | B13: ปส. | C13: 21 | D13: 3 | E13: 28/10/2558 | F13: 5/11/2558 | G13: 17700 | H13: 2209 | I13: 0 | J13: 745 | L13: วรรณนิสา
A14: ภาษาและวัฒนธรรมเกาหลีเบื้องต้นก่อนเดินทางไปทำงานสาธารณรัฐเกาหลีตามระบบการจ้างงานแรงงานต่างชาติ (45 ชั่วโมง) | B14: ปส.
A15: ภาษาและวัฒนธรรมเกาหลีเบื้องต้นก่อนเดินทางไปทำงานสาธารณรัฐเกาหลีตามระบบการจ้างงานแรงงานต่างชาติ (45 ชั่วโมง) | B15: ปส.
A16: ภาษาอังกฤษคำต่อคำเพื่อการทำงาน ระดับ1(30 ชั่วโมง) | B16: สส. | C16: 8 | D16: 12 | E16: 10/11/2557 | F16: 14/11/2557 | G16: 24000 | H16: 2000 | I16: 420 | J16: 675 | L16: วรรณนิสา
A17: ภาษาอังกฤษคำต่อคำเพื่อการทำงาน ระดับ1(30 ชั่วโมง) | B17: สส. | C17: 9 | D17: 11 | E17: 8/12/2557 | F17: 12/12/2557 | G17: 24000 | H17: 2000 | I17: 420 | J17: 675 | K17: . | L17: วรรณนิสา
A18: ภาษาอังกฤษคำต่อคำเพื่อการทำงาน ระดับ1(30 ชั่วโมง) | B18: สส. | C18: 12 | D18: 8 | E18: 16/12/2557 | F18: 20/12/2557 | G18: 24000 | H18: 2000 | I18: 420 | L18: วรรณนิสา
A19: พูดอังกฤษคำต่อคำเพื่อการทำงาน ระดับ 1 (30 ชั่วโมง) | B19: สส. | C19: 6 | D19: 14 | E19: 16/2/2558 | F19: 20/2/2558 | G19: 24000 | H19: 2000 | I19: 420 | L19: 10/2/58
A20: ภาษาอังกฤษเพื่อการสื่อสาร (30 ชั่วโมง) | B20: กท. | C20: 2 | D20: 18 | E20: 19/1/2558 | F20: 23/1/2558 | G20: 24000 | H20: 2000 | I20: 660 | L20: 15/1/58
A21: ภาษาอังกฤษเพื่อการสื่อสาร (30 ชั่วโมง) | B21: กท. | C21: 1 | D21: 19 | E21: 16/2/2558 | F21: 20/2/2558 | G21: 24000 | H21: 2000 | I21: 660 | L21: 4/2/58
A22: ภาษาอังกฤษเพื่อการสื่อสาร (30 ชั่วโมง) | B22: กท. | C22: 6 | D22: 14 | E22: 9/3/2558 | F22: 19/3/2558 | G22: 24000 | H22: 2000 | I22: 660 | L22: 24/2/58
A23: ภาษาอังกฤษเพื่อการสื่อสาร (30 ชั่วโมง) | B23: กท. | C23: 2 | D23: 18 | E23: 15/6/2558 | F23: 19/6/2558 | G23: 24000 | H23: 2000 | L23: 28/6/58
A24: ภาษาอังกฤษเพื่อการทำงาน (30 ชั่วโมง) | B24: ปส. | C24: 12 | D24: 16 | E24: 23/6/2558 | F24: 27/6/2558 | G24: 24000 | H24: 2000 | L24: 19/6/58
A25: ภาษาอังกฤษคำต่อคำเพื่อการทำงาน (30 ชั่วโมง) | B25: ปชส. | D25: 20 | E25: 8/12/2557 | F25: 12/12/2557 | G25: 24000 | H25: 2000 | J25: 420 | L25: วรรณนิสา
A26: พูดอังกฤษคำต่อคำเพื่อการทำงาน ระดับ 1 (30 ชั่วโมง) | B26: กส | C26: 4 | D26: 20 | E26: 22/12/2557 | F26: 6/1/2558 | G26: 24000 | H26: 4000 | I26: 480 | L26: 12/12/57
A27: ภาษาอังกฤษคำต่อคำเพื่อการทำงาน (30 ชั่วโมง) | B27: ปชส. | C27: 7 | D27: 13 | E27: 25/12/2557 | F27: 29/12/2557 | G27: 24000 | H27: 2000 | I27: 420 | L27: 26/12/57
A28: พูดอังกฤษคำต่อคำเพื่อการทำงาน ระดับ 1 (30 ชั่วโมง) | B28: ปชส. | C28: 14 | D28: 6 | E28: 17/3/2558 | F28: 21/3/2558 | G28: 24000 | H28: 2000 | I28: 420 | L28: 12/3/58
A29: ภาษาอังกฤษเพื่อการทำงาน (30 ชั่วโมง) | B29: ปส. | C29: 13 | D29: 9 | E29: 17/8/2558 | F29: 21/8/2558 | G29: 24000 | H29: 2000 | L29: 7/8/58
A30: (4) รายการ ฝึกอบรมผู้ประกอบอาหารรองรับครัวไทยสู่ครัวโลก
A31: - ฝึกเตรียมเข้าทำงาน | B31: =C31+D31 -> 16 | C31: =C32 -> 3 | D31: =D32 -> 13 | G31: =G32 -> 36000 | H31: =H32 -> 48000 | I31: =I32 -> 0 | J31: =J32 -> 0
A32: การประกอบอาหารไทย (280 ชั่วโมง) | B32: ธบ. | C32: 3 | D32: 13 | E32: 2/2/2558 | F32: 31/3/2558 | G32: 36000 | H32: 48000 | L32: 2/2/58
A33: - ฝึกยกระดับฝีมือแรงงาน | B33: =C33+D33 -> 220 | C33: =SUM(C34:C47) -> 37 | D33: =SUM(D34:D47) -> 183 | G33: =SUM(G34:G47) -> 264000 | H33: =SUM(H34:H47) -> 160000 | I33: =SUM(I34:I47) -> 5340 | J33: =SUM(J34:J47) -> 0
A34: การทำขนมไทย (30 ชั่วโมง) | B34: ธบ. | D34: 20 | E34: 12/11/2557 | F34: 16/11/2557 | G34: 24000 | H34: 14000 | L34: วรรณนิสา
A35: การประกอบอาหารไทย (30 ชั่วโมง) | B35: ธบ. | C35: 11 | D35: 9 | E35: 23/2/2558 | F35: 27/2/2558 | G35: 24000 | H35: 20000 | I35: 800 | L35: 20/2/58
A36: การประกอบอาหารไทย (30 ชั่วโมง) | B36: ธบ. | C36: 12 | D36: 8 | E36: 16/3/2558 | F36: 20/3/2558 | G36: 24000 | H36: 14000 | I36: 1260 | L36: 12/3/58
A37: การประกอบอาหารไทย (30 ชั่วโมง) | B37: ธบ. | C37: 1 | D37: 19 | E37: 18/3/2558 | F37: 22/3/2558 | G37: 24000 | H37: 14000 | I37: 1020 | L37: 16/3/58
A38: การประกอบอาหารไทย (30 ชั่วโมง) | B38: ธบ. | D38: 20 | E38: 4/4/2558 | F38: 8/4/2558 | G38: 24000 | H38: 14000 | I38: 480 | L38: 2/4/58
A39: การประกอบอาหารไทย (30 ชั่วโมง) | B39: ธบ. | D39: 20 | E39: 13/5/2558 | F39: 17/5/2558 | G39: 24000 | H39: 14000 | I39: 480 | L39: 7/5/58
A40: การประกอบอาหารไทย (30 ชั่วโมง) | B40: ฟฟ. | C40: 13 | D40: 7 | E40: 11/5/2558 | F40: 15/5/2558 | G40: 24000 | H40: 14000 | K40: 3 มิ.ย.58 | L40: 11/5/58
A41: การประกอบอาหารไทย (30 ชั่วโมง) | B41: ฟฟ. | D41: 20 | E41: 1/7/2558 | F41: 5/7/2558 | G41: 24000 | H41: 14000 | L41: 29/6/58
A42: การประกอบอาหารไทย (30 ชั่วโมง) | B42: ธบ. | D42: 20 | E42: 7/7/2558 | F42: 11/7/2558 | G42: 24000 | H42: 14000 | L42: 2/7/58
A43: การประกอบอาหารไทย (30 ชั่วโมง) | B43: ธบ. | D43: 20 | E43: 13/7/2558 | F43: 17/7/2558 | G43: 24000 | H43: 14000 | I43: 820 | L43: 2/4/58
A44: การประกอบอาหารไทย (30 ชั่วโมง) | B44: ธบ. | D44: 20 | E44: 15/7/2558 | F44: 19/7/2558 | G44: 24000 | H44: 14000 | I44: 480 | L44: 10/7/58
A48: (6) รายการ พัฒนาศักยภาพแรงงานไทยเพื่อส่งเสริมความสามารถของภาคบริการและการท่องเที่ยวสู่รายได้และการแข่งขัน
A49: - ฝึกเตรียมเข้าทำงาน | B49: =C49+D49 -> 166 | C49: =SUM(C50:C62) -> 37 | D49: =SUM(D50:D62) -> 129 | G49: =SUM(G50:G62) -> 276070 | H49: =SUM(H50:H62) -> 255700 | I49: =SUM(I50:I62) -> 0 | J49: =SUM(J50:J62) -> 0
A50: ช่างแต่งผมสตรี (ระดับต้น) 280 ชั่วโมง | B50: ชอก. | D50: 16 | E50: 3/3/2558 | F50: 4/5/2558 | G50: 24900 | H50: 24000 | L50: 11/3/58
A51: ช่างแต่งผมสตรี (ระดับต้น) 280 ชั่วโมง | B51: ชอก. | C51: 2 | D51: 10 | E51: 25/5/2558 | F51: 20/7/2558 | G51: 27920 | H51: 19200 | L51: 5/6/58
A52: ช่างแต่งผมบุรุษ (ระดับต้น) 150 ชั่วโมง | B52: ชอก. | C52: 3 | D52: 11 | E52: 21/7/2558 | F52: 24/8/258 | G52: 19800 | H52: 11200 | L52: 21/7/58
A53: พนักงานนวดแผนไทย (280 ชั่วโมง) | B53: ชอก. | C53: 2 | D53: 14 | E53: 6/1/2558 | F53: 2/3/2558 | G53: 24000 | H53: 25600 | I53: - | J53: - | L53: 27/1/58
A54: พนักงานนวดแผนไทย (280 ชั่วโมง) | B54: ชอก. | D54: 15 | E54: 11/5/2558 | F54: 7/5/2558 | G54: 27920 | H54: 24000 | L54: 15/5/58
A55: พนักงานการโรงแรม (700 ชั่วโมง) | B55: ชอก. | C55: 3 | D55: 5 | E55: 9/4/2558 | F55: 7/9/2558 | G55: 35110 | L55: 21292
A56: การพาณิชย์อิเล็กทรอนิกส์ (140 ชั่วโมง) | B56: ฟฟ. | C56: 5 | E56: 9/3/2558 | F56: 3/4/2558 | H56: 4000 | L56: 11/3/58
A57: ผู้ประกอบอาหารไทย (280 ชั่วโมง) | B57: ชอก. | C57: 6 | D57: 11 | E57: 11/5/2558 | F57: 7/5/2558 | G57: 27920 | H57: 34000 | L57: 15/5/58
A58: ผู้ประกอบอาหารไทย (280 ชั่วโมง) | B58: ชอก. | C58: 5 | D58: 15 | E58: 13/7/2558 | F58: 9/9/2558 | G58: 36000 | H58: 48000 | L58: 14/7/58
A59: พนักงานนวดแผนไทย (280 ชั่วโมง) | B59: ชอก. | C59: 3 | D59: 24 | E59: 13/7/2558 | F59: 9/9/2558 | G59: 36000 | H59: 43200 | L59: 14/7/58
A60: ขนมอบเบื้องต้นและอาหารว่างไทย (150 ชั่วโมง) | B60: ชอก. | C60: 6 | D60: 7 | E60: 13/7/2558 | F60: 14/8/2558 | G60: 16500 | H60: 19500 | L60: 14/7/58
A61: การพาณิชย์อิเล็กทรอนิกส์ (150 ชั่วโมง) | B61: ชอก. | C61: 2 | D61: 1 | E61: 13/7/2558 | F61: 14/8/2558 | H61: 3000 | L61: 14/7/58
A63: - ฝึกยกระดับฝีมือแรงงาน | B63: =C63+D63 -> 663 | C63: =SUM(C64:C97) -> 310 | D63: =SUM(D64:D97) -> 353 | G63: =SUM(G65:G92) -> 604800 | H63: =SUM(H65:H92) -> 100540 | I63: =SUM(I64:I92) -> 1740 | J63: =SUM(J64:J92) -> 8440
A64: การพัฒนาทีมงานสมัยใหม่ (30 ชั่วโมง) | B64: คก. | C64: 9 | D64: 11 | E64: 3/11/2557 | F64: 7/11/2557 | G64: 24000 | H64: 4000 | I64: 0 | J64: 1000 | L64: วรรณนิสา
A65: การพัฒนาทีมงานสมัยใหม่ (30 ชั่วโมง) | B65: คก. | C65: 10 | D65: 10 | E65: 10/11/2557 | F65: 14/11/2557 | G65: 24000 | H65: 4000 | I65: 0 | J65: 1000 | L65: วรรณนิสา
A66: การสร้างการบริการที่ประทับใจ (30 ชั่วโมง) | B66: คก. | C66: 10 | D66: 10 | E66: 8/12/2557 | F66: 12/12/2557 | G66: 24000 | H66: 4000 | J66: 1000 | L66: วรรณนิสา
A67: การสร้างการบริการที่ประทับใจ (30 ชั่วโมง) | B67: คก. | C67: 10 | D67: 10 | E67: 15/12/2557 | F67: 19/12/2557 | G67: 24000 | H67: 4000 | J67: 1000 | L67: วรรณนิสา
A68: การสร้างการบริการที่ประทับใจ (30 ชั่วโมง) | B68: คก. | C68: 14 | D68: 6 | E68: 16/3/2558 | F68: 20/3/2558 | G68: 24000 | H68: 5000 | L68: 20/2/58
A69: การสร้างจิตบริการ (30 ชั่วโมง) | B69: ฟฟ. | C69: 11 | D69: 9 | E69: 9/3/2558 | F69: 13/3/2558 | G69: 24000 | H69: 5000 | L69: 3/3/58
A70: หลักของการเป็นหัวหน้างาน (30 ชั่วโมง) | B70: คก. | C70: 7 | D70: 13 | E70: 23/3/2558 | F70: 27/3/2558 | G70: 24000 | H70: 5000 | L70: 5/3/58
A71: การสร้างจิตบริการ (30 ชั่วโมง) | B71: ฟฟ. | C71: 16 | D71: 5 | E71: 2/4/2558 | F71: 8/4/2558 | G71: 24000 | H71: 5000 | L71: 30/3/58
A72: ภาษาอังกฤษสำหรับงานบริการโรงแรม (30 ชั่วโมง) | B72: ชก. | C72: 10 | D72: 10 | E72: 10/11/2557 | F72: 14/11/2557 | G72: 24000 | H72: 3130 | I72: 0 | J72: 0 | L72: วรรณนิสา
A73: ภาษาอังกฤษสำหรับงานบริการโรงแรม (30 ชั่วโมง) | B73: ชก. | C73: 0 | D73: 20 | E73: 24/11/2557 | F73: 28/11/2557 | G73: 24000 | H73: 3130 | I73: 0 | J73: 0 | L73: วรรณนิสา
A74: ภาษาอังกฤษสำหรับงานบริการโรงแรม (30 ชั่วโมง) | B74: ชก. | C74: 10 | D74: 10 | E74: 20/4/2558 | F74: 24/4/2558 | G74: 24000 | H74: 3104 | I74: 480 | L74: 21284
A75: ภาษาอังกฤษเพื่อการทำงาน (30 ชั่วโมง) | B75: ชอก. | C75: 6 | D75: 14 | E75: 16/2/2558 | F75: 20/2/2558 | G75: 24000 | H75: 3970 | L75: 4/2/58
A76: การสร้างการบริการที่ปประทับใจ (30 ชั่วโมง) | B76: ชอก. | C76: 7 | D76: 13 | E76: 2/3/2558 | F76: 6/3/2558 | G76: 24000 | H76: 3850 | L76: 25/2/58
A78: หลักของการเป็นหัวหน้างาน (30 ชั่วโมง) | B78: ฟฟ | C78: 6 | D78: 14 | E78: 26/4/2558 | F78: 30/4//2558 | G78: 24000 | H78: 5000 | L78: 22/4/58
A79: หัวใจการบริการ (30 ชั่วโมง) | B79: ชก. | C79: 9 | D79: 11 | E79: 15/6/2558 | F79: 19/6/2558 | G79: 24000 | H79: 3130 | L79: 12/6/58
A80: หัวใจการบริการ (30 ชั่วโมง) | B80: ชก. | C80: 13 | D80: 7 | E80: 22/6/2558 | F80: 26/6/2558 | G80: 24000 | H80: 3130 | L80: 15/6/58
A81: การพัฒนาศักยภาพครูฝึกและพี่เลี้ยงในสถานประกอบการ (30 ชั่วโมง) | B81: ปส. | C81: 10 | D81: 10 | E81: 24/11/2557 | F81: 28/11/2557 | G81: 9600 | H81: 2400 | I81: 0 | J81: 0 | L81: วรรณนิสา
A82: การพัฒนาศักยภาพครูฝึกและพี่เลี้ยงในสถานประกอบการ (30 ชั่วโมง) | B82: ปส. | C82: 8 | D82: 6 | E82: 16/12/2557 | F82: 20/12/2557 | G82: 9600 | H82: 3140 | I82: 0 | J82: 0 | L82: วรรณนิสา
A83: การพัฒนาศักยภาพครูฝึกและพี่เลี้ยงในสถานประกอบการ (30 ชั่วโมง) | B83: ปส. | C83: 10 | D83: 13 | E83: 10/2/2558 | F83: 14/2/2558 | G83: 9600 | H83: 2500 | I83: - | J83: - | L83: 30/1/58
A84: การสร้างการบริการที่ประทับใจ (30 ชั่วโมง) | B84: สส. | C84: 16 | D84: 6 | E84: 15/6/2558 | F84: 19/6/2558 | G84: 24000 | H84: 2000 | I84: 420 | L84: 9/6/58
A85: ภาษาอังกฤษคำต่อคำเพื่อการทำงานระดับ 2 (30 ชั่วโมง) | B85: ปชส. | C85: 6 | D85: 10 | E85: 23/3/2558 | F85: 27/3/2558 | G85: 24000 | H85: 3200 | I85: 420 | L85: 12/3/58
A86: ภาษาอังกฤษคำต่อคำเพื่อการทำงานระดับ 2 (30 ชั่วโมง) | B86: ปชส. | C86: 6 | D86: 10 | E86: 30/3/2558 | F86: 3/4/2558 | G86: 24000 | H86: 3200 | I86: 420 | L86: 12/3/58
A87: 9 พฤติกรรม 9 สู่ความสำเร็จ (30 ชั่วโมง) | B87: ปมฐ. | C87: 12 | D87: 13 | E87: 10/11/2557 | F87: 14/11/2557 | G87: 24000 | H87: 3976 | J87: 900 | L87: วรรณนิสา
A88: 9 พฤติกรรม 9 สู่ความสำเร็จ (30 ชั่วโมง) | B88: ปมฐ. | C88: 13 | D88: 12 | E88: 17/11/2557 | F88: 21/11/2557 | G88: 24000 | H88: 3976 | L88: วรรณนิสา
A89: การจัดทำเอกสารระบบบริหารคุณภาพ (30 ชั่วโมง) | B89: ปมฐ. | C89: 10 | D89: 10 | E89: 19/11/2557 | F89: 23/11/2557 | G89: 24000 | H89: 3926 | J89: 880 | L89: วรรณนิสา
A90: การวางแผนพัฒนาทัพยากรบุคคล (30 ชั่วโมง) | B90: ปมฐ. | C90: 10 | D90: 10 | E90: 24/11/2557 | F90: 30/11/2557 | G90: 24000 | H90: 3926 | I90: 0 | J90: 900 | L90: วรรณนิสา
A91: การบริหารกิจกรรม 5ส (30 ชั่วโมง) | B91: ปมฐ. | C91: 10 | D91: 10 | E91: 14/11/2557 | F91: 18/11/2557 | G91: 24000 | H91: 3926 | I91: 0 | J91: 880 | L91: วรรณนิสา
A92: พนักงานขับรถบรรทุก (30 ชั่วโมง) | B92: ปมฐ. | C92: 20 | D92: 0 | E92: 2/12/2557 | F92: 7/12/2557 | G92: 24000 | H92: 3926 | I92: 0 | J92: 880 | L92: วรรณนิสา
A93: การดูแลบำรุงรักษารถยนต์ (30ชั่วโมง) | B93: ปมฐ. | C93: 20 | D93: 0 | E93: 18/12/2557 | F93: 22/12/2557 | G93: 24000 | H93: 3926 | J93: 880 | L93: วรรณนิสา
A94: นักส่งเสริมแบบองค์รวมสปาตะวันตก (หัตถบำบัด) | B94: ปมฐ. | C94: 1 | D94: 19 | E94: 16/12/2557 | F94: 20/12/2557 | G94: 24000 | H94: 10085 | J94: 900 | K94: 0
A95: การทำขนมไทย (30 ชั่วโมง) | B95: ปมฐ. | C95: 0 | D95: 20 | E95: 4/6/2558 | F95: 8/6/2558 | G95: 15000 | H95: 12000 | J95: 480 | K95: 0 | L95: 2/6/58
A96: บริกร (30 ชั่วโมง) | B96: ฟฟ. | C96: 10 | D96: 11 | E96: 17/8/2558 | F96: 21/8/2558 | G96: 30000 | H96: 4000 | J96: 49500 | L96: 13/8/58
A97: พนักงานทำความสะอาดส่วนกลาง (30 ชั่วโมง) | B97: ฟฟ. | D97: 20 | E97: 22/8/2558 | F97: 26/8/2558 | G97: 30000 | H97: 4000 | J97: 49500 | L97: 13/8/58
A98: (7) รายการ เพิ่มศักยภาพแรงงานไทยขับเคลื่อนการแข่งขันของภาคอุตสาหกรรมในการเข้าสู่ประชาคมอาเซียน
A99: - ฝึกยกระดับฝีมือแรงงาน | B99: =C99+D99 -> 375 | C99: =SUM(C100:C120) -> 365 | D99: =SUM(D100:D120) -> 10 | G99: =SUM(G100:G120) -> 271500 | H99: =SUM(H100:H120) -> 207471.5 | I99: =SUM(I100:I120) -> 0 | J99: =SUM(J100:J120) -> 0
A100: การควบคุมเครื่องกลึ่ง (CNC) ระดับ 1 | B100: ศทส. | C100: 21 | E100: 10/11/2557 | F100: 19/11/2557 | G100: 24000 | H100: 13960 | I100: 0 | J100: 0
A101: การควบคุมเครื่องกลึง (CNC) ระดับ 1 | B101: ศทส. | C101: 20 | E101: 24/11/2557 | F101: 3/12/2557 | G101: 24000 | H101: 13970 | L101: วรรณนิสา
A102: การควบคุมเครื่องกลึง (CNC) ระดับ 2 | B102: ศทส. | C102: 21 | E102: 9/12/2557 | F102: 24/12/2557 | G102: 24000 | H102: 14000 | I102: 0 | J102: 0 | L102: วรรณนิสา
A103: การควบคุมเครื่องกลึง (CNC) ระดับ 2 | B103: ศทส. | C103: 18 | E103: 7/01/2558 | F103: 20/01/2558 | G103: 24000 | H103: 14000 | I103: 0 | J103: 0 | L103: วรรณนิสา
A104: การควบคุมเครื่องกลึง (CNC) ระดับ 2 | B104: ศทส. | C104: 20 | E104: 5/01/2558 | F104: 14/01/2558 | G104: 24000 | H104: 14000 | I104: 0 | J104: 0 | L104: วรรณนิสา
A105: การควบคุมเครื่องกัด (CNC) ระดับ 1 (30ชั่วโมง) | B105: ศทส. | C105: 25 | E105: 10/11/2557 | F105: 19/11/2557 | G105: 4500 | H105: 14000 | I105: 0 | J105: 0 | L105: วรรณนิสา
A106: การควบคุมเครื่องกัด (CNC) ระดับ 1 (30ชั่วโมง) | B106: ศทส. | C106: 20 | E106: 20/11/2557 | F106: 4/12/2557 | G106: 24000 | H106: 13940 | I106: 0 | J106: 0 | L106: วรรณนิสา
...

Sheet Report
A1: ผลการดำเนินงานตามแผนปฏิบัติการพัฒนาฝีมือแรงงาน ประจำปีงบประมาณ พ.ศ.2558
A2: สถาบันพัฒนาฝีมือแรงงานภาค 6 ขอนแก่น
B3: ณ วันที่ | C3: =NOW() -> 42250.562
A5: ผลผลิต/กิจกรรมหลัก | B5: ผลการดำเนินงาน (คน) | F5: ผลการใช้จ่ายงบประมาณ (บาท)
B6: เป้าหมาย | C6: ผลงาน | D6: ร้อยละ | E6: คงเหลือ | F6: งปม.ที่ได้รับ | G6: ผลการเบิกจ่าย | H6: ร้อยละ | I6: คงเหลือ
A7: รวมทั้งสิ้น (คน) | B7: =B8+B9 -> 13218 | C7: =C8+C9 -> 36228 | D7: =C7*100/B7 -> 274.0808 | E7: =B7-C7 -> -23010 | F7: 21448000 | G7: =G8+G9 -> 10953799 | H7: =G7*100/F7 -> 51.071422 | I7: =F7-G7 -> 10494201
A8: สถาบันพัฒนาฝีมือแรงงานภาค 6 ขอนแก่น ดำเนินการเอง (คน) | B8: =B10+B30+B34 -> 5718 | C8: =+C10+C30+C34 -> 6000 | D8: =C8*100/B8 -> 104.93179 | E8: =B8-C8 -> -282 | F8: 21448000 | G8: =SUM(G11:G49)-G42-G33 -> 10953799 | H8: =G8*100/F8 -> 51.071422 | I8: =F8-G8 -> 10494201
A9: เอกชน/สถานประกอบการดำเนินการ (คน) | B9: =B42 -> 7500 | C9: 30228 | D9: =C9*100/B9 -> 403.04 | E9: =B9-C9 -> -22728 | F9: 0 | G9: =G42 -> 0 | H9: 0 | I9: =F9-G9 -> 0
A10: ผลผลิต 2 : เพิ่มประสิทธิภาพของแรงงานรองรับประชาคมอาเซียน | B10: =+B11 -> 3076 | C10: =+C11 -> 3390 | D10: =C10*100/B10 -> 110.20806 | E10: =+E11 -> -314 | F10: =SUM(F11:F28) -> 12503100 | G10: =G11+G28 -> 4926301 | H10: =G10*100/F10 -> 39.400637 | I10: =F10-G10 -> 7576799
A11: กิจกรรมหลัก 2.2 : เพิ่มขีดความสามารถของแรงงานรองรับประชาคมอาเซียน | B11: =+B12+B14+B17+B20+B22+B25 -> 3076 | C11: =+C12+C14+C17+C20+C22+C25 -> 3390 | D11: =C11*100/B11 -> 110.20806 | E11: =+E12+E14+E17+E20+E22+E25 -> -314 | F11: 11137600 | G11: =SUM(G12:G27) -> 4926301
A12: (1) รายการ พัฒนาขีดความสามารถด้านภาษาให้แก่แรงงานไทยเพื่อรองรับประชาคมอาเซียน (พัฒนาทักษะด้านภาษาเพื่อเพิ่มศักยภาพในการแข่งขันรองรับอาเซียนพลัสทรี (ASEAN + Summit) | B12: =SUM(B13) -> 300 | C12: =SUM(C13) -> 338 | D12: =C12*100/B12 -> 112.66667 | E12: =SUM(E13) -> -38
A13: - ฝึกยกระดับฝีมือแรงงาน | B13: 300 | C13: =Control!B11 -> 338 | D13: =C13*100/B13 -> 112.66667 | E13: =B13-C13 -> -38 | G13: =SUM(Control!G11:J11) -> 414058
A14: (4) รายการ ฝึกอบรมผู้ประกอบอาหารรองรับครัวไทยสู่ครัวโลก | B14: =SUM(B15:B16) -> 228 | C14: =SUM(C15:C16) -> 236 | D14: =C14*100/B14 -> 103.50877 | E14: =B14-C14 -> -8
A15: - ฝึกเตรียมเข้าทำงาน | B15: 16 | C15: =Control!B31 -> 16 | D15: =C15*100/B15 -> 100 | E15: =B15-C15 -> 0 | G15: =SUM(Control!G31:J31) -> 84000
A16: - ฝึกยกระดับฝีมือแรงงาน | B16: 212 | C16: =Control!B33 -> 220 | D16: =C16*100/B16 -> 103.77358 | E16: =B16-C16 -> -8 | G16: =SUM(Control!G33:J33) -> 429340
A17: (6) รายการ พัฒนาศักยภาพแรงงานไทยเพื่อส่งเสริมความสามารถของภาคบริการและการท่องเที่ยวสู่รายได้และการแข่งขัน | B17: =SUM(B18:B19) -> 756 | C17: =SUM(C18:C19) -> 829 | D17: =C17*100/B17 -> 109.65608 | E17: =B17-C17 -> -73
A18: - ฝึกเตรียมเข้าทำงาน | B18: 144 | C18: =Control!B49 -> 166 | D18: =C18*100/B18 -> 115.27778 | E18: =B18-C18 -> -22 | G18: =SUM(Control!G49:J49) -> 531770
A19: - ฝึกยกระดับฝีมือแรงงาน | B19: 612 | C19: =Control!B63 -> 663 | D19: =C19*100/B19 -> 108.33333 | E19: =B19-C19 -> -51 | G19: =SUM(Control!G49:J49) -> 531770
A20: (7) รายการ เพิ่มศักยภาพแรงงานไทยขับเคลื่อนการแข่งขันของภาคอุตสาหกรรมในการเข้าสู่ประชาคมอาเซียน | B20: =SUM(B21) -> 320 | C20: =SUM(C21) -> 375 | D20: =C20*100/B20 -> 117.1875 | E20: =SUM(E21) -> -55
A21: - ฝึกยกระดับฝีมือแรงงาน | B21: 320 | C21: =Control!B99 -> 375 | D21: =C21*100/B21 -> 117.1875 | E21: =B21-C21 -> -55 | G21: =SUM(Control!G63:J63) -> 715520
A22: (8) รายการ พัฒนาฝีมือแรงงานรองรับการพัฒนาโครงสร้างพื้นฐานคมนาคมและการขนส่ง | B22: =SUM(B23:B24) -> 1104 | C22: =SUM(C23:C24) -> 1143 | D22: =C22*100/B22 -> 103.53261 | E22: =B22-C22 -> -39
A23: - ฝึกเตรียมเข้าทำงาน | B23: 144 | C23: =Control!B122 -> 170 | D23: =C23*100/B23 -> 118.05556 | E23: =B23-C23 -> -26 | G23: =SUM(Control!G122:J122) -> 292800
A24: - ฝึกยกระดับฝีมือแรงงาน | B24: 960 | C24: =Control!B154 -> 973 | D24: =C24*100/B24 -> 101.35417 | E24: =B24-C24 -> -13 | G24: =SUM(Control!G154:J154) -> 1439880
A25: (9) รายการ ฝึกอบรมฝีมือแรงงานรองรับการพัฒนาพื้นที่เศรษฐกิจชายแดนและชนบท | B25: =SUM(B26:B27) -> 368 | C25: =SUM(C26:C27) -> 469 | D25: =C25*100/B25 -> 127.44565 | E25: =B25-C25 -> -101
A26: - ฝึกยกระดับฝีมือแรงงาน (ในระบบ) | B26: 208 | C26: =Control!B209 -> 234 | D26: =C26*100/B26 -> 112.5 | E26: =B26-C26 -> -26 | G26: =SUM(Control!G209:J209) -> 314938
A27: - ฝึกยกระดับฝีมือแรงงาน (นอกระบบ) | B27: 160 | C27: =Control!B224 -> 235 | D27: =C27*100/B27 -> 146.875 | E27: =B27-C27 -> -75 | G27: =SUM(Control!G224:J224) -> 172225
A28: งบเงินอุดหนุนเฉพาะกิจ เงินอุดหนุนเพื่อช่วยเหลือผู้รับการพัฒนาฝีมือฯ | F28: 1365500
A30: ผลผลิต 3 : โครงการ ฝึกอบรมฝีมือแรงงานตามโครงการอันเนื่องมาจากพระราชดำริ | B30: =B31+B32 -> 60 | C30: =C31+C32 -> 60 | D30: =C30*100/B30 -> 100 | E30: =E31+E32 -> 0 | F30: =F31+F33 -> 70000 | G30: =G31+G33 -> 46389 | H30: =G30*100/F30 -> 66.27 | I30: =F30-G30 -> 23611
A31: กิจกรรมหลัก 3.1 : ฝึกอบรมฝีมือแรงงานตามโครงการอันเนื่องมาจากพระราชดำริ | B31: 20 | C31: =Control!B239 -> 20 | D31: =C31*100/B31 -> 100 | E31: =B31-C31 -> 0 | F31: 70000 | G31: =SUM(Control!G239:J239) -> 46389
A32: กิจกรรมหลัก 3.3 : ฝึกอาชีพแรงงานกลุ่มเฉพาะ | B32: 40 | C32: =Control!B241 -> 40 | D32: =C32*100/B32 -> 100 | E32: =B32-C32 -> 0 | F32: 128000
A33: กิจกรรมหลัก 3.4 : จัดตั้งศูนย์ทดสอบมาตรฐานฝีมือแรงงานในสถานประกอบกิจการเทิดไท้พระบิดาแห่งมาตรฐานช่างไทย (แห่ง) | B33: 1 | C33: 1 | D33: =C33*100/B33 -> 100 | E33: =B33-C33 -> 0 | F33: 0 | G33: =SUM(Control!G244:J244) -> 0
A34: ผลผลิต 4 : พัฒนาศักยภาพฝีมือแรงงานทั้งระบบให้สอดคล้องกับความต้องการของตลาดแรงงาน และการประกอบอาชีพ | B34: =+B35+B39+B40+B41+B45+B48 -> 2582 | C34: =+C35+C39+C40+C41+C45+C48 -> 2550 | D34: 147.85 | E34: =B34-C34 -> 32 | F34: =F35+F38+F39+F41+F42+F45+F48+F49 -> 5012800 | G34: =G35+G38+G39+G41+G42+G45+G48+G49 -> 428786.8 | H34: =G34*100/F34 -> 8.5538382 | I34: =F34-G34 -> 4584013.2
A35: กิจกรรมหลัก 4.1 : พัฒนาฝีมือเพื่อเพิ่มโอกาสในการประกอบอาชีพ | B35: =+B36+B37 -> 31 | C35: =+C36+C37 -> 189 | D35: =C35*100/B35 -> 609.67742 | E35: =+E36+E37 -> -158 | F35: 277400 | G35: =G36+G37 -> 127065
A36: (1) รายการ พัฒนาศักยภาพและทักษะฝีมือของผู้ประกอบอาชีพ OTOP | B36: 16 | C36: =Control!B248 -> 20 | D36: =C36*100/B36 -> 125 | E36: =B36-C36 -> -4 | G36: =SUM(Control!G248:J248) -> 47065
A37: (2) รายการ ฝึกอาชีพให้แก่ ผู้ต้องขัง ทหารก่อนปลดประจำการ ผู้ผ่านการบำบัดยาเสพติดเด็กในสถานพินิจและเยาวชน ฯลฯ (ตาม MOU) | B37: 15 | C37: =Control!B250 -> 169 | D37: =C37*100/B37 -> 1126.6667 | E37: =B37-C37 -> -154 | G37: =SUM(Control!G250:J250) -> 80000
A38: ค่าสาธารณูปโภค | F38: 252500
A39: กิจกรรมหลัก 4.2 พัฒนา/ส่งเสริมการประกอบอาชีพอิสระ | B39: 16 | C39: =Control!B259 -> 20 | D39: =C39*100/B39 -> 125 | E39: =B39-C39 -> -4 | F39: 16000 | G39: =SUM(Control!G259:J259) -> 23780
A40: กิจกรรมหลัก 4.3 ทดสอบมาตรฐานฝีมือแรงงานแห่งชาติ | B40: 2000 | C40: =Control!B261 -> 1669 | D40: =C40*100/B40 -> 83.45 | E40: =B40-C40 -> 331 | F40: 1662100 | G40: =SUM(Control!G260:J260) -> 23780
A41: กิจกรรมหลัก 4.4 จัดทำหลักเกณฑ์พัฒนา/ส่งเสริมมาตรฐานฝีมือแรงงาน | B41: 45 | C41: 67 | D41: =C41*100/B41 -> 148.88889 | E41: =B41-C41 -> -22 | G41: 116550
A42: กิจกรรมหลัก 4.6 : ส่งเสริมและสนับสนุนให้สถานประกอบกิจการดำเนินการฝึกอบรมฝีมือแรงงานตาม พ.ร.บ.ส่งเสริมฯ | B42: 7500 | C42: 30228 | D42: =C42*100/B42 -> 403.04 | E42: =B42-C42 -> -22728 | F42: =F43+F44 -> 3519300 | G42: =SUM(Control!G365:J365)+G43+G44 -> 0
A43: งบลงทุน | F43: 787000
A44: งบดำเนินงาน | F44: 2732300
A45: กิจกรรม 4.7 : ยกระดับทักษะฝีมือแรงงานให้มีศักยภาพและผลิตภาพเพื่อการแข่งขัน | B45: =+B46+B47 -> 200 | C45: =+C46+C47 -> 294 | D45: =+D46+D47 -> 147 | E45: =+E46+E47 -> -94
A46: - แรงงานในสถานประกอบกิจการ | B46: 200 | C46: =Control!B382 -> 294 | D46: =C46*100/B46 -> 147 | E46: =B46-C46 -> -94 | G46: =SUM(Control!G382:J382) -> 0
G47: =SUM(Control!G395:J395) -> 0
A48: กิจกรรมหลัก 4.8 : พัฒนาศักยภาพแรงงานเพื่อรองรับการจ่ายค่าจ้างตามมาตรฐานฝีมือแรงงาน | B48: 290 | C48: =Control!B403 -> 311 | D48: =C48*100/B48 -> 107.24138 | E48: =B48-C48 -> -21 | F48: 747600 | G48: =SUM(Control!G403:J403) -> 161391.8
A49: ค่าสาธารณูปโภค (กิจกรรมพัฒนาเทคโนโลยีสารสนเทศและการสื่อสาร) | F49: 200000
B52: เป้าหมายรวม | C52: =B7 -> 13218 | F52: งบประมาณ | G52: =F7 -> 21448000
B53: ผลงานรวม | C53: =C7 -> 36228 | F53: เบิกจ่าย | G53: =G7 -> 10953799
B55: เป้าหมายทำเอง | C55: =B8 -> 5718
B56: ผลงานทำเอง | C56: =C8 -> 6000
A63: ผลการดำเนินงานในภาพรวม | B63: ผลการดำเนินงานเฉพาะที่ดำเนินการเอง | F63: ผลการเบิกจ่ายเงินงบประมาณ

Sheet Plan58
A1: ผลการพัฒนาฝีมือแรงงาน ประจำปีงบประมาณ พ.ศ. 2558
A2: สถาบันพัฒนาฝีมือแรงงานภาค 6 ขอนแก่น
A4: ผลผลิต/กิจกรรมหลัก/รายการ | B4: เป้าหมาย | C4: ผลงาน | D4: ร้อยละ | E4: คงเหลือ
B5: (คน) | C5: (คน) | E5: (คน)
A6: รวมทั้งสิ้น (คน) | B6: =B7+B8 -> 13093
A7: สถาบันพัฒนาฝีมือแรงงานภาค 6 ขอนแก่น ดำเนินการเอง (คน) | B7: 5593
A8: เอกชน/สถานประกอบการดำเนินการ (คน) | B8: =B42 -> 7500
A9: ผลผลิต 2 : เพิ่มประสิทธิภาพของแรงงานรองรับประชาคมอาเซียน | B9: 3036
A10: กิจกรรมหลัก 2.2 : เพิ่มขีดความสามารถของแรงงานรองรับประชาคมอาเซียน
A11: (1) รายการ พัฒนาขีดความสามารถด้านภาษาให้แก่แรงงานไทยเพื่อรองรับประชาคมอาเซียน (พัฒนาทักษะด้านภาษาเพื่อเพิ่มศักยภาพในการแข่งขันรองรับอาเซียนพลัสทรี (ASEAN + Summit)
A12: - ฝึกยกระดับฝีมือแรงงาน | B12: 300
A13: (4) รายการ ฝึกอบรมผู้ประกอบอาหารรองรับครัวไทยสู่ครัวโลก
A14: - ฝึกเตรียมเข้าทำงาน | B14: 16
A15: - ฝึกยกระดับฝีมือแรงงาน | B15: 212
A16: (6) รายการ พัฒนาศักยภาพแรงงานไทยเพื่อส่งเสริมความสามารถของภาคบริการและการท่องเที่ยวสู่รายได้และการแข่งขัน
A17: - ฝึกเตรียมเข้าทำงาน | B17: 144
A18: - ฝึกยกระดับฝีมือแรงงาน | B18: 572
A21: ผลผลิต/กิจกรรมหลัก/รายการ | B21: เป้าหมาย | C21: ผลงาน | D21: ร้อยละ | E21: คงเหลือ
B22: (คน) | C22: (คน) | E22: (คน)
A23: (7) รายการ เพิ่มศักยภาพแรงงานไทยขับเคลื่อนการแข่งขันของภาคอุตสาหกรรมในการเข้าสู่ประชาคมอาเซียน
A24: - ฝึกยกระดับฝีมือแรงงาน | B24: 320
A25: (8) รายการ พัฒนาฝีมือแรงงานรองรับการพัฒนาโครงสร้างพื้นฐานคมนาคมและการขนส่ง
A26: - ฝึกเตรียมเข้าทำงาน | B26: 144
A27: - ฝึกยกระดับฝีมือแรงงาน | B27: 960
A28: (9) รายการ ฝึกอบรมฝีมือแรงงานรองรับการพัฒนาพื้นที่เศรษฐกิจชายแดนและชนบท
A29: - ฝึกยกระดับฝีมือแรงงาน (ในระบบ) | B29: 208
A30: - ฝึกยกระดับฝีมือแรงงาน (นอกระบบ) | B30: 160
A31: ผลผลิต 3 : โครงการ ฝึกอบรมฝีมือแรงงานตามโครงการอันเนื่องมาจากพระราชดำริ | B31: 20
A32: กิจกรรมหลัก 3.1 : ฝึกอบรมฝีมือแรงงานตามโครงการอันเนื่องมาจากพระราชดำริ | B32: 20
A33: กิจกรรมหลัก 3.4 : จัดตั้งศูนย์ทดสอบมาตรฐานฝีมือแรงงานในสถานประกอบกิจการเทิดไท้พระบิดาแห่งมาตรฐานช่างไทย (แห่ง) | B33: 1
A34: ผลผลิต 4 : พัฒนาศักยภาพฝีมือแรงงานทั้งระบบให้สอดคล้องกับความต้องการของตลาดแรงงาน และการประกอบอาชีพ | B34: 9837
A35: กิจกรรมหลัก 4.1 : พัฒนาฝีมือเพื่อเพิ่มโอกาสในการประกอบอาชีพ
A36: (1) รายการ พัฒนาศักยภาพและทักษะฝีมือของผู้ประกอบอาชีพ OTOP | B36: 16
A37: (2) รายการ ฝึกอาชีพให้แก่ ผู้ต้องขัง ทหารก่อนปลดประจำการ ผู้ผ่านการบำบัดยาเสพติดเด็กในสถานพินิจและเยาวชน ฯลฯ (ตาม MOU) | B37: 15
A38: กิจกรรมหลัก 4.2 พัฒนา/ส่งเสริมการประกอบอาชีพอิสระ | B38: 16
A39: กิจกรรมหลัก 4.3 : ทดสอบมาตรฐานฝีมือแรงงานแห่งชาติ | B39: 2000
A40: ผลผลิต/กิจกรรมหลัก/รายการ | B40: เป้าหมาย | C40: ผลงาน | D40: ร้อยละ | E40: คงเหลือ
B41: (คน) | C41: (คน) | E41: (คน)
A42: กิจกรรมหลัก 4.6 : ส่งเสริมและสนับสนุนให้สถานประกอบกิจการดำเนินการฝึกอบรมฝีมือแรงงานตาม พ.ร.บ.ส่งเสริมฯ | B42: 7500
A43: กิจกรรม 4.7 : ยกระดับทักษะฝีมือแรงงานให้มีศักยภาพและผลิตภาพเพื่อการแข่งขัน | B43: 200
A44: กิจกรรมหลัก 4.8 : พัฒนาศักยภาพแรงงานเพื่อรองรับการจ่ายค่าจ้างตามมาตรฐานฝีมือแรงงาน | B44: 290

Sheet แผน-ผลเงิน
A1: ผลการดำเนินงานตามแผนปฏิบัติการพัฒนาฝีมือแรงงาน ประจำปีงบประมาณ พ.ศ.2558
A2: สถาบันพัฒนาฝีมือแรงงาน ภาค 6 ขอนแก่น
B3: ณ วันที่ | C3: =NOW() -> 42250.562
A5: ผลผลิต/กิจกรรมหลัก | B5: ผลการดำเนินงาน (คน) | F5: ผลการใช้จ่ายงบประมาณ (บาท)
B6: เป้าหมาย | C6: ผลงาน | D6: ร้อยละ | E6: คงเหลือ | F6: งปม.ที่ได้รับ | G6: ผลการเบิกจ่าย | H6: ร้อยละ | I6: คงเหลือ
A7: รวมทั้งสิ้น (คน) | B7: =B8+B9 -> 13133 | C7: =C8+C9 -> 18587 | D7: =C7*100/B7 -> 141.52897 | E7: =B7-C7 -> -5454 | F7: 23128170 | G7: 11660949 | H7: =G7*100/F7 -> 50.418814 | I7: =+F7-G7 -> 11467221
A8: สถาบันพัฒนาฝีมือแรงงานภาค 6 ขอนแก่น ดำเนินการเอง (คน) | B8: =+B10+B30+B34 -> 5633 | C8: =+C10+C30+C34 -> 5317 | D8: =C8*100/B8 -> 94.390201 | E8: =B8-C8 -> 316 | F8: 23128170 | G8: =+G10+G30+G34 -> 11660949 | H8: =G8*100/F8 -> 50.418814 | I8: =+F8-G8 -> 11467221 | K8: =+G7-G8 -> 0
A9: เอกชน/สถานประกอบการดำเนินการ (คน) | B9: =B42 -> 7500 | C9: 13270 | D9: =C9*100/B9 -> 176.93333 | E9: =B9-C9 -> -5770 | F9: 0 | G9: 0 | H9: 0 | I9: =F9-G9 -> 0
A10: ผลผลิต 2 : เพิ่มประสิทธิภาพของแรงงานรองรับประชาคมอาเซียน | B10: =+B11 -> 3036 | C10: =+C11 -> 3390 | D10: 69.07 | E10: =+E11 -> -354 | F10: =+F11 -> 12503106 | G10: =+G11 -> 5973632.5 | H10: =G10*100/F10 -> 47.777188 | I10: =+F10-G10 -> 6529473.5
A11: กิจกรรมหลัก 2.2 : เพิ่มขีดความสามารถของแรงงานรองรับประชาคมอาเซียน | B11: =+B12+B14+B17+B20+B22+B25 -> 3036 | C11: =+C12+C14+C17+C20+C22+C25 -> 3390 | D11: 69.07 | E11: =+E12+E14+E17+E20+E22+E25 -> -354 | F11: =+F12+F14+F17+F20+F22+F25+F28 -> 12503106 | G11: =+G12+G14+G17+G20+G22+G25+G28 -> 5973632.5 | H11: =G11*100/F11 -> 47.777188 | I11: =+F11-G11 -> 6529473.5
A12: (1) รายการ พัฒนาขีดความสามารถด้านภาษาให้แก่แรงงานไทยเพื่อรองรับประชาคมอาเซียน (พัฒนาทักษะด้านภาษาเพื่อเพิ่มศักยภาพในการแข่งขันรองรับอาเซียนพลัสทรี (ASEAN + Summit) | B12: =SUM(B13) -> 300 | C12: =SUM(C13) -> 338 | D12: =C12*100/B12 -> 112.66667 | E12: =SUM(E13) -> -38 | F12: 655885.35 | G12: 452017 | H12: =G12*100/F12 -> 68.917075 | I12: =+F12-G12 -> 203868.35
A13: - ฝึกยกระดับฝีมือแรงงาน | B13: 300 | C13: =Control!B11 -> 338 | D13: =C13*100/B13 -> 112.66667 | E13: =B13-C13 -> -38 | K13: 11035314
A14: (4) รายการ ฝึกอบรมผู้ประกอบอาหารรองรับครัวไทยสู่ครัวโลก | B14: =SUM(B15:B16) -> 228 | C14: =SUM(C15:C16) -> 236 | D14: =C14*100/B14 -> 103.50877 | E14: =B14-C14 -> -8 | F14: 1931628.6 | G14: 293020 | H14: =G14*100/F14 -> 15.169582 | I14: =+F14-G14 -> 1638608.6 | K14: =+G7-K13 -> 625635.49
A15: - ฝึกเตรียมเข้าทำงาน | B15: 16 | C15: =Control!B31 -> 16 | D15: =C15*100/B15 -> 100 | E15: =B15-C15 -> 0
A16: - ฝึกยกระดับฝีมือแรงงาน | B16: 212 | C16: =Control!B33 -> 220 | D16: =C16*100/B16 -> 103.77358 | E16: =B16-C16 -> -8
A17: (6) รายการ พัฒนาศักยภาพแรงงานไทยเพื่อส่งเสริมความสามารถของภาคบริการและการท่องเที่ยวสู่รายได้และการแข่งขัน | B17: =SUM(B18:B19) -> 716 | C17: =SUM(C18:C19) -> 829 | D17: =C17*100/B17 -> 115.78212 | E17: =B17-C17 -> -113 | F17: 2236600 | G17: 1379806 | H17: =G17*100/F17 -> 61.692122 | I17: =+F17-G17 -> 856794
A18: - ฝึกเตรียมเข้าทำงาน | B18: 144 | C18: =Control!B49 -> 166 | D18: =C18*100/B18 -> 115.27778 | E18: =B18-C18 -> -22
A19: - ฝึกยกระดับฝีมือแรงงาน | B19: 572 | C19: =Control!B63 -> 663 | D19: =C19*100/B19 -> 115.90909 | E19: =B19-C19 -> -91
A20: (7) รายการ เพิ่มศักยภาพแรงงานไทยขับเคลื่อนการแข่งขันของภาคอุตสาหกรรมในการเข้าสู่ประชาคมอาเซียน | B20: =SUM(B21) -> 320 | C20: =SUM(C21) -> 375 | D20: =C20*100/B20 -> 117.1875 | E20: =SUM(E21) -> -55 | F20: 774892 | G20: 607785.35 | H20: =G20*100/F20 -> 78.434846 | I20: =+F20-G20 -> 167106.65
A21: - ฝึกยกระดับฝีมือแรงงาน | B21: 320 | C21: =Control!B99 -> 375 | D21: =C21*100/B21 -> 117.1875 | E21: =B21-C21 -> -55
A22: (8) รายการ พัฒนาฝีมือแรงงานรองรับการพัฒนาโครงสร้างพื้นฐานคมนาคมและการขนส่ง | B22: =SUM(B23:B24) -> 1104 | C22: =SUM(C23:C24) -> 1143 | D22: =C22*100/B22 -> 103.53261 | E22: =B22-C22 -> -39 | F22: 4630400 | G22: 2167619.1 | H22: =G22*100/F22 -> 46.812783 | I22: =+F22-G22 -> 2462780.9
A23: - ฝึกเตรียมเข้าทำงาน | B23: 144 | C23: =Control!B122 -> 170 | D23: =C23*100/B23 -> 118.05556 | E23: =B23-C23 -> -26
A24: - ฝึกยกระดับฝีมือแรงงาน | B24: 960 | C24: =Control!B154 -> 973 | D24: =C24*100/B24 -> 101.35417 | E24: =B24-C24 -> -13
A25: (9) รายการ ฝึกอบรมฝีมือแรงงานรองรับการพัฒนาพื้นที่เศรษฐกิจชายแดนและชนบท | B25: =SUM(B26:B27) -> 368 | C25: =SUM(C26:C27) -> 469 | D25: =C25*100/B25 -> 127.44565 | E25: =B25-C25 -> -101 | F25: 908200 | G25: 440945 | H25: =G25*100/F25 -> 48.55153 | I25: =+F25-G25 -> 467255
A26: - ฝึกยกระดับฝีมือแรงงาน (ในระบบ) | B26: 208 | C26: =Control!B209 -> 234 | D26: =C26*100/B26 -> 112.5 | E26: =B26-C26 -> -26
A27: - ฝึกยกระดับฝีมือแรงงาน (นอกระบบ) | B27: 160 | C27: =Control!B224 -> 235 | D27: =C27*100/B27 -> 146.875 | E27: =B27-C27 -> -75
A28: งบเงินอุดหนุนเฉพาะกิจ เงินอุดหนุนเพื่อช่วยเหลือผู้รับการพัฒนาฝีมือฯ | F28: 1365500 | G28: 632440 | H28: =G28*100/F28 -> 46.315635 | I28: =+F28-G28 -> 733060
A30: ผลผลิต 3 : โครงการ ฝึกอบรมฝีมือแรงงานตามโครงการอันเนื่องมาจากพระราชดำริ | B30: =B31+B32 -> 60 | C30: =SUM(C31:C33) -> 21 | D30: =C30*100/B30 -> 35 | E30: 20 | F30: =F31+F33 -> 260000 | G30: 67745 | H30: =G30*100/F30 -> 26.055769 | I30: =F30-G30 -> 192255
A31: กิจกรรมหลัก 3.1 : ฝึกอบรมฝีมือแรงงานตามโครงการอันเนื่องมาจากพระราชดำริ | B31: 20 | C31: =Control!B239 -> 20 | D31: =C31*100/B31 -> 100 | E31: =B31-C31 -> 0 | F31: 70000 | G31: =SUM(Control!G239:J239) -> 46389
A32: กิจกรรมหลัก 3.3 : ฝึกอาชีพแรงงานกลุ่มเฉพาะ | B32: 40 | C32: 0 | D32: =C32*100/B32 -> 0 | E32: =B32-C32 -> 40 | F32: 128000
A33: กิจกรรมหลัก 3.4 : จัดตั้งศูนย์ทดสอบมาตรฐานฝีมือแรงงานในสถานประกอบกิจการเทิดไท้พระบิดาแห่งมาตรฐานช่างไทย (แห่ง) | B33: 1 | C33: 1 | D33: =C33*100/B33 -> 100 | E33: =B33-C33 -> 0 | F33: =260000-70000 -> 190000 | G33: =SUM(Control!G244:J244) -> 0
A34: ผลผลิต 4 : พัฒนาศักยภาพฝีมือแรงงานทั้งระบบให้สอดคล้องกับความต้องการของตลาดแรงงาน และการประกอบอาชีพ | B34: =+B35+B39+B40+B41+B45+B48 -> 2537 | C34: =+C35+C39+C40+C41+C45+C48 -> 1906 | D34: 147.85 | E34: =B34-C34 -> 631 | F34: =+F35+F39+F40+F41+F43+F44+F45+F48+F49 -> 10365064 | G34: =+G35+G39+G40+G41+G43+G44+G45+G48+G49 -> 5619571.7 | H34: =G34*100/F34 -> 54.216468 | I34: =F34-G34 -> 4745492.3
A35: กิจกรรมหลัก 4.1 : พัฒนาฝีมือเพื่อเพิ่มโอกาสในการประกอบอาชีพ | B35: =+B36+B37 -> 31 | C35: =+C36+C37 -> 189 | D35: =C35*100/B35 -> 609.67742 | E35: =+E36+E37 -> -158 | F35: 107500 | G35: 59659.04 | H35: =G35*100/F35 -> 55.496781 | I35: =+F35-G35 -> 47840.96
A36: (1) รายการ พัฒนาศักยภาพและทักษะฝีมือของผู้ประกอบอาชีพ OTOP | B36: 16 | C36: =Control!B248 -> 20 | D36: =C36*100/B36 -> 125 | E36: =B36-C36 -> -4 | G36: =SUM(Control!G248:J248) -> 47065 | K36: 10365070
A37: (2) รายการ ฝึกอาชีพให้แก่ ผู้ต้องขัง ทหารก่อนปลดประจำการ ผู้ผ่านการบำบัดยาเสพติดเด็กในสถานพินิจและเยาวชน ฯลฯ (ตาม MOU) | B37: 15 | C37: =Control!B250 -> 169 | D37: =C37*100/B37 -> 1126.6667 | E37: =B37-C37 -> -154 | K37: =+K36-F34 -> 6
A38: ค่าสาธารณูปโภค
A39: กิจกรรมหลัก 4.2 พัฒนา/ส่งเสริมการประกอบอาชีพอิสระ | B39: 16 | C39: =Control!B259 -> 20 | D39: =C39*100/B39 -> 125 | E39: =B39-C39 -> -4 | F39: 24000 | G39: 0 | H39: =G39*100/F39 -> 0
A40: กิจกรรมหลัก 4.3 ทดสอบมาตรฐานฝีมือแรงงานแห่งชาติ | B40: 2000 | C40: 1053 | D40: =C40*100/B40 -> 52.65 | E40: =B40-C40 -> 947 | F40: 1280000 | G40: 615635.49 | H40: =G40*100/F40 -> 48.096523 | I40: =+F40-G40 -> 664364.51
A41: กิจกรรมหลัก 4.4 จัดทำหลักเกณฑ์พัฒนา/ส่งเสริมมาตรฐานฝีมือแรงงาน | C41: 39 | D41: =C41*100/B41 -> #DIV/0! | E41: =B41-C41 -> -39 | F41: 1460170 | G41: 150930 | H41: =G41*100/F41 -> 10.336468 | I41: =+F41-G41 -> 1309240
A42: กิจกรรมหลัก 4.6 : ส่งเสริมและสนับสนุนให้สถานประกอบกิจการดำเนินการฝึกอบรมฝีมือแรงงานตาม พ.ร.บ.ส่งเสริมฯ | B42: 7500 | C42: 13270 | D42: =C42*100/B42 -> 176.93333 | E42: =B42-C42 -> -5770 | F42: =F43+F44 -> 3395812.2 | G42: =SUM(G43:G44) -> 2251902.5 | H42: =G42*100/F42 -> 66.314106 | I42: =+F42-G42 -> 1143909.7
A43: งบลงทุน | F43: 787000 | G43: 787000 | H43: =G43*100/F43 -> 100 | I43: =+F43-G43 -> 0
A44: งบดำเนินงาน | F44: 2608812.2 | G44: =1454902.52+10000 -> 1464902.5 | H44: =G44*100/F44 -> 56.152087 | I44: =+F44-G44 -> 1143909.7 | K44: =787000+1454902.52 -> 2241902.5
A45: กิจกรรม 4.7 : ยกระดับทักษะฝีมือแรงงานให้มีศักยภาพและผลิตภาพเพื่อการแข่งขัน | B45: =+B46+B47 -> 200 | C45: =+C46+C47 -> 294 | D45: =+D46+D47 -> 147 | E45: =+E46+E47 -> -94 | F45: 2220000 | G45: 1420157 | H45: =G45*100/F45 -> 63.971036 | I45: =+F45-G45 -> 799843
A46: - แรงงานในสถานประกอบกิจการ | B46: 200 | C46: =Control!B382 -> 294 | D46: =C46*100/B46 -> 147 | E46: =B46-C46 -> -94 | G46: =SUM(Control!G382:J382) -> 0
G47: =SUM(Control!G395:J395) -> 0
A48: กิจกรรมหลัก 4.8 : พัฒนาศักยภาพแรงงานเพื่อรองรับการจ่ายค่าจ้างตามมาตรฐานฝีมือแรงงาน | B48: 290 | C48: =Control!B403 -> 311 | D48: =C48*100/B48 -> 107.24138 | E48: =B48-C48 -> -21 | F48: 600500 | G48: 457111.7 | H48: =G48*100/F48 -> 76.121848 | I48: =+F48-G48 -> 143388.3
A49: ค่าสาธารณูปโภค | F49: 1277081.8 | G49: 664175.9 | H49: =G49*100/F49 -> 52.007312 | I49: =+F49-G49 -> 612905.88
A51: งบดำเนินงาน | F51: 6291750 | G51: 3329229.6 | H51: =G51*100/F51 -> 52.914207 | I51: =+F51-G51 -> 2962520.4
A52: งบรายจ่ายอื่น | F52: 14683920 | G52: 6912279.5 | H52: =G52*100/F52 -> 47.073802 | I52: =+F52-G52 -> 7771640.5
A53: งบลงทุน | F53: 787000 | G53: 787000 | H53: =G53*100/F53 -> 100 | I53: =+F53-G53 -> 0
A54: งบเงินอุดหนุน | F54: 1365000 | G54: 632440 | H54: =G54*100/F54 -> 46.332601 | I54: =+F54-G54 -> 732560
A55: รวมทุกงบ | F55: =SUM(F51:F54) -> 23127670 | G55: =SUM(G51:G54) -> 11660949 | H55: =G55*100/F55 -> 50.419904 | I55: =+F55-G55 -> 11466721

Sheet ตรวจสอบส่งผล
A1: ระบบควบคุมยอดการดำเนินงานตามปฏิทินแผนปฏิบัติการ (Action Plan Schedule) ประจำปีงบประมาณ พ.ศ.2558
A2: สถาบันพัฒนาฝีมือแรงงาน ภาค 6 ขอนแก่น
A3: ผลผลิต/กิจกรรมหลัก/หลักสูตรสาขาการฝึก | B3: ผู้รับผิดชอบ | C3: จำนวนผู้รับการฝึก | E3: ช่วงเวลาฝึก | G3: งบประมาณที่ใช้ (บาท) | K3: วันที่ส่งผล | L3: วันที่คุมยอด
C4: ชาย | D4: หญิง | E4: วันเปิดฝึก | F4: วันจบฝึก | G4: วิทยากร | H4: วัสดุ | I4: บริหารจัดการ | J4: อื่นๆ
A5: รวมผลงาน ณ ขณะนี้ | B5: =B6+B7 -> 4238 | C5: =C6+C7 -> 2720 | D5: =D6+D7 -> 1518
A6: ผลการดำเนินการโดย สพภ.6 ขอนแก่น (คน) | B6: =SUM(C6:D6) -> 4238 | C6: =C11+C28+C30+C43+C54+C90+C112+C144+C198+C212+C227+C233+C235+C244+C246+C367+C379+C387 -> 2720 | D6: =D11+D28+D30+D43+D54+D90+D112+D144+D198+D212+D227+D233+D235+D244+D246+D367+D379+D387 -> 1518
A7: ผลการดำเนินการโดยหน่วยงานเอกชน (คน) | B7: =SUM(C7:D7) -> 0 | C7: =C351 -> 0 | D7: =D351 -> 0
A8: ผลผลิต 2 : เพิ่มประสิทธิภาพของแรงงานรองรับประชาคมอาเซียน
A9: กิจกรรมหลัก 2.2 : เพิ่มขีดความสามารถของแรงงานรองรับประชาคมอาเซียน | B9: =SUM(B11:B54) -> 968
A10: (1) รายการ พัฒนาขีดความสามารถด้านภาษาให้แก่แรงงานไทยเพื่อรองรับประชาคมอาเซียน (พัฒนาทักษะด้านภาษาเพื่อเพิ่มศักยภาพในการแข่งขันรองรับอาเซียนพลัสทรี (ASEAN + Summit)
A11: - ฝึกยกระดับฝีมือแรงงาน | B11: =C11+D11 -> 224 | C11: =SUM(C12:C26) -> 104 | D11: =SUM(D12:D26) -> 120 | G11: =SUM(G12:G26) -> 251400 | H11: =SUM(H12:H26) -> 22418 | I11: =SUM(I12:I26) -> 3840 | J11: =SUM(J12:J26) -> 3260
A12: ภาษาและวัฒนธรรมเกาหลีเบื้องต้นก่อนเดินทางไปทำงานสาธารณรัฐเกาหลีตามระบบการจ้างงานอรงงานต่างชาติ (45 ชั่วโมง) | B12: ปส. | C12: 20 | E12: 28/10/2557 | F12: 5/11/2557 | G12: 17700 | H12: 2209 | I12: 0 | J12: 745 | L12: วรรณนิสา
A13: ภาษาและวัฒนธรรมเกาหลีเบื้องต้นก่อนเดินทางไปทำงานสาธารณรัฐเกาหลีตามระบบการจ้างงานอรงงานต่างชาติ (45 ชั่วโมง) | B13: ปส. | C13: 21 | D13: 3 | E13: 28/10/2558 | F13: 5/11/2558 | G13: 17700 | H13: 2209 | I13: 0 | J13: 745 | L13: วรรณนิสา
A14: ภาษาและวัฒนธรรมเกาหลีเบื้องต้นก่อนเดินทางไปทำงานสาธารณรัฐเกาหลีตามระบบการจ้างงานอรงงานต่างชาติ (45 ชั่วโมง) | B14: ปส.
A15: ภาษาและวัฒนธรรมเกาหลีเบื้องต้นก่อนเดินทางไปทำงานสาธารณรัฐเกาหลีตามระบบการจ้างงานอรงงานต่างชาติ (45 ชั่วโมง) | B15: ปส.
A16: ภาษาอังกฤษคำต่อคำเพื่อการทำงาน ระดับ1(30 ชั่วโมง) | B16: สส. | C16: 8 | D16: 12 | E16: 10/11/2557 | F16: 14/11/2557 | G16: 24000 | H16: 2000 | I16: 420 | J16: 675 | L16: วรรณนิสา
A17: ภาษาอังกฤษคำต่อคำเพื่อการทำงาน ระดับ1(30 ชั่วโมง) | B17: สส. | C17: 9 | D17: 11 | E17: 8/12/2557 | F17: 12/12/2557 | G17: 24000 | H17: 2000 | I17: 420 | J17: 675 | K17: . | L17: วรรณนิสา
A18: ภาษาอังกฤษคำต่อคำเพื่อการทำงาน ระดับ1(30 ชั่วโมง) | B18: สส. | C18: 12 | D18: 8 | E18: 16/12/2557 | F18: 20/12/2557 | G18: 24000 | H18: 2000 | I18: 420 | L18: วรรณนิสา
A19: พูดอังกฤษคำต่อคำเพื่อการทำงาน ระดับ 1 (30 ชั่วโมง) | B19: สส. | C19: 6 | D19: 14 | E19: 16/2/2558 | F19: 20/2/2558 | G19: 24000 | H19: 2000 | I19: 420 | L19: 10/2/58
A20: ภาษาอังกฤษเพื่อการสื่อสาร (30 ชั่วโมง) | B20: กท. | C20: 1 | D20: 19 | E20: 16/2/2558 | F20: 20/2/2558 | G20: 24000 | H20: 2000 | I20: 660 | L20: 4/2/58
A21: ภาษาอังกฤษเพื่อการสื่อสาร (30 ชั่วโมง) | B21: กท. | C21: 6 | D21: 14 | E21: 9/3/2558 | F21: 19/3/2558 | G21: 24000 | H21: 2000 | I21: 660 | L21: 24/2/58
A22: ภาษาพม่าเพื่อการสื่อสาร (30 ชั่วโมง) | B22: กท.
A23: ภาษาอังกฤษเพื่อการทำงาน (30 ชั่วโมง) | B23: กท.
A24: ภาษาอังกฤษคำต่อคำเพื่อการทำงาน (30 ชั่วโมง) | B24: ปชส. | D24: 20 | E24: 8/12/2557 | F24: 12/12/2557 | G24: 24000 | H24: 2000 | J24: 420 | L24: วรรณนิสา
A25: ภาษาอังกฤษคำต่อคำเพื่อการทำงาน (30 ชั่วโมง) | B25: ปชส. | C25: 7 | D25: 13 | E25: 25/12/2557 | F25: 29/12/2557 | G25: 24000 | H25: 2000 | I25: 420 | L25: 26/12/57
A26: พูดอังกฤษคำต่อคำเพื่อการทำงาน ระดับ 1 (30 ชั่วโมง) | B26: ปชส. | C26: 14 | D26: 6 | E26: 17/3/2558 | F26: 21/3/2558 | G26: 24000 | H26: 2000 | I26: 420 | L26: 12/3/58
A27: (4) รายการ ฝึกอบรมผู้ประกอบอาหารรองรับครัวไทยสู่ครัวโลก
A28: - ฝึกเตรียมเข้าทำงาน | B28: =C28+D28 -> 16 | C28: =C29 -> 3 | D28: =D29 -> 13 | G28: =G29 -> 36000 | H28: =H29 -> 48000 | I28: =I29 -> 0 | J28: =J29 -> 0
A29: การประกอบอาหารไทย (280 ชั่วโมง) | B29: ธบ. | C29: 3 | D29: 13 | E29: 2/2/2558 | F29: 31/3/2558 | G29: 36000 | H29: 48000 | L29: 2/2/58
A30: - ฝึกยกระดับฝีมือแรงงาน | B30: =C30+D30 -> 140 | C30: =SUM(C31:C41) -> 37 | D30: =SUM(D31:D41) -> 103 | G30: =SUM(G31:G41) -> 168000 | H30: =SUM(H31:H41) -> 104000 | I30: =SUM(I31:I41) -> 4040 | J30: =SUM(J31:J41) -> 0
A31: 10 เมนูอาหารไทยยอดนิยม (30 ชั่วโมง) | B31: ธบ.
A32: การทำขนมไทย (30 ชั่วโมง) | B32: ธบ. | D32: 20 | E32: 12/11/2557 | F32: 16/11/2557 | G32: 24000 | H32: 14000 | L32: วรรณนิสา
A33: การประกอบอาหารไทย (30 ชั่วโมง) | B33: ธบ. | C33: 11 | D33: 9 | E33: 23/2/2558 | F33: 27/2/2558 | G33: 24000 | H33: 20000 | I33: 800 | L33: 20/2/58
A34: การประกอบอาหารไทย (30 ชั่วโมง) | B34: ธบ. | C34: 12 | D34: 8 | E34: 16/3/2558 | F34: 20/3/2558 | G34: 24000 | H34: 14000 | I34: 1260 | L34: 12/3/58
A35: การประกอบอาหารไทย (30 ชั่วโมง) | B35: ธบ. | C35: 1 | D35: 19 | E35: 18/3/2558 | F35: 22/3/2558 | G35: 24000 | H35: 14000 | I35: 1020 | L35: 16/3/58
A36: การประกอบอาหารตามสั่ง (30 ชั่วโมง) | B36: ธบ.
A37: พนักงานบริการเสริฟอาหาร (จำนวน 30 ชั่วโมง) | B37: ธบ.
A38: การประกอบอาหารไทย (30 ชั่วโมง) | B38: ธบ. | D38: 20 | E38: 4/4/2558 | F38: 8/4/2558 | G38: 24000 | H38: 14000 | I38: 480 | L38: 2/4/58
A39: การประกอบอาหารไทย (30 ชั่วโมง) | B39: ธบ. | D39: 20 | E39: 13/5/2558 | F39: 17/5/2558 | G39: 24000 | H39: 14000 | I39: 480 | K39: 20/5/58 | L39: 7/5/58
A40: การประกอบอาหารไทย (30 ชั่วโมง) | B40: ฟฟ. | C40: 13 | D40: 7 | E40: 11/5/2558 | F40: 15/5/2558 | G40: 24000 | H40: 14000 | L40: 11/5/58
A41: การประกอบอาหารไทย (30 ชั่วโมง) | B41: ฟฟ.
A42: (6) รายการ พัฒนาศักยภาพแรงงานไทยเพื่อส่งเสริมความสามารถของภาคบริการและการท่องเที่ยวสู่รายได้และการแข่งขัน
A43: - ฝึกเตรียมเข้าทำงาน | B43: =C43+D43 -> 77 | C43: =SUM(C44:C53) -> 16 | D43: =SUM(D44:D53) -> 61 | G43: =SUM(G44:G53) -> 139850 | H43: =SUM(H44:H53) -> 111600 | I43: =SUM(I44:I53) -> 0 | J43: =SUM(J44:J53) -> 0
A44: ช่างแต่งผมสตรี (ระดับต้น) 280 ชั่วโมง | B44: ชอก. | D44: 16 | E44: 3/3/2558 | F44: 4/5/2558 | G44: 24900 | H44: 24000 | L44: 11/3/58
A45: ช่างแต่งผมสตรี (ระดับต้น) 280 ชั่วโมง | B45: ชอก.
A46: ช่างแต่งผมสตรี (ระดับต้น) 280 ชั่วโมง | B46: ชอก.
A47: พนักงานนวดแผนไทย (280 ชั่วโมง) | B47: ชอก. | C47: 2 | D47: 14 | E47: 6/1/2558 | F47: 2/3/2558 | G47: 24000 | H47: 25600 | I47: - | J47: - | L47: 27/1/58
A48: พนักงานนวดแผนไทย (280 ชั่วโมง) | B48: ชอก. | D48: 15 | E48: 11/5/2558 | F48: 7/5/2558 | G48: 27920 | H48: 24000 | L48: 15/5/58
A49: พนักงานการโรงแรม (700 ชั่วโมง) | B49: ชอก. | C49: 3 | D49: 5 | E49: 9/4/2558 | F49: 7/9/2558 | G49: 35110 | L49: 21292
A50: ช่างแต่งผมสตรี:ระดับต้น (280 ชั่วโมง) | B50: ชอก.
A51: การพาณิชย์อิเล็กทรอนิกส์ (140 ชั่วโมง) | B51: ฟฟ.. | C51: 5 | E51: 9/3/2558 | F51: 3/4/2558 | H51: 4000 | L51: 11/3/58
A52: การประกอบอาหารไทย (280 ชั่วโมง) | B52: ชอก. | C52: 6 | D52: 11 | E52: 11/5/2558 | F52: 7/5/2558 | G52: 27920 | H52: 34000 | L52: 15/5/58
A53: พนักงานบริการอาหารและเครื่องดื่ม (280 ชั่วโมง) | B53: ชอก.
A54: - ฝึกยกระดับฝีมือแรงงาน | B54: =C54+D54 -> 511 | C54: =SUM(C55:C86) -> 236 | D54: =SUM(D55:D86) -> 275 | G54: =SUM(G56:G86) -> 532800 | H54: =SUM(H56:H86) -> 92354 | I54: =SUM(I55:I86) -> 1320 | J54: =SUM(J55:J86) -> 8040
A55: การพัฒนาทีมงานสมัยใหม่ (30 ชั่วโมง) | B55: คก. | C55: 9 | D55: 11 | E55: 3/11/2557 | F55: 7/11/2557 | G55: 24000 | H55: 4000 | I55: 0 | J55: 1000 | L55: วรรณนิสา
A56: การพัฒนาทีมงานสมัยใหม่ (30 ชั่วโมง) | B56: คก. | C56: 10 | D56: 10 | E56: 10/11/2557 | F56: 14/11/2557 | G56: 24000 | H56: 4000 | I56: 0 | J56: 1000 | L56: วรรณนิสา
A57: การสร้างการบริการที่ประทับใจ (30 ชั่วโมง) | B57: คก. | C57: 10 | D57: 10 | E57: 8/12/2557 | F57: 12/12/2557 | G57: 24000 | H57: 4000 | J57: 1000 | L57: วรรณนิสา
A58: การสร้างการบริการที่ประทับใจ (30 ชั่วโมง) | B58: คก. | C58: 10 | D58: 10 | E58: 15/12/2557 | F58: 19/12/2557 | G58: 24000 | H58: 4000 | J58: 1000 | L58: วรรณนิสา
A59: การสร้างการบริการที่ประทับใจ (30 ชั่วโมง) | B59: คก. | C59: 14 | D59: 6 | E59: 16/3/2558 | F59: 20/3/2558 | G59: 24000 | H59: 5000 | L59: 20/2/58
A60: การสร้างจิตบริการ (30 ชั่วโมง) | B60: ฟฟ. | C60: 11 | D60: 9 | E60: 9/3/2558 | F60: 13/3/2558 | G60: 24000 | H60: 5000 | L60: 3/3/58
A61: หลักของการเป็นหัวหน้างาน (30 ชั่วโมง) | B61: คก. | C61: 7 | D61: 13 | E61: 23/3/2558 | F61: 27/3/2558 | G61: 24000 | H61: 5000 | L61: 5/3/58
A62: การสร้างจิตบริการ (30 ชั่วโมง) | B62: ฟฟ. | C62: 16 | D62: 5 | E62: 2/4/2558 | F62: 8/4/2558 | G62: 24000 | H62: 5000 | L62: 30/3/58
A63: การสร้างจิตบริการ (30 ชั่วโมง) | B63: ฟฟ.
A64: ภาษาอังกฤษสำหรับงานบริการโรงแรม (30 ชั่วโมง) | B64: ชก. | C64: 10 | D64: 10 | E64: 10/11/2557 | F64: 14/11/2557 | G64: 24000 | H64: 3130 | I64: 0 | J64: 0 | L64: วรรณนิสา
A65: ภาษาอังกฤษสำหรับงานบริการโรงแรม (30 ชั่วโมง) | B65: ชก. | C65: 0 | D65: 20 | E65: 24/11/2557 | F65: 28/11/2557 | G65: 24000 | H65: 3130 | I65: 0 | J65: 0 | L65: วรรณนิสา
A66: ภาษาอังกฤษสำหรับงานบริการโรงแรม (30 ชั่วโมง) | B66: ชก. | C66: 10 | D66: 10 | E66: 20/4/2558 | F66: 24/4/2558 | G66: 24000 | H66: 3104 | I66: 480 | L66: 21284
A67: ภาษาอังกฤษสำหรับงานบริการ (30 ชั่วโมง) | B67: ชก.
A68: ภาษาอังกฤษเพื่อการบริการ (30 ชั่วโมง) | B68: ชอก. | C68: 6 | D68: 14 | E68: 16/2/2558 | F68: 20/2/2558 | G68: 24000 | H68: 3970 | L68: 4/2/58
A69: การสร้างการบริการที่ปประทับใจ (30 ชั่วโมง) | B69: ชอก. | C69: 7 | D69: 13 | E69: 2/3/2558 | F69: 6/3/2558 | G69: 24000 | H69: 3850 | L69: 25/2/58
A70: ฝึกภาษาอังกฤษเพื่อการสื่อสาร (30 ชั่วโมง) | B70: ชช.
A71: ฝึกภาษาอังกฤษเพื่อการสื่อสาร (30 ชั่วโมง) | B71: ชช.
A72: พูดภาษาอังกฤษคำต่อคำเพื่อการทำงาน ระดับ1 (30 ชั่วโมง) | B72: กส. | C72: 3 | D72: 17 | E72: 22/12/2557 | F72: 6/01/2558 | G72: 24000 | H72: 4000 | J72: 480 | L72: วรรณนิสา
A73: หลักของการเป็นหัวหน้างาน (30 ชั่วโมง) | B73: ฟฟ | C73: 6 | D73: 14 | E73: 26/4/2558 | F73: 30/4//2558 | G73: 24000 | H73: 5000 | L73: 22/4/58
A74: กลุ่มสาขาอาชีพด้านภาษา (30 ชั่วโมง) | B74: กส.
A75: กลุ่มสาขาอาชีพด้านภาษา (30 ชั่วโมง) | B75: กส.
A76: การพัฒนาศักยภาพครูฝึกและพี่เลี้ยงในสถานประกอบการ (30 ชั่วโมง) | B76: ปส. | C76: 10 | D76: 10 | E76: 24/11/2557 | F76: 28/11/2557 | G76: 9600 | H76: 2400 | I76: 0 | J76: 0 | L76: วรรณนิสา
A77: การพัฒนาศักยภาพครูฝึกและพี่เลี้ยงในสถานประกอบการ (30 ชั่วโมง) | B77: ปส. | C77: 10 | D77: 15 | E77: 16/12/2557 | F77: 20/12/2557 | G77: 9600 | H77: 3140 | I77: 0 | J77: 0 | L77: วรรณนิสา
A78: การพัฒนาศักยภาพครูฝึกและพี่เลี้ยงในสถานประกอบการ (30 ชั่วโมง) | B78: ปส. | C78: 10 | D78: 13 | E78: 10/2/2558 | F78: 14/2/2558 | G78: 9600 | H78: 2500 | I78: - | J78: - | L78: 30/1/58
A79: การสร้างบริการที่ประทับใจ (30 ชั่วโมง) | B79: สส.
A80: พูดอังกฤษคำต่อคำเพื่อการทำงานระดับ 2 (30 ชั่วโมง) | B80: ปชส. | C80: 6 | D80: 10 | E80: 23/3/2558 | F80: 27/3/2558 | G80: 24000 | H80: 3200 | I80: 420 | L80: 12/3/58
A81: พูดอังกฤษคำต่อคำเพื่อการทำงานระดับ 2 (30 ชั่วโมง) | B81: ปชส. | C81: 6 | D81: 10 | E81: 30/3/2558 | F81: 3/4/2558 | G81: 24000 | H81: 3200 | I81: 420 | L81: 12/3/58
A82: 9 พฤติกรรม 9 สู่ความสำเร็จ (30 ชั่วโมง) | B82: ปมฐ. | C82: 12 | D82: 13 | E82: 10/11/2557 | F82: 14/11/2557 | G82: 24000 | H82: 3976 | J82: 900 | L82: วรรณนิสา
A83: 9 พฤติกรรม 9 สู่ความสำเร็จ (30 ชั่วโมง) | B83: ปมฐ. | C83: 13 | D83: 12 | E83: 17/11/2557 | F83: 21/11/2557 | G83: 24000 | H83: 3976 | L83: วรรณนิสา
A84: การจัดทำเอกสารระบบบริหารคุณภาพ (30 ชั่วโมง) | B84: ปมฐ. | C84: 10 | D84: 10 | E84: 19/11/2557 | F84: 23/11/2557 | G84: 24000 | H84: 3926 | J84: 880 | L84: วรรณนิสา
A85: การวางแผนพัฒนาทัพยากรบุคคล (30 ชั่วโมง) | B85: ปมฐ. | C85: 10 | D85: 10 | E85: 24/11/2557 | F85: 30/11/2557 | G85: 24000 | H85: 3926 | I85: 0 | J85: 900 | L85: วรรณนิสา
A86: พนักงานขับรถบรรทุก (30 ชั่วโมง) | B86: ปมฐ. | C86: 20 | D86: 0 | E86: 2/12/2557 | F86: 7/12/2557 | G86: 24000 | H86: 3926 | I86: 0 | J86: 880 | L86: วรรณนิสา
A87: การดูแลบำรุงรักษารถยนต์ (30ชั่วโมง) | B87: ปมฐ. | C87: 20 | D87: 0 | E87: 18/12/2557 | F87: 22/12/2557 | G87: 24000 | H87: 3926 | J87: 880 | L87: วรรณนิสา
A88: นักส่งเสริมแบบองค์รวมสปาตะวันตก (หัตถบำบัด) | B88: ปมฐ. | D88: 20 | E88: 16/12/2557 | F88: 20/12/2557 | G88: 24000 | H88: 10085 | J88: 900 | K88: 0 | L88: วรรณนิสา
A89: (7) รายการ เพิ่มศักยภาพแรงงานไทยขับเคลื่อนการแข่งขันของภาคอุตสาหกรรมในการเข้าสู่ประชาคมอาเซียน
A90: - ฝึกยกระดับฝีมือแรงงาน | B90: =C90+D90 -> 344 | C90: =SUM(C91:C110) -> 334 | D90: =SUM(D91:D110) -> 10 | G90: =SUM(G91:G110) -> 243000 | H90: =SUM(H91:H110) -> 180370.5 | I90: =SUM(I91:I110) -> 0 | J90: =SUM(J91:J110) -> 0
A91: การควบคุมเครื่องกลึ่ง (CNC) ระดับ ๑ | B91: ศทส. | C91: 25 | E91: 10/11/2557 | F91: 19/11/2557 | G91: 24000 | H91: 13960 | I91: 0 | J91: 0
A92: การควบคุมเครื่องกลึง (CNC) ระดับ ๑ | B92: ศทส. | C92: 20 | E92: 24/11/2557 | F92: 3/12/2557 | G92: 24000 | H92: 13970 | L92: วรรณนิสา
A93: การควบคุมเครื่องกลึง (CNC) ระดับ ๒ | B93: ศทส. | C93: 21 | E93: 9/12/2557 | F93: 24/12/2557 | G93: 24000 | H93: 14000 | I93: 0 | J93: 0 | L93: วรรณนิสา
A94: การควบคุมเครื่องกลึง (CNC) ระดับ ๒ | B94: ศทส. | C94: 18 | E94: 7/01/2558 | F94: 20/01/2558 | G94: 24000 | H94: 14000 | I94: 0 | J94: 0 | L94: วรรณนิสา
A95: การควบคุมเครื่องกลึง (CNC) ระดับ ๒ | B95: ศทส. | C95: 20 | E95: 5/01/2558 | F95: 14/01/2558 | G95: 24000 | H95: 14000 | I95: 0 | J95: 0 | L95: วรรณนิสา
A96: การควบคุมเครื่องกัด (CNC) ระดับ ๑(30ชั่วโมง) | B96: ศทส. | C96: 25 | E96: 10/11/2557 | F96: 19/11/2557 | G96: 4500 | H96: 14000 | I96: 0 | J96: 0 | L96: วรรณนิสา
A97: การควบคุมเครื่องกัด (CNC) ระดับ ๑(30ชั่วโมง) | B97: ศทส. | C97: 30 | E97: 20/11/2557 | F97: 4/12/2557 | G97: 24000 | H97: 13940 | I97: 0 | J97: 0 | L97: วรรณนิสา
A98: ช่างควบคุมเครื่องกลึง (CNC) ระดับ ๑(30ชั่วโมง) | B98: ศทส. | C98: 22 | E98: 21/1/2558 | F98: 28/1/2558 | G98: 24000 | H98: 14660 | I98: 0 | J98: 0 | L98: 13/1/58
A100: ช่างควบคุมเครื่องกลึง (CNC) ระดับ ๒ | B100: ศทส. | C100: 22 | E100: 29/1/2558 | F100: 4/2/2558 | G100: 24000 | H100: 14460 | I100: - | J100: - | L100: 20/1/58
A101: ช่างควบคุมเครื่องกัด (CNC) ระดับ ๑ | B101: ศทส. | C101: 20 | E101: 26/1/2558 | F101: 2/2/2558 | G101: 4500 | H101: 13800 | I101: - | J101: - | L101: 20/1/58
...

Sheet Sheet1
A1: ผลการดำเนินงานตามแผนปฏิบัติการพัฒนาฝีมือแรงงาน ประจำปีงบประมาณ พ.ศ.2558
A2: สถาบันพัฒนาฝีมือแรงงาน ภาค 6 ขอนแก่น
B3: ณ วันที่ | C3: =NOW() -> 42250.562
A5: ผลผลิต/กิจกรรมหลัก | B5: ผลการดำเนินงาน (คน) | F5: ผลการใช้จ่ายงบประมาณ (บาท)
B6: เป้าหมาย | C6: ผลงาน | D6: ร้อยละ | E6: คงเหลือ | F6: งปม.ที่ได้รับ | G6: ผลการเบิกจ่าย | H6: ร้อยละ | I6: คงเหลือ
A7: รวมทั้งสิ้น (คน) | B7: =B8+B9 -> 13178 | C7: =C8+C9 -> 35719 | D7: =C7*100/B7 -> 271.05024 | E7: =B7-C7 -> -22541 | F7: 23177470 | G7: 17065541 | H7: =G7*100/F7 -> 73.629869 | I7: =+F7-G7 -> 6111929.1
A8: สถาบันพัฒนาฝีมือแรงงานภาค 6 ขอนแก่น ดำเนินการเอง (คน) | B8: =+B10+B30+B34 -> 5678 | C8: =+C10+C30+C34 -> 5491 | D8: =C8*100/B8 -> 96.706587 | E8: =B8-C8 -> 187 | F8: 23177470 | G8: 17065541 | H8: =G8*100/F8 -> 73.629869 | I8: =+F8-G8 -> 6111929.1 | K8: =+G7-G8 -> 0
A9: เอกชน/สถานประกอบการดำเนินการ (คน) | B9: =B42 -> 7500 | C9: 30228 | D9: =C9*100/B9 -> 403.04 | E9: =B9-C9 -> -22728 | F9: 0 | G9: 0 | H9: 0 | I9: =F9-G9 -> 0
A10: ผลผลิต 2 : เพิ่มประสิทธิภาพของแรงงานรองรับประชาคมอาเซียน | B10: =+B11 -> 3036 | C10: =+C11 -> 3390 | D10: 69.07 | E10: =+E11 -> -354 | F10: =+F11 -> 12523100 | G10: =+G11 -> 8298333.9 | H10: =G10*100/F10 -> 66.264215 | I10: =+F10-G10 -> 4224766.1
A11: กิจกรรมหลัก 2.2 : เพิ่มขีดความสามารถของแรงงานรองรับประชาคมอาเซียน | B11: =+B12+B14+B17+B20+B22+B25 -> 3036 | C11: =+C12+C14+C17+C20+C22+C25 -> 3390 | D11: 69.07 | E11: =+E12+E14+E17+E20+E22+E25 -> -354 | F11: =+F12+F14+F17+F20+F22+F25+F28 -> 12523100 | G11: =+G12+G14+G17+G20+G22+G25+G28 -> 8298333.9 | H11: =G11*100/F11 -> 66.264215 | I11: =+F11-G11 -> 4224766.1
A12: (1) รายการ พัฒนาขีดความสามารถด้านภาษาให้แก่แรงงานไทยเพื่อรองรับประชาคมอาเซียน (พัฒนาทักษะด้านภาษาเพื่อเพิ่มศักยภาพในการแข่งขันรองรับอาเซียนพลัสทรี (ASEAN + Summit) | B12: =SUM(B13) -> 300 | C12: =SUM(C13) -> 338 | D12: =C12*100/B12 -> 112.66667 | E12: =SUM(E13) -> -38 | F12: 1780114 | G12: 548383 | H12: =G12*100/F12 -> 30.806061 | I12: =+F12-G12 -> 1231731
A13: - ฝึกยกระดับฝีมือแรงงาน | B13: 300 | C13: =Control!B11 -> 338 | D13: =C13*100/B13 -> 112.66667 | E13: =B13-C13 -> -38
A14: (4) รายการ ฝึกอบรมผู้ประกอบอาหารรองรับครัวไทยสู่ครัวโลก | B14: =SUM(B15:B16) -> 228 | C14: =SUM(C15:C16) -> 236 | D14: =C14*100/B14 -> 103.50877 | E14: =B14-C14 -> -8 | F14: 807400 | G14: 380206.5 | H14: =G14*100/F14 -> 47.090228 | I14: =+F14-G14 -> 427193.5
A15: - ฝึกเตรียมเข้าทำงาน | B15: 16 | C15: =Control!B31 -> 16 | D15: =C15*100/B15 -> 100 | E15: =B15-C15 -> 0
A16: - ฝึกยกระดับฝีมือแรงงาน | B16: 212 | C16: =Control!B33 -> 220 | D16: =C16*100/B16 -> 103.77358 | E16: =B16-C16 -> -8
A17: (6) รายการ พัฒนาศักยภาพแรงงานไทยเพื่อส่งเสริมความสามารถของภาคบริการและการท่องเที่ยวสู่รายได้และการแข่งขัน | B17: =SUM(B18:B19) -> 716 | C17: =SUM(C18:C19) -> 829 | D17: =C17*100/B17 -> 115.78212 | E17: =B17-C17 -> -113 | F17: 2236600 | G17: 1667726 | H17: =G17*100/F17 -> 74.565233 | I17: =+F17-G17 -> 568874
A18: - ฝึกเตรียมเข้าทำงาน | B18: 144 | C18: =Control!B49 -> 166 | D18: =C18*100/B18 -> 115.27778 | E18: =B18-C18 -> -22
A19: - ฝึกยกระดับฝีมือแรงงาน | B19: 572 | C19: =Control!B63 -> 663 | D19: =C19*100/B19 -> 115.90909 | E19: =B19-C19 -> -91
A20: (7) รายการ เพิ่มศักยภาพแรงงานไทยขับเคลื่อนการแข่งขันของภาคอุตสาหกรรมในการเข้าสู่ประชาคมอาเซียน | B20: =SUM(B21) -> 320 | C20: =SUM(C21) -> 375 | D20: =C20*100/B20 -> 117.1875 | E20: =SUM(E21) -> -55 | F20: 807037 | G20: 807036.89 | H20: =G20*100/F20 -> 99.999986 | I20: =+F20-G20 -> 0.11
A21: - ฝึกยกระดับฝีมือแรงงาน | B21: 320 | C21: =Control!B99 -> 375 | D21: =C21*100/B21 -> 117.1875 | E21: =B21-C21 -> -55
A22: (8) รายการ พัฒนาฝีมือแรงงานรองรับการพัฒนาโครงสร้างพื้นฐานคมนาคมและการขนส่ง | B22: =SUM(B23:B24) -> 1104 | C22: =SUM(C23:C24) -> 1143 | D22: =C22*100/B22 -> 103.53261 | E22: =B22-C22 -> -39 | F22: 4630400 | G22: 3339179.5 | H22: =G22*100/F22 -> 72.114278 | I22: =+F22-G22 -> 1291220.5
A23: - ฝึกเตรียมเข้าทำงาน | B23: 144 | C23: =Control!B122 -> 170 | D23: =C23*100/B23 -> 118.05556 | E23: =B23-C23 -> -26
A24: - ฝึกยกระดับฝีมือแรงงาน | B24: 960 | C24: =Control!B154 -> 973 | D24: =C24*100/B24 -> 101.35417 | E24: =B24-C24 -> -13
A25: (9) รายการ ฝึกอบรมฝีมือแรงงานรองรับการพัฒนาพื้นที่เศรษฐกิจชายแดนและชนบท | B25: =SUM(B26:B27) -> 368 | C25: =SUM(C26:C27) -> 469 | D25: =C25*100/B25 -> 127.44565 | E25: =B25-C25 -> -101 | F25: 896049 | G25: 711412 | H25: =G25*100/F25 -> 79.394319 | I25: =+F25-G25 -> 184637
A26: - ฝึกยกระดับฝีมือแรงงาน (ในระบบ) | B26: 208 | C26: =Control!B209 -> 234 | D26: =C26*100/B26 -> 112.5 | E26: =B26-C26 -> -26
A27: - ฝึกยกระดับฝีมือแรงงาน (นอกระบบ) | B27: 160 | C27: =Control!B224 -> 235 | D27: =C27*100/B27 -> 146.875 | E27: =B27-C27 -> -75
A28: งบเงินอุดหนุนเฉพาะกิจ เงินอุดหนุนเพื่อช่วยเหลือผู้รับการพัฒนาฝีมือฯ | F28: 1365500 | G28: 844390 | H28: =G28*100/F28 -> 61.837422 | I28: =+F28-G28 -> 521110
A30: ผลผลิต 3 : โครงการ ฝึกอบรมฝีมือแรงงานตามโครงการอันเนื่องมาจากพระราชดำริ | B30: =B31+B32 -> 60 | C30: =SUM(C31:C33) -> 20 | D30: =C30*100/B30 -> 33.333333 | E30: 20 | F30: 260000 | G30: 119275 | H30: =G30*100/F30 -> 45.875 | I30: =F30-G30 -> 140725
A31: กิจกรรมหลัก 3.1 : ฝึกอบรมฝีมือแรงงานตามโครงการอันเนื่องมาจากพระราชดำริ | B31: 20 | C31: =Control!B239 -> 20 | D31: =C31*100/B31 -> 100 | E31: =B31-C31 -> 0 | F31: 132000 | G31: 119275 | H31: =G31*100/F31 -> 90.359848 | I31: 12725
A32: กิจกรรมหลัก 3.3 : ฝึกอาชีพแรงงานกลุ่มเฉพาะ | B32: 40 | C32: 0 | D32: =C32*100/B32 -> 0 | E32: =B32-C32 -> 40 | F32: 128000 | G32: 0 | H32: 0 | I32: 128000
A33: กิจกรรมหลัก 3.4 : จัดตั้งศูนย์ทดสอบมาตรฐานฝีมือแรงงานในสถานประกอบกิจการเทิดไท้พระบิดาแห่งมาตรฐานช่างไทย (แห่ง) | B33: 1 | C33: 0 | D33: =C33*100/B33 -> 0 | E33: =B33-C33 -> 1 | F33: 0 | G33: =SUM(Control!G244:J244) -> 0
A34: ผลผลิต 4 : พัฒนาศักยภาพฝีมือแรงงานทั้งระบบให้สอดคล้องกับความต้องการของตลาดแรงงาน และการประกอบอาชีพ | B34: =+B35+B39+B40+B41+B45+B48 -> 2582 | C34: =+C35+C39+C40+C41+C45+C48 -> 2081 | D34: 147.85 | E34: =B34-C34 -> 501 | F34: 10394370 | G34: 8647931.9 | H34: =G34*100/F34 -> 83.198231 | I34: =F34-G34 -> 1746438.1
A35: กิจกรรมหลัก 4.1 : พัฒนาฝีมือเพื่อเพิ่มโอกาสในการประกอบอาชีพ | B35: =+B36+B37 -> 31 | C35: =+C36+C37 -> 189 | D35: =C35*100/B35 -> 609.67742 | E35: =+E36+E37 -> -158 | F35: 126665 | G35: 115059.2 | H35: =G35*100/F35 -> 90.837406 | I35: =+F35-G35 -> 11605.8
A36: (1) รายการ พัฒนาศักยภาพและทักษะฝีมือของผู้ประกอบอาชีพ OTOP | B36: 16 | C36: =Control!B248 -> 20 | D36: =C36*100/B36 -> 125 | E36: =B36-C36 -> -4 | K36: 10365070
A37: (2) รายการ ฝึกอาชีพให้แก่ ผู้ต้องขัง ทหารก่อนปลดประจำการ ผู้ผ่านการบำบัดยาเสพติดเด็กในสถานพินิจและเยาวชน ฯลฯ (ตาม MOU) | B37: 15 | C37: =Control!B250 -> 169 | D37: =C37*100/B37 -> 1126.6667 | E37: =B37-C37 -> -154 | K37: =+K36-F34 -> -29300
A38: ค่าสาธารณูปโภค
A39: กิจกรรมหลัก 4.2 พัฒนา/ส่งเสริมการประกอบอาชีพอิสระ | B39: 16 | C39: =Control!B259 -> 20 | D39: =C39*100/B39 -> 125 | E39: =B39-C39 -> -4 | F39: 24000 | G39: 23780 | H39: =G39*100/F39 -> 99.083333 | I39: 220
A40: กิจกรรมหลัก 4.3 ทดสอบมาตรฐานฝีมือแรงงานแห่งชาติ | B40: 2000 | C40: 1228 | D40: =C40*100/B40 -> 61.4 | E40: =B40-C40 -> 772 | F40: 1280000 | G40: 813531.09 | H40: =G40*100/F40 -> 63.557116 | I40: =+F40-G40 -> 466468.91
A41: กิจกรรมหลัก 4.4 จัดทำหลักเกณฑ์พัฒนา/ส่งเสริมมาตรฐานฝีมือแรงงาน | B41: 45 | C41: 39 | D41: =C41*100/B41 -> 86.666667 | E41: =B41-C41 -> 6 | F41: 1489470 | G41: 1199562.6 | H41: =G41*100/F41 -> 80.536201 | I41: =+F41-G41 -> 289907.45
A42: กิจกรรมหลัก 4.6 : ส่งเสริมและสนับสนุนให้สถานประกอบกิจการดำเนินการฝึกอบรมฝีมือแรงงานตาม พ.ร.บ.ส่งเสริมฯ | B42: 7500 | C42: 30228 | D42: =C42*100/B42 -> 403.04 | E42: =B42-C42 -> -22728 | F42: 3556476.4 | G42: 2927130.5 | H42: =G42*100/F42 -> 82.304231 | I42: =+F42-G42 -> 629345.85
A43: งบลงทุน | F43: 787000 | G43: 787000 | H43: =G43*100/F43 -> 100 | I43: =+F43-G43 -> 0
A44: งบดำเนินงาน | F44: 2770316.4 | G44: 2140130.5 | H44: =G44*100/F44 -> 77.252206 | I44: =+F44-G44 -> 630185.85 | K44: =787000+1454902.52 -> 2241902.5
A45: กิจกรรม 4.7 : ยกระดับทักษะฝีมือแรงงานให้มีศักยภาพและผลิตภาพเพื่อการแข่งขัน | B45: =+B46+B47 -> 200 | C45: =+C46+C47 -> 294 | D45: =+D46+D47 -> 147 | E45: =+E46+E47 -> -94 | F45: 2220000 | G45: 2106917 | H45: =G45*100/F45 -> 94.906171 | I45: =+F45-G45 -> 113083
A46: - แรงงานในสถานประกอบกิจการ | B46: 200 | C46: =Control!B382 -> 294 | D46: =C46*100/B46 -> 147 | E46: =B46-C46 -> -94 | G46: =SUM(Control!G382:J382) -> 0
G47: =SUM(Control!G395:J395) -> 0
A48: กิจกรรมหลัก 4.8 : พัฒนาศักยภาพแรงงานเพื่อรองรับการจ่ายค่าจ้างตามมาตรฐานฝีมือแรงงาน | B48: 290 | C48: =Control!B403 -> 311 | D48: =C48*100/B48 -> 107.24138 | E48: =B48-C48 -> -21 | F48: 627175 | G48: 539726.7 | H48: =G48*100/F48 -> 86.056794 | I48: =+F48-G48 -> 87448.3
A49: ค่าสาธารณูปโภค | F49: 1070583.6 | G49: 922224.9 | H49: =G49*100/F49 -> 86.142256 | I49: =+F49-G49 -> 148358.74
A51: งบดำเนินงาน | F51: 6321050 | G51: 4673727.4 | H51: =G51*100/F51 -> 73.939099 | I51: =+F51-G51 -> 1647322.6
A52: งบรายจ่ายอื่น | F52: 14703920 | G52: 10760423 | H52: =G52*100/F52 -> 73.180645 | I52: =+F52-G52 -> 3943496.5
A53: งบลงทุน | F53: 787000 | G53: 787000 | H53: =G53*100/F53 -> 100 | I53: =+F53-G53 -> 0
A54: งบเงินอุดหนุน | F54: 1365500 | G54: 844390 | H54: =G54*100/F54 -> 61.837422 | I54: =+F54-G54 -> 521110
A55: รวมทุกงบ | F55: =SUM(F51:F54) -> 23177470 | G55: =SUM(G51:G54) -> 17065541 | H55: =G55*100/F55 -> 73.629869 | I55: =+F55-G55 -> 6111929.1

Sheet Sheet2

Sheet Sheet3
A1: ลำดับที่ | B1: หลักสูตรต่างๆ
B2: - ฝึกเตรียมเข้าทำงาน
A3: 1 | B3: ช่างซ่อมรถจักรยานยนต์ (840 ชั่วโมง)
A4: 2 | B4: ช่างซ่อมรถยนต์ (840ชั่วโมง)
A5: 3 | B5: ช่างเดินสายไฟฟ้าในอาคาร(640ชั่วโมง)
A6: 4 | B6: ช่างกลโรงงาน(640ชัวโมง)
A7: 5 | B7: ช่างเชื่อมอุตสาหกรรม (1,120 ชั่วโมง)
A8: 6 | B8: ช่างประกอบโครงอะลูมิเนียม (840 ชั่วโมง)
A9: 7 | B9: ช่างตัดเย็บเสื้อผ้าสตรี(840ชั่วโมง)
A10: 8 | B10: ช่างซ่อมรถจักรยานยนต์ (1120 ชั่วโมง)
A11: 9 | B11: ช่างกลึง (1120ชั่วโมง)
A12: 10 | B12: ช่างออกแบบเสื้อผ้า (840 ชั่งโมง)
A13: 11 | B13: ช่างเทคนิคงานสีผลิตภัณฑ์ไม้ (420 ชั่วโมง)
A14: 12 | B14: ช่างสีรถยนต์ (840 ชั่วโมง)
... A20: 18 | B20: การพาณิชย์อิเล็กทรอนิกส์ (150 ชั่วโมง)
B22: - ฝึกยกระดับฝีมือแรงงาน
A23: 1 | B23: ช่างซ่อมรถยนต์ (30 ชั่วโมง)
A24: 2 | B24: พนักงานควบคุมเครื่องจักรรถยกอย่างปลอดภัย (30ชม)
A25: 3 | B25: พนักงานควบคุมเครื่องจักรรถยก ระดับ 1 (30ชม)
A26: 4 | B26: พื้นฐานรถจักรยานยนต์ ระดับ BRONZE (30ชม)
A27: 5 | B27: การเชื่อมไฟฟ้า (30 ชั่วโมง)
A28: 6 | B28: การเชื่อมอาร์กโลหะด้วยมือ ระดับ 1 (30 ชั่วโมง)
A29: 7 | B29: การบำรุงรักษารถยนต์ (30 ชั่วโมง)
A30: 8 | B30: การสร้างจิตบริการ (30 ชั่วโมง)
A31: 9 | B31: Lean Canvas สำหรับธุรกิจโลจิสติกส์ (30 ชั่วโมง)
A32: 10 | B32: ช่างซ่อมบำรุงเครื่องจักรกล (60 ชั่วโมง)
A33: 11 | B33: ช่างกลึงรูปพรรณ (30 ชั่วโมง)
A34: ลำดับที่ | B34: หลักสูตรต่างๆ
B35: - ฝึกยกระดับฝีมือแรงงาน
A36: 12 | B36: พูดภาษาอังกฤษคำต่อคำเพื่อการทำงานระดับ1 (30 ชั่วโมง)
A37: 13 | B37: การเชื่อมMAG เหล็กหนา (30ชั่วโมง)
A38: 14 | B38: การเชื่อมTIG (30 ชั่วโมง)
A39: 15 | B39: การเชื่อมไฟฟ้า ระดับ 2 (30 ชั่วโมง)
A40: 16 | B40: การปูกระเบื้องโดยใช้วัสดุกาวซีเมนต์และยาแนวที่เป็นมิตรกับสิ่งแวดล้อม (18 ชั่วโมง)
A41: 17 | B41: ช่างเทคนิคการปูกระเบื้องห้องน้ำและติดตั้งเครื่องสุขภัณฑ์ (30 ชม.)
A42: 18 | B42: การมุงหลังคากระเบื้องคอนกรีต (30 ชั่วโมง)
A43: 19 | B43: เทคนิคการติดตั้งและตรวจสอบนั่งร้านสำหรับงานก่อสร้าง (30 ชั่วโมง)
A44: 20 | B44: ช่างก่ออิฐ (30 ชั่วโมง)
A45: 21 | B45: ช่างไฟฟ้าอุตสาหกรรม (30 ชั่วโมง)
A46: 22 | B46: พนักงานควบคุมเครื่องจักรรถตักหน้าขุดหลัง (30ชม)
A47: 23 | B47: เพิ่มประสิทธิภาพพนักงานขับรถบรรทุก (30 ชั่วโมง)
... A65: 41 | B65: ภาษาและวัฒนธรรมเกาหลีเบื้องต้นก่อนเดินทางไปทำงานสาธารณรัฐเกาหลีตามระบบการจ้างงานแรงงานต่างชาติ (45 ชั่วโมง)
A66: ลำดับที่ | B66: หลักสูตรต่างๆ
B67: - ฝึกยกระดับฝีมือแรงงาน
A68: 42 | B68: ภาษาอังกฤษคำต่อคำเพื่อการทำงาน ระดับ1(30 ชั่วโมง)
A69: 43 | B69: การพัฒนาทีมงานสมัยใหม่ (30 ชั่วโมง)
A70: 44 | B70: การสร้างการบริการที่ประทับใจ (30 ชั่วโมง)
A71: 45 | B71: พนักงานบริการขับรถแท๊กซี่ (30 ชั่วโมง)
A72: 46 | B72: การบริหารคลังสินค้า (30 ชั่วโมง)
A73: 47 | B73: การจัดเก็บพัสดุ (30 ชั่วโมง)
A74: 48 | B74: การควบคุมคลังสินค้า (30 ชั่วโมง)
A75: 49 | B75: พนักงานทำความสะอาห้องพัก (30 ชั่วโมง)
A76: 50 | B76: พนักงานบริการอาหารและเครื่องดื่ม (30 ชั่วโมง)
A77: 51 | B77: บริกร (30 ชั่วโมง)
