Workbook

Sheet ActionPlan2558
A1: ปฏิทินแผนปฏิบัติการ (Action Plan Schedule) ประจำปีงบประมาณ พ.ศ.2558
A2: สถาบันพัฒนาฝีมือแรงงาน ภาค 6 ขอนแก่น
A3: ผลผลิต/กิจกรรมหลัก/หลักสูตรสาขาการฝึก | B3: ผู้รับผิดชอบ | C3: เป้าหมายดำเนินงาน
C4: พ.ศ.2557 | F4: พ.ศ.2558
C5: ตุลาคม | D5: พฤศจิกายน | E5: ธันวาคม | F5: มกราคม | G5: กุมภาพันธ์ | H5: มีนาคม | I5: เมษายน | J5: พฤษภาคม | K5: มิถุนายน | L5: กรกฎาคม | M5: สิงหาคม | N5: กันยายน
A6: รวมเป้าหมายทั้งสิ้น | B6: =B7+B8 -> 12893
A7: สถาบันพัฒนาฝีมือแรงงานภาค 6 ขอนแก่น ดำเนินการเอง | B7: =SUM(C7:N7) -> 5393 | C7: =C12+C29+C31+C44+C54+C85+C103+C113+C163+C177+C187+C193+C195+C197+C199+C306+C318+C326 -> 221 | D7: =D12+D29+D31+D44+D54+D85+D103+D113+D163+D177+D187+D193+D195+D197+D199+D306+D318+D326 -> 1288 | E7: =E12+E29+E31+E44+E54+E85+E103+E113+E163+E177+E187+E193+E195+E197+E199+E306+E318+E326 -> 1110 | F7: =F12+F29+F31+F44+F54+F85+F103+F113+F163+F177+F187+F193+F195+F197+F199+F306+F318+F326 -> 382 | G7: =G12+G29+G31+G44+G54+G85+G103+G113+G163+G177+G187+G193+G195+G197+G199+G306+G318+G326 -> 734 | H7: =H12+H29+H31+H44+H54+H85+H103+H113+H163+H177+H187+H193+H195+H197+H199+H306+H318+H326 -> 424 | I7: =I12+I29+I31+I44+I54+I85+I103+I113+I163+I177+I187+I193+I195+I197+I199+I306+I318+I326 -> 106 | J7: =J12+J29+J31+J44+J54+J85+J103+J113+J163+J177+J187+J193+J195+J197+J199+J306+J318+J326 -> 532 | ... N7: =N12+N29+N31+N44+N54+N85+N103+N113+N163+N177+N187+N193+N195+N197+N199+N306+N318+N326 -> 0
A8: เอกชน/สถานประกอบการดำเนินการ (คน) | B8: =SUM(C8:N8) -> 7500 | C8: =C303 -> 0 | D8: =D303 -> 750 | E8: =E303 -> 750 | F8: =F303 -> 750 | G8: =G303 -> 750 | H8: =H303 -> 750 | I8: =I303 -> 750 | J8: =J303 -> 750 | ... N8: =N303 -> 0
A9: ผลผลิต 2 : เพิ่มประสิทธิภาพของแรงงานรองรับประชาคมอาเซียน
A10: กิจกรรมหลัก 2.2 : เพิ่มขีดความสามารถของแรงงานรองรับประชาคมอาเซียน | B10: =SUM(B12:B54) -> 1244
A11: (1) รายการ พัฒนาขีดความสามารถด้านภาษาให้แก่แรงงานไทยเพื่อรองรับประชาคมอาเซียน (พัฒนาทักษะด้านภาษาเพื่อเพิ่มศักยภาพในการแข่งขันรองรับอาเซียนพลัสทรี (ASEAN + Summit)
A12: - ฝึกยกระดับฝีมือแรงงาน | B12: =SUM(C12:N12) -> 300 | C12: =SUM(C13:C27) -> 60 | D12: =SUM(D13:D27) -> 100 | E12: =SUM(E13:E27) -> 20 | F12: =SUM(F13:F27) -> 20 | G12: =SUM(G13:G27) -> 0 | H12: =SUM(H13:H27) -> 40 | I12: =SUM(I13:I27) -> 0 | J12: =SUM(J13:J27) -> 40 | ... N12: =SUM(N13:N27) -> 0
A13: ภาษาและวัฒนธรรมเกาหลีเบื้องต้นก่อนเดินทางไปทำงานสาธารณรัฐเกาหลีตามระบบการจ้างงานอรงงานต่างชาติ (45 ชั่วโมง) | B13: ปส. | C13: 20
A14: ภาษาและวัฒนธรรมเกาหลีเบื้องต้นก่อนเดินทางไปทำงานสาธารณรัฐเกาหลีตามระบบการจ้างงานอรงงานต่างชาติ (45 ชั่วโมง) | B14: ปส. | C14: 20
A15: ภาษาและวัฒนธรรมเกาหลีเบื้องต้นก่อนเดินทางไปทำงานสาธารณรัฐเกาหลีตามระบบการจ้างงานอรงงานต่างชาติ (45 ชั่วโมง) | B15: ปส. | D15: 20
A16: ภาษาและวัฒนธรรมเกาหลีเบื้องต้นก่อนเดินทางไปทำงานสาธารณรัฐเกาหลีตามระบบการจ้างงานอรงงานต่างชาติ (45 ชั่วโมง) | B16: ปส. | D16: 20
A17: ภาษาอังกฤษเพื่อการทำงาน (30 ชั่วโมง) | B17: สส. | C17: 20
A18: ภาษาอังกฤษเพื่อการสื่อสาร (30 ชั่วโมง) | B18: สส. | D18: 20
A19: ภาษาอังกฤษเพื่อการสื่อสาร (30 ชั่วโมง) | B19: สส. | H19: 20
A20: ภาษาอังกฤษเพื่อการสื่อสาร (30 ชั่วโมง) | B20: สส. | J20: 20
A21: ภาษาอังกฤษเพื่อการสื่อสาร (30 ชั่วโมง) | B21: กท. | F21: 20
A22: ภาษาอังกฤษเพื่อการสื่อสาร (30 ชั่วโมง) | B22: กท. | H22: 20
A23: ภาษาพม่าเพื่อการสื่อสาร (30 ชั่วโมง) | B23: กท. | J23: 20
A24: ภาษาอังกฤษเพื่อการทำงาน (30 ชั่วโมง) | B24: กท. | L24: 20
A25: ภาษาอังกฤษคำต่อคำเพื่อการทำงานระดับ ๑ (30 ชั่วโมง) | B25: ปชส. | D25: 20
A26: ภาษาอังกฤษคำต่อคำเพื่อการทำงานระดับ ๑ (30 ชั่วโมง) | B26: ปชส. | D26: 20
A27: ภาษาอังกฤษคำต่อคำเพื่อการทำงานระดับ ๒ (30 ชั่วโมง) | B27: ปชส. | E27: 20
A28: (4) รายการ ฝึกอบรมผู้ประกอบอาหารรองรับครัวไทยสู่ครัวโลก
A29: - ฝึกเตรียมเข้าทำงาน | B29: =SUM(C29:N29) -> 16 | C29: =C30 -> 0 | D29: =D30 -> 0 | E29: =E30 -> 0 | F29: =F30 -> 0 | G29: =G30 -> 16 | H29: =H30 -> 0 | I29: =I30 -> 0 | J29: =J30 -> 0 | ... N29: =N30 -> 0
A30: การประกอบอาหารไทย (280 ชั่วโมง) | B30: ธบ. | G30: 16
A31: - ฝึกยกระดับฝีมือแรงงาน | B31: =SUM(C31:N31) -> 212 | C31: =SUM(C32:C42) -> 0 | D31: =SUM(D32:D42) -> 60 | E31: =SUM(E32:E42) -> 20 | F31: =SUM(F32:F42) -> 0 | G31: =SUM(G32:G42) -> 80 | H31: =SUM(H32:H42) -> 0 | I31: =SUM(I32:I42) -> 0 | J31: =SUM(J32:J42) -> 52 | ... N31: =SUM(N32:N42) -> 0
A32: 10 เมนูอาหารไทยยอดนิยม (30 ชั่วโมง) | B32: ธบ. | D32: 20
A33: การทำขนมไทย (30 ชั่วโมง) | B33: ธบ. | D33: 20
A34: การประกอบอาหารไทย (30 ชั่วโมง) | B34: ธบ. | G34: 20
A35: การประกอบอาหารว่าง (30 ชั่วโมง) | B35: ธบ. | G35: 20
A36: การประกอบอาหารอบ (30 ชั่วโมง) | B36: ธบ. | G36: 20
A37: การประกอบอาหารตามสั่ง (30 ชั่วโมง) | B37: ธบ. | J37: 16
A38: พนักงานบริการเสริฟอาหาร (จำนวน 30 ชั่วโมง) | B38: ธบ. | J38: 16
A39: การประกอบอาหารไทย (30 ชั่วโมง) | B39: ฟฟ. | D39: 20
A40: การประกอบอาหารไทย (30 ชั่วโมง) | B40: ฟฟ. | E40: 20
...

Sheet Control
A2: สถาบันพัฒนาฝีมือแรงงาน ภาค 6 ขอนแก่น
A3: ผลผลิต/กิจกรรมหลัก/หลักสูตรสาขาการฝึก | B3: ผู้รับผิดชอบ | C3: จำนวนผู้รับการฝึก | E3: ช่วงเวลาฝึก | G3: งบประมาณที่ใช้ (บาท) | K3: เลขอนุมัติ | L3: วันที่คุมยอด
C4: ชาย | D4: หญิง | E4: วันเปิดฝึก | F4: วันจบฝึก | G4: วิทยากร | H4: วัสดุ | I4: บริหารจัดการ | J4: อื่นๆ
A5: รวมผลงาน ณ ขณะนี้ | B5: =B6+B7 -> 4224 | C5: =C6+C7 -> 2650 | D5: =D6+D7 -> 1574
A6: ผลการดำเนินการโดย สพภ.6 ขอนแก่น (คน) | B6: =SUM(C6:D6) -> 4224 | C6: =C11+C31+C33+C49+C63+C99+C122+C154+C209+C224+C239+C248+C250+C259+C261+C382+C395+C403 -> 2650 | D6: =D11+D31+D33+D49+D63+D99+D122+D154+D209+D224+D239+D248+D250+D259+D261+D382+D395+D403 -> 1574
A7: ผลการดำเนินการโดยหน่วยงานเอกชน (คน) | B7: =SUM(C7:D7) -> 0 | C7: =C366 -> 0 | D7: =D366 -> 0
A8: ผลผลิต 2 : เพิ่มประสิทธิภาพของแรงงานรองรับประชาคมอาเซียน
A9: กิจกรรมหลัก 2.2 : เพิ่มขีดความสามารถของแรงงานรองรับประชาคมอาเซียน | B9: =SUM(B11:B63) -> 1403
A10: (1) รายการ พัฒนาขีดความสามารถด้านภาษาให้แก่แรงงานไทยเพื่อรองรับประชาคมอาเซียน (พัฒนาทักษะด้านภาษาเพื่อเพิ่มศักยภาพในการแข่งขันรองรับอาเซียนพลัสทรี (ASEAN + Summit)
A11: - ฝึกยกระดับฝีมือแรงงาน | B11: =SUM(C11:D11) -> 338 | C11: =SUM(C12:C29) -> 137 | D11: =SUM(D12:D29) -> 201 | G11: =SUM(G12:G29) -> 371400 | H11: =SUM(H12:H29) -> 34418 | I11: =SUM(I12:I29) -> 4980 | J11: =SUM(J12:J29) -> 3260
A12: ภาษาและวัฒนธรรมเกาหลีเบื้องต้นก่อนเดินทางไปทำงานสาธารณรัฐเกาหลีตามระบบการจ้างงานแรงงานต่างชาติ (45 ชั่วโมง) | B12: ปส. | C12: 20 | E12: 28/10/2557 | F12: 5/11/2557 | G12: 17700 | H12: 2209 | I12: 0 | J12: 745 | L12: วรรณนิสา
A13: ภาษาและวัฒนธรรมเกาหลีเบื้องต้นก่อนเดินทางไปทำงานสาธารณรัฐเกาหลีตามระบบการจ้างงานแรงงานต่างชาติ (45 ชั่วโมง) | B13: ปส. | C13: 21 | D13: 3 | E13: 28/10/2558 | F13: 5/11/2558 | G13: 17700 | H13: 2209 | I13: 0 | J13: 745 | L13: วรรณนิสา
A14: ภาษาและวัฒนธรรมเกาหลีเบื้องต้นก่อนเดินทางไปทำงานสาธารณรัฐเกาหลีตามระบบการจ้างงานแรงงานต่างชาติ (45 ชั่วโมง) | B14: ปส.
A15: ภาษาและวัฒนธรรมเกาหลีเบื้องต้นก่อนเดินทางไปทำงานสาธารณรัฐเกาหลีตามระบบการจ้างงานแรงงานต่างชาติ (45 ชั่วโมง) | B15: ปส.
A16: ภาษาอังกฤษคำต่อคำเพื่อการทำงาน ระดับ1(30 ชั่วโมง) | B16: สส. | C16: 8 | D16: 12 | E16: 10/11/2557 | F16: 14/11/2557 | G16: 24000 | H16: 2000 | I16: 420 | J16: 675 | L16: วรรณนิสา
A17: ภาษาอังกฤษคำต่อคำเพื่อการทำงาน ระดับ1(30 ชั่วโมง) | B17: สส. | C17: 9 | D17: 11 | E17: 8/12/2557 | F17: 12/12/2557 | G17: 24000 | H17: 2000 | I17: 420 | J17: 675 | K17: . | L17: วรรณนิสา
A18: ภาษาอังกฤษคำต่อคำเพื่อการทำงาน ระดับ1(30 ชั่วโมง) | B18: สส. | C18: 12 | D18: 8 | E18: 16/12/2557 | F18: 20/12/2557 | G18: 24000 | H18: 2000 | I18: 420 | L18: วรรณนิสา
A19: พูดอังกฤษคำต่อคำเพื่อการทำงาน ระดับ 1 (30 ชั่วโมง) | B19: สส. | C19: 6 | D19: 14 | E19: 16/2/2558 | F19: 20/2/2558 | G19: 24000 | H19: 2000 | I19: 420 | L19: 10/2/58
A20: ภาษาอังกฤษเพื่อการสื่อสาร (30 ชั่วโมง) | B20: กท. | C20: 2 | D20: 18 | E20: 19/1/2558 | F20: 23/1/2558 | G20: 24000 | H20: 2000 | I20: 660 | L20: 15/1/58
A21: ภาษาอังกฤษเพื่อการสื่อสาร (30 ชั่วโมง) | B21: กท. | C21: 1 | D21: 19 | E21: 16/2/2558 | F21: 20/2/2558 | G21: 24000 | H21: 2000 | I21: 660 | L21: 4/2/58
A22: ภาษาอังกฤษเพื่อการสื่อสาร (30 ชั่วโมง) | B22: กท. | C22: 6 | D22: 14 | E22: 9/3/2558 | F22: 19/3/2558 | G22: 24000 | H22: 2000 | I22: 660 | L22: 24/2/58
A23: ภาษาอังกฤษเพื่อการสื่อสาร (30 ชั่วโมง) | B23: กท. | C23: 2 | D23: 18 | E23: 15/6/2558 | F23: 19/6/2558 | G23: 24000 | H23: 2000 | L23: 28/6/58
A24: ภาษาอังกฤษเพื่อการทำงาน (30 ชั่วโมง) | B24: ปส. | C24: 12 | D24: 16 | E24: 23/6/2558 | F24: 27/6/2558 | G24: 24000 | H24: 2000 | L24: 19/6/58
A25: ภาษาอังกฤษคำต่อคำเพื่อการทำงาน (30 ชั่วโมง) | B25: ปชส. | D25: 20 | E25: 8/12/2557 | F25: 12/12/2557 | G25: 24000 | H25: 2000 | J25: 420 | L25: วรรณนิสา
A26: พูดอังกฤษคำต่อคำเพื่อการทำงาน ระดับ 1 (30 ชั่วโมง) | B26: กส | C26: 4 | D26: 20 | E26: 22/12/2557 | F26: 6/1/2558 | G26: 24000 | H26: 4000 | I26: 480 | L26: 12/12/57
A27: ภาษาอังกฤษคำต่อคำเพื่อการทำงาน (30 ชั่วโมง) | B27: ปชส. | C27: 7 | D27: 13 | E27: 25/12/2557 | F27: 29/12/2557 | G27: 24000 | H27: 2000 | I27: 420 | L27: 26/12/57
A28: พูดอังกฤษคำต่อคำเพื่อการทำงาน ระดับ 1 (30 ชั่วโมง) | B28: ปชส. | C28: 14 | D28: 6 | E28: 17/3/2558 | F28: 21/3/2558 | G28: 24000 | H28: 2000 | I28: 420 | L28: 12/3/58
A29: ภาษาอังกฤษเพื่อการทำงาน (30 ชั่วโมง) | B29: ปส. | C29: 13 | D29: 9 | E29: 17/8/2558 | F29: 21/8/2558 | G29: 24000 | H29: 2000 | L29: 7/8/58
A30: (4) รายการ ฝึกอบรมผู้ประกอบอาหารรองรับครัวไทยสู่ครัวโลก
A31: - ฝึกเตรียมเข้าทำงาน | B31: =C31+D31 -> 16 | C31: =C32 -> 3 | D31: =D32 -> 13 | G31: =G32 -> 36000 | H31: =H32 -> 48000 | I31: =I32 -> 0 | J31: =J32 -> 0
A32: การประกอบอาหารไทย (280 ชั่วโมง) | B32: ธบ. | C32: 3 | D32: 13 | E32: 2/2/2558 | F32: 31/3/2558 | G32: 36000 | H32: 48000 | L32: 2/2/58
A33: - ฝึกยกระดับฝีมือแรงงาน | B33: =C33+D33 -> 220 | C33: =SUM(C34:C47) -> 37 | D33: =SUM(D34:D47) -> 183 | G33: =SUM(G34:G47) -> 264000 | H33: =SUM(H34:H47) -> 160000 | I33: =SUM(I34:I47) -> 5340 | J33: =SUM(J34:J47) -> 0
A34: การทำขนมไทย (30 ชั่วโมง) | B34: ธบ. | D34: 20 | E34: 12/11/2557 | F34: 16/11/2557 | G34: 24000 | H34: 14000 | L34: วรรณนิสา
A35: การประกอบอาหารไทย (30 ชั่วโมง) | B35: ธบ. | C35: 11 | D35: 9 | E35: 23/2/2558 | F35: 27/2/2558 | G35: 24000 | H35: 20000 | I35: 800 | L35: 20/2/58
A36: การประกอบอาหารไทย (30 ชั่วโมง) | B36: ธบ. | C36: 12 | D36: 8 | E36: 16/3/2558 | F36: 20/3/2558 | G36: 24000 | H36: 14000 | I36: 1260 | L36: 12/3/58
A37: การประกอบอาหารไทย (30 ชั่วโมง) | B37: ธบ. | C37: 1 | D37: 19 | E37: 18/3/2558 | F37: 22/3/2558 | G37: 24000 | H37: 14000 | I37: 1020 | L37: 16/3/58
A38: การประกอบอาหารไทย (30 ชั่วโมง) | B38: ธบ. | D38: 20 | E38: 4/4/2558 | F38: 8/4/2558 | G38: 24000 | H38: 14000 | I38: 480 | L38: 2/4/58
A39: การประกอบอาหารไทย (30 ชั่วโมง) | B39: ธบ. | D39: 20 | E39: 13/5/2558 | F39: 17/5/2558 | G39: 24000 | H39: 14000 | I39: 480 | L39: 7/5/58
A40: การประกอบอาหารไทย (30 ชั่วโมง) | B40: ฟฟ. | C40: 13 | D40: 7 | E40: 11/5/2558 | F40: 15/5/2558 | G40: 24000 | H40: 14000 | K40: 3 มิ.ย.58 | L40: 11/5/58
A41: การประกอบอาหารไทย (30 ชั่วโมง) | B41: ฟฟ. | D41: 20 | E41: 1/7/2558 | F41: 5/7/2558 | G41: 24000 | H41: 14000 | L41: 29/6/58
...

Sheet Report
A1: ผลการดำเนินงานตามแผนปฏิบัติการพัฒนาฝีมือแรงงาน ประจำปีงบประมาณ พ.ศ.2558
A2: สถาบันพัฒนาฝีมือแรงงานภาค 6 ขอนแก่น
B3: ณ วันที่ | C3: =NOW() -> 42250.562
A5: ผลผลิต/กิจกรรมหลัก | B5: ผลการดำเนินงาน (คน) | F5: ผลการใช้จ่ายงบประมาณ (บาท)
B6: เป้าหมาย | C6: ผลงาน | D6: ร้อยละ | E6: คงเหลือ | F6: งปม.ที่ได้รับ | G6: ผลการเบิกจ่าย | H6: ร้อยละ | I6: คงเหลือ
A7: รวมทั้งสิ้น (คน) | B7: =B8+B9 -> 13218 | C7: =C8+C9 -> 36228 | D7: =C7*100/B7 -> 274.0808 | E7: =B7-C7 -> -23010 | F7: 21448000 | G7: =G8+G9 -> 10953799 | H7: =G7*100/F7 -> 51.071422 | I7: =F7-G7 -> 10494201
A8: สถาบันพัฒนาฝีมือแรงงานภาค 6 ขอนแก่น ดำเนินการเอง (คน) | B8: =B10+B30+B34 -> 5718 | C8: =+C10+C30+C34 -> 6000 | D8: =C8*100/B8 -> 104.93179 | E8: =B8-C8 -> -282 | F8: 21448000 | G8: =SUM(G11:G49)-G42-G33 -> 10953799 | H8: =G8*100/F8 -> 51.071422 | I8: =F8-G8 -> 10494201
A9: เอกชน/สถานประกอบการดำเนินการ (คน) | B9: =B42 -> 7500 | C9: 30228 | D9: =C9*100/B9 -> 403.04 | E9: =B9-C9 -> -22728 | F9: 0 | G9: =G42 -> 0 | H9: 0 | I9: =F9-G9 -> 0
A10: ผลผลิต 2 : เพิ่มประสิทธิภาพของแรงงานรองรับประชาคมอาเซียน | B10: =+B11 -> 3076 | C10: =+C11 -> 3390 | D10: =C10*100/B10 -> 110.20806 | E10: =+E11 -> -314 | F10: =SUM(F11:F28) -> 12503100 | G10: =G11+G28 -> 4926301 | H10: =G10*100/F10 -> 39.400637 | I10: =F10-G10 -> 7576799
A11: กิจกรรมหลัก 2.2 : เพิ่มขีดความสามารถของแรงงานรองรับประชาคมอาเซียน | B11: =+B12+B14+B17+B20+B22+B25 -> 3076 | C11: =+C12+C14+C17+C20+C22+C25 -> 3390 | D11: =C11*100/B11 -> 110.20806 | E11: =+E12+E14+E17+E20+E22+E25 -> -314 | F11: 11137600 | G11: =SUM(G12:G27) -> 4926301
A12: (1) รายการ พัฒนาขีดความสามารถด้านภาษาให้แก่แรงงานไทยเพื่อรองรับประชาคมอาเซียน (พัฒนาทักษะด้านภาษาเพื่อเพิ่มศักยภาพในการแข่งขันรองรับอาเซียนพลัสทรี (ASEAN + Summit) | B12: =SUM(B13) -> 300 | C12: =SUM(C13) -> 338 | D12: =C12*100/B12 -> 112.66667 | E12: =SUM(E13) -> -38
A13: - ฝึกยกระดับฝีมือแรงงาน | B13: 300 | C13: =Control!B11 -> 338 | D13: =C13*100/B13 -> 112.66667 | E13: =B13-C13 -> -38 | G13: =SUM(Control!G11:J11) -> 414058
A14: (4) รายการ ฝึกอบรมผู้ประกอบอาหารรองรับครัวไทยสู่ครัวโลก | B14: =SUM(B15:B16) -> 228 | C14: =SUM(C15:C16) -> 236 | D14: =C14*100/B14 -> 103.50877 | E14: =B14-C14 -> -8
A15: - ฝึกเตรียมเข้าทำงาน | B15: 16 | C15: =Control!B31 -> 16 | D15: =C15*100/B15 -> 100 | E15: =B15-C15 -> 0 | G15: =SUM(Control!G31:J31) -> 84000
A16: - ฝึกยกระดับฝีมือแรงงาน | B16: 212 | C16: =Control!B33 -> 220 | D16: =C16*100/B16 -> 103.77358 | E16: =B16-C16 -> -8 | G16: =SUM(Control!G33:J33) -> 429340
A17: (6) รายการ พัฒนาศักยภาพแรงงานไทยเพื่อส่งเสริมความสามารถของภาคบริการและการท่องเที่ยวสู่รายได้และการแข่งขัน | B17: =SUM(B18:B19) -> 756 | C17: =SUM(C18:C19) -> 829 | D17: =C17*100/B17 -> 109.65608 | E17: =B17-C17 -> -73
A18: - ฝึกเตรียมเข้าทำงาน | B18: 144 | C18: =Control!B49 -> 166 | D18: =C18*100/B18 -> 115.27778 | E18: =B18-C18 -> -22 | G18: =SUM(Control!G49:J49) -> 531770
A19: - ฝึกยกระดับฝีมือแรงงาน | B19: 612 | C19: =Control!B63 -> 663 | D19: =C19*100/B19 -> 108.33333 | E19: =B19-C19 -> -51 | G19: =SUM(Control!G49:J49) -> 531770
A20: (7) รายการ เพิ่มศักยภาพแรงงานไทยขับเคลื่อนการแข่งขันของภาคอุตสาหกรรมในการเข้าสู่ประชาคมอาเซียน | B20: =SUM(B21) -> 320 | C20: =SUM(C21) -> 375 | D20: =C20*100/B20 -> 117.1875 | E20: =SUM(E21) -> -55
A21: - ฝึกยกระดับฝีมือแรงงาน | B21: 320 | C21: =Control!B99 -> 375 | D21: =C21*100/B21 -> 117.1875 | E21: =B21-C21 -> -55 | G21: =SUM(Control!G63:J63) -> 715520
A22: (8) รายการ พัฒนาฝีมือแรงงานรองรับการพัฒนาโครงสร้างพื้นฐานคมนาคมและการขนส่ง | B22: =SUM(B23:B24) -> 1104 | C22: =SUM(C23:C24) -> 1143 | D22: =C22*100/B22 -> 103.53261 | E22: =B22-C22 -> -39
A23: - ฝึกเตรียมเข้าทำงาน | B23: 144 | C23: =Control!B122 -> 170 | D23: =C23*100/B23 -> 118.05556 | E23: =B23-C23 -> -26 | G23: =SUM(Control!G122:J122) -> 292800
A24: - ฝึกยกระดับฝีมือแรงงาน | B24: 960 | C24: =Control!B154 -> 973 | D24: =C24*100/B24 -> 101.35417 | E24: =B24-C24 -> -13 | G24: =SUM(Control!G154:J154) -> 1439880
A25: (9) รายการ ฝึกอบรมฝีมือแรงงานรองรับการพัฒนาพื้นที่เศรษฐกิจชายแดนและชนบท | B25: =SUM(B26:B27) -> 368 | C25: =SUM(C26:C27) -> 469 | D25: =C25*100/B25 -> 127.44565 | E25: =B25-C25 -> -101
A26: - ฝึกยกระดับฝีมือแรงงาน (ในระบบ) | B26: 208 | C26: =Control!B209 -> 234 | D26: =C26*100/B26 -> 112.5 | E26: =B26-C26 -> -26 | G26: =SUM(Control!G209:J209) -> 314938
A27: - ฝึกยกระดับฝีมือแรงงาน (นอกระบบ) | B27: 160 | C27: =Control!B224 -> 235 | D27: =C27*100/B27 -> 146.875 | E27: =B27-C27 -> -75 | G27: =SUM(Control!G224:J224) -> 172225
A28: งบเงินอุดหนุนเฉพาะกิจ เงินอุดหนุนเพื่อช่วยเหลือผู้รับการพัฒนาฝีมือฯ | F28: 1365500
A30: ผลผลิต 3 : โครงการ ฝึกอบรมฝีมือแรงงานตามโครงการอันเนื่องมาจากพระราชดำริ | B30: =B31+B32 -> 60 | C30: =C31+C32 -> 60 | D30: =C30*100/B30 -> 100 | E30: =E31+E32 -> 0 | F30: =F31+F33 -> 70000 | G30: =G31+G33 -> 46389 | H30: =G30*100/F30 -> 66.27 | I30: =F30-G30 -> 23611
A31: กิจกรรมหลัก 3.1 : ฝึกอบรมฝีมือแรงงานตามโครงการอันเนื่องมาจากพระราชดำริ | B31: 20 | C31: =Control!B239 -> 20 | D31: =C31*100/B31 -> 100 | E31: =B31-C31 -> 0 | F31: 70000 | G31: =SUM(Control!G239:J239) -> 46389
A32: กิจกรรมหลัก 3.3 : ฝึกอาชีพแรงงานกลุ่มเฉพาะ | B32: 40 | C32: =Control!B241 -> 40 | D32: =C32*100/B32 -> 100 | E32: =B32-C32 -> 0 | F32: 128000
A33: กิจกรรมหลัก 3.4 : จัดตั้งศูนย์ทดสอบมาตรฐานฝีมือแรงงานในสถานประกอบกิจการเทิดไท้พระบิดาแห่งมาตรฐานช่างไทย (แห่ง) | B33: 1 | C33: 1 | D33: =C33*100/B33 -> 100 | E33: =B33-C33 -> 0 | F33: 0 | G33: =SUM(Control!G244:J244) -> 0
A34: ผลผลิต 4 : พัฒนาศักยภาพฝีมือแรงงานทั้งระบบให้สอดคล้องกับความต้องการของตลาดแรงงาน และการประกอบอาชีพ | B34: =+B35+B39+B40+B41+B45+B48 -> 2582 | C34: =+C35+C39+C40+C41+C45+C48 -> 2550 | D34: 147.85 | E34: =B34-C34 -> 32 | F34: =F35+F38+F39+F41+F42+F45+F48+F49 -> 5012800 | G34: =G35+G38+G39+G41+G42+G45+G48+G49 -> 428786.8 | H34: =G34*100/F34 -> 8.5538382 | I34: =F34-G34 -> 4584013.2
A35: กิจกรรมหลัก 4.1 : พัฒนาฝีมือเพื่อเพิ่มโอกาสในการประกอบอาชีพ | B35: =+B36+B37 -> 31 | C35: =+C36+C37 -> 189 | D35: =C35*100/B35 -> 609.67742 | E35: =+E36+E37 -> -158 | F35: 277400 | G35: =G36+G37 -> 127065
A36: (1) รายการ พัฒนาศักยภาพและทักษะฝีมือของผู้ประกอบอาชีพ OTOP | B36: 16 | C36: =Control!B248 -> 20 | D36: =C36*100/B36 -> 125 | E36: =B36-C36 -> -4 | G36: =SUM(Control!G248:J248) -> 47065
A37: (2) รายการ ฝึกอาชีพให้แก่ ผู้ต้องขัง ทหารก่อนปลดประจำการ ผู้ผ่านการบำบัดยาเสพติดเด็กในสถานพินิจและเยาวชน ฯลฯ (ตาม MOU) | B37: 15 | C37: =Control!B250 -> 169 | D37: =C37*100/B37 -> 1126.6667 | E37: =B37-C37 -> -154 | G37: =SUM(Control!G250:J250) -> 80000
A38: ค่าสาธารณูปโภค | F38: 252500
A39: กิจกรรมหลัก 4.2 พัฒนา/ส่งเสริมการประกอบอาชีพอิสระ | B39: 16 | C39: =Control!B259 -> 20 | D39: =C39*100/B39 -> 125 | E39: =B39-C39 -> -4 | F39: 16000 | G39: =SUM(Control!G259:J259) -> 23780
A40: กิจกรรมหลัก 4.3 ทดสอบมาตรฐานฝีมือแรงงานแห่งชาติ | B40: 2000 | C40: =Control!B261 -> 1669 | D40: =C40*100/B40 -> 83.45 | E40: =B40-C40 -> 331 | F40: 1662100 | G40: =SUM(Control!G260:J260) -> 23780
A41: กิจกรรมหลัก 4.4 จัดทำหลักเกณฑ์พัฒนา/ส่งเสริมมาตรฐานฝีมือแรงงาน | B41: 45 | C41: 67 | D41: =C41*100/B41 -> 148.88889 | E41: =B41-C41 -> -22 | G41: 116550
A42: กิจกรรมหลัก 4.6 : ส่งเสริมและสนับสนุนให้สถานประกอบกิจการดำเนินการฝึกอบรมฝีมือแรงงานตาม พ.ร.บ.ส่งเสริมฯ | B42: 7500 | C42: 30228 | D42: =C42*100/B42 -> 403.04 | E42: =B42-C42 -> -22728 | F42: =F43+F44 -> 3519300 | G42: =SUM(Control!G365:J365)+G43+G44 -> 0
...

Sheet Plan58
A1: ผลการพัฒนาฝีมือแรงงาน ประจำปีงบประมาณ พ.ศ. 2558
A2: สถาบันพัฒนาฝีมือแรงงานภาค 6 ขอนแก่น
A4: ผลผลิต/กิจกรรมหลัก/รายการ | B4: เป้าหมาย | C4: ผลงาน | D4: ร้อยละ | E4: คงเหลือ
B5: (คน) | C5: (คน) | E5: (คน)
A6: รวมทั้งสิ้น (คน) | B6: =B7+B8 -> 13093
A7: สถาบันพัฒนาฝีมือแรงงานภาค 6 ขอนแก่น ดำเนินการเอง (คน) | B7: 5593
A8: เอกชน/สถานประกอบการดำเนินการ (คน) | B8: =B42 -> 7500
A9: ผลผลิต 2 : เพิ่มประสิทธิภาพของแรงงานรองรับประชาคมอาเซียน | B9: 3036
A10: กิจกรรมหลัก 2.2 : เพิ่มขีดความสามารถของแรงงานรองรับประชาคมอาเซียน
A11: (1) รายการ พัฒนาขีดความสามารถด้านภาษาให้แก่แรงงานไทยเพื่อรองรับประชาคมอาเซียน (พัฒนาทักษะด้านภาษาเพื่อเพิ่มศักยภาพในการแข่งขันรองรับอาเซียนพลัสทรี (ASEAN + Summit)
A12: - ฝึกยกระดับฝีมือแรงงาน | B12: 300
A13: (4) รายการ ฝึกอบรมผู้ประกอบอาหารรองรับครัวไทยสู่ครัวโลก
A14: - ฝึกเตรียมเข้าทำงาน | B14: 16
A15: - ฝึกยกระดับฝีมือแรงงาน | B15: 212
A16: (6) รายการ พัฒนาศักยภาพแรงงานไทยเพื่อส่งเสริมความสามารถของภาคบริการและการท่องเที่ยวสู่รายได้และการแข่งขัน
A17: - ฝึกเตรียมเข้าทำงาน | B17: 144
A18: - ฝึกยกระดับฝีมือแรงงาน | B18: 572
A21: ผลผลิต/กิจกรรมหลัก/รายการ | B21: เป้าหมาย | C21: ผลงาน | D21: ร้อยละ | E21: คงเหลือ
B22: (คน) | C22: (คน) | E22: (คน)
A23: (7) รายการ เพิ่มศักยภาพแรงงานไทยขับเคลื่อนการแข่งขันของภาคอุตสาหกรรมในการเข้าสู่ประชาคมอาเซียน
A24: - ฝึกยกระดับฝีมือแรงงาน | B24: 320
A25: (8) รายการ พัฒนาฝีมือแรงงานรองรับการพัฒนาโครงสร้างพื้นฐานคมนาคมและการขนส่ง
A26: - ฝึกเตรียมเข้าทำงาน | B26: 144
A27: - ฝึกยกระดับฝีมือแรงงาน | B27: 960
A28: (9) รายการ ฝึกอบรมฝีมือแรงงานรองรับการพัฒนาพื้นที่เศรษฐกิจชายแดนและชนบท
A29: - ฝึกยกระดับฝีมือแรงงาน (ในระบบ) | B29: 208
A30: - ฝึกยกระดับฝีมือแรงงาน (นอกระบบ) | B30: 160
A31: ผลผลิต 3 : โครงการ ฝึกอบรมฝีมือแรงงานตามโครงการอันเนื่องมาจากพระราชดำริ | B31: 20
A32: กิจกรรมหลัก 3.1 : ฝึกอบรมฝีมือแรงงานตามโครงการอันเนื่องมาจากพระราชดำริ | B32: 20
A33: กิจกรรมหลัก 3.4 : จัดตั้งศูนย์ทดสอบมาตรฐานฝีมือแรงงานในสถานประกอบกิจการเทิดไท้พระบิดาแห่งมาตรฐานช่างไทย (แห่ง) | B33: 1
A34: ผลผลิต 4 : พัฒนาศักยภาพฝีมือแรงงานทั้งระบบให้สอดคล้องกับความต้องการของตลาดแรงงาน และการประกอบอาชีพ | B34: 9837
A35: กิจกรรมหลัก 4.1 : พัฒนาฝีมือเพื่อเพิ่มโอกาสในการประกอบอาชีพ
A36: (1) รายการ พัฒนาศักยภาพและทักษะฝีมือของผู้ประกอบอาชีพ OTOP | B36: 16
A37: (2) รายการ ฝึกอาชีพให้แก่ ผู้ต้องขัง ทหารก่อนปลดประจำการ ผู้ผ่านการบำบัดยาเสพติดเด็กในสถานพินิจและเยาวชน ฯลฯ (ตาม MOU) | B37: 15
A38: กิจกรรมหลัก 4.2 พัฒนา/ส่งเสริมการประกอบอาชีพอิสระ | B38: 16
A39: กิจกรรมหลัก 4.3 : ทดสอบมาตรฐานฝีมือแรงงานแห่งชาติ | B39: 2000
A40: ผลผลิต/กิจกรรมหลัก/รายการ | B40: เป้าหมาย | C40: ผลงาน | D40: ร้อยละ | E40: คงเหลือ
B41: (คน) | C41: (คน) | E41: (คน)
A42: กิจกรรมหลัก 4.6 : ส่งเสริมและสนับสนุนให้สถานประกอบกิจการดำเนินการฝึกอบรมฝีมือแรงงานตาม พ.ร.บ.ส่งเสริมฯ | B42: 7500
A43: กิจกรรม 4.7 : ยกระดับทักษะฝีมือแรงงานให้มีศักยภาพและผลิตภาพเพื่อการแข่งขัน | B43: 200
...

Sheet แผน-ผลเงิน
A1: ผลการดำเนินงานตามแผนปฏิบัติการพัฒนาฝีมือแรงงาน ประจำปีงบประมาณ พ.ศ.2558
A2: สถาบันพัฒนาฝีมือแรงงาน ภาค 6 ขอนแก่น
B3: ณ วันที่ | C3: =NOW() -> 42250.562
A5: ผลผลิต/กิจกรรมหลัก | B5: ผลการดำเนินงาน (คน) | F5: ผลการใช้จ่ายงบประมาณ (บาท)
B6: เป้าหมาย | C6: ผลงาน | D6: ร้อยละ | E6: คงเหลือ | F6: งปม.ที่ได้รับ | G6: ผลการเบิกจ่าย | H6: ร้อยละ | I6: คงเหลือ
A7: รวมทั้งสิ้น (คน) | B7: =B8+B9 -> 13133 | C7: =C8+C9 -> 18587 | D7: =C7*100/B7 -> 141.52897 | E7: =B7-C7 -> -5454 | F7: 23128170 | G7: 11660949 | H7: =G7*100/F7 -> 50.418814 | I7: =+F7-G7 -> 11467221
A8: สถาบันพัฒนาฝีมือแรงงานภาค 6 ขอนแก่น ดำเนินการเอง (คน) | B8: =+B10+B30+B34 -> 5633 | C8: =+C10+C30+C34 -> 5317 | D8: =C8*100/B8 -> 94.390201 | E8: =B8-C8 -> 316 | F8: 23128170 | G8: =+G10+G30+G34 -> 11660949 | H8: =G8*100/F8 -> 50.418814 | I8: =+F8-G8 -> 11467221 | K8: =+G7-G8 -> 0
A9: เอกชน/สถานประกอบการดำเนินการ (คน) | B9: =B42 -> 7500 | C9: 13270 | D9: =C9*100/B9 -> 176.93333 | E9: =B9-C9 -> -5770 | F9: 0 | G9: 0 | H9: 0 | I9: =F9-G9 -> 0
A10: ผลผลิต 2 : เพิ่มประสิทธิภาพของแรงงานรองรับประชาคมอาเซียน | B10: =+B11 -> 3036 | C10: =+C11 -> 3390 | D10: 69.07 | E10: =+E11 -> -354 | F10: =+F11 -> 12503106 | G10: =+G11 -> 5973632.5 | H10: =G10*100/F10 -> 47.777188 | I10: =+F10-G10 -> 6529473.5
A11: กิจกรรมหลัก 2.2 : เพิ่มขีดความสามารถของแรงงานรองรับประชาคมอาเซียน | B11: =+B12+B14+B17+B20+B22+B25 -> 3036 | C11: =+C12+C14+C17+C20+C22+C25 -> 3390 | D11: 69.07 | E11: =+E12+E14+E17+E20+E22+E25 -> -354 | F11: =+F12+F14+F17+F20+F22+F25+F28 -> 12503106 | G11: =+G12+G14+G17+G20+G22+G25+G28 -> 5973632.5 | H11: =G11*100/F11 -> 47.777188 | I11: =+F11-G11 -> 6529473.5
A12: (1) รายการ พัฒนาขีดความสามารถด้านภาษาให้แก่แรงงานไทยเพื่อรองรับประชาคมอาเซียน (พัฒนาทักษะด้านภาษาเพื่อเพิ่มศักยภาพในการแข่งขันรองรับอาเซียนพลัสทรี (ASEAN + Summit) | B12: =SUM(B13) -> 300 | C12: =SUM(C13) -> 338 | D12: =C12*100/B12 -> 112.66667 | E12: =SUM(E13) -> -38 | F12: 655885.35 | G12: 452017 | H12: =G12*100/F12 -> 68.917075 | I12: =+F12-G12 -> 203868.35
A13: - ฝึกยกระดับฝีมือแรงงาน | B13: 300 | C13: =Control!B11 -> 338 | D13: =C13*100/B13 -> 112.66667 | E13: =B13-C13 -> -38 | K13: 11035314
A14: (4) รายการ ฝึกอบรมผู้ประกอบอาหารรองรับครัวไทยสู่ครัวโลก | B14: =SUM(B15:B16) -> 228 | C14: =SUM(C15:C16) -> 236 | D14: =C14*100/B14 -> 103.50877 | E14: =B14-C14 -> -8 | F14: 1931628.6 | G14: 293020 | H14: =G14*100/F14 -> 15.169582 | I14: =+F14-G14 -> 1638608.6 | K14: =+G7-K13 -> 625635.49
A15: - ฝึกเตรียมเข้าทำงาน | B15: 16 | C15: =Control!B31 -> 16 | D15: =C15*100/B15 -> 100 | E15: =B15-C15 -> 0
A16: - ฝึกยกระดับฝีมือแรงงาน | B16: 212 | C16: =Control!B33 -> 220 | D16: =C16*100/B16 -> 103.77358 | E16: =B16-C16 -> -8
A17: (6) รายการ พัฒนาศักยภาพแรงงานไทยเพื่อส่งเสริมความสามารถของภาคบริการและการท่องเที่ยวสู่รายได้และการแข่งขัน | B17: =SUM(B18:B19) -> 716 | C17: =SUM(C18:C19) -> 829 | D17: =C17*100/B17 -> 115.78212 | E17: =B17-C17 -> -113 | F17: 2236600 | G17: 1379806 | H17: =G17*100/F17 -> 61.692122 | I17: =+F17-G17 -> 856794
A18: - ฝึกเตรียมเข้าทำงาน | B18: 144 | C18: =Control!B49 -> 166 | D18: =C18*100/B18 -> 115.27778 | E18: =B18-C18 -> -22
A19: - ฝึกยกระดับฝีมือแรงงาน | B19: 572 | C19: =Control!B63 -> 663 | D19: =C19*100/B19 -> 115.90909 | E19: =B19-C19 -> -91
A20: (7) รายการ เพิ่มศักยภาพแรงงานไทยขับเคลื่อนการแข่งขันของภาคอุตสาหกรรมในการเข้าสู่ประชาคมอาเซียน | B20: =SUM(B21) -> 320 | C20: =SUM(C21) -> 375 | D20: =C20*100/B20 -> 117.1875 | E20: =SUM(E21) -> -55 | F20: 774892 | G20: 607785.35 | H20: =G20*100/F20 -> 78.434846 | I20: =+F20-G20 -> 167106.65
A21: - ฝึกยกระดับฝีมือแรงงาน | B21: 320 | C21: =Control!B99 -> 375 | D21: =C21*100/B21 -> 117.1875 | E21: =B21-C21 -> -55
A22: (8) รายการ พัฒนาฝีมือแรงงานรองรับการพัฒนาโครงสร้างพื้นฐานคมนาคมและการขนส่ง | B22: =SUM(B23:B24) -> 1104 | C22: =SUM(C23:C24) -> 1143 | D22: =C22*100/B22 -> 103.53261 | E22: =B22-C22 -> -39 | F22: 4630400 | G22: 2167619.1 | H22: =G22*100/F22 -> 46.812783 | I22: =+F22-G22 -> 2462780.9
A23: - ฝึกเตรียมเข้าทำงาน | B23: 144 | C23: =Control!B122 -> 170 | D23: =C23*100/B23 -> 118.05556 | E23: =B23-C23 -> -26
A24: - ฝึกยกระดับฝีมือแรงงาน | B24: 960 | C24: =Control!B154 -> 973 | D24: =C24*100/B24 -> 101.35417 | E24: =B24-C24 -> -13
A25: (9) รายการ ฝึกอบรมฝีมือแรงงานรองรับการพัฒนาพื้นที่เศรษฐกิจชายแดนและชนบท | B25: =SUM(B26:B27) -> 368 | C25: =SUM(C26:C27) -> 469 | D25: =C25*100/B25 -> 127.44565 | E25: =B25-C25 -> -101 | F25: 908200 | G25: 440945 | H25: =G25*100/F25 -> 48.55153 | I25: =+F25-G25 -> 467255
A26: - ฝึกยกระดับฝีมือแรงงาน (ในระบบ) | B26: 208 | C26: =Control!B209 -> 234 | D26: =C26*100/B26 -> 112.5 | E26: =B26-C26 -> -26
A27: - ฝึกยกระดับฝีมือแรงงาน (นอกระบบ) | B27: 160 | C27: =Control!B224 -> 235 | D27: =C27*100/B27 -> 146.875 | E27: =B27-C27 -> -75
A28: งบเงินอุดหนุนเฉพาะกิจ เงินอุดหนุนเพื่อช่วยเหลือผู้รับการพัฒนาฝีมือฯ | F28: 1365500 | G28: 632440 | H28: =G28*100/F28 -> 46.315635 | I28: =+F28-G28 -> 733060
A30: ผลผลิต 3 : โครงการ ฝึกอบรมฝีมือแรงงานตามโครงการอันเนื่องมาจากพระราชดำริ | B30: =B31+B32 -> 60 | C30: =SUM(C31:C33) -> 21 | D30: =C30*100/B30 -> 35 | E30: 20 | F30: =F31+F33 -> 260000 | G30: 67745 | H30: =G30*100/F30 -> 26.055769 | I30: =F30-G30 -> 192255
A31: กิจกรรมหลัก 3.1 : ฝึกอบรมฝีมือแรงงานตามโครงการอันเนื่องมาจากพระราชดำริ | B31: 20 | C31: =Control!B239 -> 20 | D31: =C31*100/B31 -> 100 | E31: =B31-C31 -> 0 | F31: 70000 | G31: =SUM(Control!G239:J239) -> 46389
A32: กิจกรรมหลัก 3.3 : ฝึกอาชีพแรงงานกลุ่มเฉพาะ | B32: 40 | C32: 0 | D32: =C32*100/B32 -> 0 | E32: =B32-C32 -> 40 | F32: 128000
A33: กิจกรรมหลัก 3.4 : จัดตั้งศูนย์ทดสอบมาตรฐานฝีมือแรงงานในสถานประกอบกิจการเทิดไท้พระบิดาแห่งมาตรฐานช่างไทย (แห่ง) | B33: 1 | C33: 1 | D33: =C33*100/B33 -> 100 | E33: =B33-C33 -> 0 | F33: =260000-70000 -> 190000 | G33: =SUM(Control!G244:J244) -> 0
A34: ผลผลิต 4 : พัฒนาศักยภาพฝีมือแรงงานทั้งระบบให้สอดคล้องกับความต้องการของตลาดแรงงาน และการประกอบอาชีพ | B34: =+B35+B39+B40+B41+B45+B48 -> 2537 | C34: =+C35+C39+C40+C41+C45+C48 -> 1906 | D34: 147.85 | E34: =B34-C34 -> 631 | F34: =+F35+F39+F40+F41+F43+F44+F45+F48+F49 -> 10365064 | G34: =+G35+G39+G40+G41+G43+G44+G45+G48+G49 -> 5619571.7 | H34: =G34*100/F34 -> 54.216468 | I34: =F34-G34 -> 4745492.3
A35: กิจกรรมหลัก 4.1 : พัฒนาฝีมือเพื่อเพิ่มโอกาสในการประกอบอาชีพ | B35: =+B36+B37 -> 31 | C35: =+C36+C37 -> 189 | D35: =C35*100/B35 -> 609.67742 | E35: =+E36+E37 -> -158 | F35: 107500 | G35: 59659.04 | H35: =G35*100/F35 -> 55.496781 | I35: =+F35-G35 -> 47840.96
A36: (1) รายการ พัฒนาศักยภาพและทักษะฝีมือของผู้ประกอบอาชีพ OTOP | B36: 16 | C36: =Control!B248 -> 20 | D36: =C36*100/B36 -> 125 | E36: =B36-C36 -> -4 | G36: =SUM(Control!G248:J248) -> 47065 | K36: 10365070
A37: (2) รายการ ฝึกอาชีพให้แก่ ผู้ต้องขัง ทหารก่อนปลดประจำการ ผู้ผ่านการบำบัดยาเสพติดเด็กในสถานพินิจและเยาวชน ฯลฯ (ตาม MOU) | B37: 15 | C37: =Control!B250 -> 169 | D37: =C37*100/B37 -> 1126.6667 | E37: =B37-C37 -> -154 | K37: =+K36-F34 -> 6
A38: ค่าสาธารณูปโภค
A39: กิจกรรมหลัก 4.2 พัฒนา/ส่งเสริมการประกอบอาชีพอิสระ | B39: 16 | C39: =Control!B259 -> 20 | D39: =C39*100/B39 -> 125 | E39: =B39-C39 -> -4 | F39: 24000 | G39: 0 | H39: =G39*100/F39 -> 0
A40: กิจกรรมหลัก 4.3 ทดสอบมาตรฐานฝีมือแรงงานแห่งชาติ | B40: 2000 | C40: 1053 | D40: =C40*100/B40 -> 52.65 | E40: =B40-C40 -> 947 | F40: 1280000 | G40: 615635.49 | H40: =G40*100/F40 -> 48.096523 | I40: =+F40-G40 -> 664364.51
A41: กิจกรรมหลัก 4.4 จัดทำหลักเกณฑ์พัฒนา/ส่งเสริมมาตรฐานฝีมือแรงงาน | C41: 39 | D41: =C41*100/B41 -> #DIV/0! | E41: =B41-C41 -> -39 | F41: 1460170 | G41: 150930 | H41: =G41*100/F41 -> 10.336468 | I41: =+F41-G41 -> 1309240
A42: กิจกรรมหลัก 4.6 : ส่งเสริมและสนับสนุนให้สถานประกอบกิจการดำเนินการฝึกอบรมฝีมือแรงงานตาม พ.ร.บ.ส่งเสริมฯ | B42: 7500 | C42: 13270 | D42: =C42*100/B42 -> 176.93333 | E42: =B42-C42 -> -5770 | F42: =F43+F44 -> 3395812.2 | G42: =SUM(G43:G44) -> 2251902.5 | H42: =G42*100/F42 -> 66.314106 | I42: =+F42-G42 -> 1143909.7
...

Sheet ตรวจสอบส่งผล
A1: ระบบควบคุมยอดการดำเนินงานตามปฏิทินแผนปฏิบัติการ (Action Plan Schedule) ประจำปีงบประมาณ พ.ศ.2558
A2: สถาบันพัฒนาฝีมือแรงงาน ภาค 6 ขอนแก่น
A3: ผลผลิต/กิจกรรมหลัก/หลักสูตรสาขาการฝึก | B3: ผู้รับผิดชอบ | C3: จำนวนผู้รับการฝึก | E3: ช่วงเวลาฝึก | G3: งบประมาณที่ใช้ (บาท) | K3: วันที่ส่งผล | L3: วันที่คุมยอด
C4: ชาย | D4: หญิง | E4: วันเปิดฝึก | F4: วันจบฝึก | G4: วิทยากร | H4: วัสดุ | I4: บริหารจัดการ | J4: อื่นๆ
A5: รวมผลงาน ณ ขณะนี้ | B5: =B6+B7 -> 4238 | C5: =C6+C7 -> 2720 | D5: =D6+D7 -> 1518
A6: ผลการดำเนินการโดย สพภ.6 ขอนแก่น (คน) | B6: =SUM(C6:D6) -> 4238 | C6: =C11+C28+C30+C43+C54+C90+C112+C144+C198+C212+C227+C233+C235+C244+C246+C367+C379+C387 -> 2720 | D6: =D11+D28+D30+D43+D54+D90+D112+D144+D198+D212+D227+D233+D235+D244+D246+D367+D379+D387 -> 1518
A7: ผลการดำเนินการโดยหน่วยงานเอกชน (คน) | B7: =SUM(C7:D7) -> 0 | C7: =C351 -> 0 | D7: =D351 -> 0
A8: ผลผลิต 2 : เพิ่มประสิทธิภาพของแรงงานรองรับประชาคมอาเซียน
A9: กิจกรรมหลัก 2.2 : เพิ่มขีดความสามารถของแรงงานรองรับประชาคมอาเซียน | B9: =SUM(B11:B54) -> 968
A10: (1) รายการ พัฒนาขีดความสามารถด้านภาษาให้แก่แรงงานไทยเพื่อรองรับประชาคมอาเซียน (พัฒนาทักษะด้านภาษาเพื่อเพิ่มศักยภาพในการแข่งขันรองรับอาเซียนพลัสทรี (ASEAN + Summit)
A11: - ฝึกยกระดับฝีมือแรงงาน | B11: =C11+D11 -> 224 | C11: =SUM(C12:C26) -> 104 | D11: =SUM(D12:D26) -> 120 | G11: =SUM(G12:G26) -> 251400 | H11: =SUM(H12:H26) -> 22418 | I11: =SUM(I12:I26) -> 3840 | J11: =SUM(J12:J26) -> 3260
A12: ภาษาและวัฒนธรรมเกาหลีเบื้องต้นก่อนเดินทางไปทำงานสาธารณรัฐเกาหลีตามระบบการจ้างงานอรงงานต่างชาติ (45 ชั่วโมง) | B12: ปส. | C12: 20 | E12: 28/10/2557 | F12: 5/11/2557 | G12: 17700 | H12: 2209 | I12: 0 | J12: 745 | L12: วรรณนิสา
A13: ภาษาและวัฒนธรรมเกาหลีเบื้องต้นก่อนเดินทางไปทำงานสาธารณรัฐเกาหลีตามระบบการจ้างงานอรงงานต่างชาติ (45 ชั่วโมง) | B13: ปส. | C13: 21 | D13: 3 | E13: 28/10/2558 | F13: 5/11/2558 | G13: 17700 | H13: 2209 | I13: 0 | J13: 745 | L13: วรรณนิสา
A14: ภาษาและวัฒนธรรมเกาหลีเบื้องต้นก่อนเดินทางไปทำงานสาธารณรัฐเกาหลีตามระบบการจ้างงานอรงงานต่างชาติ (45 ชั่วโมง) | B14: ปส.
A15: ภาษาและวัฒนธรรมเกาหลีเบื้องต้นก่อนเดินทางไปทำงานสาธารณรัฐเกาหลีตามระบบการจ้างงานอรงงานต่างชาติ (45 ชั่วโมง) | B15: ปส.
A16: ภาษาอังกฤษคำต่อคำเพื่อการทำงาน ระดับ1(30 ชั่วโมง) | B16: สส. | C16: 8 | D16: 12 | E16: 10/11/2557 | F16: 14/11/2557 | G16: 24000 | H16: 2000 | I16: 420 | J16: 675 | L16: วรรณนิสา
A17: ภาษาอังกฤษคำต่อคำเพื่อการทำงาน ระดับ1(30 ชั่วโมง) | B17: สส. | C17: 9 | D17: 11 | E17: 8/12/2557 | F17: 12/12/2557 | G17: 24000 | H17: 2000 | I17: 420 | J17: 675 | K17: . | L17: วรรณนิสา
A18: ภาษาอังกฤษคำต่อคำเพื่อการทำงาน ระดับ1(30 ชั่วโมง) | B18: สส. | C18: 12 | D18: 8 | E18: 16/12/2557 | F18: 20/12/2557 | G18: 24000 | H18: 2000 | I18: 420 | L18: วรรณนิสา
A19: พูดอังกฤษคำต่อคำเพื่อการทำงาน ระดับ 1 (30 ชั่วโมง) | B19: สส. | C19: 6 | D19: 14 | E19: 16/2/2558 | F19: 20/2/2558 | G19: 24000 | H19: 2000 | I19: 420 | L19: 10/2/58
A20: ภาษาอังกฤษเพื่อการสื่อสาร (30 ชั่วโมง) | B20: กท. | C20: 1 | D20: 19 | E20: 16/2/2558 | F20: 20/2/2558 | G20: 24000 | H20: 2000 | I20: 660 | L20: 4/2/58
A21: ภาษาอังกฤษเพื่อการสื่อสาร (30 ชั่วโมง) | B21: กท. | C21: 6 | D21: 14 | E21: 9/3/2558 | F21: 19/3/2558 | G21: 24000 | H21: 2000 | I21: 660 | L21: 24/2/58
A22: ภาษาพม่าเพื่อการสื่อสาร (30 ชั่วโมง) | B22: กท.
A23: ภาษาอังกฤษเพื่อการทำงาน (30 ชั่วโมง) | B23: กท.
A24: ภาษาอังกฤษคำต่อคำเพื่อการทำงาน (30 ชั่วโมง) | B24: ปชส. | D24: 20 | E24: 8/12/2557 | F24: 12/12/2557 | G24: 24000 | H24: 2000 | J24: 420 | L24: วรรณนิสา
A25: ภาษาอังกฤษคำต่อคำเพื่อการทำงาน (30 ชั่วโมง) | B25: ปชส. | C25: 7 | D25: 13 | E25: 25/12/2557 | F25: 29/12/2557 | G25: 24000 | H25: 2000 | I25: 420 | L25: 26/12/57
A26: พูดอังกฤษคำต่อคำเพื่อการทำงาน ระดับ 1 (30 ชั่วโมง) | B26: ปชส. | C26: 14 | D26: 6 | E26: 17/3/2558 | F26: 21/3/2558 | G26: 24000 | H26: 2000 | I26: 420 | L26: 12/3/58
A27: (4) รายการ ฝึกอบรมผู้ประกอบอาหารรองรับครัวไทยสู่ครัวโลก
A28: - ฝึกเตรียมเข้าทำงาน | B28: =C28+D28 -> 16 | C28: =C29 -> 3 | D28: =D29 -> 13 | G28: =G29 -> 36000 | H28: =H29 -> 48000 | I28: =I29 -> 0 | J28: =J29 -> 0
A29: การประกอบอาหารไทย (280 ชั่วโมง) | B29: ธบ. | C29: 3 | D29: 13 | E29: 2/2/2558 | F29: 31/3/2558 | G29: 36000 | H29: 48000 | L29: 2/2/58
A30: - ฝึกยกระดับฝีมือแรงงาน | B30: =C30+D30 -> 140 | C30: =SUM(C31:C41) -> 37 | D30: =SUM(D31:D41) -> 103 | G30: =SUM(G31:G41) -> 168000 | H30: =SUM(H31:H41) -> 104000 | I30: =SUM(I31:I41) -> 4040 | J30: =SUM(J31:J41) -> 0
A31: 10 เมนูอาหารไทยยอดนิยม (30 ชั่วโมง) | B31: ธบ.
A32: การทำขนมไทย (30 ชั่วโมง) | B32: ธบ. | D32: 20 | E32: 12/11/2557 | F32: 16/11/2557 | G32: 24000 | H32: 14000 | L32: วรรณนิสา
A33: การประกอบอาหารไทย (30 ชั่วโมง) | B33: ธบ. | C33: 11 | D33: 9 | E33: 23/2/2558 | F33: 27/2/2558 | G33: 24000 | H33: 20000 | I33: 800 | L33: 20/2/58
A34: การประกอบอาหารไทย (30 ชั่วโมง) | B34: ธบ. | C34: 12 | D34: 8 | E34: 16/3/2558 | F34: 20/3/2558 | G34: 24000 | H34: 14000 | I34: 1260 | L34: 12/3/58
A35: การประกอบอาหารไทย (30 ชั่วโมง) | B35: ธบ. | C35: 1 | D35: 19 | E35: 18/3/2558 | F35: 22/3/2558 | G35: 24000 | H35: 14000 | I35: 1020 | L35: 16/3/58
A36: การประกอบอาหารตามสั่ง (30 ชั่วโมง) | B36: ธบ.
A37: พนักงานบริการเสริฟอาหาร (จำนวน 30 ชั่วโมง) | B37: ธบ.
A38: การประกอบอาหารไทย (30 ชั่วโมง) | B38: ธบ. | D38: 20 | E38: 4/4/2558 | F38: 8/4/2558 | G38: 24000 | H38: 14000 | I38: 480 | L38: 2/4/58
A39: การประกอบอาหารไทย (30 ชั่วโมง) | B39: ธบ. | D39: 20 | E39: 13/5/2558 | F39: 17/5/2558 | G39: 24000 | H39: 14000 | I39: 480 | K39: 20/5/58 | L39: 7/5/58
A40: การประกอบอาหารไทย (30 ชั่วโมง) | B40: ฟฟ. | C40: 13 | D40: 7 | E40: 11/5/2558 | F40: 15/5/2558 | G40: 24000 | H40: 14000 | L40: 11/5/58
...

Sheet Sheet1
A1: ผลการดำเนินงานตามแผนปฏิบัติการพัฒนาฝีมือแรงงาน ประจำปีงบประมาณ พ.ศ.2558
A2: สถาบันพัฒนาฝีมือแรงงาน ภาค 6 ขอนแก่น
B3: ณ วันที่ | C3: =NOW() -> 42250.562
A5: ผลผลิต/กิจกรรมหลัก | B5: ผลการดำเนินงาน (คน) | F5: ผลการใช้จ่ายงบประมาณ (บาท)
B6: เป้าหมาย | C6: ผลงาน | D6: ร้อยละ | E6: คงเหลือ | F6: งปม.ที่ได้รับ | G6: ผลการเบิกจ่าย | H6: ร้อยละ | I6: คงเหลือ
A7: รวมทั้งสิ้น (คน) | B7: =B8+B9 -> 13178 | C7: =C8+C9 -> 35719 | D7: =C7*100/B7 -> 271.05024 | E7: =B7-C7 -> -22541 | F7: 23177470 | G7: 17065541 | H7: =G7*100/F7 -> 73.629869 | I7: =+F7-G7 -> 6111929.1
A8: สถาบันพัฒนาฝีมือแรงงานภาค 6 ขอนแก่น ดำเนินการเอง (คน) | B8: =+B10+B30+B34 -> 5678 | C8: =+C10+C30+C34 -> 5491 | D8: =C8*100/B8 -> 96.706587 | E8: =B8-C8 -> 187 | F8: 23177470 | G8: 17065541 | H8: =G8*100/F8 -> 73.629869 | I8: =+F8-G8 -> 6111929.1 | K8: =+G7-G8 -> 0
A9: เอกชน/สถานประกอบการดำเนินการ (คน) | B9: =B42 -> 7500 | C9: 30228 | D9: =C9*100/B9 -> 403.04 | E9: =B9-C9 -> -22728 | F9: 0 | G9: 0 | H9: 0 | I9: =F9-G9 -> 0
A10: ผลผลิต 2 : เพิ่มประสิทธิภาพของแรงงานรองรับประชาคมอาเซียน | B10: =+B11 -> 3036 | C10: =+C11 -> 3390 | D10: 69.07 | E10: =+E11 -> -354 | F10: =+F11 -> 12523100 | G10: =+G11 -> 8298333.9 | H10: =G10*100/F10 -> 66.264215 | I10: =+F10-G10 -> 4224766.1
A11: กิจกรรมหลัก 2.2 : เพิ่มขีดความสามารถของแรงงานรองรับประชาคมอาเซียน | B11: =+B12+B14+B17+B20+B22+B25 -> 3036 | C11: =+C12+C14+C17+C20+C22+C25 -> 3390 | D11: 69.07 | E11: =+E12+E14+E17+E20+E22+E25 -> -354 | F11: =+F12+F14+F17+F20+F22+F25+F28 -> 12523100 | G11: =+G12+G14+G17+G20+G22+G25+G28 -> 8298333.9 | H11: =G11*100/F11 -> 66.264215 | I11: =+F11-G11 -> 4224766.1
A12: (1) รายการ พัฒนาขีดความสามารถด้านภาษาให้แก่แรงงานไทยเพื่อรองรับประชาคมอาเซียน (พัฒนาทักษะด้านภาษาเพื่อเพิ่มศักยภาพในการแข่งขันรองรับอาเซียนพลัสทรี (ASEAN + Summit) | B12: =SUM(B13) -> 300 | C12: =SUM(C13) -> 338 | D12: =C12*100/B12 -> 112.66667 | E12: =SUM(E13) -> -38 | F12: 1780114 | G12: 548383 | H12: =G12*100/F12 -> 30.806061 | I12: =+F12-G12 -> 1231731
A13: - ฝึกยกระดับฝีมือแรงงาน | B13: 300 | C13: =Control!B11 -> 338 | D13: =C13*100/B13 -> 112.66667 | E13: =B13-C13 -> -38
A14: (4) รายการ ฝึกอบรมผู้ประกอบอาหารรองรับครัวไทยสู่ครัวโลก | B14: =SUM(B15:B16) -> 228 | C14: =SUM(C15:C16) -> 236 | D14: =C14*100/B14 -> 103.50877 | E14: =B14-C14 -> -8 | F14: 807400 | G14: 380206.5 | H14: =G14*100/F14 -> 47.090228 | I14: =+F14-G14 -> 427193.5
A15: - ฝึกเตรียมเข้าทำงาน | B15: 16 | C15: =Control!B31 -> 16 | D15: =C15*100/B15 -> 100 | E15: =B15-C15 -> 0
A16: - ฝึกยกระดับฝีมือแรงงาน | B16: 212 | C16: =Control!B33 -> 220 | D16: =C16*100/B16 -> 103.77358 | E16: =B16-C16 -> -8
A17: (6) รายการ พัฒนาศักยภาพแรงงานไทยเพื่อส่งเสริมความสามารถของภาคบริการและการท่องเที่ยวสู่รายได้และการแข่งขัน | B17: =SUM(B18:B19) -> 716 | C17: =SUM(C18:C19) -> 829 | D17: =C17*100/B17 -> 115.78212 | E17: =B17-C17 -> -113 | F17: 2236600 | G17: 1667726 | H17: =G17*100/F17 -> 74.565233 | I17: =+F17-G17 -> 568874
A18: - ฝึกเตรียมเข้าทำงาน | B18: 144 | C18: =Control!B49 -> 166 | D18: =C18*100/B18 -> 115.27778 | E18: =B18-C18 -> -22
A19: - ฝึกยกระดับฝีมือแรงงาน | B19: 572 | C19: =Control!B63 -> 663 | D19: =C19*100/B19 -> 115.90909 | E19: =B19-C19 -> -91
A20: (7) รายการ เพิ่มศักยภาพแรงงานไทยขับเคลื่อนการแข่งขันของภาคอุตสาหกรรมในการเข้าสู่ประชาคมอาเซียน | B20: =SUM(B21) -> 320 | C20: =SUM(C21) -> 375 | D20: =C20*100/B20 -> 117.1875 | E20: =SUM(E21) -> -55 | F20: 807037 | G20: 807036.89 | H20: =G20*100/F20 -> 99.999986 | I20: =+F20-G20 -> 0.11
A21: - ฝึกยกระดับฝีมือแรงงาน | B21: 320 | C21: =Control!B99 -> 375 | D21: =C21*100/B21 -> 117.1875 | E21: =B21-C21 -> -55
A22: (8) รายการ พัฒนาฝีมือแรงงานรองรับการพัฒนาโครงสร้างพื้นฐานคมนาคมและการขนส่ง | B22: =SUM(B23:B24) -> 1104 | C22: =SUM(C23:C24) -> 1143 | D22: =C22*100/B22 -> 103.53261 | E22: =B22-C22 -> -39 | F22: 4630400 | G22: 3339179.5 | H22: =G22*100/F22 -> 72.114278 | I22: =+F22-G22 -> 1291220.5
A23: - ฝึกเตรียมเข้าทำงาน | B23: 144 | C23: =Control!B122 -> 170 | D23: =C23*100/B23 -> 118.05556 | E23: =B23-C23 -> -26
A24: - ฝึกยกระดับฝีมือแรงงาน | B24: 960 | C24: =Control!B154 -> 973 | D24: =C24*100/B24 -> 101.35417 | E24: =B24-C24 -> -13
A25: (9) รายการ ฝึกอบรมฝีมือแรงงานรองรับการพัฒนาพื้นที่เศรษฐกิจชายแดนและชนบท | B25: =SUM(B26:B27) -> 368 | C25: =SUM(C26:C27) -> 469 | D25: =C25*100/B25 -> 127.44565 | E25: =B25-C25 -> -101 | F25: 896049 | G25: 711412 | H25: =G25*100/F25 -> 79.394319 | I25: =+F25-G25 -> 184637
A26: - ฝึกยกระดับฝีมือแรงงาน (ในระบบ) | B26: 208 | C26: =Control!B209 -> 234 | D26: =C26*100/B26 -> 112.5 | E26: =B26-C26 -> -26
A27: - ฝึกยกระดับฝีมือแรงงาน (นอกระบบ) | B27: 160 | C27: =Control!B224 -> 235 | D27: =C27*100/B27 -> 146.875 | E27: =B27-C27 -> -75
A28: งบเงินอุดหนุนเฉพาะกิจ เงินอุดหนุนเพื่อช่วยเหลือผู้รับการพัฒนาฝีมือฯ | F28: 1365500 | G28: 844390 | H28: =G28*100/F28 -> 61.837422 | I28: =+F28-G28 -> 521110
A30: ผลผลิต 3 : โครงการ ฝึกอบรมฝีมือแรงงานตามโครงการอันเนื่องมาจากพระราชดำริ | B30: =B31+B32 -> 60 | C30: =SUM(C31:C33) -> 20 | D30: =C30*100/B30 -> 33.333333 | E30: 20 | F30: 260000 | G30: 119275 | H30: =G30*100/F30 -> 45.875 | I30: =F30-G30 -> 140725
A31: กิจกรรมหลัก 3.1 : ฝึกอบรมฝีมือแรงงานตามโครงการอันเนื่องมาจากพระราชดำริ | B31: 20 | C31: =Control!B239 -> 20 | D31: =C31*100/B31 -> 100 | E31: =B31-C31 -> 0 | F31: 132000 | G31: 119275 | H31: =G31*100/F31 -> 90.359848 | I31: 12725
A32: กิจกรรมหลัก 3.3 : ฝึกอาชีพแรงงานกลุ่มเฉพาะ | B32: 40 | C32: 0 | D32: =C32*100/B32 -> 0 | E32: =B32-C32 -> 40 | F32: 128000 | G32: 0 | H32: 0 | I32: 128000
A33: กิจกรรมหลัก 3.4 : จัดตั้งศูนย์ทดสอบมาตรฐานฝีมือแรงงานในสถานประกอบกิจการเทิดไท้พระบิดาแห่งมาตรฐานช่างไทย (แห่ง) | B33: 1 | C33: 0 | D33: =C33*100/B33 -> 0 | E33: =B33-C33 -> 1 | F33: 0 | G33: =SUM(Control!G244:J244) -> 0
A34: ผลผลิต 4 : พัฒนาศักยภาพฝีมือแรงงานทั้งระบบให้สอดคล้องกับความต้องการของตลาดแรงงาน และการประกอบอาชีพ | B34: =+B35+B39+B40+B41+B45+B48 -> 2582 | C34: =+C35+C39+C40+C41+C45+C48 -> 2081 | D34: 147.85 | E34: =B34-C34 -> 501 | F34: 10394370 | G34: 8647931.9 | H34: =G34*100/F34 -> 83.198231 | I34: =F34-G34 -> 1746438.1
A35: กิจกรรมหลัก 4.1 : พัฒนาฝีมือเพื่อเพิ่มโอกาสในการประกอบอาชีพ | B35: =+B36+B37 -> 31 | C35: =+C36+C37 -> 189 | D35: =C35*100/B35 -> 609.67742 | E35: =+E36+E37 -> -158 | F35: 126665 | G35: 115059.2 | H35: =G35*100/F35 -> 90.837406 | I35: =+F35-G35 -> 11605.8
A36: (1) รายการ พัฒนาศักยภาพและทักษะฝีมือของผู้ประกอบอาชีพ OTOP | B36: 16 | C36: =Control!B248 -> 20 | D36: =C36*100/B36 -> 125 | E36: =B36-C36 -> -4 | K36: 10365070
A37: (2) รายการ ฝึกอาชีพให้แก่ ผู้ต้องขัง ทหารก่อนปลดประจำการ ผู้ผ่านการบำบัดยาเสพติดเด็กในสถานพินิจและเยาวชน ฯลฯ (ตาม MOU) | B37: 15 | C37: =Control!B250 -> 169 | D37: =C37*100/B37 -> 1126.6667 | E37: =B37-C37 -> -154 | K37: =+K36-F34 -> -29300
A38: ค่าสาธารณูปโภค
A39: กิจกรรมหลัก 4.2 พัฒนา/ส่งเสริมการประกอบอาชีพอิสระ | B39: 16 | C39: =Control!B259 -> 20 | D39: =C39*100/B39 -> 125 | E39: =B39-C39 -> -4 | F39: 24000 | G39: 23780 | H39: =G39*100/F39 -> 99.083333 | I39: 220
A40: กิจกรรมหลัก 4.3 ทดสอบมาตรฐานฝีมือแรงงานแห่งชาติ | B40: 2000 | C40: 1228 | D40: =C40*100/B40 -> 61.4 | E40: =B40-C40 -> 772 | F40: 1280000 | G40: 813531.09 | H40: =G40*100/F40 -> 63.557116 | I40: =+F40-G40 -> 466468.91
A41: กิจกรรมหลัก 4.4 จัดทำหลักเกณฑ์พัฒนา/ส่งเสริมมาตรฐานฝีมือแรงงาน | B41: 45 | C41: 39 | D41: =C41*100/B41 -> 86.666667 | E41: =B41-C41 -> 6 | F41: 1489470 | G41: 1199562.6 | H41: =G41*100/F41 -> 80.536201 | I41: =+F41-G41 -> 289907.45
A42: กิจกรรมหลัก 4.6 : ส่งเสริมและสนับสนุนให้สถานประกอบกิจการดำเนินการฝึกอบรมฝีมือแรงงานตาม พ.ร.บ.ส่งเสริมฯ | B42: 7500 | C42: 30228 | D42: =C42*100/B42 -> 403.04 | E42: =B42-C42 -> -22728 | F42: 3556476.4 | G42: 2927130.5 | H42: =G42*100/F42 -> 82.304231 | I42: =+F42-G42 -> 629345.85
...

Sheet Sheet2

Sheet Sheet3
A1: ลำดับที่ | B1: หลักสูตรต่างๆ
B2: - ฝึกเตรียมเข้าทำงาน
A3: 1 | B3: ช่างซ่อมรถจักรยานยนต์ (840 ชั่วโมง)
A4: 2 | B4: ช่างซ่อมรถยนต์ (840ชั่วโมง)
A5: 3 | B5: ช่างเดินสายไฟฟ้าในอาคาร(640ชั่วโมง)
A6: 4 | B6: ช่างกลโรงงาน(640ชัวโมง)
A7: 5 | B7: ช่างเชื่อมอุตสาหกรรม (1,120 ชั่วโมง)
A8: 6 | B8: ช่างประกอบโครงอะลูมิเนียม (840 ชั่วโมง)
A9: 7 | B9: ช่างตัดเย็บเสื้อผ้าสตรี(840ชั่วโมง)
A10: 8 | B10: ช่างซ่อมรถจักรยานยนต์ (1120 ชั่วโมง)
A11: 9 | B11: ช่างกลึง (1120ชั่วโมง)
A12: 10 | B12: ช่างออกแบบเสื้อผ้า (840 ชั่งโมง)
A13: 11 | B13: ช่างเทคนิคงานสีผลิตภัณฑ์ไม้ (420 ชั่วโมง)
A14: 12 | B14: ช่างสีรถยนต์ (840 ชั่วโมง)
... A20: 18 | B20: การพาณิชย์อิเล็กทรอนิกส์ (150 ชั่วโมง)
B22: - ฝึกยกระดับฝีมือแรงงาน
A23: 1 | B23: ช่างซ่อมรถยนต์ (30 ชั่วโมง)
A24: 2 | B24: พนักงานควบคุมเครื่องจักรรถยกอย่างปลอดภัย (30ชม)
A25: 3 | B25: พนักงานควบคุมเครื่องจักรรถยก ระดับ 1 (30ชม)
A26: 4 | B26: พื้นฐานรถจักรยานยนต์ ระดับ BRONZE (30ชม)
A27: 5 | B27: การเชื่อมไฟฟ้า (30 ชั่วโมง)
A28: 6 | B28: การเชื่อมอาร์กโลหะด้วยมือ ระดับ 1 (30 ชั่วโมง)
A29: 7 | B29: การบำรุงรักษารถยนต์ (30 ชั่วโมง)
A30: 8 | B30: การสร้างจิตบริการ (30 ชั่วโมง)
A31: 9 | B31: Lean Canvas สำหรับธุรกิจโลจิสติกส์ (30 ชั่วโมง)
A32: 10 | B32: ช่างซ่อมบำรุงเครื่องจักรกล (60 ชั่วโมง)
A33: 11 | B33: ช่างกลึงรูปพรรณ (30 ชั่วโมง)
A34: ลำดับที่ | B34: หลักสูตรต่างๆ
B35: - ฝึกยกระดับฝีมือแรงงาน
A36: 12 | B36: พูดภาษาอังกฤษคำต่อคำเพื่อการทำงานระดับ1 (30 ชั่วโมง)
A37: 13 | B37: การเชื่อมMAG เหล็กหนา (30ชั่วโมง)
A38: 14 | B38: การเชื่อมTIG (30 ชั่วโมง)
A39: 15 | B39: การเชื่อมไฟฟ้า ระดับ 2 (30 ชั่วโมง)
A40: 16 | B40: การปูกระเบื้องโดยใช้วัสดุกาวซีเมนต์และยาแนวที่เป็นมิตรกับสิ่งแวดล้อม (18 ชั่วโมง)
A41: 17 | B41: ช่างเทคนิคการปูกระเบื้องห้องน้ำและติดตั้งเครื่องสุขภัณฑ์ (30 ชม.)
A42: 18 | B42: การมุงหลังคากระเบื้องคอนกรีต (30 ชั่วโมง)
A43: 19 | B43: เทคนิคการติดตั้งและตรวจสอบนั่งร้านสำหรับงานก่อสร้าง (30 ชั่วโมง)
A44: 20 | B44: ช่างก่ออิฐ (30 ชั่วโมง)
A45: 21 | B45: ช่างไฟฟ้าอุตสาหกรรม (30 ชั่วโมง)
A46: 22 | B46: พนักงานควบคุมเครื่องจักรรถตักหน้าขุดหลัง (30ชม)
...
